{"text_format":"1","workbook":"xlsx","n_sheets":20,"sheets":["a_Contents","b_Guidelines and conditions","A_MPversions","B_Operator&Inst.ID","C_InstallationDescription","D_CalculationBasedApproaches","E_SourceStreams","F_MeasurementBasedApproaches","G_Fall-backApproach","H_N2O","I_PFC","J_Transferred GHG","K_ManagementControl","L_MS specific content","M_Accounting","UBA_Parameters","MSParameters","EUwideConstants","Translations","VersionDocumentation"],"not_rendered":{"charts":0,"images":1,"macros":1,"external_links":2,"defined_names":203,"comments":2,"pivot_tables":0},"unopened":[],"bounds":{"document_bytes":16777216,"sheet_cells":100000,"rows_first":2000,"rows_last":500,"rows_between":2000,"halvings":0,"cell_chars":16384,"cell_head_chars":4096},"cells_cut":0,"cells_raw":0,"read":"whole","date_system":"1900"}

{"sheet":"a_Contents","index":0,"n_rows":71,"n_cols":6,"rows_kept":71,"cut":false,"hidden":false,"merged":[[46,1,46,8],[6,1,6,8],[7,1,7,8],[70,1,70,4],[54,1,55,8],[62,1,62,3],[67,1,67,4],[68,1,68,4],[69,1,69,4],[61,1,61,3],[8,1,8,8],[45,2,45,8],[34,2,34,8],[38,2,38,8],[39,2,39,8],[40,2,40,8],[9,2,9,8],[11,2,11,8],[12,2,12,8],[13,2,13,8],[10,1,10,8],[22,2,22,8],[26,2,26,8],[28,2,28,8],[30,2,30,8],[23,2,23,8],[24,2,24,8],[25,1,25,8],[27,1,27,8],[29,1,29,8],[14,1,14,8],[17,1,17,8],[19,1,19,8],[21,1,21,8],[15,2,15,8],[16,2,16,8],[18,2,18,8],[20,2,20,8],[33,1,33,8],[37,1,37,8],[44,1,44,8],[31,2,31,8],[32,2,32,8],[35,2,35,8],[36,2,36,8],[41,2,41,8],[42,2,42,8],[43,2,43,8]]}
[null,{"$f":"Translations!$B$2","v":"MONITORINGPLAN 2021-2030"}]
[]
[null,{"$f":"Translations!$B$3","v":"INHOUDSOPGAVE"}]
[]
[null,{"$f":"Translations!$B$4","v":"Werkbladtitels staan in een vet en afdelingstitels in een normaal lettertype."}]
[]
[null,{"$f":"Translations!$B$5","v":"a_Inhoud"}]
[null,{"$f":"Translations!$B$6","v":"b_Richtsnoeren en voorwaarden"}]
[null,{"$f":"Translations!$B$7","v":"A. Versies van het monitoringplan"}]
[null,1,{"$f":"Translations!$B$8","v":"Lijst met versies van het monitoringplan"}]
[null,{"$f":"Translations!$B$9","v":"B. Informatie over de exploitant en de installatie"}]
[null,2,{"$f":"Translations!$B$10","v":"Informatie over de exploitant"}]
[null,3,{"$f":"Translations!$B$11","v":"Informatie over uw installatie"}]
[null,4,{"$f":"Translations!$B$12","v":"Contactgegevens "}]
[null,{"$f":"Translations!$B$13","v":"C. Beschrijving van de installatie"}]
[null,5,{"$f":"Translations!$B$14","v":"De activiteiten van de installatie"}]
[null,6,{"$f":"Translations!$B$15","v":"Informatie over uw emissies"}]
[null,{"$f":"Translations!$B$16","v":"D. Rekenmethoden"}]
[null,7,{"$f":"Translations!$B$17","v":"Berekening: Informatie die nodig is voor verdere invoer op het volgende werkblad"}]
[null,{"$f":"Translations!$B$18","v":"E. Bronstromen"}]
[null,8,{"$f":"Translations!$B$19","v":"Informatie over de niveaus die worden toegepast voor activiteitsgegevens en berekeningsfactoren"}]
[null,{"$f":"Translations!$B$20","v":"F. Meetmethoden"}]
[null,9,{"$f":"Translations!$B$21","v":"Meting van CO2- en N2O-emissies "}]
[null,10,{"$f":"Translations!$B$22","v":"Informatie over meetpunten"}]
[null,11,{"$f":"Translations!$B$23","v":"Beheer van en procedures voor meetmethoden"}]
[null,{"$f":"Translations!$B$24","v":"G. \"Fall-back\"-methode"}]
[null,12,{"$f":"Translations!$B$25","v":"Beschrijving van de \"Fall-back\"-methode"}]
[null,{"$f":"Translations!$B$26","v":"H. N2O-emissies"}]
[null,13,{"$f":"Translations!$B$27","v":"Beheer van en procedures voor de monitoring van N2O-emissies"}]
[null,{"$f":"Translations!$B$28","v":"I. Bepaling van PFK-emissies uit de productie van primair aluminium"}]
[null,14,{"$f":"Translations!$B$29","v":"Bepaling van PFK-emissies"}]
[null,15,{"$f":"Translations!$B$30","v":"Informatie over de monitoring van bronstromen van PFK-emissies"}]
[null,16,{"$f":"Translations!$B$31","v":"Beheer van en schriftelijke procedures voor PFK-monitoring"}]
[null,{"$f":"Translations!$B$32","v":"J. Bepaling van overgebracht of inherent CO2"}]
[null,17,{"$f":"Translations!$B$33","v":"Bepaling van overgebracht en inherent CO2"}]
[null,18,{"$f":"Translations!$B$34","v":"Informatie betreffende pijpleidingsystemen waarmee CO2 wordt getransporteerd"}]
[null,19,{"$f":"Translations!$B$35","v":"Informatie betreffende installaties voor de geologische opslag van CO2"}]
[null,{"$f":"Translations!$B$36","v":"K. Beheer en controle"}]
[null,20,{"$f":"Translations!$B$37","v":"Beheer "}]
[null,21,{"$f":"Translations!$B$38","v":"Dataflow-activiteiten"}]
[null,22,{"$f":"Translations!$B$39","v":"Controleactiviteiten"}]
[null,23,{"$f":"Translations!$B$40","v":"Lijst van gebruikte definities en afkortingen"}]
[null,24,{"$f":"Translations!$B$41","v":"Aanvullende informatie"}]
[null,25,{"$f":"Translations!$B$1152","v":"Verdere procedures"}]
[null,{"$f":"Translations!$B$43","v":"L. Lidstaatspecifieke aanvullende informatie"}]
[null,26,{"$f":"Translations!$B$44","v":"Opmerkingen"}]
[null,{"$f":"Translations!$B$1153","v":"M. Accounting"}]
[]
[null,{"$f":"Translations!$B$45","v":"Informatie over dit bestand:"}]
[null,{"$f":"Translations!$B$46","v":"Dit monitoringplan is ingediend door:"},null,null,null,{"$f":"IF(ISBLANK('B_Operator&Inst.ID'!I16),\"\",'B_Operator&Inst.ID'!I16)","v":""}]
[null,{"$f":"Translations!$B$47","v":"Naam van de installatie:"},null,null,null,{"$f":"IF(ISBLANK('B_Operator&Inst.ID'!I22),\"\",'B_Operator&Inst.ID'!I22)","v":""}]
[null,{"$f":"Translations!$B$48","v":"Uniek identificatienummer van de installatie:"},null,null,null,{"$f":"IF(ISBLANK('B_Operator&Inst.ID'!I24),\"\",'B_Operator&Inst.ID'!I24)","v":""}]
[null,{"$f":"Translations!$B$49","v":"Versienummer van dit monitoringplan:"},null,null,null,{"$f":"IF(COUNTA(A_MPversions!E21:E46)=0,\"\",MAX(A_MPversions!E21:E46,1))","v":""}]
[]
[null,{"$f":"Translations!$B$50","v":"Als de bevoegde autoriteit een ondertekende papieren versie van het monitoringplan verlangt, zet u de handtekening hieronder:"}]
[]
[]
[]
[]
[]
[]
[]
[null,{"$f":"Translations!$B$51","v":"Datum"},null,null,null,{"$f":"Translations!$B$52","v":"Naam en handtekening van \nde juridisch verantwoordelijke persoon"}]
[]
[]
[]
[null,{"$f":"Translations!$B$53","v":"Modelversie:"}]
[null,{"$f":"Translations!$B$54","v":"Het model is verstrekt door:"},null,null,null,"Europese Commissie, met aanpassingen door de Vlaanderen"]
[null,{"$f":"Translations!$B$55","v":"Datum van publicatie:"},null,null,null,"2021-02-11"]
[null,{"$f":"Translations!$B$56","v":"Taalversie:"},null,null,null,"Nederlands"]
[null,{"$f":"Translations!$B$57","v":"Referentie bestandsnaam"},null,null,null,"Sjabloon Vlaanderen VER-MP21-25"]

{"sheet":"b_Guidelines and conditions","index":1,"n_rows":118,"n_cols":9,"rows_kept":118,"cut":false,"hidden":false,"merged":[[1,10,1,11],[0,2,0,3],[23,1,23,11],[0,0,2,1],[2,8,2,9],[2,10,2,11],[2,4,2,5],[2,6,2,7],[22,1,22,11],[2,2,2,3],[8,1,8,11],[14,1,14,11],[18,1,18,11],[19,1,19,11],[15,1,15,11],[16,1,16,11],[117,3,117,9],[0,8,0,9],[0,10,0,11],[1,2,1,3],[1,4,1,5],[1,6,1,7],[1,8,1,9],[0,4,0,5],[0,6,0,7],[17,1,17,11],[4,1,4,9],[5,1,5,11],[7,1,7,11],[12,1,12,11],[6,1,6,11],[11,1,11,11],[20,1,20,11],[47,1,47,11],[35,1,35,11],[27,1,27,11],[10,1,10,11],[13,1,13,11],[30,2,30,11],[31,2,31,11],[34,1,34,11],[26,1,26,11],[29,1,29,11],[21,1,21,11],[25,1,25,11],[37,4,44,7],[46,1,46,11],[32,2,32,11],[33,2,33,11],[48,1,48,11],[49,1,49,11],[59,1,59,11],[66,1,66,11],[50,1,50,11],[52,1,52,11],[54,3,54,8],[57,3,57,8],[67,1,67,11],[68,1,68,11],[60,1,60,11],[62,1,62,11],[63,1,63,11],[65,1,65,11],[69,1,69,11],[72,2,72,3],[72,4,72,11],[75,2,75,3],[75,4,75,11],[70,4,70,11],[71,2,71,3],[74,4,74,11],[70,2,70,3],[71,4,71,11],[76,2,76,3],[73,4,73,11],[74,2,74,3],[73,2,73,3],[76,4,76,11],[93,1,114,11],[87,1,87,11],[77,2,77,3],[77,4,77,11],[86,1,86,11],[84,1,84,11],[82,1,82,11],[83,1,83,10],[88,1,88,11],[89,1,89,11],[92,1,92,11],[81,1,81,11],[80,1,80,11],[79,1,79,11]]}
[{"$f":"Translations!$B$58","v":"b.\nGuide-lines"},null,{"$f":"Translations!$B$59","v":"Navigatiezone:"},null,{"$f":"Translations!$B$60","v":"Inhoudsopgave"},null,{"$f":"Translations!$B$61","v":"Vorig werkblad"},null,{"$f":"Translations!$B$62","v":"Volgend werkblad"}]
[null,null,{"$f":"Translations!$B$63","v":"Begin werkblad"}]
[null,null,{"$f":"Translations!$B$64","v":"Einde werkblad"}]
[]
[null,{"$f":"Translations!$B$65","v":"RICHTSNOEREN EN VOORWAARDEN"}]
[]
[1,{"$f":"Translations!$B$66","v":"Krachtens Richtlijn 2003/87/EG (hierna \"de EU-ETS-richtlijn\") dienen exploitanten van installaties die zijn opgenomen in de Regeling van de Unie voor de handel in emissierechten (EU-ETS) in het bezit te zijn van een geldige, door de bevoegde autoriteiten verleende vergunning voor broeikasgasemissies, hun emissies te monitoren en rapporteren en hun rapporten te laten verifiëren door een onafhankelijke en erkende verificateur."}]
[null,{"$f":"Translations!$B$67","v":"De richtlijn kan via de volgende link worden gedownload:"}]
[null,{"$f":"Translations!$B$1154","v":"https://eur-lex.europa.eu/eli/dir/2003/87/2018-04-08"}]
[]
[2,{"$f":"Translations!$B$1155","v":"In Verordening (EU) 2018/2066 van de Commissie (de monitoring- en rapportageverordening, hierna “MRV”), zoals gewijzigd, zijn verdere eisen voor monitoring en rapportage opgenomen. De MRV kan via deze link worden gedownload:"}]
[null,{"$f":"Translations!$B$1156","v":"https://eur-lex.europa.eu/eli/reg_impl/2018/2066/oj?locale=nl"}]
[null,{"$f":"Translations!$B$71","v":"In artikel 12 van de MRV zijn specifieke vereisten voor de inhoud en de indiening van het monitoringplan en de aanpassingen daarvan vastgesteld. In artikel 12 wordt het belang van het monitoringplan als volgt omschreven:"}]
[null,{"$f":"Translations!$B$72","v":"Het monitoringplan bestaat uit een gedetailleerde, volledige en transparante documentatie over de monitoringmethodiek voor een specifieke installatie of vliegtuigexploitant; het bevat ten minste de elementen die zijn opgenomen in bijlage I."}]
[null,{"$f":"Translations!$B$73","v":"In artikel 74, lid 1, is voorts het volgende bepaald:"}]
[null,{"$f":"Translations!$B$74","v":"De lidstaten kunnen eisen dat de exploitanten of vliegtuigexploitanten elektronische modellen of specifieke bestandsformaten gebruiken voor het indienen van monitoringplannen en veranderingen in het monitoringplan, alsook voor het indienen van jaarlijkse emissieverslagen, tonkilometergegevensverslagen, verificatieverslagen en verbeteringsverslagen. \nDeze door de lidstaten opgestelde modellen of bestandsformaatspecificaties bevatten ten minste de informatie opgenomen in de door de Commissie gepubliceerde elektronische modellen of bestandsformaatspecificaties."}]
[3,{"$f":"Translations!$B$75","v":"Dit bestand vormt het genoemde door de diensten van de Commissie ontwikkelde model voor monitoringplannen voor installaties en bevat de in bijlage I vastgestelde vereisten alsook verdere vereisten om de exploitant bij te staan bij het aantonen van de naleving van de MRV. Onder bepaalde omstandigheden, zoals hieronder beschreven, kan het in zekere mate gewijzigd zijn door een bevoegde autoriteit van een lidstaat. "}]
[null,{"$f":"Translations!$B$1147","v":"Dit monitoringplanmodel geeft de standpunten van de diensten van de Commissie weer ten tijde van de bekendmaking."}]
[null,{"$f":"Translations!$B$1157","v":"Dit is de definitieve versie van het monitoringplanmodel voor installaties voor fase 4 van het Europees emissiehandelssysteem (EU-ETS), zoals schriftelijk goedgekeurd door het Comité klimaatverandering in november 2020, vertaald door de Europese Commissie in februari 2021 en aangepast door Vlaanderen in februari 2021."}]
[]
[4,{"$f":"Translations!$B$76","v":"Daarnaast mogen de lidstaten krachtens artikel 13 van de MRV gestandaardiseerde of vereenvoudigde monitoringplannen ontwikkelen voor \"eenvoudige\" installaties. "}]
[null,{"$f":"Translations!$B$77","v":"De lidstaten mogen exploitanten en vliegtuigexploitanten toestemming verlenen om gestandaardiseerde of vereenvoudigde monitoringplannen te gebruiken, onverminderd artikel 12, lid 3. \nHiertoe mogen lidstaten modellen publiceren voor dergelijke monitoringplannen, met inbegrip van de omschrijving van de dataflow- en controleprocedures genoemd in artikel 57 en artikel 58, op basis van de door de Commissie gepubliceerde modellen en richtsnoeren."}]
[null,{"$f":"Translations!$B$78","v":"Overeenkomstig richtsnoer nr. 1 van de Commissie (\"Algemene richtsnoeren voor installaties\") worden dergelijke gestandaardiseerde modellen opgesteld door waar nodig standaardteksten toe te voegen aan dit model."}]
[null,{"$f":"Translations!$B$79","v":"Als uw installatie overeenkomstig de eisen in richtsnoer 1 in aanmerking komt voor een vereenvoudigd en/of gestandaardiseerd monitoringplan, neem dan contact op met de bevoegde autoriteiten of raadpleeg hun website om te vernemen of uw lidstaat vereenvoudigde modellen verstrekt."}]
[]
[5,{"$f":"Translations!$B$80","v":"Alle richtsnoeren van de Commissie betreffende de monitoring- en rapportageverordening zijn hier te raadplegen:"}]
[null,{"$f":"Translations!$B$1158","v":"https://ec.europa.eu/clima/policies/ets/monitoring_en#tab-0-1"}]
[null,{"$f":"Translations!$B$1159","v":"Het wordt aanbevolen om te beginnen met de “Korte handleiding voor exploitanten van stationaire installaties” en “Richtsnoer nr. 1”"}]
[]
[6,{"$f":"Translations!$B$82","v":"U wordt verzocht de volgende stappen te doorlopen voordat u dit document invult:"}]
[null,"(a)",{"$f":"Translations!$B$83","v":"Lees aandachtig de onderstaande instructies voor het invullen van dit model."}]
[null,"(b)",{"$f":"Translations!$B$84","v":"Ga na welke bevoegde autoriteit in de lidstaat waar de installatie zich bevindt verantwoordelijk is voor de installatie. Per lidstaat kunnen er meerdere bevoegde autoriteiten zijn. NB \"lidstaat\" staat hier voor alle staten die deelnemen aan EU-ETS. Daartoe behoren ook niet-EU-lidstaten."}]
[null,"(c)",{"$f":"Translations!$B$85","v":"Raadpleeg de website van de bevoegde autoriteiten of neem contact met hen op om te controleren of u de juiste modelversie gebruikt. De modelversie (de naam van het referentiedocument) staat duidelijk aangegeven op het voorblad van dit bestand."}]
[null,"(d)",{"$f":"Translations!$B$86","v":"Lidstaten kunnen verlangen dat u gebruik maakt van een alternatieve methode, zoals een online formulier in plaats van een spreadsheet. Ga na welke voorschriften in uw lidstaat gehanteerd worden. De BA zal u op dit punt nader informeren."}]
[]
[7,{"$f":"Translations!$B$87","v":"Dit monitoringplan moet bij de volgende BA worden ingediend op het volgende adres:"}]
[]
[null,null,null,null,"Het MP moet in Excel-formaat per mail ingediend worden bij het Verificatiebureau Benchmarking Vlaanderen\nvbbv@vbbv.be \n\nContactgegevens van de bevoegde autoriteit\nVlaams Energie- en Klimaatagentschap \nKoning Albert II-laan 20 (bus 17)\n1000 Brussel\nTelefoon: bel gratis 1700"]
[]
[]
[]
[]
[]
[]
[]
[]
[8,{"$f":"Translations!$B$89","v":"De BA kan eventueel contact met u opnemen om te bespreken welke wijzigingen zouden moeten worden doorgevoerd in uw monitoringplan om accurate en verifieerbare monitoring en rapportage van jaarlijkse emissies, volgens de algemene en specifieke vereisten van de MRV, zeker te stellen. In afwijking van artikel 16, lid 1, van de MRV gebruikt u bij kennisgeving van de goedkeuring van de BA de laatste goedgekeurde versie van de monitoringplannen als methodiek om uw jaarlijkse emissies te bepalen en uw gegevensvergarings- en verwerkingsactiviteiten en controleactiviteiten uit te voeren. Tevens dient dit plan als referentie voor het verifiëren van uw jaarlijkse emissieverslag."}]
[9,{"$f":"Translations!$B$90","v":"U dient de bevoegde autoriteit zonder onnodige vertraging in kennis te stellen van voorstellen tot significante wijzigingen van het monitoringplan. Elke significante wijziging van uw monitoringmethodiek moet worden goedgekeurd door de BA, overeenkomstig artikel 14 en 15 van de MRV. Wanneer u (overeenkomstig artikel 15) redelijkerwijze kunt veronderstellen dat de noodzakelijke actualiseringen van het monitoringplan niet significant zijn, mag u deze actualiseringen eens per jaar gezamenlijk bij de BA aanmelden overeenkomstig de in dat artikel vastgestelde termijn (voor zover de bevoegde autoriteit daarmee instemt)."}]
[10,{"$f":"Translations!$B$91","v":"Overeenkomstig artikel 16 van de MRV dient u alle wijzigingen van het monitoringplan uit te voeren en daar documentatie van te bewaren."}]
[11,{"$f":"Translations!$B$92","v":"Neem contact op met uw bevoegde autoriteit indien u hulp nodig hebt bij het opstellen van uw monitoringplan. Een aantal lidstaten heeft richtsnoeren opgesteld die wellicht handig voor u zijn."}]
[12,{"$f":"Translations!$B$93","v":"Vertrouwelijkheidsverklaring- De in het kader van deze aanvraag ingediende informatie kan publiekelijk toegankelijk worden gemaakt, onder meer krachtens Richtlijn 2003/4/EG inzake de toegang van het publiek tot milieu-informatie. Als u van mening bent dat bepaalde informatie die u in het kader van de aanvraag verstrekt, commercieel vertrouwelijk is, neemt u contact op met de bevoegde autoriteit. NB: overeenkomstig het bepaalde in Richtlijn 2003/4/EG kan de bevoegde autoriteit worden verplicht informatie openbaar te maken die de aanvrager als vertrouwelijk heeft bestempeld."}]
[]
[13,{"$f":"Translations!$B$94","v":"Informatiebronnen:"}]
[null,{"$f":"Translations!$B$95","v":"Websites van de EU:"}]
[null,{"$f":"Translations!$B$96","v":"EU-wetgeving:"},null,{"$f":"Translations!$B$97","v":"http://eur-lex.europa.eu/en/index.htm "}]
[null,{"$f":"Translations!$B$98","v":"Algemene informatie over EU-ETS:"},null,{"$f":"Translations!$B$99","v":"http://ec.europa.eu/clima/policies/ets/index_en.htm"}]
[null,{"$f":"Translations!$B$100","v":"Monitoring en rapportage in het kader van EU-ETS: "}]
[null,null,null,{"$f":"Translations!$B$81","v":"http://ec.europa.eu/clima/policies/ets/monitoring/index_en.htm"}]
[null,{"$f":"Translations!$B$101","v":"Overige websites:"}]
[null,"https://omgeving.vlaanderen.be/eu-ets-vaste-installaties-monitoring"]
[]
[null,{"$f":"Translations!$B$103","v":"Helpdesk:"}]
[null,"emissierechten@vlaanderen.be"]
[]
[]
[14,{"$f":"Translations!$B$105","v":"Hoe dit bestand te gebruiken:"}]
[null,{"$f":"Translations!$B$106","v":"Dit model is ontwikkeld voor de minimale door de MRV voorgeschreven inhoud van een monitoringplan. Exploitanten dienen zodoende bij het invullen te verwijzen naar de MRV en eventuele aanvullende door de lidstaat vastgestelde vereisten."}]
[null,{"$f":"Translations!$B$107","v":"Aanbevolen wordt om het document van begin tot eind door te nemen. Een aantal functionaliteiten zal u door het formulier leiden. Deze zijn afhankelijk van eerdere invoer. Zo zijn er cellen die van kleur veranderen als u niets hoeft in te voeren (zie onderstaande kleurcodes)."}]
[null,{"$f":"Translations!$B$108","v":"In bepaalde velden kunt u uit voorgedefinieerde waarden kiezen. Om een optie uit een vervolgkeuzelijst te selecteren, klikt u met de muis op het pijltje aan de rechterrand van de cel of klikt u op Alt + pijltje naar beneden als u de cel hebt geselecteerd. In sommige velden met een vervolgkeuzelijst kunt u alsnog eigen tekst invoeren. Dit is mogelijk wanneer de vervolgkeuzelijst lege lijstitems bevat."}]
[null,{"$f":"Translations!$B$109","v":"Kleurcodes en lettertypen:"}]
[null,null,{"$f":"Translations!$B$110","v":"Zwarte vette tekst:"},null,{"$f":"Translations!$B$111","v":"Deze tekst is in het sjabloon van de Commissie opgenomen en kan niet aangepast worden."}]
[null,null,{"$f":"Translations!$B$112","v":"Kleinere cursieve letters:"},null,{"$f":"Translations!$B$113","v":"Deze tekst geeft verdere uitleg. De lidstaten kunnen aanvullende informatie opnemen in lidstaatspecifieke versies van het sjabloon."}]
[null,null,null,null,{"$f":"Translations!$B$114","v":"Gele velden moeten worden ingevuld. U hoeft niets in te vullen als het onderwerp niet van toepassing is op de installatie."}]
[null,null,null,null,{"$f":"Translations!$B$115","v":"Voor lichtgele velden geldt dat invoer niet verplicht is."}]
[null,null,null,null,{"$f":"Translations!$B$116","v":"Groene velden tonen automatisch berekende resultaten. Rode tekst geeft aan dat er sprake is van fouten (zoals ontbrekende gegevens)."}]
[null,null,null,null,{"$f":"Translations!$B$117","v":"Gearceerde velden hoeven vanwege invoer in een ander veld niet te worden ingevuld."}]
[null,null,null,null,{"$f":"Translations!$B$118","v":"Grijs gearceerde velden dienen door de lidstaten te worden ingevuld voor publicatie van een aangepaste versie van het sjabloon."}]
[null,null,null,null,{"$f":"Translations!$B$119","v":"Lichtgrijze velden zijn bestemd voor navigatie en hyperlinks."}]
[]
[15,{"$f":"Translations!$B$120","v":"De navigatiepanelen bovenaan elk werkblad bevatten hyperlinks waarmee u snel naar invoersecties navigeert. De eerste regel (\"Inhoudsopgave\", \"Vorig werkblad\", \"Volgend werkblad\") en de punten \"Naar boven\" en \"Naar beneden\" komen op alle werkbladen voor. Afhankelijk van het werkblad kunnen menu-items worden toegevoegd."}]
[16,{"$f":"Translations!$B$121","v":"In dit sjabloon kunnen alleen de gele velden worden ingevuld. Het sjabloon is om redenen van transparantie niet beveiligd met een wachtwoord. Hierdoor kunt u alle formules bekijken. Wanneer u gegevens invoert in dit bestand, is het raadzaam het bestand te beveiligen. U mag de werkbladen alleen onbeveiligd gebruiken als u de geldigheid van formules controleert. U wordt aangeraden dit in een afzonderlijk bestand te doen."}]
[17,{"$f":"Translations!$B$122","v":"Om de formules te beschermen tegen onbedoelde wijzigingen, die meestal leiden tot onjuiste en misleidende resultaten, \ndient u in GEEN GEVAL de KNIP- EN PLAKFUNCTIE te gebruiken.\nAls u gegevens wilt verplaatsen, KOPIEERT en PLAKT u die, waarna u de ongewenste gegevens van de oude (verkeerde) plek kunt verwijderen."}]
[18,{"$f":"Translations!$B$123","v":"Gegevensvelden zijn niet geoptimaliseerd voor bepaalde numerieke en andere formaten. De beveiliging van de werkbladen is echter beperkt, zodat u uw eigen formaten kunt toepassen. Zo kunt u bepalen hoeveel decimalen u gebruikt. Het aantal decimalen staat in principe los van de precisie van de berekening. De optie \"Precisie zoals afgebeeld\" in Microsoft Excel moet in principe worden uitgeschakeld. Voor nadere informatie over dit onderwerp raadpleegt u de helpfunctie in Microsoft Excel."}]
[]
[19,{"$f":"Translations!$B$124","v":"DISCLAIMER: Alle formules zijn zorgvuldig en grondig opgesteld. Fouten kunnen echter niet volledig worden uitgesloten.\nZoals hierboven beschreven wordt bij het controleren van de geldigheid van de berekeningen volledige transparantie betracht. De opstellers van dit document en de Europese Commissie kunnen niet aansprakelijk worden gesteld voor schade die optreedt ten gevolge van onjuiste of misleidende berekeningsresultaten. \nDe gebruiker van dit document (de exploitant van een EU-ETS-installatie) is volledig verantwoordelijk voor het rapporteren van correcte gegevens naar de bevoegde autoriteit."}]
[]
[20,{"$f":"Translations!$B$125","v":"In veel gevallen dient u in dit sjabloon beschrijvingen te geven van de installatie, de werking ervan en de specifieke monitoringmethoden die u hanteert. In dergelijke gevallen kunt u gebruik maken van de tekstvelden, die soms niet alle informatie kunnen bevatten die u wilt invoeren."}]
[21,{"$f":"Translations!$B$126","v":" In die gevallen wordt u verzocht de informatie (tekst, formules, referentiebestanden, diagrammen en illustraties) in afzonderlijke bestanden bij te sluiten bij de verzending aan de bevoegde autoriteit. U wordt daarbij verzocht een verwijzing naar die bestanden op te nemen. In die gevallen verwijst u naar de bestandsnaam van de bijlage. Daarnaast wordt u aangeraden de datum van laatste wijziging toe te voegen aan de referentie en deze datum duidelijk leesbaar te vermelden in het (printbare) bestand."}]
[22,{"$f":"Translations!$B$127","v":"De bevoegde instantie kan bepalen welke bestandsformaten worden geaccepteerd. Gebruik alleen standaard bestandsformaten van Microsoft Office, zoals .doc, .xls en .pdf. Neem contact op met de bevoegde autoriteit of raadpleeg haar website voor andere geaccepteerde soorten bestanden."}]
[23,{"$f":"Translations!$B$128","v":"Dit bestand bevat macro's voor een aantal functies (items aan lijsten toevoegen, voorbeelden tonen of verbergen). Als u macro's hebt uitgeschakeld, kunt u het model nog steeds gebruiken, maar deze functies niet. \nOm te garanderen dat de macro's geen virus bevatten, zijn deze elektronisch ondertekend. Zie de website van de Commissie of van de bevoegde autoriteit voor instructies voor het verifiëren van de authenticiteit van het model."}]
[]
[]
[24,{"$f":"Translations!$B$129","v":"Lidstaatspecifieke richtsnoeren vindt u hier:"}]
[null,"De instructies opgenomen in de handleiding 'Toelichting bij de overstap op het nieuw sjabloon monitoringplan in de handelsperiode 2021-2030' beschikbaar op onze website (https://omgeving.vlaanderen.be/eu-ets-vaste-installaties-monitoring) moeten gerespecteerd worden bij het invullen van dit sjabloon.\n\nBij het indienen van het voorstel van MP wordt de bestandsnaam VER-MP21-25-vs1 gebruikt, waarbij “VER” staat voor de VER-code van de betreffende installatie (bv. 102 of E03), en “vs1” aantoont dat het gaat over de versie van het MP dat is/zal worden goedgekeurd bij aanvang van de periode 2021-2025.\nVeel voorkomende bijlagen, krijgen een ‘vast’ bijlagenummer:\n•\tbijlage 1: beschrijving van de activiteiten\n•\tbijlage 2: het schema van de installatie\n•\tbijlage 3: onzekerheidsberekeningen (was vaak item §7.1 van het MP)\n•\tbijlage 4: fiches per bronstroom met detailbepaling hoeveelheid, calorische onderwaarde (CW) en emissiefactor (EF) \n•\tbijlage 5: risicoanalyse\n•\tvanaf bijlage 6: eventuele bijkomende bijlagen.\nWanneer deze bijlagen worden mee opgestuurd, moeten ze de volgende bestandsnamen krijgen: VER-MP21-25-bijlageX-vs1."]
[]
[]
[]
[]
[]
[]
[]
[]
[]
[]
[]
[]
[]
[]
[]
[]
[]
[]
[]
[]
[]
[]
[]
[null,null,null,{"$f":"EUconst_MsgNextSheet","v":"<<< Klik hier om naar het volgende werkblad te gaan >>> "}]

{"sheet":"A_MPversions","index":2,"n_rows":52,"n_cols":16,"rows_kept":52,"cut":false,"hidden":false,"merged":[[2,6,2,7],[2,8,2,9],[2,4,2,5],[2,10,2,11],[1,6,1,7],[10,4,10,13],[11,4,11,13],[9,4,9,13],[1,12,1,13],[2,12,2,13],[5,2,5,13],[3,10,3,11],[3,12,3,13],[7,3,7,13],[3,4,3,5],[3,8,3,9],[1,4,1,5],[1,8,1,9],[1,10,1,11],[3,6,3,7],[1,1,3,3],[12,4,12,13],[14,4,14,13],[13,4,13,13],[17,6,17,7],[16,9,16,11],[17,9,17,11],[16,6,16,7],[18,6,18,7],[19,6,19,7],[20,6,20,7],[51,5,51,11],[47,6,49,10],[21,6,21,7],[22,6,22,7],[23,6,23,7],[24,6,24,7],[25,6,25,7],[26,6,26,7],[27,6,27,7],[28,6,28,7],[29,6,29,7],[30,6,30,7],[31,6,31,7],[24,9,24,11],[37,6,37,7],[38,6,38,7],[45,6,45,7],[39,6,39,7],[40,6,40,7],[41,6,41,7],[42,6,42,7],[43,6,43,7],[44,6,44,7],[32,6,32,7],[33,6,33,7],[34,6,34,7],[35,6,35,7],[36,6,36,7],[25,9,25,11],[18,9,18,11],[20,9,20,11],[21,9,21,11],[22,9,22,11],[23,9,23,11],[34,9,34,11],[40,9,40,11],[43,9,43,11],[44,9,44,11],[26,9,26,11],[27,9,27,11],[28,9,28,11],[33,9,33,11],[29,9,29,11],[30,9,30,11],[31,9,31,11],[32,9,32,11],[45,9,45,11],[35,9,35,11],[36,9,36,11],[37,9,37,11],[38,9,38,11],[39,9,39,11],[42,9,42,11],[41,9,41,11]]}
["ausblenden",null,null,null,null,null,null,null,null,null,null,null,null,null,null,"ausblenden"]
[null,{"$f":"Translations!$B$130","v":"A.\nMP Versions"},null,null,{"$f":"Translations!$B$59","v":"Navigatiezone:"},null,{"$f":"Translations!$B$60","v":"Inhoudsopgave"},null,{"$f":"Translations!$B$61","v":"Vorig werkblad"},null,{"$f":"Translations!$B$62","v":"Volgend werkblad"}]
[null,null,null,null,{"$f":"Translations!$B$63","v":"Begin werkblad"}]
[null,null,null,null,{"$f":"Translations!$B$64","v":"Einde werkblad"}]
[]
[null,null,{"$f":"Translations!$B$7","v":"A. Versies van het monitoringplan"}]
[]
[null,null,1,{"$f":"Translations!$B$8","v":"Lijst met versies van het monitoringplan"}]
[]
[null,null,null,null,{"$f":"Translations!$B$1160","v":"Met dit werkblad wordt de huidige versie van het monitoringplan geïdentificeerd. Elke versie van het monitoringplan moet een uniek versienummer hebben dat niet samenvalt met plannen van de vorige fase, en een referentiedatum."}]
[null,null,null,null,{"$f":"Translations!$B$132","v":"Afhankelijk van de voorschriften van de lidstaat, kunnen de exploitant en de bevoegde autoriteit verschillende versies van het document uitwisselen, of kan de exploitant de verschillende versies zelf bijhouden. De exploitant dient in alle gevallen een kopie van alle versies van het monitoringplan te bewaren."}]
[null,null,null,null,{"$f":"Translations!$B$133","v":"In de statuskolom dient de status van het monitoringplan ten tijde van de referentiedatum te worden aangegeven. Mogelijke statussen zijn bijvoorbeeld \"ingediend bij de bevoegde autoriteit\", \"goedgekeurd door de bevoegde autoriteit\" en \"werkversie\"."}]
[null,null,null,null,{"$f":"Translations!$B$134","v":"De monitoring van de emissies van uw installatie dient altijd te geschieden op basis van de laatste goedgekeurde versie van het monitoringplan, behalve in gevallen waar wijzigingen in het monitoringplan al bij de bevoegde autoriteit zijn ingediend en/of wachten op goedkeuring. Overeenkomstig artikel 16, lid 1, voert de exploitant in dergelijke gevallen de monitoring parallel uit, met gebruik van zowel het gewijzigde als het oorspronkelijke monitoringplan."}]
[null,null,null,null,{"$f":"Translations!$B$1161","v":"In de kolom “toepassingsdatum” moet, indien van toepassing, de datum worden ingevuld vanaf welke de in het plan beschreven monitoringmethodologie van toepassing is."}]
[null,null,null,null,{"$f":"Translations!$B$135","v":"Voorbeelden van het weergeven of verbergen van informatie vindt u onder de knop \"Voorbeelden\" in de navigatiezone."}]
[]
[null,null,null,null,{"$f":"[2]Translations!$B$136","v":"Versienummer"},{"$f":"[2]Translations!$B$137","v":"Referentiedatum"},{"$f":"[2]Translations!$B$138","v":"Status ten tijde van de referentiedatum"},null,{"$f":"[2]Translations!$B$1162","v":"Toepassingsdatum"},"Korte beschrijving van de wijzigingen",null,null,"Plaats in MP/ bijlagen waar wijziging werd doorgevoerd","Referentie nr van het meldingsformulier (voor SW)"]
["HIDE_Example",null,null,null,1,"2020-06-30",{"$f":"[2]Translations!$B$140","v":"bij de bevoegde autoriteit ingediend"},null,"2021-01-01",{"$f":"[2]Translations!$B$141","v":"Nieuw monitoringplan teneinde te voldoen aan de eisen van de MRV."},null,null,"-","-"]
["HIDE_Example",null,null,null,2,"2020-07-19",{"$f":"[2]Translations!$B$142","v":"teruggezonden met commentaar"},null,null,{"$f":"[2]Translations!$B$143","v":"De bevoegde autoriteit heeft de bronstromen 1 en 2 gecorrigeerd."},null,null,"tab C(e,f), tab E(F1), bijlage 4","-"]
["ausblenden"]
[]
[]
[]
[]
[]
[]
[]
[]
[]
[]
[]
[]
[]
[]
[]
[]
[]
[]
[]
[]
[]
[]
[]
[]
[]
["ausblenden"]
["ADD_MPVersion"]
[null,null,null,null,null,null,{"$f":"Translations!$B$147","v":"Klik op \"+\" om meer versies van het monitoringplan toe te voegen"}]
[]
[]
[]
[null,null,null,null,null,{"$f":"EUconst_MsgNextSheet","v":"<<< Klik hier om naar het volgende werkblad te gaan >>> "}]

{"sheet":"B_Operator&Inst.ID","index":3,"n_rows":65,"n_cols":16,"rows_kept":65,"cut":false,"hidden":false,"merged":[[9,8,9,11],[23,8,23,11],[11,8,11,11],[13,10,13,11],[13,4,13,6],[13,8,13,9],[15,8,15,11],[3,8,3,9],[1,1,3,3],[5,2,5,13],[30,8,30,11],[26,4,26,13],[22,8,22,11],[23,4,23,6],[24,8,24,11],[21,4,21,6],[21,8,21,11],[17,3,17,13],[28,4,28,9],[9,4,9,6],[11,4,11,6],[22,4,22,6],[24,4,24,6],[30,4,30,6],[2,6,2,7],[2,12,2,13],[1,8,1,9],[3,10,3,11],[3,12,3,13],[1,4,1,5],[3,4,3,5],[2,8,2,9],[2,4,2,5],[2,10,2,11],[1,12,1,13],[7,3,7,13],[3,6,3,7],[1,6,1,7],[1,10,1,11],[51,8,51,11],[50,8,50,11],[37,8,37,11],[31,8,31,11],[38,4,38,13],[37,4,37,6],[35,4,35,6],[35,8,35,11],[34,4,34,6],[34,8,34,11],[33,4,33,6],[33,8,33,11],[32,4,32,6],[32,8,32,11],[31,4,31,6],[64,5,64,11],[42,4,42,11],[45,8,45,11],[40,3,40,13],[43,4,43,11],[54,8,54,11],[60,8,60,11],[61,8,61,11],[48,8,48,11],[59,8,59,11],[57,8,57,11],[55,8,55,11],[52,8,52,11],[56,8,56,11],[46,8,46,11],[47,8,47,11]]}
["ausblenden",null,null,null,null,null,null,null,null,null,null,null,null,null,null,"ausblenden"]
[null,{"$f":"Translations!$B$148","v":"B.\nOperatorInst ID"},null,null,{"$f":"Translations!$B$59","v":"Navigatiezone:"},null,{"$f":"Translations!$B$60","v":"Inhoudsopgave"},null,{"$f":"Translations!$B$61","v":"Vorig werkblad"},null,{"$f":"Translations!$B$62","v":"Volgend werkblad"}]
[null,null,null,null,{"$f":"Translations!$B$63","v":"Begin werkblad"},null,{"$f":"Translations!$B$149","v":"Exploitant"},null,{"$f":"Translations!$B$150","v":"Installatie"},null,{"$f":"Translations!$B$151","v":"Contactpersonen"}]
[null,null,null,null,{"$f":"Translations!$B$64","v":"Einde werkblad"}]
[]
[null,null,{"$f":"Translations!$B$9","v":"B. Informatie over de exploitant en de installatie"}]
[]
[null,null,2,{"$f":"Translations!$B$10","v":"Informatie over de exploitant"}]
[]
[null,null,null,"(a)",{"$f":"Translations!$B$152","v":"Bevoegde autoriteit"},null,null,null,"Vlaams Energie- en Klimaatagentschap"]
[]
[null,null,null,"(b)",{"$f":"Translations!$B$153","v":"Lidstaat"},null,null,null,"België"]
[]
[null,null,null,"(c) ",{"$f":"Translations!$B$154","v":"Registratienummer van de omgevingsvergunning"},null,null,null,{"$f":"Translations!$B$155","v":"Kengetal van de lidstaat / bevoegde autoriteit"}]
[]
[null,null,null,"(d)",{"$f":"Translations!$B$156","v":"Naam van de exploitant"}]
[]
[null,null,3,{"$f":"Translations!$B$11","v":"Informatie over uw installatie"}]
[]
[null,null,null,"(a)",{"$f":"Translations!$B$159","v":"Naam van de installatie en de ligging:"}]
[]
[null,null,null,"i.",{"$f":"Translations!$B$47","v":"Naam van de installatie:"}]
[null,null,null,"ii.",{"$f":"Translations!$B$160","v":"Naam van de locatie:"}]
[null,null,null,"iii.",{"$f":"Translations!$B$161","v":"Unieke ID van de installatie (zoals bij de NIMs):"}]
[null,null,null,"iv.",{"$f":"Translations!$B$162","v":"EPRTR:"}]
[]
[null,null,null,null,{"$f":"Translations!$B$163","v":"Neem lidstaatspecifieke richtsnoeren op betreffende de benaming van installaties."}]
[]
[null,null,null,"(b)",{"$f":"Translations!$B$164","v":"Adres / locatie van de installatie:"}]
[]
[null,null,null,"i.",{"$f":"Translations!$B$165","v":"Adresregel 1:"}]
[null,null,null,"ii.",{"$f":"Translations!$B$166","v":"Adresregel 2:"}]
[null,null,null,"iii.",{"$f":"Translations!$B$167","v":"Plaats:"}]
[null,null,null,"iv.",{"$f":"Translations!$B$168","v":"Staat/provincie/regio:"}]
[null,null,null,"v.",{"$f":"Translations!$B$169","v":"Postcode:"}]
[null,null,null,"vi.",{"$f":"Translations!$B$170","v":"Land:"}]
[]
[null,null,null,"vii.",{"$f":"Translations!$B$171","v":"Geocoördinaten van de site:"}]
[null,null,null,null,{"$f":"Translations!$B$172","v":"Neem lidstaatspecifieke richtlijnen op betreffende roostercoördinaten."}]
[]
[null,null,4,{"$f":"Translations!$B$12","v":"Contactgegevens "}]
[]
[null,null,null,null,{"$f":"Translations!$B$173","v":"Met wie kunnen we contact opnemen over uw monitoringplan?"}]
[null,null,null,null,{"$f":"Translations!$B$174","v":"Het is handig voor ons als wij rechtstreeks contact met iemand kunnen opnemen als wij vragen hebben over uw monitoringplan. De contactpersoon moet bevoegd zijn om namens de exploitant op te treden. "}]
[]
[null,null,null,"(a)",{"$f":"Translations!$B$175","v":"Eerste contactpersoon:"},null,{"$f":"Translations!$B$176","v":"Titel:"}]
[null,null,null,null,null,null,{"$f":"Translations!$B$177","v":"Voornaam:"}]
[null,null,null,null,null,null,{"$f":"Translations!$B$178","v":"Achternaam:"}]
[null,null,null,null,null,null,{"$f":"Translations!$B$179","v":"Functie:"}]
[null,null,null,null,null,null,{"$f":"Translations!$B$180","v":"Naam van de organisatie (indien verschillend van de exploitant):"}]
[]
[null,null,null,null,null,null,{"$f":"Translations!$B$181","v":"Telefoonnummer:"}]
[null,null,null,null,null,null,{"$f":"Translations!$B$182","v":"E-mailadres:"}]
[]
[null,null,null,"(b)",{"$f":"Translations!$B$183","v":"Tweede contactpersoon:"},null,{"$f":"Translations!$B$176","v":"Titel:"}]
[null,null,null,null,null,null,{"$f":"Translations!$B$177","v":"Voornaam:"}]
[null,null,null,null,null,null,{"$f":"Translations!$B$178","v":"Achternaam:"}]
[null,null,null,null,null,null,{"$f":"Translations!$B$179","v":"Functie:"}]
[null,null,null,null,null,null,{"$f":"Translations!$B$180","v":"Naam van de organisatie (indien verschillend van de exploitant):"}]
[]
[null,null,null,null,null,null,{"$f":"Translations!$B$181","v":"Telefoonnummer:"}]
[null,null,null,null,null,null,{"$f":"Translations!$B$182","v":"E-mailadres:"}]
[]
[]
[null,null,null,null,null,{"$f":"EUconst_MsgNextSheet","v":"<<< Klik hier om naar het volgende werkblad te gaan >>> "}]

{"sheet":"C_InstallationDescription","index":4,"n_rows":337,"n_cols":28,"rows_kept":337,"cut":false,"hidden":false,"merged":[[37,10,37,13],[13,4,13,13],[10,3,10,13],[39,4,39,13],[38,4,38,13],[98,9,98,13],[76,4,76,13],[64,4,64,9],[90,4,90,13],[50,4,50,13],[45,5,45,13],[44,4,44,13],[62,5,62,9],[46,5,46,13],[61,5,61,9],[58,5,58,9],[59,5,59,9],[60,5,60,9],[37,4,37,9],[12,4,12,13],[49,4,49,13],[54,5,54,9],[55,5,55,9],[95,4,95,7],[1,12,1,13],[1,1,3,3],[1,8,1,9],[3,6,3,7],[9,3,9,13],[2,8,2,9],[2,6,2,7],[3,4,3,5],[3,10,3,11],[7,3,7,13],[1,4,1,5],[1,6,1,7],[3,8,3,9],[2,4,2,5],[5,2,5,13],[1,10,1,11],[2,12,2,13],[3,12,3,13],[2,10,2,11],[179,11,179,13],[179,4,179,10],[125,6,127,10],[168,5,168,9],[166,5,166,9],[150,6,152,10],[123,6,123,12],[117,6,117,12],[118,6,118,12],[119,6,119,12],[120,6,120,12],[158,4,158,13],[154,11,154,13],[164,4,164,13],[121,6,121,12],[122,6,122,12],[154,4,154,10],[167,5,167,9],[159,4,159,13],[137,5,137,10],[130,4,130,13],[264,4,264,8],[172,5,172,9],[198,8,198,10],[163,4,163,13],[173,5,173,9],[262,5,262,11],[182,4,182,13],[197,8,197,10],[183,4,183,13],[196,8,196,10],[208,4,208,13],[180,10,180,13],[175,6,177,10],[186,4,186,13],[188,8,188,10],[255,5,255,7],[258,6,260,10],[256,8,256,10],[255,11,255,13],[256,11,256,13],[256,5,256,7],[252,5,252,7],[254,8,254,10],[255,8,255,10],[253,5,253,7],[133,4,133,13],[138,5,138,10],[254,11,254,13],[184,4,184,13],[202,6,204,10],[230,5,230,10],[222,5,222,10],[181,4,181,13],[170,5,170,9],[249,11,249,13],[253,11,253,13],[252,11,252,13],[253,8,253,10],[252,8,252,10],[200,8,200,10],[246,8,246,10],[246,5,246,7],[247,5,247,7],[207,4,207,13],[254,5,254,7],[171,5,171,9],[147,5,147,10],[162,4,162,13],[250,5,250,7],[245,5,245,7],[248,5,248,7],[248,11,248,13],[249,5,249,7],[245,8,245,10],[245,11,245,13],[140,5,140,10],[145,5,145,10],[155,10,155,13],[157,4,157,13],[142,5,142,10],[160,4,160,13],[141,5,141,10],[144,5,144,10],[148,5,148,10],[146,5,146,10],[209,4,209,13],[225,5,225,10],[229,5,229,10],[223,5,223,10],[221,5,221,10],[231,5,231,10],[220,5,220,10],[251,11,251,13],[250,11,250,13],[250,8,250,10],[251,8,251,10],[251,5,251,7],[247,11,247,13],[247,8,247,10],[248,8,248,10],[213,5,213,13],[216,4,216,13],[228,5,228,10],[240,4,240,13],[234,10,234,13],[217,4,217,13],[227,5,227,10],[232,5,232,10],[226,5,226,10],[243,4,243,13],[241,4,241,13],[238,10,238,13],[236,10,236,13],[242,4,242,13],[246,11,246,13],[249,8,249,10],[210,4,210,13],[211,5,211,13],[212,5,212,13],[215,4,215,13],[214,4,214,13],[219,5,219,10],[224,5,224,10],[14,4,14,13],[83,4,83,13],[84,4,84,13],[77,4,77,13],[78,4,78,13],[99,4,99,7],[97,9,97,13],[48,4,48,13],[68,4,68,7],[81,4,81,13],[16,4,35,13],[41,4,41,13],[43,4,43,13],[97,4,97,7],[53,5,53,9],[89,4,89,13],[47,4,47,13],[115,6,115,12],[116,6,116,12],[94,4,94,7],[94,9,94,13],[56,5,56,9],[52,5,52,9],[57,5,57,9],[65,4,65,13],[96,9,96,13],[91,4,91,13],[82,4,82,13],[71,9,71,13],[95,9,95,13],[96,4,96,7],[42,4,42,13],[111,6,111,12],[112,6,112,12],[113,6,113,12],[66,4,66,13],[80,4,80,10],[72,4,72,13],[69,4,69,7],[98,4,98,7],[74,5,74,13],[99,9,99,13],[73,4,73,13],[105,4,105,13],[104,4,104,13],[101,4,101,13],[75,5,75,13],[199,8,199,10],[193,8,193,10],[92,4,92,13],[86,3,86,13],[143,5,143,10],[191,8,191,10],[169,5,169,9],[189,8,189,10],[195,8,195,10],[194,8,194,10],[192,8,192,10],[190,8,190,10],[185,4,185,13],[110,6,110,12],[107,4,107,13],[135,5,135,10],[136,5,136,10],[106,4,106,13],[139,5,139,10],[161,4,161,13],[132,4,132,13],[109,6,109,12],[131,4,131,13],[114,6,114,12]]}
["ausblenden",null,null,null,null,null,null,null,null,null,null,null,null,null,null,"ausblenden","ausblenden","ausblenden","ausblenden","ausblenden","ausblenden","ausblenden","ausblenden","ausblenden","ausblenden","ausblenden","ausblenden","ausblenden"]
[null,{"$f":"Translations!$B$184","v":"C.\nInstallation Description"},null,null,{"$f":"Translations!$B$59","v":"Navigatiezone:"},null,{"$f":"Translations!$B$60","v":"Inhoudsopgave"},null,{"$f":"Translations!$B$61","v":"Vorig werkblad"},null,{"$f":"Translations!$B$62","v":"Volgend werkblad"}]
[null,null,null,null,{"$f":"Translations!$B$63","v":"Begin werkblad"},null,{"$f":"Translations!$B$185","v":"Activiteiten van de installatie "},null,{"$f":"Translations!$B$186","v":"Monitoringbenaderingen "},null,{"$f":"Translations!$B$187","v":"Emissiebronnen en -punten "}]
[null,null,null,null,{"$f":"Translations!$B$64","v":"Einde werkblad"},null,{"$f":"Translations!$B$188","v":"Meetpunten "},null,{"$f":"Translations!$B$189","v":"Bronstromen "},null,{"$f":"Translations!$B$190","v":"Niet-EU-ETS-activiteiten "}]
[]
[null,null,{"$f":"Translations!$B$13","v":"C. Beschrijving van de installatie"}]
[]
[null,null,5,{"$f":"Translations!$B$14","v":"De activiteiten van de installatie"}]
[]
[null,null,null,{"$f":"Translations!$B$191","v":"Gebruik dit werkblad voor de beschrijving van uw installatie. De informatie die u hier invoert, is van belang voor de gedetailleerde informatie in de volgende tabbladen."}]
[null,null,null,{"$f":"Translations!$B$192","v":"Bronstromen worden meer in detail beschreven in het tabblad E_SourceStreams en meetpunten in het tabblad F_MeasurementBasedApproaches. "}]
[]
[null,null,null,"(a)",{"$f":"Translations!$B$193","v":"Beschrijving van de installatie en de activiteiten:"}]
[null,null,null,null,{"$f":"Translations!$B$194","v":"Hier geeft u een korte beschrijving van de locatie en de installatie en geeft u aan waar de installatie zich op het terrein bevindt.  De beschrijving dient ook een niet-technische samenvatting te bevatten van de activiteiten die in de installatie worden verricht. U gaat daarbij kort in op de afzonderlijke activiteiten en de technische eenheden per activiteit.  Uit de beschrijving moet ook duidelijk worden welke onderdelen van de installatie niet door de exploitant worden geëxploiteerd of niet binnen de werkingssfeer van EU-ETS vallen."}]
[null,null,null,null,{"$f":"Translations!$B$195","v":"Deze beschrijving dient de verbindende informatie te bevatten die nodig is om te begrijpen hoe alle informatie die elders in dit sjabloon is ingevoerd, gebruikt wordt bij de emissieberekening. De beschrijving mag zo kort zijn als het voorbeeld bij punt 7a op het werkblad D_CalculationBasedApproaches."}]
[]
[]
[]
[]
[]
[]
[]
[]
[]
[]
[]
[]
[]
[]
[]
[]
[]
[]
[]
[]
[]
[]
[null,null,null,"(b) ",{"$f":"Translations!$B$196","v":"Bronstroomdiagram – documenttitel en referentie:"}]
[null,null,null,null,{"$f":"Translations!$B$197","v":"Bij de beschrijving van de activiteiten kan een eenvoudig diagram met de emissiebronnen, bronstromen, monsternemingspunten en meetapparatuur van pas komen.  Verwijs hier naar de bestandsnaam en datum van het diagram, mocht u daarover beschikken, en voeg een exemplaar bij het monitoringplan dat u naar de bevoegde autoriteiten zendt."}]
[null,null,null,null,{"$f":"Translations!$B$198","v":"De bevoegde autoriteit kan dit diagram verplicht stellen."}]
[]
[null,null,null,"(c)",{"$f":"Translations!$B$199","v":"Lijst van activiteiten die conform bijlage I bij de EU-ETS-richtlijn worden uitgevoerd in deze installatie:"}]
[null,null,null,null,{"$f":"Translations!$B$200","v":"U wordt verzocht de volgende technische informatie te verschaffen voor alle activiteiten die u overeenkomstig bijlage I bij de EU-ETS-richtlijn in uw installatie verricht."}]
[null,null,null,null,{"$f":"Translations!$B$201","v":"U wordt tevens verzocht de capaciteit te vermelden van elke activiteit uit bijlage I die op uw installatie van toepassing is."}]
[null,null,null,null,{"$f":"Translations!$B$202","v":"De definitie van 'capaciteit' is daarbij de volgende:"}]
[null,null,null,null,"-",{"$f":"Translations!$B$203","v":"Het nominaal thermisch vermogen (voor activiteiten die boven een drempel van 20MW onder het EU-ETS vallen), oftewel het maximale continue vermogen van de installatie voor de verbranding van brandstoffen vermenigvuldigd met de calorische waarde van de brandstof uitgedrukt in MW(th). "}]
[null,null,null,null,"-",{"$f":"Translations!$B$204","v":"De productiecapciteit van activiteiten uit bijlage I waarvan de productiecapaciteit bepalend is voor opneming in EU-ETS. "}]
[null,null,null,null,{"$f":"Translations!$B$205","v":"Controleer of de grenzen van de installatie kloppen en in overeenstemming zijn met bijlage I bij de EU-ETS-richtlijn. Voor verdere informatie raadpleegt u de punten in de richtsnoeren van de Commissie die de interpretatie van bijlage I betreffen. De richtsnoeren zijn beschikbaar via de volgende link:"}]
[null,null,null,null,{"$f":"Translations!$B$206","v":"http://ec.europa.eu/clima/policies/ets/docs/guidance_interpretation_en.pdf "}]
[null,null,null,null,{"$f":"Translations!$B$207","v":"De hier ingevoerde lijst zal als vervolgkeuzelijst beschikbaar zijn in de onderstaande tabellen, waar u bij het beschrijven van de installatie moet verwijzen naar de activiteit."}]
[null,null,null,null,{"$f":"Translations!$B$135","v":"Voorbeelden van het weergeven of verbergen van informatie vindt u onder de knop \"Voorbeelden\" in de navigatiezone."}]
[]
[null,null,null,null,{"$f":"Translations!$B$208","v":"Activiteitsreferentie (A1, A2 …)"},{"$f":"Translations!$B$209","v":"Activiteit van bijlage I"},null,null,null,null,{"$f":"Translations!$B$210","v":"Totale capaciteit van de activiteit "},{"$f":"Translations!$B$211","v":"Capaciteitseenheden"},{"$f":"Translations!$B$1163","v":"Nominaal thermisch ingangsvermogen in MW(th) (indien capaciteit uitgedrukt in ton)"},{"$f":"Translations!$B$212","v":"Uitgestoten broeikasgassen"},null,null,null,null,null,null,"Sorting","Sorting","Sorting","Sorting","Sorting"]
["HIDE_Example",null,null,null,"A01",{"$f":"Translations!$B$213","v":"Productie van cementklinkers"},null,null,null,null,1500,{"$f":"Translations!$B$214","v":"ton per dag"},230,{"$f":"IF(ISBLANK(F54),\"\",INDEX(EUConst_AnnexIListGHG,MATCH(F54,AnnexIActivities,0)))","v":"CO2"}]
["HIDE_Example",null,null,null,"A02",{"$f":"Translations!$B$215","v":"Verbranding van brandstoffen"},null,null,null,null,120,{"$f":"Translations!$B$216","v":"MW(th)"},120,{"$f":"IF(ISBLANK(F55),\"\",INDEX(EUConst_AnnexIListGHG,MATCH(F55,AnnexIActivities,0)))","v":"CO2"}]
[null,null,null,null,"A1",null,null,null,null,null,null,null,null,"",null,null,null,null,null,1,{"$f":"IF(ISBLANK(F56),\"\",E56)","v":""},{"$f":"IF(ISBLANK(F56),\"\",F56)","v":""},{"$f":"IF(V56=\"\",\"\",MAX(W$55:W55)+1)","v":""},{"$f":"IF(COUNTIF($W$56:$W$60,T56)=1,INDEX($U$56:$U$60,MATCH(T56,$W$56:$W$60,0)) & \": \" & INDEX($V$56:$V$60,MATCH(T56,$W$56:$W$60,0)),EUconst_NA)","v":"n.v.t."},{"$f":"IF(COUNTIF($W$56:$W$60,T56)=1,INDEX($V$56:$V$60,MATCH(T56,$W$56:$W$60,0)),EUconst_NA)","v":"n.v.t."},{"$f":"IF(F56=\"\",\"\",MATCH(F56,AnnexIActivities,0))","v":""}]
[null,null,null,null,"A2",null,null,null,null,null,null,null,null,"",null,null,null,null,null,2,"","",{"$f":"IF(V57=\"\",\"\",MAX(W$55:W56)+1)","v":""},"n.v.t.","n.v.t.",""]
[null,null,null,null,"A3",null,null,null,null,null,null,null,null,"",null,null,null,null,null,3,"","",{"$f":"IF(V58=\"\",\"\",MAX(W$55:W57)+1)","v":""},"n.v.t.","n.v.t.",""]
[null,null,null,null,"A4",null,null,null,null,null,null,null,null,"",null,null,null,null,null,4,"","",{"$f":"IF(V59=\"\",\"\",MAX(W$55:W58)+1)","v":""},"n.v.t.","n.v.t.",""]
[null,null,null,null,"A5",null,null,null,null,null,null,null,null,"",null,null,null,null,null,5,"","",{"$f":"IF(V60=\"\",\"\",MAX(W$55:W59)+1)","v":""},"n.v.t.","n.v.t.",""]
[null,null,null,null,"A6",null,null,null,null,null,null,null,null,{"$f":"IF(ISBLANK(F61),\"\",INDEX(EUConst_AnnexIListGHG,MATCH(F61,AnnexIActivities,0)))","v":""},null,null,null,null,null,6,"","",{"$f":"IF(V61=\"\",\"\",MAX(W$55:W60)+1)","v":""},"n.v.t.","n.v.t.",""]
[null,null,null,null,"A7",null,null,null,null,null,null,null,null,{"$f":"IF(ISBLANK(F62),\"\",INDEX(EUConst_AnnexIListGHG,MATCH(F62,AnnexIActivities,0)))","v":""},null,null,null,null,null,7,"","",{"$f":"IF(V62=\"\",\"\",MAX(W$55:W61)+1)","v":""},"n.v.t.","n.v.t.",""]
["ausblenden",null,null,null,null,null,null,null,null,null,null,null,null,""]
[]
[null,null,null,"(d) ",{"$f":"Translations!$B$217","v":"Geschatte jaarlijkse emissies:"}]
[null,null,null,null,{"$f":"Translations!$B$218","v":"Voer hier de gemiddelde jaarlijkse emissies van uw installatie in. Deze informatie is nodig om de installatie te classificeren overeenkomstig artikel 19 van de MRV. Vermeld hier de gemiddelde geverifieerde jaarlijkse emissies van de voorgaande handelsperiode, OF als die niet beschikbaar of bruikbaar zijn, een conservatieve schatting van de jaarlijkse gemiddelde emissies, met inbegrip van het overgedragen CO2, maar exclusief het CO2 van biomassa."}]
[null,null,null,null,{"$f":"Translations!$B$219","v":"De aldus vastgestelde categorie wordt gebruikt om de minimale niveaueisen vast te stellen bij punt 8 (Bronstromen)."}]
[]
[null,null,null,null,{"$f":"Translations!$B$220","v":"Geschatte jaarlijkse emissies"},null,null,null,null,"t CO2e"]
[null,null,null,null,{"$f":"Translations!$B$221","v":"Installatiecategorie overeenkomstig artikel 19"},null,null,null,{"$f":"IF(ISBLANK(CNTR_TotalEmissions),\"\",IF(CNTR_TotalEmissions>500000,\"C\",IF(CNTR_TotalEmissions>50000,\"B\",\"A\")))","v":""}]
[null,null,null,null,null,null,null,null,null,null,null,null,null,null,null,null,null,null,null,null,null,null,null,null,null,null,null,"make grey?"]
[null,null,null,"(e)",{"$f":"Translations!$B$222","v":"Installatie met geringe emissies?"},null,null,null,null,{"$f":"IF(ISBLANK(CNTR_SmallEmitter),\"\",IF(S72,IF(CNTR_SmallEmitter=TRUE,EUconst_ERR_NoN2OSmallEmitters,\"\"),IF(S73,EUconst_MsgSmallEmitters,\"\")))","v":""},null,null,null,null,null,null,null,null,{"$f":"OR(COUNTIF(Z56:Z60,19),COUNTIF(Z56:Z60,20),COUNTIF(Z56:Z60,21))","v":false},"Check N2O",null,null,null,null,null,null,null,{"$f":"AND(CNTR_Category<>\"\",CNTR_Category<>\"A\")","v":false}]
[null,null,null,null,{"$f":"Translations!$B$223","v":"Als u hier \"WAAR\" invult, voldoet de installatie aan de in artikel 47 vastgelegde criteria voor installaties met een geringe emissie."},null,null,null,null,null,null,null,null,null,null,null,null,null,{"$f":"AND(ISNUMBER(CNTR_TotalEmissions),OR(AND(CNTR_SmallEmitter=TRUE,CNTR_TotalEmissions>25000),AND(CNTR_SmallEmitter=FALSE,CNTR_TotalEmissions<=25000)))","v":false},"Check >=25000 / Contradiction"]
[null,null,null,null,{"$f":"Translations!$B$224","v":"Volgens dat artikel mag de exploitant een vereenvoudigd monitoringplan indienen voor installaties waar geen stikstofoxide wordt uitgestoten en waarvoor kan worden aangetoond dat: "}]
[null,null,null,null,"-",{"$f":"Translations!$B$225","v":"de gemiddelde jaarlijkse emissies van die installatie tijdens de handelsperiode direct voorafgaand aan de huidige handelsperiode minder dan 25 000 ton CO2(e) per jaar bedroegen, of"}]
[null,null,null,null,"-",{"$f":"Translations!$B$226","v":"dat de emissies volgens een conservatieve schattingsmethode de komende vijf jaar minder dan 25 000 ton CO2(e) per jaar bedragen, indien de geverifieerde emissies niet beschikbaar of niet meer van toepassing zijn."}]
[null,null,null,null,{"$f":"Translations!$B$227","v":"Opmerking: bovenstaande gegevens dienen inclusief overgedragen CO2 en exclusief CO2 afkomstig uit biomassa te zijn."}]
[null,null,null,null,{"$f":"Translations!$B$228","v":"Wanneer uw keuze in tegenspraak is met de geschatte emissies onder punt d hierboven, zult u daarvan middels een bericht op de hoogte worden gesteld. Geef hieronder een passende motivering."}]
[null,null,null,null,{"$f":"Translations!$B$229","v":"Als uw installatie een installatie met een geringe emissie zoals gedefinieerd in artikel 47  is, wordt het monitoringplan op een aantal punten vereenvoudigd."}]
[]
[null,null,null,"(f) ",{"$f":"Translations!$B$1164","v":"Geschatte emissies in punt d) of e) gebaseerd op conservatieve schattingen?"}]
[null,null,null,null,{"$f":"Translations!$B$1165","v":"Als u hebt aangegeven dat het om een installatie met een geringe emissie gaat, maar dit in strijd is met uw invoer bij punt d) of het getal in punt d) niet gebaseerd is op geverifieerde emissies, maar op een conservatieve schatting, wordt u verzocht om “WAAR” te selecteren en hieronder een korte uitleg te geven."},null,null,null,null,null,null,null,null,null,null,null,null,null,null,null,null,null,null,null,null,null,null,"make grey?"]
[null,null,null,null,null,null,null,null,null,null,null,null,null,null,null,null,null,null,null,null,null,null,null,null,null,null,null,{"$f":"AND(L81<>\"\",L81=FALSE)","v":false}]
[]
[]
[]
[null,null,6,{"$f":"Translations!$B$15","v":"Informatie over uw emissies"}]
[]
[null,null,null,"(a)",{"$f":"Translations!$B$232","v":"Voorgestelde monitoringmethoden:"}]
[null,null,null,null,{"$f":"Translations!$B$233","v":"Geef aan welke van de volgende monitoringmethoden u wilt toepassen:"}]
[null,null,null,null,{"$f":"Translations!$B$234","v":"Overeenkomstig artikel 21 mag de emissiemonitoring geschieden via een op berekening gebaseerde methode (\"rekenmethode\") of een op meting gebaseerde methode (\"meetmethode\"), behoudens wanneer specifieke methoden worden voorgeschreven door de MRV. "}]
[null,null,null,null,{"$f":"Translations!$B$235","v":"Opmerking: Afhankelijk van de bevoegde autoriteit mag de exploitant voor verschillende bronnen meet- en rekenmethoden combineren.  De exploitant moet erop toezien en aantonen dat er geen hiaten of dubbeltellingen ten aanzien van emissies optreden. "}]
[null,null,null,null,{"$f":"Translations!$B$236","v":"Laat deze velden niet leeg, omdat de invoer in deze velden voorwaardelijke opmaak genereert, aan de hand waarvan u door het document wordt geleid."}]
[]
[null,null,null,null,{"$f":"Translations!$B$237","v":"Rekenmethode voor CO2:"},null,null,null,null,{"$f":"IF(CNTR_InstHasCalculation=TRUE,EUConst_RelSectionCalc,\"\")","v":""}]
[null,null,null,null,{"$f":"Translations!$B$238","v":"Meetmethode voor CO2:"},null,null,null,null,{"$f":"IF(CNTR_InstHasMeasurement=TRUE,EUConst_RelSectionMeasure,\"\")","v":""}]
[null,null,null,null,{"$f":"Translations!$B$239","v":"\"Fall-back\"-methode (artikel 22):"},null,null,null,null,{"$f":"IF(CNTR_InstHasFallBack=TRUE,EUConst_RelSectionFallback,\"\")","v":""}]
[null,null,null,null,{"$f":"Translations!$B$240","v":"Monitoring van N2O-emissies:"},null,null,null,null,{"$f":"IF(CNTR_InstHasN2O=TRUE,EUConst_RelSectionN2O,\"\")","v":""}]
[null,null,null,null,{"$f":"Translations!$B$241","v":"Monitoring van PFK-emissies:"},null,null,null,null,{"$f":"IF(CNTR_InstHasPFC=TRUE,EUConst_RelSectionPFC,\"\")","v":""}]
[null,null,null,null,{"$f":"Translations!$B$242","v":"Monitoring van overgedragen of inherent CO2 en CCS:"},null,null,null,null,{"$f":"IF(CNTR_InstHasTransferredCO2=TRUE,EUConst_RelSectionCCS,\"\")","v":""}]
[]
[null,null,null,null,{"$f":"Translations!$B$243","v":"Controleer of u de rest van dit werkblad hebt ingevuld (de secties per gekozen methode) voordat u verdergaat op het werkblad \"K_ManagementControl\" (punt 20 t/m 25), dat voor alle installaties verplicht is."}]
[]
[null,null,null,"(b)",{"$f":"Translations!$B$244","v":"Emissiebronnen:"}]
[null,null,null,null,{"$f":"Translations!$B$245","v":"Krachtens bijlage I dienen monitoringplannen een beschrijving te bevatten van de installatie en de door de te monitoren installatie uitgevoerde activiteiten, met een lijst van emissiebronnen en bronstromen.  De informatie die u in dit model verstrekt dient verband te houden met de bijlage I-activiteiten in de betreffende installatie en dient betrekking te hebben op één installatie. Hier voert u activiteiten in die in uw installatie worden verricht en laat u verwante, door andere exploitanten ontplooide activiteiten buiten beschouwing."}]
[null,null,null,null,{"$f":"Translations!$B$246","v":"De activiteitenreferentie in de laatste kolom is gekoppeld aan de activiteitenreferentie bij punt 5c. Wanneer een emissiebron onder meerdere activiteiten valt, vult u bijvoorbeeld \"A1, A2\" of \"A1 – A3\" in."}]
[null,null,null,null,{"$f":"Translations!$B$247","v":"Deze lijst zal als vervolgkeuzelijst beschikbaar zijn bij de onderstaande punten c, d en e, waar verwezen moet worden naar de relevante emissiebronnen."}]
[null,null,null,null,{"$f":"Translations!$B$135","v":"Voorbeelden van het weergeven of verbergen van informatie vindt u onder de knop \"Voorbeelden\" in de navigatiezone."}]
[]
[null,null,null,null,{"$f":"Translations!$B$248","v":"Emissiebron-referentie\nS1, S2, ..."},"Vlaamse ref. MP13-20 (SV1, SV2, …; SP1, SP2, …)",{"$f":"Translations!$B$249","v":"Emissiebron (naam, beschrijving)"},null,null,null,null,null,null,{"$f":"Translations!$B$250","v":"Activiteits ref."},null,null,null,null,null,null,"Sorting","Sorting","Sorting"]
["HIDE_Example",null,null,null,"S01","SV1",{"$f":"Translations!$B$251","v":"Cementklinker (decarbonisatie van de grondstof, verbranding van brandstoffen)"},null,null,null,null,null,null,"A1"]
["HIDE_Example",null,null,null,"S02","SV2",{"$f":"Translations!$B$252","v":"Met kolen gestookte ketelinstallatie (verbranding van brandstoffen)"},null,null,null,null,null,null,"A2"]
["HIDE_Example",null,null,null,"S03","SV3",{"$f":"Translations!$B$253","v":"Met kolen gestookte ketelinstallatie (rookgasreiniging door ontleding van kalksteen)"},null,null,null,null,null,null,"A2"]
[null,null,null,null,"S1",null,null,null,null,null,null,null,null,null,null,null,null,null,null,1,{"$f":"IF(ISBLANK(G114),\"\",E114)","v":""},{"$f":"IF(U114=\"\",\"\",MAX(V$113:V113)+1)","v":""},{"$f":"IF(COUNTIF($V$114:$V$124,T114)=1,INDEX($U$114:$U$124,MATCH(T114,$V$114:$V$124,0)) & \": \" & INDEX($G$114:$G$124,MATCH(T114,$V$114:$V$124,0)),EUconst_NA)","v":"n.v.t."}]
[null,null,null,null,"S2",null,null,null,null,null,null,null,null,null,null,null,null,null,null,2,{"$f":"IF(ISBLANK(G115),\"\",E115)","v":""},{"$f":"IF(U115=\"\",\"\",MAX(V$113:V114)+1)","v":""},"n.v.t."]
[null,null,null,null,"S3",null,null,null,null,null,null,null,null,null,null,null,null,null,null,3,"",{"$f":"IF(U116=\"\",\"\",MAX(V$113:V115)+1)","v":""},"n.v.t."]
[null,null,null,null,"S4",null,null,null,null,null,null,null,null,null,null,null,null,null,null,4,"",{"$f":"IF(U117=\"\",\"\",MAX(V$113:V116)+1)","v":""},"n.v.t."]
[null,null,null,null,"S5",null,null,null,null,null,null,null,null,null,null,null,null,null,null,5,"",{"$f":"IF(U118=\"\",\"\",MAX(V$113:V117)+1)","v":""},"n.v.t."]
[null,null,null,null,"S6",null,null,null,null,null,null,null,null,null,null,null,null,null,null,6,"",{"$f":"IF(U119=\"\",\"\",MAX(V$113:V118)+1)","v":""},"n.v.t."]
[null,null,null,null,"S7",null,null,null,null,null,null,null,null,null,null,null,null,null,null,7,"",{"$f":"IF(U120=\"\",\"\",MAX(V$113:V119)+1)","v":""},"n.v.t."]
[null,null,null,null,"S8",null,null,null,null,null,null,null,null,null,null,null,null,null,null,8,"",{"$f":"IF(U121=\"\",\"\",MAX(V$113:V120)+1)","v":""},"n.v.t."]
[null,null,null,null,"S9",null,null,null,null,null,null,null,null,null,null,null,null,null,null,9,"",{"$f":"IF(U122=\"\",\"\",MAX(V$113:V121)+1)","v":""},"n.v.t."]
[null,null,null,null,"S10",null,null,null,null,null,null,null,null,null,null,null,null,null,null,10,"",{"$f":"IF(U123=\"\",\"\",MAX(V$113:V122)+1)","v":""},"n.v.t."]
["ausblenden",null,null,null,null,null,null,null,null,null,null,null,null,null,null,null,null,null,null,null,{"$f":"IF(ISBLANK(G124),\"\",E124)","v":""},{"$f":"IF(U124=\"\",\"\",MAX(V$113:V123)+1)","v":""}]
["ADD_EmissionSource"]
[null,null,null,null,null,null,{"$f":"Translations!$B$254","v":"Klik op \"+\" om meer emissiebronnen toe te voegen"}]
[]
[]
[]
[null,null,null,"(c)",{"$f":"Translations!$B$255","v":"Emissiepunten en uitgestoten broeikasgassen:"}]
[null,null,null,null,{"$f":"Translations!$B$256","v":"Som alle relevante emissiepunten op (waaronder diffuse emissiebronnen) en omschrijf ze kort."}]
[null,null,null,null,{"$f":"Translations!$B$257","v":"Selecteer in de vervolgkeuzelijsten ook de bijlage I-activiteiten, emissiebronnen en uitgestoten broeikasgassen (deze gegevens zijn gekoppeld aan de gegevens bij punt 5c). Wanneer een emissiebron onder meerdere activiteiten valt, vult u bijvoorbeeld \"A1, A2\" in."}]
[null,null,null,null,{"$f":"Translations!$B$258","v":"Deze lijst zal als vervolgkeuzelijst beschikbaar zijn bij de onderstaande punten d en e, waar verwezen moet worden naar het relevante emissiepunt."}]
[null,null,null,null,{"$f":"Translations!$B$135","v":"Voorbeelden van het weergeven of verbergen van informatie vindt u onder de knop \"Voorbeelden\" in de navigatiezone."}]
[]
[null,null,null,null,{"$f":"Translations!$B$259","v":"Emissiepuntreferentie\nEP1, EP2, ..."},{"$f":"Translations!$B$260","v":"Beschrijving van het emissiepunt"},null,null,null,null,null,{"$f":"Translations!$B$250","v":"Activiteits ref."},{"$f":"Translations!$B$261","v":"Emissiebron ref."},{"$f":"Translations!$B$212","v":"Uitgestoten broeikasgassen"},null,null,null,null,null,null,"Sorting","Sorting","Sorting",null,null,null,null,"make grey?"]
["HIDE_Example",null,null,null,"EP01",{"$f":"Translations!$B$262","v":"Schoorsteen 1 (met kolen gestookte ketelinstallatiel)"},null,null,null,null,null,"A02","S102, S03","CO2"]
["HIDE_Example",null,null,null,"EP02",{"$f":"Translations!$B$263","v":"Schoorsteen 2 (cementklinker)"},null,null,null,null,null,"A01","S01","CO2"]
[null,null,null,null,"EP1",null,null,null,null,null,null,null,null,null,null,null,null,null,null,1,{"$f":"IF(ISBLANK(F139),\"\",E139)","v":""},{"$f":"IF(U139=\"\",\"\",MAX(V$138:V138)+1)","v":""},{"$f":"IF(COUNTIF($V$139:$V$149,T139)=1,INDEX($U$139:$U$149,MATCH(T139,$V$139:$V$149,0)) & \": \" & INDEX($F$139:$F$149,MATCH(T139,$V$139:$V$149,0)),EUconst_NA)","v":"n.v.t."},null,null,null,null,{"$f":"IF(OR(CNTR_InstHasMeasurement=TRUE,CNTR_InstHasN2O=TRUE,CNTR_InstHasTransferredCO2=TRUE),FALSE,IF(COUNTA(CNTR_ListRelevantSections)>0,TRUE,FALSE))","v":false}]
[null,null,null,null,"EP2",null,null,null,null,null,null,null,null,null,null,null,null,null,null,2,{"$f":"IF(ISBLANK(F140),\"\",E140)","v":""},{"$f":"IF(U140=\"\",\"\",MAX(V$138:V139)+1)","v":""},{"$f":"IF(COUNTIF($V$139:$V$149,T140)=1,INDEX($U$139:$U$149,MATCH(T140,$V$139:$V$149,0)) & \": \" & INDEX($F$139:$F$149,MATCH(T140,$V$139:$V$149,0)),EUconst_NA)","v":"n.v.t."},null,null,null,null,false]
[null,null,null,null,"EP3",null,null,null,null,null,null,null,null,null,null,null,null,null,null,3,{"$f":"IF(ISBLANK(F141),\"\",E141)","v":""},{"$f":"IF(U141=\"\",\"\",MAX(V$138:V140)+1)","v":""},"n.v.t.",null,null,null,null,false]
[null,null,null,null,"EP4",null,null,null,null,null,null,null,null,null,null,null,null,null,null,4,"",{"$f":"IF(U142=\"\",\"\",MAX(V$138:V141)+1)","v":""},"n.v.t.",null,null,null,null,false]
[null,null,null,null,"EP5",null,null,null,null,null,null,null,null,null,null,null,null,null,null,5,"",{"$f":"IF(U143=\"\",\"\",MAX(V$138:V142)+1)","v":""},"n.v.t.",null,null,null,null,false]
[null,null,null,null,"EP6",null,null,null,null,null,null,null,null,null,null,null,null,null,null,6,"",{"$f":"IF(U144=\"\",\"\",MAX(V$138:V143)+1)","v":""},"n.v.t.",null,null,null,null,false]
[null,null,null,null,"EP7",null,null,null,null,null,null,null,null,null,null,null,null,null,null,7,"",{"$f":"IF(U145=\"\",\"\",MAX(V$138:V144)+1)","v":""},"n.v.t.",null,null,null,null,false]
[null,null,null,null,"EP8",null,null,null,null,null,null,null,null,null,null,null,null,null,null,8,"",{"$f":"IF(U146=\"\",\"\",MAX(V$138:V145)+1)","v":""},"n.v.t.",null,null,null,null,false]
[null,null,null,null,"EP9",null,null,null,null,null,null,null,null,null,null,null,null,null,null,9,"",{"$f":"IF(U147=\"\",\"\",MAX(V$138:V146)+1)","v":""},"n.v.t.",null,null,null,null,false]
[null,null,null,null,"EP10",null,null,null,null,null,null,null,null,null,null,null,null,null,null,10,"",{"$f":"IF(U148=\"\",\"\",MAX(V$138:V147)+1)","v":""},"n.v.t.",null,null,null,null,false]
["ausblenden",null,null,null,null,null,null,null,null,null,null,null,null,null,null,null,null,null,null,null,"",{"$f":"IF(U149=\"\",\"\",MAX(V$138:V148)+1)","v":""},null,null,null,null,null,false]
["ADD_EmissionPoint"]
[null,null,null,null,null,null,{"$f":"Translations!$B$264","v":"Klik op \"+\" om meer emissiepunten toe te voegen"}]
[]
[]
[]
[null,null,null,"(d)",{"$f":"Translations!$B$265","v":"Meetpunten waar continue meetsystemen zijn geïnstalleerd:"},null,null,null,null,null,null,{"$f":"IF(OR(CNTR_InstHasMeasurement=TRUE,CNTR_InstHasN2O=TRUE,CNTR_InstHasTransferredCO2=TRUE),EUconst_Relevant,IF(COUNTA(CNTR_ListRelevantSections)>0,EUconst_NotRelevant,EUconst_Relevant))","v":"relevant"}]
[null,null,null,null,null,null,null,null,null,null,{"$f":"IF(L155=EUconst_NotRelevant,HYPERLINK(R156,EUconst_MsgGoOn),HYPERLINK(\"\",EUconst_MsgEnterThisSection))","v":"U wordt verzocht bij dit punt gegevens in te voeren"},null,null,null,null,null,"Jump Address:",{"$f":"\"#\"&ADDRESS(ROW(D180),COLUMN(D180))","v":"#$D$180"}]
[]
[null,null,null,null,{"$f":"Translations!$B$266","v":"U moet eerst de emissiebronnen invoeren waarop meetmethoden worden toegepast. Op die manier kan het model automatisch voorstellen voor emissiebroncategorieën doen."}]
[null,null,null,null,{"$f":"Translations!$B$267","v":"Vermeld en beschrijf hier alle meetpunten waar broeikasgassen worden gemeten door continue emissiemetingssystemen (CEMS). Hieronder vallen ook meetpunten in pijpleidingsystemen die gebruikt worden voor de overdracht van CO2 met als doel om het CO2 geologisch op te slaan."}]
[null,null,null,null,{"$f":"Translations!$B$268","v":"U hoeft niets in te vullen als u bij punt 6a hebt aangegeven dat geen meetmethoden zijn gehanteerd."}]
[null,null,null,null,{"$f":"Translations!$B$269","v":"Vul voor elk meetpunt ook een schatting van de respectieve jaarlijkse emissies in. Deze informatie is nodig bij het bepalen van het niveau (de tier)."}]
[null,null,null,null,{"$f":"Translations!B1273","v":"Overeenkomstig artikel 19, lid 4, mag er voor elke emissiebron die per jaar minder dan 5 000 ton CO2(e) uitstoot, of minder dan 10 % aan de totale jaarlijkse emissies van de installatie bijdraagt, tot een maximum van 100 000 ton CO2(e) per jaar, afhankelijk van wat in termen van absolute emissies het hoogste is, een lager niveau worden toegepast (“kleine” emissiebron)."}]
[null,null,null,null,{"$f":"Translations!$B$271","v":"Alle andere emissiebronnen worden als \"grote\" emissiebronnen beschouwd."}]
[null,null,null,null,{"$f":"Translations!$B$272","v":"De geschatte emissies zijn ook relevant voor het categoriseren van op berekeningen gebaseerde bronstromen onder punt f, voor zover rekenmethoden zijn toegepast. "}]
[null,null,null,null,{"$f":"Translations!$B$135","v":"Voorbeelden van het weergeven of verbergen van informatie vindt u onder de knop \"Voorbeelden\" in de navigatiezone."}]
[]
[null,null,null,null,{"$f":"Translations!$B$273","v":"Meetpunt ref. M1, M2, ..."},{"$f":"Translations!$B$274","v":"Omschrijving"},null,null,null,null,{"$f":"Translations!$B$275","v":"Emissiepunt ref."},{"$f":"Translations!$B$276","v":"Geschatte emissies in t CO2(e) per jaar"},{"$f":"Translations!$B$277","v":"Mogelijke categorie"},{"$f":"Translations!$B$278","v":"Gemeten broeikasgassen"},null,null,null,null,null,null,null,null,"ABS",null,"minor",null,null,"make grey?"]
["HIDE_Example",null,null,null,"M01",{"$f":"Translations!$B$279","v":"Schoorsteen van een op kolen gestookte ketelinstallatie, meetplatform A"},null,null,null,null,"EP01",150000,{"$f":"IF(ISBLANK(L168),\"\",IF(L168<$Y$169,INDEX(SourceCategoryCEMS,2),INDEX(SourceCategoryCEMS,1)))","v":"Groot"},"CO2"]
[null,null,null,null,"M1",null,null,null,null,null,null,null,"",null,null,null,{"$f":"EUconst_CNTR_SourceCategory&E169","v":"SourceCategory_M1"},{"$f":"EUconst_CNTR_SourceCategory&M169","v":"SourceCategory_"},null,null,null,null,{"$f":"IF(ISBLANK(L169),\"\",ABS(L169))","v":""},"LIMIT",{"$f":"MAX(5000,MIN(0.1*$Y$239,100000))","v":5000},null,null,{"$f":"L155=EUconst_NotRelevant","v":false}]
[null,null,null,null,"M2",null,null,null,null,null,null,null,"",null,null,null,"SourceCategory_M2","SourceCategory_",null,null,null,null,"",null,null,null,null,{"$f":"AB169","v":false}]
[null,null,null,null,"M3",null,null,null,null,null,null,null,"",null,null,null,"SourceCategory_M3","SourceCategory_",null,null,null,null,"",null,null,null,null,{"$f":"AB170","v":false}]
[null,null,null,null,"M4",null,null,null,null,null,null,null,"",null,null,null,"SourceCategory_M4","SourceCategory_",null,null,null,null,"",null,null,null,null,{"$f":"AB171","v":false}]
[null,null,null,null,"M5",null,null,null,null,null,null,null,"",null,null,null,"SourceCategory_M5","SourceCategory_",null,null,null,null,"",null,null,null,null,{"$f":"AB172","v":false}]
["ausblenden",null,null,null,null,null,null,null,null,null,null,null,"",null,null,null,"SourceCategory_","SourceCategory_",null,null,null,null,"",null,null,null,null,{"$f":"AB173","v":false}]
["ADD_MeasurementPoint"]
[null,null,null,null,null,null,{"$f":"Translations!$B$280","v":"Klik op \"+\" om meer meetpunten toe te voegen"}]
[]
[]
[]
[null,null,null,"(e)",{"$f":"Translations!$B$281","v":"Relevante bronstromen:"},null,null,null,null,null,null,{"$f":"IF(OR(CNTR_InstHasCalculation=TRUE,CNTR_InstHasPFC=TRUE),EUconst_Relevant,IF(COUNTA(CNTR_ListRelevantSections)>0,EUconst_NotRelevant,EUconst_Relevant))","v":"relevant"}]
[null,null,null,null,null,null,null,null,null,null,{"$f":"IF(L180=EUconst_NotRelevant,HYPERLINK(R181,EUconst_MsgGoOn),HYPERLINK(\"\",EUconst_MsgEnterThisSection))","v":"U wordt verzocht bij dit punt gegevens in te voeren"},null,null,null,null,null,"Jump Address:",{"$f":"\"#\"&ADDRESS(ROW(D241),COLUMN(D241))","v":"#$D$241"}]
[null,null,null,null,{"$f":"Translations!$B$282","v":"Hier vermeldt u alle bronstromen (brandstoffen, materialen, producten, ...) in uw installatie die op basis van rekenmethoden (de standaard- of de massabalansmethode) gemonitord worden. Voor een definitie van de term \"bronstroom\" raadpleegt u richtsnoer nr. 1 (\"Algemene richtsnoeren voor installaties\"). Voor een definitie van PFK-bronstromen raadpleegt u punt 14c op het werkblad \"I_PFC\"."}]
[null,null,null,null,{"$f":"Translations!$B$283","v":"Bronstromen hebben namen als \"natuurlijk gas\", \"zware stookolie\", \"cementgrondstof\", ..."}]
[null,null,null,null,{"$f":"Translations!$B$284","v":"Het bronstroomtype is een set regels die overeenkomstig de MRV moeten worden toegepast. Deze classificatie vormt de basis voor verdere verplichtingen, zoals toe te passen niveaus."}]
[null,null,null,null,{"$f":"Translations!$B$285","v":"De vervolgkeuzelijst waarmee u het bronstroomtype selecteert, is gebaseerd op de keuzes die bij punt 5c zijn gemaakt. Dat punt moet zijn ingevuld om het minimale niveau op het werkblad \"E_SourceStreams\" te kunnen bepalen."}]
[null,null,null,null,{"$f":"Translations!$B$286","v":"Selecteer voor elke bronstroom de bijlage I-activiteiten, de emissiebronnen en -punten in de respectievelijke vervolgkeuzelijsten, zodat de bevoegde autoriteit de werking van uw installatie volledig begrijpt. Wanneer een emissiebron onder meerdere activiteiten valt, vult u bijvoorbeeld \"A1, A2\" in."}]
[null,null,null,null,{"$f":"Translations!$B$135","v":"Voorbeelden van het weergeven of verbergen van informatie vindt u onder de knop \"Voorbeelden\" in de navigatiezone."}]
[]
[null,null,null,null,{"$f":"Translations!$B$287","v":"Bronstroom ref. F1, F2, ..."},"Vlaamse ref. MP13-20 (BV1, BV2, …; BP1, BP2, …)",{"$f":"Translations!$B$288","v":"Bronstroomnaam"},"Bronstroom categorieën Vlaanderen",{"$f":"Translations!$B$289","v":"Type bronstroom"},null,null,{"$f":"Translations!$B$250","v":"Activiteits ref."},{"$f":"Translations!$B$261","v":"Emissiebron ref."},{"$f":"Translations!$B$275","v":"Emissiepunt ref."}]
["HIDE_Example",null,null,null,"F01","BV1",{"$f":"Translations!$B$290","v":"Grondstof"},"V3 - Verbranding van  Zware stookolie",{"$f":"Translations!$B$291","v":"Cementklinker: Op basis van inzet in de oven (methode A)"},null,null,{"$f":"Translations!$B$292","v":"A1: Productie van cementklinkers"},{"$f":"Translations!$B$293","v":"S1: Cementklinker (decarbonisatie van de grondstof, verbranding van brandstoffen)"},{"$f":"Translations!$B$294","v":"EP2: Schoorsteen 2 (cementklinker)"}]
[null,null,null,null,"F1",null,null,null,null,null,null,null,null,null,null,null,null,null,{"$f":"EUconst_CNTR_SourceStreamName&G191","v":"SourceStreamName_"},{"$f":"EUconst_CNTR_SourceStreamClass&I191","v":"SourceStreamClass_"},null,null,null,null,null,{"$f":"IF(I191=\"\",\"\",IF(COUNTIF(CNTR_PFCSourceStreams,I191)>0,MAX(#REF!)+1,\"\"))","v":""},null,{"$f":"L180=EUconst_NotRelevant","v":false}]
[null,null,null,null,"F2",null,null,null,null,null,null,null,null,null,null,null,null,null,"SourceStreamName_",{"$f":"EUconst_CNTR_SourceStreamClass&I192","v":"SourceStreamClass_"},null,null,null,null,null,{"$f":"IF(I192=\"\",\"\",IF(COUNTIF(CNTR_PFCSourceStreams,I192)>0,MAX(Z$191:Z191)+1,\"\"))","v":""},null,{"$f":"AB191","v":false}]
[null,null,null,null,"F3",null,null,null,null,null,null,null,null,null,null,null,null,null,"SourceStreamName_","SourceStreamClass_",null,null,null,null,null,{"$f":"IF(I193=\"\",\"\",IF(COUNTIF(CNTR_PFCSourceStreams,I193)>0,MAX(Z$191:Z192)+1,\"\"))","v":""},null,{"$f":"AB192","v":false}]
[null,null,null,null,"F4",null,null,null,null,null,null,null,null,null,null,null,null,null,"SourceStreamName_","SourceStreamClass_",null,null,null,null,null,{"$f":"IF(I194=\"\",\"\",IF(COUNTIF(CNTR_PFCSourceStreams,I194)>0,MAX(Z$191:Z193)+1,\"\"))","v":""},null,false]
[null,null,null,null,"F5",null,null,null,null,null,null,null,null,null,null,null,null,null,"SourceStreamName_","SourceStreamClass_",null,null,null,null,null,{"$f":"IF(I195=\"\",\"\",IF(COUNTIF(CNTR_PFCSourceStreams,I195)>0,MAX(Z$191:Z194)+1,\"\"))","v":""},null,false]
[null,null,null,null,"F6",null,null,null,null,null,null,null,null,null,null,null,null,null,"SourceStreamName_","SourceStreamClass_",null,null,null,null,null,{"$f":"IF(I196=\"\",\"\",IF(COUNTIF(CNTR_PFCSourceStreams,I196)>0,MAX(Z$191:Z195)+1,\"\"))","v":""},null,false]
[null,null,null,null,"F7",null,null,null,null,null,null,null,null,null,null,null,null,null,"SourceStreamName_","SourceStreamClass_",null,null,null,null,null,{"$f":"IF(I197=\"\",\"\",IF(COUNTIF(CNTR_PFCSourceStreams,I197)>0,MAX(Z$191:Z196)+1,\"\"))","v":""},null,false]
[null,null,null,null,"F8",null,null,null,null,null,null,null,null,null,null,null,null,null,"SourceStreamName_","SourceStreamClass_",null,null,null,null,null,{"$f":"IF(I198=\"\",\"\",IF(COUNTIF(CNTR_PFCSourceStreams,I198)>0,MAX(Z$191:Z197)+1,\"\"))","v":""},null,false]
[null,null,null,null,"F9",null,null,null,null,null,null,null,null,null,null,null,null,null,"SourceStreamName_","SourceStreamClass_",null,null,null,null,null,{"$f":"IF(I199=\"\",\"\",IF(COUNTIF(CNTR_PFCSourceStreams,I199)>0,MAX(Z$191:Z198)+1,\"\"))","v":""},null,false]
[null,null,null,null,"F10",null,null,null,null,null,null,null,null,null,null,null,null,null,"SourceStreamName_","SourceStreamClass_",null,null,null,null,null,{"$f":"IF(I200=\"\",\"\",IF(COUNTIF(CNTR_PFCSourceStreams,I200)>0,MAX(Z$191:Z199)+1,\"\"))","v":""},null,false]
["ausblenden",null,null,null,null,null,null,null,null,null,null,null,null,null,null,null,null,null,"SourceStreamName_",{"$f":"EUconst_CNTR_SourceStreamClass&I201","v":"SourceStreamClass_"},null,null,null,null,null,{"$f":"IF(I201=\"\",\"\",IF(COUNTIF(CNTR_PFCSourceStreams,I201)>0,MAX(Z$191:Z200)+1,\"\"))","v":""},null,{"$f":"AB200","v":false}]
["ADD_SourceStream"]
[null,null,null,null,null,null,{"$f":"Translations!$B$297","v":"Klik op \"+\" om meer bronstromen toe te voegen"}]
[]
[]
[]
[null,null,null,"(f)",{"$f":"Translations!$B$298","v":"Geschatte emissies en bronstroomcategorieën:"}]
[null,null,null,null,{"$f":"Translations!$B$299","v":"Voer voor elke bronstroom (via een rekenmethode, inclusief voor PFK-emissies) de geschatte emissies in en selecteer een passende bronstroomcategorie."}]
[null,null,null,null,{"$f":"Translations!$B$300","v":"Bronstroomreferentiegegevens, de volledige naam van de bronstroom en het bronstroomtype zullen automatisch worden overgenomen van punt d."}]
[null,null,null,null,{"$f":"Translations!$B$301","v":"De emissies van uitgaande bronstromen die volgens de massabalansmethode  worden berekend, moeten als negatieve waarden ingevuld worden."}]
[null,null,null,null,{"$f":"Translations!$B$302","v":"Achtergrond: Overeenkomstig artikel 19, lid 3, kunt u elke bronstroom aanmerken als \"groot\", \"klein\" of \"de-minimis\"."}]
[null,null,null,null,"-",{"$f":"Translations!$B$303","v":"\"kleine\" bronstromen vertegenwoordigen gezamenlijk minder dan 5 000 ton fossiel CO2 per jaar of minder dan 10%, tot een totale maximumbijdrage van 100 000 ton fossiel CO2 per jaar, waarbij het criterium dat de hoogste absolute waarde oplevert bepalend is"}]
[null,null,null,null,"-",{"$f":"Translations!$B$304","v":"De-minimisbronstromen vertegenwoordigen gezamenlijk minder dan 1 000 ton fossiel CO2 per jaar of minder dan 2%, tot een totale maximumbijdrage van 20 000 ton fossiel CO2 per jaar, waarbij het criterium dat de hoogste absolute waarde oplevert bepalend is"}]
[null,null,null,null,"-",{"$f":"Translations!$B$305","v":"\"grote\" bronstromen zijn alle bronstromen die niet onder de categorieën \"klein\" of \"de-minimis\" vallen"}]
[null,null,null,null,{"$f":"Translations!$B$306","v":"Bij de classificatie van massabalans-bronstromen worden absolute waarden gehanteerd."}]
[null,null,null,null,{"$f":"Translations!$B$307","v":"Om u te helpen bij het selecteren van de juiste categorie wordt de mogelijke categorie per bronstroom automatisch weergegeven in het groene veld."}]
[null,null,null,null,{"$f":"Translations!$B$308","v":"De automatische weergave geeft alleen informatie over de mogelijke categorie voor elke afzonderlijke bronstroom. Als een van de hierboven genoemde drempelwaarden wordt overschreden, veranderen de mogelijke categorieën niet, maar verschijnt er een foutmelding. In dat geval dient u ten minste een categorie hoger te selecteren."}]
[null,null,null,null,{"$f":"Translations!$B$309","v":"Nadat u voor alle bronstromen de geschatte emissies hebt ingevoerd, wordt de som ervan vergeleken met de totale jaarlijkse emissies die u bij punt 5d hebt ingevoerd. Als de som van de geschatte emissies meer dan 5% van de totale emissies afwijkt, verschijnt er een foutmelding. "}]
[]
[null,null,null,null,{"$f":"Translations!$B$287","v":"Bronstroom ref. F1, F2, ..."},{"$f":"Translations!$B$310","v":"Volledige naam van de bronstroom (naam en type)"},null,null,null,null,null,{"$f":"Translations!$B$276","v":"Geschatte emissies in t CO2(e) per jaar"},{"$f":"Translations!$B$277","v":"Mogelijke categorie"},{"$f":"Translations!$B$311","v":"Geselecteerde categorie"},null,null,null,null,"has entry?",null,null,null,"ABS",null,"minor","de-minimis"]
["HIDE_Example",null,null,null,"F01",{"$f":"Translations!$B$312","v":"Grondstof; Cementklinker: Op basis van inzet in de oven (methode A)"},null,null,null,null,null,98000,{"$f":"Translations!$B$313","v":"Groot"},{"$f":"Translations!$B$313","v":"Groot"}]
["HIDE_Example",null,null,null,"F02",{"$f":"Translations!$B$314","v":"Zware stookolie; Verbranding: Andere gasvormige en vloeibare brandstoffen"},null,null,null,null,null,19300,{"$f":"Translations!$B$313","v":"Groot"},{"$f":"Translations!$B$313","v":"Groot"}]
[null,null,null,null,{"$f":"IF(ISBLANK(F191),\"\",E191)","v":""},{"$f":"IF(COUNTA(F191:I191)<2,\"\",G191 & \"; \" &I191)","v":""},null,null,null,null,null,null,{"$f":"IF(W223=\"\",\"\",IF(W223<$Z$223,INDEX(SourceCategory,3),IF(W223<$Y$223,INDEX(SourceCategory,2),INDEX(SourceCategory,1))))","v":""},null,null,null,{"$f":"EUconst_CNTR_SourceCategory&E191","v":"SourceCategory_F1"},null,{"$f":"(F223<>\"\")","v":false},{"$f":"EUconst_CNTR_SourceCategory&N223","v":"SourceCategory_"},null,null,{"$f":"IF(ISBLANK(L223),\"\",ABS(L223))","v":""},"LIMIT",{"$f":"MAX(5000,MIN(0.1*$Y$239,100000))","v":5000},{"$f":"MAX(1000,MIN(0.02*$Y$239,20000))","v":1000},null,{"$f":"IF(COUNTIF($S$223:$S$233,TRUE)>0,NOT(S223),$L$180=EUconst_NotRelevant)","v":false}]
[null,null,null,null,"",{"$f":"IF(COUNTA(F192:I192)<2,\"\",G192 & \"; \" &I192)","v":""},null,null,null,null,null,null,"",null,null,null,"SourceCategory_F2",null,{"$f":"(F224<>\"\")","v":false},{"$f":"EUconst_CNTR_SourceCategory&N224","v":"SourceCategory_"},null,null,{"$f":"IF(ISBLANK(L224),\"\",ABS(L224))","v":""},"SUM",{"$f":"SUMIF(T$223:T233,EUconst_CNTR_SourceCategory&INDEX(SourceCategory,2),W$223:W233)","v":0},{"$f":"SUMIF(T$223:T233,EUconst_CNTR_SourceCategory&INDEX(SourceCategory,3),W$223:W233)","v":0},null,false]
[null,null,null,null,"","",null,null,null,null,null,null,"",null,null,null,"SourceCategory_F3",null,false,"SourceCategory_",null,null,"",null,null,null,null,false]
[null,null,null,null,"","",null,null,null,null,null,null,"",null,null,null,"SourceCategory_F4",null,false,"SourceCategory_",null,null,"",null,null,null,null,false]
[null,null,null,null,"","",null,null,null,null,null,null,"",null,null,null,"SourceCategory_F5",null,false,"SourceCategory_",null,null,"",null,null,null,null,false]
[null,null,null,null,"","",null,null,null,null,null,null,"",null,null,null,"SourceCategory_F6",null,{"$f":"(F228<>\"\")","v":false},{"$f":"EUconst_CNTR_SourceCategory&N228","v":"SourceCategory_"},null,null,"",null,null,null,null,false]
[null,null,null,null,"","",null,null,null,null,null,null,"",null,null,null,"SourceCategory_F7",null,false,"SourceCategory_",null,null,"",null,null,null,null,false]
[null,null,null,null,"","",null,null,null,null,null,null,"",null,null,null,"SourceCategory_F8",null,false,"SourceCategory_",null,null,"",null,null,null,null,false]
[null,null,null,null,"","",null,null,null,null,null,null,"",null,null,null,"SourceCategory_F9",null,false,"SourceCategory_",null,null,"",null,null,null,null,false]
[null,null,null,null,"","",null,null,null,null,null,null,"",null,null,null,"SourceCategory_F10",null,false,"SourceCategory_",null,null,"",null,null,null,null,false]
["ausblenden",null,null,null,{"$f":"IF(ISBLANK(F202),\"\",E202)","v":""},"",null,null,null,null,null,null,{"$f":"IF(W233=\"\",\"\",IF(W233<$Z$223,INDEX(SourceCategory,3),IF(W233<$Y$223,INDEX(SourceCategory,2),INDEX(SourceCategory,1))))","v":""},null,null,null,{"$f":"EUconst_CNTR_SourceCategory&E201","v":"SourceCategory_"},null,{"$f":"(F233<>\"\")","v":false},{"$f":"EUconst_CNTR_SourceCategory&N233","v":"SourceCategory_"},null,null,{"$f":"IF(ISBLANK(L233),\"\",ABS(L233))","v":""},null,null,null,null,false]
["ADD_SourceStream"]
[null,null,null,null,null,{"$f":"Translations!$B$315","v":"Foutmelding (som van kleine bronstromen):"},null,null,null,null,{"$f":"IF(Y235=TRUE,EUconst_ERR_ThreshholdMinor,\"\")","v":""},null,null,null,null,null,null,null,null,null,null,null,null,"error?",{"$f":"Y224>Y223","v":false}]
[]
[null,null,null,null,null,{"$f":"Translations!$B$316","v":"Foutmelding (som van de-minimisbronstromen):"},null,null,null,null,{"$f":"IF(Y237=TRUE,EUconst_ERR_ThreshholdDeminimis,\"\")","v":""},null,null,null,null,null,null,null,null,null,null,null,null,"error?",{"$f":"Z224>Z223","v":false}]
[]
[null,null,null,null,null,{"$f":"Translations!$B$317","v":"Foutmelding (totale emissies verschillen van 5d):"},null,null,null,{"$f":"IF(ISBLANK(CNTR_TotalEmissions),\"\",IF(COUNTIF(S223:S233,TRUE)<>COUNT(W223:W233),\"\",SUM(L169:L174,L223:L233)/CNTR_TotalEmissions-1))","v":""},{"$f":"IF(ISBLANK(CNTR_TotalEmissions),\"\",IF(COUNTIF(S223:S233,TRUE)<>COUNT(W223:W233),\"\",IF(OR(SUM(L169:L174,L223:L233)/CNTR_TotalEmissions<0.95,SUM(L169:L174,L223:L233)/CNTR_TotalEmissions>1.05),EUconst_ERR_CheckEstimatedEmissions,\"\")))","v":""},null,null,null,null,null,null,null,null,null,null,null,null,"SUM",{"$f":"SUM(W169:W233)","v":0}]
[]
[null,null,null,"(g)",{"$f":"Translations!$B$318","v":"Installatieonderdelen en -activiteiten die niet onder EU-ETS vallen, indien van toepassing:"}]
[null,null,null,null,{"$f":"Translations!$B$319","v":"U wordt verzocht informatie te verschaffen over installatieonderdelen en -activiteiten die niet onder de EU-ETS vallen en waarvan de gebruikte brandstoffen en materialen worden verwerkt door meetinstrumenten die ook bijlage I-activiteiten meten."}]
[null,null,null,null,{"$f":"Translations!$B$320","v":"Voor verdere aanwijzingen raadpleegt u de bovenstaande punten b, c en e. "}]
[null,null,null,null,{"$f":"Translations!$B$135","v":"Voorbeelden van het weergeven of verbergen van informatie vindt u onder de knop \"Voorbeelden\" in de navigatiezone."}]
[]
[null,null,null,null,{"$f":"Translations!$B$321","v":"Emissiebron-referentie"},{"$f":"Translations!$B$322","v":"Bronstromen (brandstoffen/materialen)"},null,null,{"$f":"Translations!$B$323","v":"Emissiebronnen"},null,null,{"$f":"Translations!$B$324","v":"Emissiepunten"}]
["HIDE_Example",null,null,null,"S011",{"$f":"Translations!$B$325","v":"Aardgas (door de installatie naar externe consumenten geleid)"},null,null,{"$f":"Translations!$B$326","v":"Meerdere ketels (< 3 MW(th) per stuk)"},null,null,{"$f":"Translations!$B$327","v":"Schoorsteen van een verbonden installatie (Verwarming van een aanpalend ziekenhuis)"}]
[]
[]
[]
[]
[]
[]
[]
[]
[]
["ausblenden"]
["ADD_ActivitiesExcluded"]
[null,null,null,null,null,null,{"$f":"Translations!$B$328","v":"Klik op \"+\" om meer niet-EU-ETS-activiteiten toe te voegen"}]
[]
[]
[]
[null,null,null,null,null,{"$f":"EUconst_MsgNextSheet","v":"<<< Klik hier om naar het volgende werkblad te gaan >>> "}]
[]
[null,null,null,null,null,10]
["ausblenden","End","End","End","End","End","End","End","End","End","End","End","End","End","End","End","End","End","End","End","End","End","End","End","End","End","End","End"]
["ausblenden"]
["ausblenden",null,null,null,null,"Activity","Source Stream Types"]
["ausblenden",null,null,null,"Act. 1",{"$f":"IF(ISBLANK(F56),\"\",F56)","v":""},{"$f":"IF($F269=\"\",\"\",INDEX(EUwideConstants!E$227:E$254,MATCH($F269,AnnexIActivities,0)))","v":""},{"$f":"IF($F269=\"\",\"\",INDEX(EUwideConstants!F$227:F$254,MATCH($F269,AnnexIActivities,0)))","v":""},{"$f":"IF($F269=\"\",\"\",INDEX(EUwideConstants!G$227:G$254,MATCH($F269,AnnexIActivities,0)))","v":""},{"$f":"IF($F269=\"\",\"\",INDEX(EUwideConstants!H$227:H$254,MATCH($F269,AnnexIActivities,0)))","v":""},{"$f":"IF($F269=\"\",\"\",INDEX(EUwideConstants!I$227:I$254,MATCH($F269,AnnexIActivities,0)))","v":""},{"$f":"IF($F269=\"\",\"\",INDEX(EUwideConstants!J$227:J$254,MATCH($F269,AnnexIActivities,0)))","v":""},{"$f":"IF($F269=\"\",\"\",INDEX(EUwideConstants!K$227:K$254,MATCH($F269,AnnexIActivities,0)))","v":""}]
["ausblenden",null,null,null,"Act. 2",{"$f":"IF(ISBLANK(F57),\"\",F57)","v":""},{"$f":"IF($F270=\"\",\"\",INDEX(EUwideConstants!E$227:E$254,MATCH($F270,AnnexIActivities,0)))","v":""},{"$f":"IF($F270=\"\",\"\",INDEX(EUwideConstants!F$227:F$254,MATCH($F270,AnnexIActivities,0)))","v":""},{"$f":"IF($F270=\"\",\"\",INDEX(EUwideConstants!G$227:G$254,MATCH($F270,AnnexIActivities,0)))","v":""},{"$f":"IF($F270=\"\",\"\",INDEX(EUwideConstants!H$227:H$254,MATCH($F270,AnnexIActivities,0)))","v":""},{"$f":"IF($F270=\"\",\"\",INDEX(EUwideConstants!I$227:I$254,MATCH($F270,AnnexIActivities,0)))","v":""},{"$f":"IF($F270=\"\",\"\",INDEX(EUwideConstants!J$227:J$254,MATCH($F270,AnnexIActivities,0)))","v":""},{"$f":"IF($F270=\"\",\"\",INDEX(EUwideConstants!K$227:K$254,MATCH($F270,AnnexIActivities,0)))","v":""}]
["ausblenden",null,null,null,"Act. 3",{"$f":"IF(ISBLANK(F58),\"\",F58)","v":""},{"$f":"IF($F271=\"\",\"\",INDEX(EUwideConstants!E$227:E$254,MATCH($F271,AnnexIActivities,0)))","v":""},{"$f":"IF($F271=\"\",\"\",INDEX(EUwideConstants!F$227:F$254,MATCH($F271,AnnexIActivities,0)))","v":""},{"$f":"IF($F271=\"\",\"\",INDEX(EUwideConstants!G$227:G$254,MATCH($F271,AnnexIActivities,0)))","v":""},{"$f":"IF($F271=\"\",\"\",INDEX(EUwideConstants!H$227:H$254,MATCH($F271,AnnexIActivities,0)))","v":""},{"$f":"IF($F271=\"\",\"\",INDEX(EUwideConstants!I$227:I$254,MATCH($F271,AnnexIActivities,0)))","v":""},{"$f":"IF($F271=\"\",\"\",INDEX(EUwideConstants!J$227:J$254,MATCH($F271,AnnexIActivities,0)))","v":""},{"$f":"IF($F271=\"\",\"\",INDEX(EUwideConstants!K$227:K$254,MATCH($F271,AnnexIActivities,0)))","v":""}]
["ausblenden",null,null,null,"Act. 4",{"$f":"IF(ISBLANK(F59),\"\",F59)","v":""},{"$f":"IF($F272=\"\",\"\",INDEX(EUwideConstants!E$227:E$254,MATCH($F272,AnnexIActivities,0)))","v":""},{"$f":"IF($F272=\"\",\"\",INDEX(EUwideConstants!F$227:F$254,MATCH($F272,AnnexIActivities,0)))","v":""},{"$f":"IF($F272=\"\",\"\",INDEX(EUwideConstants!G$227:G$254,MATCH($F272,AnnexIActivities,0)))","v":""},{"$f":"IF($F272=\"\",\"\",INDEX(EUwideConstants!H$227:H$254,MATCH($F272,AnnexIActivities,0)))","v":""},{"$f":"IF($F272=\"\",\"\",INDEX(EUwideConstants!I$227:I$254,MATCH($F272,AnnexIActivities,0)))","v":""},{"$f":"IF($F272=\"\",\"\",INDEX(EUwideConstants!J$227:J$254,MATCH($F272,AnnexIActivities,0)))","v":""},{"$f":"IF($F272=\"\",\"\",INDEX(EUwideConstants!K$227:K$254,MATCH($F272,AnnexIActivities,0)))","v":""}]
["ausblenden",null,null,null,"Act. 5",{"$f":"IF(ISBLANK(F60),\"\",F60)","v":""},{"$f":"IF($F273=\"\",\"\",INDEX(EUwideConstants!E$227:E$254,MATCH($F273,AnnexIActivities,0)))","v":""},{"$f":"IF($F273=\"\",\"\",INDEX(EUwideConstants!F$227:F$254,MATCH($F273,AnnexIActivities,0)))","v":""},{"$f":"IF($F273=\"\",\"\",INDEX(EUwideConstants!G$227:G$254,MATCH($F273,AnnexIActivities,0)))","v":""},{"$f":"IF($F273=\"\",\"\",INDEX(EUwideConstants!H$227:H$254,MATCH($F273,AnnexIActivities,0)))","v":""},{"$f":"IF($F273=\"\",\"\",INDEX(EUwideConstants!I$227:I$254,MATCH($F273,AnnexIActivities,0)))","v":""},{"$f":"IF($F273=\"\",\"\",INDEX(EUwideConstants!J$227:J$254,MATCH($F273,AnnexIActivities,0)))","v":""},{"$f":"IF($F273=\"\",\"\",INDEX(EUwideConstants!K$227:K$254,MATCH($F273,AnnexIActivities,0)))","v":""}]
["ausblenden",null,null,null,"Act. 6",{"$f":"IF(ISBLANK(F63),\"\",F63)","v":""},{"$f":"IF($F274=\"\",\"\",INDEX(EUwideConstants!E$227:E$254,MATCH($F274,AnnexIActivities,0)))","v":""},{"$f":"IF($F274=\"\",\"\",INDEX(EUwideConstants!F$227:F$254,MATCH($F274,AnnexIActivities,0)))","v":""},{"$f":"IF($F274=\"\",\"\",INDEX(EUwideConstants!G$227:G$254,MATCH($F274,AnnexIActivities,0)))","v":""},{"$f":"IF($F274=\"\",\"\",INDEX(EUwideConstants!H$227:H$254,MATCH($F274,AnnexIActivities,0)))","v":""},{"$f":"IF($F274=\"\",\"\",INDEX(EUwideConstants!I$227:I$254,MATCH($F274,AnnexIActivities,0)))","v":""},{"$f":"IF($F274=\"\",\"\",INDEX(EUwideConstants!J$227:J$254,MATCH($F274,AnnexIActivities,0)))","v":""},{"$f":"IF($F274=\"\",\"\",INDEX(EUwideConstants!K$227:K$254,MATCH($F274,AnnexIActivities,0)))","v":""}]
["ausblenden"]
["ausblenden",null,null,null,null,null,null,null,"source stream",null,"source stream name"]
["ausblenden",null,null,null,null,1,{"$f":"INDEX(EUConst_TierActivityListNames,F277)","v":"Verbranding: Commercieel verhandelbare standaardbrandstoffen"},{"$f":"F277","v":1},{"$f":"IF(ISERROR(INDEX(EUConst_TierActivityListNames,MATCH(F277,$H$277:$H$336,0))),\"\",INDEX(EUConst_TierActivityListNames,MATCH(F277,$H$277:$H$336,0)))","v":"Verbranding: Commercieel verhandelbare standaardbrandstoffen"}]
["ausblenden",null,null,null,null,2,{"$f":"INDEX(EUConst_TierActivityListNames,F278)","v":"Verbranding: Andere gasvormige en vloeibare brandstoffen"},2,"Verbranding: Andere gasvormige en vloeibare brandstoffen"]
["ausblenden",null,null,null,null,3,"Verbranding: Vaste brandstoffen",3,"Verbranding: Vaste brandstoffen"]
["ausblenden",null,null,null,null,4,"Verbranding: Gasverwerkingsterminals",4,"Verbranding: Gasverwerkingsterminals"]
["ausblenden",null,null,null,null,5,"Verbranding: Fakkels",5,"Verbranding: Fakkels"]
["ausblenden",null,null,null,null,6,"Verbranding: Gasreiniging (carbonaat)",6,"Verbranding: Gasreiniging (carbonaat)"]
["ausblenden",null,null,null,null,7,"Verbranding: Gasreiniging (gips)",7,"Verbranding: Gasreiniging (gips)"]
["ausblenden",null,null,null,null,8,"Verbranding: Gasreiniging (ureum)",8,"Verbranding: Gasreiniging (ureum)"]
["ausblenden",null,null,null,null,9,{"$f":"INDEX(EUConst_TierActivityListNames,F285)","v":"Raffinaderijen: Massabalans"},{"$f":"IF(COUNTIF($G$269:$M$274,G285)>0,MAX(H$284:H284)+1,\"\")","v":""},""]
["ausblenden",null,null,null,null,10,"Raffinaderijen: Katalytische-krakerregeneratie",{"$f":"IF(COUNTIF($G$269:$M$274,G286)>0,MAX(H$284:H285)+1,\"\")","v":""},""]
["ausblenden",null,null,null,null,11,"Raffinaderijen: Waterstofproductie",{"$f":"IF(COUNTIF($G$269:$M$274,G287)>0,MAX(H$284:H286)+1,\"\")","v":""},""]
["ausblenden",null,null,null,null,12,"Cokes: Brandstofinzet",{"$f":"IF(COUNTIF($G$269:$M$274,G288)>0,MAX(H$284:H287)+1,\"\")","v":""},""]
["ausblenden",null,null,null,null,13,"Cokes: Proces (methode A): alleen carbonaat",{"$f":"IF(COUNTIF($G$269:$M$274,G289)>0,MAX(H$284:H288)+1,\"\")","v":""},""]
["ausblenden",null,null,null,null,14,"Cokes: Proces (methode A): gemengd (carbonaat + niet-carbonaat)",{"$f":"IF(COUNTIF($G$269:$M$274,G290)>0,MAX(H$284:H289)+1,\"\")","v":""},{"$f":"IF(ISERROR(INDEX(EUConst_TierActivityListNames,MATCH(F290,$H$277:$H$336,0))),\"\",INDEX(EUConst_TierActivityListNames,MATCH(F290,$H$277:$H$336,0)))","v":""}]
["ausblenden",null,null,null,null,15,"Cokes: Proces (methode A): niet-carbonaat",{"$f":"IF(COUNTIF($G$269:$M$274,G291)>0,MAX(H$284:H290)+1,\"\")","v":""},""]
["ausblenden",null,null,null,null,16,"Cokes: Proces (methode B): oxide-uitgang",{"$f":"IF(COUNTIF($G$269:$M$274,G292)>0,MAX(H$284:H291)+1,\"\")","v":""},""]
["ausblenden",null,null,null,null,17,"Cokes: Massabalans",{"$f":"IF(COUNTIF($G$269:$M$274,G293)>0,MAX(H$284:H292)+1,\"\")","v":""},""]
["ausblenden",null,null,null,null,18,"Metaalerts: Proces (methode A): alleen carbonaat",{"$f":"IF(COUNTIF($G$269:$M$274,G294)>0,MAX(H$284:H293)+1,\"\")","v":""},""]
["ausblenden",null,null,null,null,19,"Metaalerts: Proces (methode A): gemengd (carbonaat + niet-carbonaat)",{"$f":"IF(COUNTIF($G$269:$M$274,G295)>0,MAX(H$284:H294)+1,\"\")","v":""},""]
["ausblenden",null,null,null,null,20,"Metaalerts: Proces (methode A): niet-carbonaat",{"$f":"IF(COUNTIF($G$269:$M$274,G296)>0,MAX(H$284:H295)+1,\"\")","v":""},""]
["ausblenden",null,null,null,null,21,"Metaalerts: Proces (methode B): oxide-uitgang",{"$f":"IF(COUNTIF($G$269:$M$274,G297)>0,MAX(H$284:H296)+1,\"\")","v":""},""]
["ausblenden",null,null,null,null,22,"Metaalerts: Massabalans",{"$f":"IF(COUNTIF($G$269:$M$274,G298)>0,MAX(H$284:H297)+1,\"\")","v":""},""]
["ausblenden",null,null,null,null,23,"IJzer en staal: Brandstofinzet",{"$f":"IF(COUNTIF($G$269:$M$274,G299)>0,MAX(H$284:H298)+1,\"\")","v":""},""]
["ausblenden",null,null,null,null,24,"IJzer en staal: Proces (methode A): alleen carbonaat",{"$f":"IF(COUNTIF($G$269:$M$274,G300)>0,MAX(H$284:H299)+1,\"\")","v":""},""]
["ausblenden",null,null,null,null,25,"IJzer en staal: Proces (methode A): gemengd (carbonaat + niet-carbonaat)",{"$f":"IF(COUNTIF($G$269:$M$274,G301)>0,MAX(H$284:H300)+1,\"\")","v":""},""]
["ausblenden",null,null,null,null,26,"IJzer en staal: Proces (methode A): niet-carbonaat",{"$f":"IF(COUNTIF($G$269:$M$274,G302)>0,MAX(H$284:H301)+1,\"\")","v":""},""]
["ausblenden",null,null,null,null,27,"IJzer en staal: Proces (methode B): oxide-uitgang",{"$f":"IF(COUNTIF($G$269:$M$274,G303)>0,MAX(H$284:H302)+1,\"\")","v":""},""]
["ausblenden",null,null,null,null,28,"IJzer en staal: Massabalans",{"$f":"IF(COUNTIF($G$269:$M$274,G304)>0,MAX(H$284:H303)+1,\"\")","v":""},""]
["ausblenden",null,null,null,null,29,"Cementklinker: Op basis van inzet in de oven (methode A)",{"$f":"IF(COUNTIF($G$269:$M$274,G305)>0,MAX(H$284:H304)+1,\"\")","v":""},""]
["ausblenden",null,null,null,null,30,"Cementklinker: Op basis van geproduceerde klinker (methode B)",{"$f":"IF(COUNTIF($G$269:$M$274,G306)>0,MAX(H$284:H305)+1,\"\")","v":""},""]
["ausblenden",null,null,null,null,31,"Cementklinker: Cementovenstof",{"$f":"IF(COUNTIF($G$269:$M$274,G307)>0,MAX(H$284:H306)+1,\"\")","v":""},""]
["ausblenden",null,null,null,null,32,"Cementklinker: Niet-carbonaatkoolstof",{"$f":"IF(COUNTIF($G$269:$M$274,G308)>0,MAX(H$284:H307)+1,\"\")","v":""},""]
["ausblenden",null,null,null,null,33,"Kalk, dolomiet en magnesiet: Proces (methode A): alleen carbonaat",{"$f":"IF(COUNTIF($G$269:$M$274,G309)>0,MAX(H$284:H308)+1,\"\")","v":""},{"$f":"IF(ISERROR(INDEX(EUConst_TierActivityListNames,MATCH(F309,$H$277:$H$336,0))),\"\",INDEX(EUConst_TierActivityListNames,MATCH(F309,$H$277:$H$336,0)))","v":""}]
["ausblenden",null,null,null,null,34,"Kalk, dolomiet en magnesiet: Proces (methode A): gemengd (carbonaat + niet-carbonaat)",{"$f":"IF(COUNTIF($G$269:$M$274,G310)>0,MAX(H$284:H309)+1,\"\")","v":""},""]
["ausblenden",null,null,null,null,35,"Kalk, dolomiet en magnesiet: Proces (methode A): niet-carbonaat",{"$f":"IF(COUNTIF($G$269:$M$274,G311)>0,MAX(H$284:H310)+1,\"\")","v":""},""]
["ausblenden",null,null,null,null,36,"Kalk, dolomiet en magnesiet: Proces (methode B): oxide-uitgang",{"$f":"IF(COUNTIF($G$269:$M$274,G312)>0,MAX(H$284:H311)+1,\"\")","v":""},""]
["ausblenden",null,null,null,null,37,"Kalk, dolomiet en magnesiet: Ovenstof (methode B)",{"$f":"IF(COUNTIF($G$269:$M$274,G313)>0,MAX(H$284:H312)+1,\"\")","v":""},""]
["ausblenden",null,null,null,null,38,"Glas en minerale wol: Proces (methode A): alleen carbonaat",{"$f":"IF(COUNTIF($G$269:$M$274,G314)>0,MAX(H$284:H313)+1,\"\")","v":""},""]
["ausblenden",null,null,null,null,39,"Glas en minerale wol: Proces (methode A): gemengd (carbonaat + niet-carbonaat)",{"$f":"IF(COUNTIF($G$269:$M$274,G315)>0,MAX(H$284:H314)+1,\"\")","v":""},""]
["ausblenden",null,null,null,null,40,"Glas en minerale wol: Proces (methode A): niet-carbonaat",{"$f":"IF(COUNTIF($G$269:$M$274,G316)>0,MAX(H$284:H315)+1,\"\")","v":""},""]
["ausblenden",null,null,null,null,41,"Keramiek: Proces (methode A): alleen carbonaat",{"$f":"IF(COUNTIF($G$269:$M$274,G317)>0,MAX(H$284:H316)+1,\"\")","v":""},""]
["ausblenden",null,null,null,null,42,"Keramiek: Proces (methode A): gemengd (carbonaat + niet-carbonaat)",{"$f":"IF(COUNTIF($G$269:$M$274,G318)>0,MAX(H$284:H317)+1,\"\")","v":""},""]
["ausblenden",null,null,null,null,43,"Keramiek: Proces (methode A): niet-carbonaat",{"$f":"IF(COUNTIF($G$269:$M$274,G319)>0,MAX(H$284:H318)+1,\"\")","v":""},""]
["ausblenden",null,null,null,null,44,"Keramiek: Proces (methode B): oxide-uitgang",{"$f":"IF(COUNTIF($G$269:$M$274,G320)>0,MAX(H$284:H319)+1,\"\")","v":""},""]
["ausblenden",null,null,null,null,45,"Keramiek: Gasreiniging",{"$f":"IF(COUNTIF($G$269:$M$274,G321)>0,MAX(H$284:H320)+1,\"\")","v":""},""]
["ausblenden",null,null,null,null,46,"Pulp en papier: Aanvullende chemicaliën",{"$f":"IF(COUNTIF($G$269:$M$274,G322)>0,MAX(H$284:H321)+1,\"\")","v":""},""]
["ausblenden",null,null,null,null,47,"Roet: Massabalansmethodiek",{"$f":"IF(COUNTIF($G$269:$M$274,G323)>0,MAX(H$284:H322)+1,\"\")","v":""},""]
["ausblenden",null,null,null,null,48,"Ammoniak: Brandstofinzet",{"$f":"IF(COUNTIF($G$269:$M$274,G324)>0,MAX(H$284:H323)+1,\"\")","v":""},""]
["ausblenden",null,null,null,null,49,"Waterstof en synthesegas: Brandstofinzet",{"$f":"IF(COUNTIF($G$269:$M$274,G325)>0,MAX(H$284:H324)+1,\"\")","v":""},""]
["ausblenden",null,null,null,null,50,"Waterstof en synthesegas: Massabalansmethodiek",{"$f":"IF(COUNTIF($G$269:$M$274,G326)>0,MAX(H$284:H325)+1,\"\")","v":""},""]
["ausblenden",null,null,null,null,51,"Organische bulkchemicaliën: Massabalansmethodiek",{"$f":"IF(COUNTIF($G$269:$M$274,G327)>0,MAX(H$284:H326)+1,\"\")","v":""},""]
["ausblenden",null,null,null,null,52,"(Non)-ferrometalen, secundair aluminium: Proces (methode A): alleen carbonaat",{"$f":"IF(COUNTIF($G$269:$M$274,G328)>0,MAX(H$284:H327)+1,\"\")","v":""},""]
["ausblenden",null,null,null,null,53,"(Non)-ferrometalen, secundair aluminium: Proces (methode A): gemengd (carbonaat + niet-carbonaat)",{"$f":"IF(COUNTIF($G$269:$M$274,G329)>0,MAX(H$284:H328)+1,\"\")","v":""},""]
["ausblenden",null,null,null,null,54,"(Non)-ferrometalen, secundair aluminium: Proces (methode A): niet-carbonaat",{"$f":"IF(COUNTIF($G$269:$M$274,G330)>0,MAX(H$284:H329)+1,\"\")","v":""},""]
["ausblenden",null,null,null,null,55,"(Non)-ferrometalen, secundair aluminium: Proces (methode B): oxide-uitgang",{"$f":"IF(COUNTIF($G$269:$M$274,G331)>0,MAX(H$284:H330)+1,\"\")","v":""},""]
["ausblenden",null,null,null,null,56,"(Non)-ferrometalen, secundair aluminium: Massabalansmethodiek",{"$f":"IF(COUNTIF($G$269:$M$274,G332)>0,MAX(H$284:H331)+1,\"\")","v":""},""]
["ausblenden",null,null,null,null,57,"Natriumcarbonaat en natriumbicarbonaat: Massabalansmethodiek",{"$f":"IF(COUNTIF($G$269:$M$274,G333)>0,MAX(H$284:H332)+1,\"\")","v":""},""]
["ausblenden",null,null,null,null,58,"Primair aluminium: Massabalansmethodiek",{"$f":"IF(COUNTIF($G$269:$M$274,G334)>0,MAX(H$284:H333)+1,\"\")","v":""},""]
["ausblenden",null,null,null,null,59,"Primair aluminium: PFK-emissies (hellingsmethode)",{"$f":"IF(COUNTIF($G$269:$M$274,G335)>0,MAX(H$284:H334)+1,\"\")","v":""},""]
["ausblenden",null,null,null,null,60,"Primair aluminium: PFK-emissies (overspanningsmethode)",{"$f":"IF(COUNTIF($G$269:$M$274,G336)>0,MAX(H$284:H335)+1,\"\")","v":""},""]
["ausblenden"]

{"sheet":"D_CalculationBasedApproaches","index":5,"n_rows":278,"n_cols":23,"rows_kept":278,"cut":false,"hidden":false,"merged":[[256,4,256,5],[256,6,256,13],[257,4,257,5],[257,6,257,13],[252,6,252,13],[253,6,253,13],[254,4,254,5],[254,6,254,13],[255,4,255,5],[255,6,255,13],[249,4,249,5],[249,6,249,13],[250,4,250,5],[250,6,250,13],[251,4,251,5],[251,6,251,13],[243,4,243,5],[243,6,243,13],[245,4,245,13],[246,4,246,13],[248,4,248,5],[248,6,248,13],[241,6,241,13],[242,4,242,5],[242,6,242,13],[236,4,236,5],[236,6,236,13],[237,4,237,5],[237,6,237,13],[238,6,238,13],[239,6,239,13],[212,6,212,13],[185,4,185,5],[215,4,215,5],[215,6,215,13],[208,4,208,5],[210,6,210,13],[214,4,214,5],[214,6,214,13],[213,4,213,5],[209,6,209,13],[206,4,206,5],[208,6,208,13],[207,6,207,13],[206,6,206,13],[193,4,193,5],[197,6,197,13],[196,6,196,13],[192,6,192,13],[187,4,187,5],[96,5,96,13],[133,12,133,13],[83,4,83,13],[129,8,129,10],[127,5,127,6],[113,6,115,10],[129,5,129,6],[130,12,130,13],[130,5,130,6],[102,5,102,13],[109,5,109,13],[97,5,97,13],[98,5,98,13],[124,5,124,6],[105,5,105,13],[103,5,103,13],[118,4,118,13],[117,4,117,13],[126,5,126,6],[104,5,104,13],[99,5,99,13],[125,12,125,13],[88,4,88,13],[131,5,131,6],[272,6,274,10],[259,4,259,13],[225,6,225,13],[226,6,226,13],[227,4,227,5],[227,6,227,13],[228,4,228,5],[228,6,228,13],[229,4,229,5],[261,4,261,5],[261,6,261,13],[231,4,231,13],[269,6,269,13],[268,4,268,5],[268,6,268,13],[270,4,270,5],[270,6,270,13],[267,4,267,5],[267,6,267,13],[269,4,269,5],[266,6,266,13],[240,4,240,5],[240,6,240,13],[241,4,241,5],[224,6,224,13],[226,4,226,5],[234,4,234,5],[234,6,234,13],[235,4,235,5],[232,4,232,13],[235,6,235,13],[229,6,229,13],[218,4,218,13],[222,4,222,5],[222,6,222,13],[223,4,223,5],[223,6,223,13],[221,6,221,13],[82,4,82,13],[85,4,85,13],[101,5,101,13],[100,5,100,13],[220,4,220,5],[220,6,220,13],[221,4,221,5],[126,12,126,13],[213,6,213,13],[212,4,212,5],[211,6,211,13],[209,4,209,5],[204,4,204,13],[201,6,201,13],[201,4,201,5],[203,4,203,13],[207,4,207,5],[193,6,193,13],[194,4,194,5],[186,6,186,13],[171,6,171,13],[182,6,182,13],[143,6,145,10],[132,5,132,6],[276,5,276,11],[5,2,5,10],[48,4,48,13],[90,4,90,13],[121,4,121,13],[131,12,131,13],[58,11,59,11],[2,6,2,7],[1,1,3,3],[1,4,1,5],[1,6,1,7],[217,4,217,13],[1,8,1,9],[3,10,3,11],[151,4,151,13],[1,10,1,11],[1,12,1,13],[2,12,2,13],[2,8,2,9],[3,12,3,13],[3,8,3,9],[74,12,75,12],[3,4,3,5],[3,6,3,7],[2,4,2,5],[70,11,71,11],[68,12,69,12],[2,10,2,11],[54,20,55,20],[56,20,57,20],[56,18,57,18],[54,18,55,18],[54,19,55,19],[56,19,57,19],[45,4,45,13],[56,11,57,11],[54,12,55,12],[60,20,61,20],[58,18,59,18],[62,20,63,20],[60,19,61,19],[62,19,63,19],[58,20,59,20],[58,19,59,19],[60,11,61,11],[62,18,63,18],[64,18,65,18],[66,18,67,18],[81,9,81,13],[123,12,123,13],[62,11,63,11],[62,13,63,13],[60,12,61,12],[130,8,130,10],[200,4,200,5],[199,4,199,5],[199,6,199,13],[200,6,200,13],[134,12,134,13],[131,8,131,10],[132,8,132,10],[170,4,170,5],[188,6,188,13],[192,4,192,5],[195,6,195,13],[198,6,198,13],[186,4,186,5],[195,4,195,5],[194,6,194,13],[188,4,188,5],[190,4,190,13],[77,6,79,10],[170,6,170,13],[166,4,166,5],[160,4,160,5],[149,4,149,13],[172,4,172,5],[169,4,169,5],[155,6,155,13],[168,6,168,13],[176,4,176,13],[175,4,175,13],[166,6,166,13],[164,6,164,13],[160,6,160,13],[182,4,182,5],[179,4,179,5],[180,4,180,5],[171,4,171,5],[187,6,187,13],[185,6,185,13],[181,6,181,13],[179,6,179,13],[181,4,181,5],[177,4,177,13],[184,6,184,13],[180,6,180,13],[141,8,141,10],[141,12,141,13],[159,6,159,13],[136,12,136,13],[150,4,150,13],[165,4,165,5],[165,6,165,13],[163,4,163,5],[162,4,162,5],[153,6,153,13],[140,12,140,13],[139,8,139,10],[154,4,154,5],[140,5,140,6],[141,5,141,6],[137,5,137,6],[133,8,133,10],[135,12,135,13],[154,6,154,13],[135,5,135,6],[64,20,65,20],[64,19,65,19],[66,19,67,19],[66,20,67,20],[68,19,69,19],[72,20,73,20],[74,20,75,20],[74,18,75,18],[72,19,73,19],[94,5,94,13],[95,5,95,13],[81,4,81,8],[74,19,75,19],[74,11,75,11],[86,4,86,13],[74,14,75,14],[72,14,73,14],[92,5,92,13],[93,5,93,13],[68,11,69,11],[56,14,57,14],[58,14,59,14],[60,14,61,14],[68,18,69,18],[70,20,71,20],[68,20,69,20],[70,18,71,18],[70,19,71,19],[68,14,69,14],[64,14,65,14],[72,18,73,18],[70,14,71,14],[70,4,71,4],[5,11,5,13],[7,10,7,13],[9,3,9,13],[11,3,11,13],[17,4,36,13],[42,4,42,13],[41,4,41,13],[44,4,44,13],[58,4,59,4],[62,14,63,14],[66,14,67,14],[54,13,55,13],[60,18,61,18],[12,3,12,13],[39,4,39,13],[38,4,38,13],[15,4,15,13],[58,12,59,12],[46,4,46,13],[47,4,47,13],[56,12,57,12],[54,11,55,11],[58,6,59,6],[50,5,50,6],[50,7,50,9],[40,4,40,13],[43,4,43,13],[14,4,14,13],[54,4,55,4],[125,5,125,6],[72,13,73,13],[110,5,110,13],[107,5,107,13],[108,5,108,13],[128,12,128,13],[125,8,125,10],[137,8,137,10],[137,12,137,13],[126,8,126,10],[127,12,127,13],[134,8,134,10],[124,12,124,13],[124,8,124,10],[127,8,127,10],[132,12,132,13],[123,5,123,6],[106,5,106,13],[111,5,111,13],[119,4,119,13],[123,8,123,10],[120,4,120,13],[89,4,89,13],[87,4,87,13],[50,2,51,2],[263,4,263,5],[70,12,71,12],[52,13,53,13],[156,4,156,5],[161,4,161,5],[139,12,139,13],[139,5,139,6],[140,8,140,10],[148,4,148,13],[138,8,138,10],[262,6,262,13],[138,5,138,6],[163,6,163,13],[136,8,136,10],[153,4,153,5],[147,4,147,13],[169,6,169,13],[198,4,198,5],[134,5,134,6],[262,4,262,5],[158,6,158,13],[263,6,263,13],[54,3,55,3],[265,6,265,13],[264,4,264,5],[264,6,264,13],[138,12,138,13],[155,4,155,5],[60,13,61,13],[58,13,59,13],[58,5,59,5],[183,6,183,13],[164,4,164,5],[156,6,156,13],[162,6,162,13],[161,6,161,13],[136,5,136,6],[157,6,157,13],[128,5,128,6],[133,5,133,6],[135,8,135,10],[174,4,174,13],[172,6,172,13],[167,6,167,13],[159,4,159,5],[128,8,128,10],[129,12,129,13],[52,14,53,14],[54,14,55,14],[50,3,51,3],[54,5,55,5],[50,4,51,4],[52,5,53,5],[50,10,51,10],[50,14,51,14],[52,6,53,6],[54,6,55,6],[50,13,51,13],[62,3,63,3],[56,3,57,3],[56,4,57,4],[56,6,57,6],[56,13,57,13],[56,5,57,5],[58,3,59,3],[62,4,63,4],[62,5,63,5],[62,6,63,6],[62,12,63,12],[60,3,61,3],[60,4,61,4],[60,5,61,5],[60,6,61,6],[66,3,67,3],[66,4,67,4],[66,13,67,13],[66,5,67,5],[66,6,67,6],[66,12,67,12],[64,3,65,3],[64,4,65,4],[64,5,65,5],[64,6,65,6],[64,12,65,12],[64,13,65,13],[66,11,67,11],[64,11,65,11],[70,3,71,3],[74,3,75,3],[74,4,75,4],[74,5,75,5],[74,6,75,6],[74,13,75,13],[72,3,73,3],[68,3,69,3],[68,4,69,4],[68,5,69,5],[68,6,69,6],[68,13,69,13],[72,11,73,11],[72,4,73,4],[72,5,73,5],[72,6,73,6],[72,12,73,12],[70,5,71,5],[70,6,71,6],[70,13,71,13]]}
["ausblenden",null,null,null,null,null,null,null,null,null,null,null,null,null,null,"ausblenden","ausblenden","ausblenden","ausblenden","ausblenden","ausblenden","ausblenden","ausblenden"]
[null,{"$f":"Translations!$B$329","v":"D.\nCalculation Approach"},null,null,{"$f":"Translations!$B$59","v":"Navigatiezone:"},null,{"$f":"Translations!$B$60","v":"Inhoudsopgave"},null,{"$f":"Translations!$B$61","v":"Vorig werkblad"},null,{"$f":"Translations!$B$62","v":"Volgend werkblad"}]
[null,null,null,null,{"$f":"Translations!$B$63","v":"Begin werkblad"},null,{"$f":"Translations!$B$274","v":"Omschrijving"},null,{"$f":"Translations!$B$330","v":"Meetinstrumenten "},null,{"$f":"Translations!$B$331","v":"Informatiebronnen "}]
[null,null,null,null,{"$f":"Translations!$B$64","v":"Einde werkblad"},null,{"$f":"Translations!$B$332","v":"Laboratoria "},null,{"$f":"Translations!$B$333","v":"Procedures "}]
[]
[null,null,{"$f":"Translations!$B$16","v":"D. Rekenmethoden"},null,null,null,null,null,null,null,null,{"$f":"IF(OR(CNTR_InstHasCalculation=TRUE,CNTR_InstHasPFC=TRUE),EUconst_Relevant,IF(COUNTA(CNTR_ListRelevantSections)>0,EUconst_NotRelevant,EUconst_Relevant))","v":"relevant"}]
[]
[null,null,null,null,null,null,null,null,null,null,{"$f":"IF(L6=EUconst_NotRelevant,HYPERLINK(\"#JUMP_E_Top\",EUconst_MsgNextSheet),HYPERLINK(\"\",EUconst_MsgEnterThisSection))","v":"U wordt verzocht bij dit punt gegevens in te voeren"}]
[]
[null,null,7,{"$f":"Translations!$B$17","v":"Berekening: Informatie die nodig is voor verdere invoer op het volgende werkblad"}]
[]
[null,null,null,{"$f":"Translations!$B$334","v":"Gebruik dit werkblad om de noodzakelijke informatie te verstrekken over rekenmethoden. De hier ingevoerde informatie wordt als referentie gebruikt voor de gedetailleerde gegevens op het volgende werkblad (E_SourceStreams)."}]
[null,null,null,{"$f":"Translations!$B$335","v":"De lijst van meetinstrumenten is nodig voor de monitoring van activiteitsgegevens, de lijst van informatiebronnen is nodig voor de standaardwaarden voor berekeningsfactoren overeenkomstig artikel 31 en de analysemethoden in gevallen waar berekeningsfactoren geanalyseerd moeten worden."}]
[]
[null,null,null,"(a)",{"$f":"Translations!$B$336","v":"Beschrijving van de rekenmethode voor de monitoring van CO2-emissies in uw installatie, indien van toepassing:"}]
[null,null,null,null,{"$f":"Translations!$B$337","v":"Dit veld hoeft inhoudelijk niet ingevuld te worden indien u ook een “bijlage 4: fiches per bronstroom met detailbepaling hoeveelheid, calorische onderwaarde (CW) en emissiefactor (EF) en eventuele andere berekeningsfactoren” (zoals onder 5.1. “Details van de bronstromen”  in MP 13-20) meestuurt. In dat geval volstaat de vermelding “Zie bijlage 4”.\t "}]
[]
[null,null,null,null,null,null,null,null,null,null,null,null,null,null,null,null,null,null,null,null,null,null,{"$f":"IF(L6=EUconst_NotRelevant,TRUE,FALSE)","v":false}]
[]
[]
[]
[]
[]
[]
[]
[]
[]
[]
[]
[]
[]
[]
[]
[]
[]
[]
[]
[]
[null,null,null,"(b)",{"$f":"Translations!$B$347","v":"Specificatie en locatie van meetsystemen waarmee de activiteitsgegevens van bronstromen worden bepaald:"}]
[null,null,null,null,{"$f":"Translations!$B$348","v":"Geef per bronstroom waarop rekenmethoden van toepassing zijn de specificaties en de locatie van de gebruikte meetsystemen."}]
[null,null,null,null,{"$f":"Translations!$B$349","v":"Bij \"Locatie\" dient u aan te geven waar de meter zich in de installatie bevindt en hoe deze is weergegeven op het stroomschema van het proces."}]
[null,null,null,null,{"$f":"Translations!$B$350","v":"Voor elk meetinstrument voert u de gespecificeerde onzekerheid in, inclusief het bereik ervan, zoals vermeld in de specificatie van de fabrikant. In bepaalde gevallen mag u twee onzekerheidsbereiken opgeven. In dat geval voert u beide bereiken in."}]
[null,null,null,null,{"$f":"Translations!$B$351","v":"Het normale gebruiksbereik verwijst naar het bereik waarvoor het desbetreffende meetinstrument gewoonlijk in uw installatie wordt gebruikt."}]
[null,null,null,null,{"$f":"Translations!$B$352","v":"U dient een beschrijving te geven voor alle meetinstrumenten die relevant zijn voor de emissiemonitoring, inclusief submeters en meters die worden gebruikt om emissies af te trekken die buiten de grenzen van de installatie optreden. Continue emissiemetingssystemen (CEMS) dienen te worden gespecificeerd bij punt 9c op het werkblad F_MeasurementBasedApproaches."}]
[null,null,null,null,{"$f":"Translations!$B$353","v":"\"Type meetinstrument\": Selecteer het type dat van toepassing is in de vervolgkeuzelijst of voer zelf een toepasselijker type in. "}]
[null,null,null,null,{"$f":"Translations!$B$354","v":"De instrumentenlijst die u hier invoert, komt per bronstroom in een vervolgkeuzelijst beschikbaar bij punt b op het werkblad E_SourceStreams, waar wordt verwezen naar de relevante meetinstrumenten."}]
[null,null,null,null,{"$f":"Translations!$B$355","v":"Ga bij gasstroommeters uit van Nm³/u als de p/T-compensatie in het instrument plaatsvindt en ga uit van m³ in bedrijfstoestand als de p/T-compensatie door een afzonderlijk instrument wordt verricht. Als dat laatste het geval is, vermeldt u de afzonderlijke instrumenten."}]
[null,null,null,null,{"$f":"Translations!$B$356","v":"Alle instrumenten moeten duidelijk te onderscheiden zijn middels een uniek identificatienummer (zoals het serienummer). De uitwisseling van instrumenten (bijvoorbeeld ten gevolge van schade) leidt echter niet tot significante wijzigingen in het monitoringplan in de zin van artikel 15, lid 3. Het unieke identificatienummer dient daarom apart van het monitoringplan te worden gedocumenteerd. Zorg ervoor dat u voor dit doel een passende schriftelijke procedure opstelt."}]
[null,null,null,null,{"$f":"Translations!$B$135","v":"Voorbeelden van het weergeven of verbergen van informatie vindt u onder de knop \"Voorbeelden\" in de navigatiezone."}]
[]
[null,null,{"$f":"Translations!$B$357","v":"Referentie"},{"$f":"Translations!$B$358","v":"Type meetinstrument"},{"$f":"Translations!$B$359","v":"locatie (intern identificatienummer)"},"Extra informatie m.b.t. de toekenning van unieke identificatiecodes aan meetinstrumenten",null,{"$f":"Translations!$B$360","v":"Meetbereik"},null,null,{"$f":"Translations!$B$361","v":"Gespecificeerde\nonzekerheid\n (+/-%)"},{"$f":"Translations!$B$362","v":"Normaal gebruiksbereik"},null,"Datum van eerste ingebruikname meetinstrument","Datum laatste kalibratie en kalibratiefrequentie meetinstrumenten"]
[null,null,null,null,null,"Fabrikant + meetinstrument type nr van de fabrikant","Uniek ID (serieel nr of inventaris nr)",{"$f":"Translations!$B$363","v":"eenheid"},{"$f":"Translations!$B$364","v":"ondergrens"},{"$f":"Translations!$B$365","v":"bovengrens"},null,{"$f":"Translations!$B$364","v":"ondergrens"},{"$f":"Translations!$B$365","v":"bovengrens"},null,null,null,null,null,"Sorting","Sorting","Sorting","Sorting"]
["HIDE_Example",null,"MI01","Turbine meter","FI-110","Actaris + Fluxi 2100/TZ","3400024895/C/2009","Nm³/h",5,400,1,800,1200,"2017-12-12","Control: yearly; calibration every 5 years"]
["HIDE_Example",null,null,null,null,null,null,null,400,2000,0.5]
[null,null,"MI1",null,null,null,null,null,null,null,null,null,null,null,null,null,"MI",1,1,{"$f":"IF(ISBLANK(D55),\"\",MAX(T$54:T54)+1)","v":""},{"$f":"IF(ISBLANK(D55),\"\",C55 & \": \" &D55)","v":""},{"$f":"IF(COUNTIF($T$55:$T$76,R55)=1,INDEX($U$55:$U$76,MATCH(R55,$T$55:$T$76,0)),EUconst_NA)","v":"n.v.t."}]
[null,null,null,null,null,null,null,null,null,null,null,null,null,null,null,null,null,2,null,null,null,"n.v.t."]
[null,null,"MI2",null,null,null,null,null,null,null,null,null,null,null,null,null,null,3,2,{"$f":"IF(ISBLANK(D57),\"\",MAX(T$54:T56)+1)","v":""},{"$f":"IF(ISBLANK(D57),\"\",C57 & \": \" &D57)","v":""},"n.v.t."]
[null,null,null,null,null,null,null,null,null,null,null,null,null,null,null,null,null,4,null,null,null,"n.v.t."]
[null,null,"MI3",null,null,null,null,null,null,null,null,null,null,null,null,null,null,5,3,{"$f":"IF(ISBLANK(D59),\"\",MAX(T$54:T58)+1)","v":""},{"$f":"IF(ISBLANK(D59),\"\",C59 & \": \" &D59)","v":""},"n.v.t."]
[null,null,null,null,null,null,null,null,null,null,null,null,null,null,null,null,null,6,null,null,null,"n.v.t."]
[null,null,"MI4",null,null,null,null,null,null,null,null,null,null,null,null,null,null,7,4,{"$f":"IF(ISBLANK(D61),\"\",MAX(T$54:T60)+1)","v":""},{"$f":"IF(ISBLANK(D61),\"\",C61 & \": \" &D61)","v":""},"n.v.t."]
[null,null,null,null,null,null,null,null,null,null,null,null,null,null,null,null,null,8,null,null,null,"n.v.t."]
[null,null,"MI5",null,null,null,null,null,null,null,null,null,null,null,null,null,null,9,5,{"$f":"IF(ISBLANK(D63),\"\",MAX(T$54:T62)+1)","v":""},{"$f":"IF(ISBLANK(D63),\"\",C63 & \": \" &D63)","v":""},"n.v.t."]
[null,null,null,null,null,null,null,null,null,null,null,null,null,null,null,null,null,10,null,null,null,"n.v.t."]
[null,null,"MI6",null,null,null,null,null,null,null,null,null,null,null,null,null,null,11,6,{"$f":"IF(ISBLANK(D65),\"\",MAX(T$54:T64)+1)","v":""},{"$f":"IF(ISBLANK(D65),\"\",C65 & \": \" &D65)","v":""},"n.v.t."]
[null,null,null,null,null,null,null,null,null,null,null,null,null,null,null,null,null,12,null,null,null,"n.v.t."]
[null,null,"MI7",null,null,null,null,null,null,null,null,null,null,null,null,null,null,13,7,{"$f":"IF(ISBLANK(D67),\"\",MAX(T$54:T66)+1)","v":""},{"$f":"IF(ISBLANK(D67),\"\",C67 & \": \" &D67)","v":""},"n.v.t."]
[null,null,null,null,null,null,null,null,null,null,null,null,null,null,null,null,null,14,null,null,null,"n.v.t."]
[null,null,"MI8",null,null,null,null,null,null,null,null,null,null,null,null,null,null,15,8,{"$f":"IF(ISBLANK(D69),\"\",MAX(T$54:T68)+1)","v":""},{"$f":"IF(ISBLANK(D69),\"\",C69 & \": \" &D69)","v":""},"n.v.t."]
[null,null,null,null,null,null,null,null,null,null,null,null,null,null,null,null,null,16,null,null,null,"n.v.t."]
[null,null,"MI9",null,null,null,null,null,null,null,null,null,null,null,null,null,null,17,9,{"$f":"IF(ISBLANK(D71),\"\",MAX(T$54:T70)+1)","v":""},{"$f":"IF(ISBLANK(D71),\"\",C71 & \": \" &D71)","v":""},"n.v.t."]
[null,null,null,null,null,null,null,null,null,null,null,null,null,null,null,null,null,18,null,null,null,"n.v.t."]
[null,null,"MI10",null,null,null,null,null,null,null,null,null,null,null,null,null,null,19,10,{"$f":"IF(ISBLANK(D73),\"\",MAX(T$54:T72)+1)","v":""},{"$f":"IF(ISBLANK(D73),\"\",C73 & \": \" &D73)","v":""},"n.v.t."]
[null,null,null,null,null,null,null,null,null,null,null,null,null,null,null,null,null,20,null,null,null,"n.v.t."]
["ausblenden",null,{"$f":"$Q$55&\"\"&S75","v":"MI"},null,null,null,null,null,null,null,null,null,null,null,null,null,null,null,null,{"$f":"IF(ISBLANK(D75),\"\",MAX(T$54:T74)+1)","v":""},{"$f":"IF(ISBLANK(D75),\"\",C75 & \": \" &D75)","v":""},"n.v.t."]
["ausblenden",null,null,null,null,null,null,null,null,null,null,null,null,null,null,null,null,null,null,null,null,"n.v.t."]
["ADD_MeasurementInstrument"]
[null,null,null,null,null,null,{"$f":"Translations!$B$368","v":"Klik op \"+\" om meer meetinstrumenten toe te voegen"}]
[]
[]
[]
[null,null,null,"(c)",{"$f":"Translations!$B$369","v":"Naam en referentie van het document ter beoordeling van onzekerheidsberekeningen:"},null,null,null,null,null,null,null,null,null,null,null,null,null,null,null,null,null,{"$f":"CNTR_SmallEmitter=TRUE","v":false}]
[null,null,null,null,{"$f":"Translations!$B$370","v":"U dient aan te tonen dat u voldoet aan de toegepaste niveaus overeenkomstig artikel 12. Verwijs in bovenstaand vak naar onzekerheidsberekeningen en/of -schema's. "}]
[null,null,null,null,{"$f":"Translations!$B$371","v":"Overeenkomstig artikel 47, lid 3, hoeft dit document niet bij de bevoegde autoriteit te worden ingediend voor installaties met geringe emissies."}]
[]
[null,null,null,"(d)",{"$f":"Translations!$B$372","v":"Lijst met informatiebronnen voor standaardwaarden voor berekeningsfactoren:"}]
[null,null,null,null,{"$f":"Translations!$B$373","v":"Geef een overzicht van alle relevante informatiebronnen op basis waarvan u standaardwaarden voor berekeningsfactoren bepaalt overeenkomstig artikel 31. "}]
[null,null,null,null,{"$f":"Translations!$B$374","v":"Doorgaans gaat het hierbij om statistische bronnen, zoals het nationale inventarisatiesysteem, IPCC, bijlage VI bij de MRV, het Handbook of Chemistry & Physics ...)."}]
[null,null,null,null,{"$f":"Translations!$B$375","v":"Indien de standaardwaarden jaarlijks veranderen, legt de exploitant de gezaghebbende toepasselijke dynamische bron van die waarde, zoals de website van de bevoegde autoriteit, vast in het monitoringplan."}]
[null,null,null,null,{"$f":"Translations!$B$376","v":"Deze lijst komt als vervolgkeuzelijst beschikbaar in tabel (g) op het werkblad E_SourceStreams met als doel om per bronstroom te verwijzen naar de informatiebronnen voor de relevante berekeningsfactoren."}]
[null,null,null,null,{"$f":"Translations!$B$135","v":"Voorbeelden van het weergeven of verbergen van informatie vindt u onder de knop \"Voorbeelden\" in de navigatiezone."}]
[]
[null,null,null,null,{"$f":"Translations!$B$377","v":"Informatiebronreferentie"},{"$f":"Translations!$B$378","v":"Beschrijving van de informatiebron "},null,null,null,null,null,null,null,null,null,null,null,null,null,"Sorting",null,"Sorting","Sorting"]
["HIDE_Example",null,null,null,"IS01",{"$f":"Translations!$B$379","v":"Nationale, jaarlijks bijgewerkte broeikasgasinventarisatie (zie http:/Dummy.adres.test). De meest recente, in 2011 gepubliceerde waarde wordt gebruikt."}]
["HIDE_Example",null,null,null,"IS02",{"$f":"Translations!$B$380","v":"Handbook of Chemistry and Physics, 92e editie, http://www.hbcpnetbase.com/"}]
["HIDE_Example",null,null,null,"IS03",{"$f":"Translations!$B$381","v":"NCV- en EF-analyse van de bronstroom \"zware stookolie\" (augustus 2011)"}]
[null,null,null,null,"IS1","Communicatie door bevoegde autoriteit (VEKA): oxidatiefactor is gelijk aan 1",null,null,null,null,null,null,null,null,null,null,null,null,null,1,null,{"$f":"IF(ISBLANK(F97),\"\",MAX(V$95:V95)+1)","v":1},{"$f":"IF(COUNTIF($V$97:$V$112,T97)=1,INDEX($E$97:$E$112,MATCH(T97,$V$97:$V$112,0)) & \": \" & INDEX($F$97:$F$112,MATCH(T97,$V$97:$V$112,0)),EUconst_NA)","v":"IS1: Communicatie door bevoegde autoriteit (VEKA): oxidatiefactor is gelijk aan 1"}]
[null,null,null,null,"IS2","Website van de bevoegde autoriteit (VEKA) voor landspecifieke parameters",null,null,null,null,null,null,null,null,null,null,null,null,null,2,null,{"$f":"IF(ISBLANK(F98),\"\",MAX(V$95:V97)+1)","v":2},"IS2: Website van de bevoegde autoriteit (VEKA) voor landspecifieke parameters"]
[null,null,null,null,"IS3",null,null,null,null,null,null,null,null,null,null,null,null,null,null,3,null,{"$f":"IF(ISBLANK(F99),\"\",MAX(V$95:V98)+1)","v":""},"n.v.t."]
[null,null,null,null,"IS4",null,null,null,null,null,null,null,null,null,null,null,null,null,null,4,null,{"$f":"IF(ISBLANK(F100),\"\",MAX(V$95:V99)+1)","v":""},"n.v.t."]
[null,null,null,null,"IS5",null,null,null,null,null,null,null,null,null,null,null,null,null,null,5,null,{"$f":"IF(ISBLANK(F101),\"\",MAX(V$95:V100)+1)","v":""},"n.v.t."]
[null,null,null,null,"IS6",null,null,null,null,null,null,null,null,null,null,null,null,null,null,6,null,{"$f":"IF(ISBLANK(F102),\"\",MAX(V$95:V101)+1)","v":""},"n.v.t."]
[null,null,null,null,"IS7",null,null,null,null,null,null,null,null,null,null,null,null,null,null,7,null,{"$f":"IF(ISBLANK(F103),\"\",MAX(V$95:V102)+1)","v":""},"n.v.t."]
[null,null,null,null,"IS8",null,null,null,null,null,null,null,null,null,null,null,null,null,null,8,null,{"$f":"IF(ISBLANK(F104),\"\",MAX(V$95:V103)+1)","v":""},"n.v.t."]
[null,null,null,null,"IS9",null,null,null,null,null,null,null,null,null,null,null,null,null,null,9,null,{"$f":"IF(ISBLANK(F105),\"\",MAX(V$95:V104)+1)","v":""},"n.v.t."]
[null,null,null,null,"IS10",null,null,null,null,null,null,null,null,null,null,null,null,null,null,10,null,{"$f":"IF(ISBLANK(F106),\"\",MAX(V$95:V105)+1)","v":""},"n.v.t."]
[null,null,null,null,"IS11",null,null,null,null,null,null,null,null,null,null,null,null,null,null,11,null,{"$f":"IF(ISBLANK(F107),\"\",MAX(V$95:V106)+1)","v":""},"n.v.t."]
[null,null,null,null,"IS12",null,null,null,null,null,null,null,null,null,null,null,null,null,null,12,null,{"$f":"IF(ISBLANK(F108),\"\",MAX(V$95:V107)+1)","v":""},"n.v.t."]
[null,null,null,null,"IS13",null,null,null,null,null,null,null,null,null,null,null,null,null,null,13,null,{"$f":"IF(ISBLANK(F109),\"\",MAX(V$95:V108)+1)","v":""},"n.v.t."]
[null,null,null,null,"IS14",null,null,null,null,null,null,null,null,null,null,null,null,null,null,14,null,{"$f":"IF(ISBLANK(F110),\"\",MAX(V$95:V109)+1)","v":""},"n.v.t."]
[null,null,null,null,"IS15",null,null,null,null,null,null,null,null,null,null,null,null,null,null,15,null,{"$f":"IF(ISBLANK(F111),\"\",MAX(V$95:V110)+1)","v":""},"n.v.t."]
["ausblenden",null,null,null,null,null,null,null,null,null,null,null,null,null,null,null,null,null,null,null,null,{"$f":"IF(ISBLANK(F112),\"\",MAX(V$95:V111)+1)","v":""},"n.v.t."]
["ADD_InformationSources"]
[null,null,null,null,null,null,{"$f":"Translations!$B$382","v":"Klik op \"+\" om meer informatiebronnen toe te voegen"}]
[]
[]
[]
[null,null,null,"(e)",{"$f":"Translations!$B$383","v":"Laboratoria en methoden voor de analyse van berekeningsfactoren:"}]
[null,null,null,null,{"$f":"Translations!$B$384","v":"Geef een overzicht van de methoden voor de analyse van brandstoffen en materialen bij het bepalen van alle berekeningsfactoren, indien dat voor het geselecteerde niveau nodig is. Indien het laboratorium niet volgens EN ISO/IEC 17025 is erkend, dient u aan te tonen dat het laboratorium technisch geschikt is overeenkomstig artikel 34. Verwijs hiertoe naar een bijlage."}]
[null,null,null,null,{"$f":"Translations!$B$385","v":"Indien onlinegaschromatografen of al dan niet op extractie berustende gasanalyseapparatuur worden gebruikt, dient u te voldoen aan de eisen van artikel 32."}]
[null,null,null,null,{"$f":"Translations!$B$386","v":"Deze lijst komt als vervolgkeuzelijst beschikbaar in tabel g op het werkblad E_SourceStreams met als doel om per bronstroom te verwijzen naar de analysemethoden voor de relevante berekeningsfactoren."}]
[null,null,null,null,{"$f":"Translations!$B$135","v":"Voorbeelden van het weergeven of verbergen van informatie vindt u onder de knop \"Voorbeelden\" in de navigatiezone."}]
[]
[null,null,null,null,{"$f":"Translations!$B$387","v":"Laboratoriumreferentie"},{"$f":"Translations!$B$388","v":"Laboratoriumnaam"},null,{"$f":"Translations!$B$389","v":"Parameter"},{"$f":"Translations!$B$390","v":"Analysemethode\n (verwijs naar de procedure en geef een beknopte beschrijving van de methode)"},null,null,{"$f":"Translations!$B$391","v":"Is het laboratorium voor deze analyse EN ISO/IEC 17025-erkend?"},{"$f":"Translations!$B$392","v":"Als dat niet zo is, moet u verwijzen naar bewijsstukken"},null,null,null,null,null,null,"Sorting",null,"Sorting","Sorting"]
["HIDE_Example",null,null,null,"L01",{"$f":"Translations!$B$393","v":"Laboratorium (voorbeeld)"},null,{"$f":"Translations!$B$394","v":"Koolstofgehalte"},{"$f":"Translations!$B$395","v":"EN 15104:2011. Zie de ANA-1233/UBA-procedure"},null,null,true]
["HIDE_Example",null,null,null,"L02",{"$f":"Translations!$B$396","v":"Laboratorium (voorbeeld 2)"},null,{"$f":"Translations!$B$397","v":"Biomassagehalte"},{"$f":"Translations!$B$398","v":"EN 15440:2011 – enkele afwijkingen betreffende de steekproefgrootte en de behandeling. Zie de ANA-1234/UBA-procedure"},null,null,false,{"$f":"Translations!$B$399","v":"Lab_competence.pdf, 2/3/2012"}]
[null,null,null,null,"L1",null,null,null,null,null,null,null,null,null,null,null,null,null,null,1,null,{"$f":"IF(ISBLANK(F127),\"\",MAX(V$126:V126)+1)","v":""},{"$f":"IF(COUNTIF($V$127:$V$142,T127)=1,INDEX($E$127:$E$142,MATCH(T127,$V$127:$V$142,0))& \": \" &INDEX($F$127:$F$142,MATCH(T127,$V$127:$V$142,0)),EUconst_NA)","v":"n.v.t."}]
[null,null,null,null,"L2",null,null,null,null,null,null,null,null,null,null,null,null,null,null,2,null,{"$f":"IF(ISBLANK(F128),\"\",MAX(V$126:V127)+1)","v":""},"n.v.t."]
[null,null,null,null,"L3",null,null,null,null,null,null,null,null,null,null,null,null,null,null,3,null,{"$f":"IF(ISBLANK(F129),\"\",MAX(V$126:V128)+1)","v":""},"n.v.t."]
[null,null,null,null,"L4",null,null,null,null,null,null,null,null,null,null,null,null,null,null,4,null,{"$f":"IF(ISBLANK(F130),\"\",MAX(V$126:V129)+1)","v":""},"n.v.t."]
[null,null,null,null,"L5",null,null,null,null,null,null,null,null,null,null,null,null,null,null,5,null,{"$f":"IF(ISBLANK(F131),\"\",MAX(V$126:V130)+1)","v":""},"n.v.t."]
[null,null,null,null,"L6",null,null,null,null,null,null,null,null,null,null,null,null,null,null,6,null,{"$f":"IF(ISBLANK(F132),\"\",MAX(V$126:V131)+1)","v":""},"n.v.t."]
[null,null,null,null,"L7",null,null,null,null,null,null,null,null,null,null,null,null,null,null,7,null,{"$f":"IF(ISBLANK(F133),\"\",MAX(V$126:V132)+1)","v":""},"n.v.t."]
[null,null,null,null,"L8",null,null,null,null,null,null,null,null,null,null,null,null,null,null,8,null,{"$f":"IF(ISBLANK(F134),\"\",MAX(V$126:V133)+1)","v":""},"n.v.t."]
[null,null,null,null,"L9",null,null,null,null,null,null,null,null,null,null,null,null,null,null,9,null,{"$f":"IF(ISBLANK(F135),\"\",MAX(V$126:V134)+1)","v":""},"n.v.t."]
[null,null,null,null,"L10",null,null,null,null,null,null,null,null,null,null,null,null,null,null,10,null,{"$f":"IF(ISBLANK(F136),\"\",MAX(V$126:V135)+1)","v":""},"n.v.t."]
[null,null,null,null,"L11",null,null,null,null,null,null,null,null,null,null,null,null,null,null,11,null,{"$f":"IF(ISBLANK(F137),\"\",MAX(V$126:V136)+1)","v":""},"n.v.t."]
[null,null,null,null,"L12",null,null,null,null,null,null,null,null,null,null,null,null,null,null,12,null,{"$f":"IF(ISBLANK(F138),\"\",MAX(V$126:V137)+1)","v":""},"n.v.t."]
[null,null,null,null,"L13",null,null,null,null,null,null,null,null,null,null,null,null,null,null,13,null,{"$f":"IF(ISBLANK(F139),\"\",MAX(V$126:V138)+1)","v":""},"n.v.t."]
[null,null,null,null,"L14",null,null,null,null,null,null,null,null,null,null,null,null,null,null,14,null,{"$f":"IF(ISBLANK(F140),\"\",MAX(V$126:V139)+1)","v":""},"n.v.t."]
[null,null,null,null,"L15",null,null,null,null,null,null,null,null,null,null,null,null,null,null,15,null,{"$f":"IF(ISBLANK(F141),\"\",MAX(V$126:V140)+1)","v":""},"n.v.t."]
["ausblenden",null,null,null,null,null,null,null,null,null,null,null,null,null,null,null,null,null,null,null,null,{"$f":"IF(ISBLANK(F142),\"\",MAX(V$126:V141)+1)","v":""},"n.v.t."]
["ADD_Laboratories"]
[null,null,null,null,null,null,{"$f":"Translations!$B$400","v":"Klik op \"+\" om meer methoden en laboratoria toe te voegen"}]
[]
[]
[]
[null,null,null,"(f)",{"$f":"Translations!$B$401","v":"Beschrijving van de schriftelijke procedures voor analyses:"}]
[null,null,null,null,{"$f":"Translations!$B$402","v":"Verschaf informatie over de schriftelijke procedures voor de hierboven bij punt 7e genoemde analyses. De beschrijving dient in te gaan op de wezenlijke parameters en uitgevoerde handelingen."}]
[null,null,null,null,{"$f":"Translations!$B$403","v":"Indien meerdere procedures voor een soortgelijk doel worden gebruikt voor verschillende bronstromen of parameters, beschrijft u een overkoepelende procedure waarin de gemeenschappelijke elementen en de kwaliteitswaarborging van de toegepaste methoden worden behandeld."}]
[null,null,null,null,{"$f":"Translations!$B$404","v":"U kunt daarbij verwijzen naar afzonderlijke \"subprocedures\" of informatie verschaffen over elke afzonderlijke relevante procedure. In het tweede geval klikt u op de \"Voeg een procedure toe\"-knop aan het einde van dit werkblad. Zorg er wel voor dat in tabel g (punt 8) duidelijk verwezen wordt naar de betreffende (sub-)procedure."}]
[null,null,null,null,{"$f":"Translations!$B$135","v":"Voorbeelden van het weergeven of verbergen van informatie vindt u onder de knop \"Voorbeelden\" in de navigatiezone."}]
[]
["HIDE_Example",null,null,null,{"$f":"Translations!$B$405","v":"Procedurenaam"},null,{"$f":"Translations!$B$406","v":"Analyse van de calorische onderwaarden van vaste en vloeibare brandstoffen."}]
["HIDE_Example",null,null,null,{"$f":"Translations!$B$407","v":"Verwijzing naar de procedure"},null,{"$f":"Translations!$B$408","v":"Vaste brandstoffen: ANA 1-1/UBA; Vloeibare brandstoffen: ANA 1-2/UBA;  Vergelijking door een extern (erkend) laboratorium: ANA 1-3/ext"}]
["HIDE_Example",null,null,null,{"$f":"Translations!$B$409","v":"Verwijzing naar een diagram (indien van toepassing)"},null,{"$f":"Translations!$B$410","v":"N.V.T."}]
["HIDE_Example",null,null,null,{"$f":"Translations!$B$411","v":"Korte procedurebeschrijving"},null,{"$f":"Translations!$B$412","v":"Er is een bomcalorimeter gebruikt. Het juiste monstervolume is gebaseerd op de ervaringen met eerdere metingen van dergelijke materialen.\nDe monsters worden ten minste zes uur gedroogd bij 120°C. De NCV wordt middels berekeningen gecorrigeerd voor het vochtgehalte."}]
["HIDE_Example",null,null,null,null,null,{"$f":"Translations!$B$413","v":"Vaste brandstoffen: conform de norm. Vloeibare brandstoffen: Slechts licht gewijzigd ten opzichte van de norm; de monsters zijn niet gedroogd."}]
["HIDE_Example"]
["HIDE_Example",null,null,null,{"$f":"Translations!$B$414","v":"Functie of afdeling die verantwoordelijk is voor de procedure en voor gegenereerde gegevens"},null,{"$f":"Translations!$B$415","v":"Het hoofd van het bedrijfslaboratorium. Plaatsvervanger: het hoofd van de afdeling HSEQ."}]
["HIDE_Example",null,null,null,{"$f":"Translations!$B$416","v":"Plaats waar de administratie wordt bewaard"},null,{"$f":"Translations!$B$417","v":"Per post: Laboratory Office, plank 27/9, map \"ETS 01-ANA-jjjj\" (waar jjjj staat voor het huidige jaar).\nElektronisch: \"P:\\ETS_MRV\\labs\\ETS_01-ANA-jjjj.xls\""}]
["HIDE_Example",null,null,null,{"$f":"Translations!$B$418","v":"Naam van het gebruikte IT-systeem (indien van toepassing)."},null,{"$f":"Translations!$B$419","v":"Intern logboek van het laboratorium (Microsoft Access-database): de steekproefaantallen, oorsprong en naam van de steekproef worden samen met de resultaten gevolgd."}]
["HIDE_Example",null,null,null,{"$f":"Translations!$B$420","v":"Een lijst van EN-normen of andere toegepaste normen, indien van toepassing."},null,{"$f":"Translations!$B$421","v":"EN 14918:2009 inclusief wijzigingen geldt ook voor niet-biomassa- en vloeibare brandstoffen."}]
[null,null,null,null,{"$f":"Translations!$B$405","v":"Procedurenaam"}]
[null,null,null,null,{"$f":"Translations!$B$407","v":"Verwijzing naar de procedure"}]
[null,null,null,null,{"$f":"Translations!$B$409","v":"Verwijzing naar een diagram (indien van toepassing)"}]
[null,null,null,null,{"$f":"Translations!$B$411","v":"Korte procedurebeschrijving"}]
[]
[]
[null,null,null,null,{"$f":"Translations!$B$414","v":"Functie of afdeling die verantwoordelijk is voor de procedure en voor gegenereerde gegevens"}]
[null,null,null,null,{"$f":"Translations!$B$416","v":"Plaats waar de administratie wordt bewaard"}]
[null,null,null,null,{"$f":"Translations!$B$418","v":"Naam van het gebruikte IT-systeem (indien van toepassing)."}]
[null,null,null,null,{"$f":"Translations!$B$420","v":"Een lijst van EN-normen of andere toegepaste normen, indien van toepassing."}]
[]
[null,null,null,"(g)",{"$f":"Translations!$B$422","v":"Beschrijving van de procedure voor de bemonsteringsplannen ten behoeve van de analyses:"}]
[null,null,null,null,{"$f":"Translations!$B$423","v":"Onderstaande procedures moeten de elementen van het bemonsteringsplan bestrijken zoals bepaald in artikel 33.  De procedure wordt samen met het monitoringplan bij de bevoegde autoriteit ingediend."}]
[null,null,null,null,{"$f":"Translations!$B$403","v":"Indien meerdere procedures voor een soortgelijk doel worden gebruikt voor verschillende bronstromen of parameters, beschrijft u een overkoepelende procedure waarin de gemeenschappelijke elementen en de kwaliteitswaarborging van de toegepaste methoden worden behandeld."}]
[null,null,null,null,{"$f":"Translations!$B$404","v":"U kunt daarbij verwijzen naar afzonderlijke \"subprocedures\" of informatie verschaffen over elke afzonderlijke relevante procedure. In het tweede geval klikt u op de \"Voeg een procedure toe\"-knop aan het einde van dit werkblad. Zorg er wel voor dat in tabel g (punt 8) duidelijk verwezen wordt naar de betreffende (sub-)procedure."}]
[]
[null,null,null,null,{"$f":"Translations!$B$405","v":"Procedurenaam"}]
[null,null,null,null,{"$f":"Translations!$B$407","v":"Verwijzing naar de procedure"}]
[null,null,null,null,{"$f":"Translations!$B$409","v":"Verwijzing naar een diagram (indien van toepassing)"}]
[null,null,null,null,{"$f":"Translations!$B$411","v":"Korte procedurebeschrijving"}]
[]
[]
[null,null,null,null,{"$f":"Translations!$B$414","v":"Functie of afdeling die verantwoordelijk is voor de procedure en voor gegenereerde gegevens"}]
[null,null,null,null,{"$f":"Translations!$B$416","v":"Plaats waar de administratie wordt bewaard"}]
[null,null,null,null,{"$f":"Translations!$B$418","v":"Naam van het gebruikte IT-systeem (indien van toepassing)."}]
[null,null,null,null,{"$f":"Translations!$B$420","v":"Een lijst van EN-normen of andere toegepaste normen, indien van toepassing."}]
[]
[null,null,null,"(h)",{"$f":"Translations!$B$424","v":"Beschrijving van de procedure voor de beoordeling van de geschiktheid van het bemonsteringsplan:"}]
[]
[null,null,null,null,{"$f":"Translations!$B$405","v":"Procedurenaam"}]
[null,null,null,null,{"$f":"Translations!$B$407","v":"Verwijzing naar de procedure"}]
[null,null,null,null,{"$f":"Translations!$B$409","v":"Verwijzing naar een diagram (indien van toepassing)"}]
[null,null,null,null,{"$f":"Translations!$B$411","v":"Korte procedurebeschrijving"}]
[]
[]
[null,null,null,null,{"$f":"Translations!$B$414","v":"Functie of afdeling die verantwoordelijk is voor de procedure en voor gegenereerde gegevens"}]
[null,null,null,null,{"$f":"Translations!$B$416","v":"Plaats waar de administratie wordt bewaard"}]
[null,null,null,null,{"$f":"Translations!$B$418","v":"Naam van het gebruikte IT-systeem (indien van toepassing)."}]
[null,null,null,null,{"$f":"Translations!$B$420","v":"Een lijst van EN-normen of andere toegepaste normen, indien van toepassing."}]
[]
[null,null,null,"(i)",{"$f":"Translations!$B$425","v":"Beschrijving van de procedure voor de schatting van de voorraden aan het begin/eind van een rapporteringsjaar (indien van toepassing):"}]
[null,null,null,null,{"$f":"Translations!$B$426","v":"Beschrijf de procedure voor het schatten van veranderingen in de voorraad van bronstromen die middels batchmetingen worden gemonitord en waarvoor facturen worden gebruikt."}]
[]
[null,null,null,null,{"$f":"Translations!$B$405","v":"Procedurenaam"}]
[null,null,null,null,{"$f":"Translations!$B$407","v":"Verwijzing naar de procedure"}]
[null,null,null,null,{"$f":"Translations!$B$409","v":"Verwijzing naar een diagram (indien van toepassing)"}]
[null,null,null,null,{"$f":"Translations!$B$411","v":"Korte procedurebeschrijving"}]
[]
[]
[null,null,null,null,{"$f":"Translations!$B$414","v":"Functie of afdeling die verantwoordelijk is voor de procedure en voor gegenereerde gegevens"}]
[null,null,null,null,{"$f":"Translations!$B$416","v":"Plaats waar de administratie wordt bewaard"}]
[null,null,null,null,{"$f":"Translations!$B$418","v":"Naam van het gebruikte IT-systeem (indien van toepassing)."}]
[null,null,null,null,{"$f":"Translations!$B$420","v":"Een lijst van EN-normen of andere toegepaste normen, indien van toepassing."}]
[]
[null,null,null,"(j)",{"$f":"Translations!$B$427","v":"Beschrijving van de procedure voor het bijhouden van de instrumenten die in de installatie zijn geïnstalleerd voor het bepalen van activiteitsgegevens."}]
[null,null,null,null,{"$f":"Translations!$B$428","v":"Deze procedure is alleen van toepassing wanneer de exploitant zelf de meetinstrumenten hanteert."}]
[]
[null,null,null,null,{"$f":"Translations!$B$405","v":"Procedurenaam"}]
[null,null,null,null,{"$f":"Translations!$B$407","v":"Verwijzing naar de procedure"}]
[null,null,null,null,{"$f":"Translations!$B$409","v":"Verwijzing naar een diagram (indien van toepassing)"}]
[null,null,null,null,{"$f":"Translations!$B$411","v":"Korte procedurebeschrijving"}]
[]
[]
[null,null,null,null,{"$f":"Translations!$B$414","v":"Functie of afdeling die verantwoordelijk is voor de procedure en voor gegenereerde gegevens"}]
[null,null,null,null,{"$f":"Translations!$B$416","v":"Plaats waar de administratie wordt bewaard"}]
[null,null,null,null,{"$f":"Translations!$B$418","v":"Naam van het gebruikte IT-systeem (indien van toepassing)."}]
[null,null,null,null,{"$f":"Translations!$B$420","v":"Een lijst van EN-normen of andere toegepaste normen, indien van toepassing."}]
[]
[null,null,null,"(k)",{"$f":"Translations!$B$1167","v":"Indien van toepassing, een beschrijving van de procedure die is gebruikt om te beoordelen of biomassabronstromen voldoen aan artikel 38, lid 5."}]
[null,null,null,null,{"$f":"Translations!$B$1168","v":"Deze procedure is alleen van toepassing op biomassa die afhankelijk is van de toepasselijke criteria inzake duurzaamheid en broeikasgasemissiereductie in de richtlijn hernieuwbare energie (Richtlijn (EU) 2018/2001)."}]
[]
[null,null,null,null,{"$f":"Translations!$B$405","v":"Procedurenaam"}]
[null,null,null,null,{"$f":"Translations!$B$407","v":"Verwijzing naar de procedure"}]
[null,null,null,null,{"$f":"Translations!$B$409","v":"Verwijzing naar een diagram (indien van toepassing)"}]
[null,null,null,null,{"$f":"Translations!$B$411","v":"Korte procedurebeschrijving"}]
[]
[]
[null,null,null,null,{"$f":"Translations!$B$414","v":"Functie of afdeling die verantwoordelijk is voor de procedure en voor gegenereerde gegevens"}]
[null,null,null,null,{"$f":"Translations!$B$416","v":"Plaats waar de administratie wordt bewaard"}]
[null,null,null,null,{"$f":"Translations!$B$418","v":"Naam van het gebruikte IT-systeem (indien van toepassing)."}]
[null,null,null,null,{"$f":"Translations!$B$420","v":"Een lijst van EN-normen of andere toegepaste normen, indien van toepassing."}]
[]
[null,null,null,"(l)",{"$f":"Translations!$B$1169","v":"Indien van toepassing, een beschrijving van de procedure die is gebruikt om de hoeveelheden biogas te bepalen op basis van aankoopbescheiden in overeenstemming met artikel 39, lid 4."}]
[null,null,null,null,{"$f":"Translations!$B$1170","v":"Deze procedure is alleen van toepassing wanneer de exploitant aanspraak wil maken op het gebruik van biogassen uit een (aard)gasnet."}]
[]
[null,null,null,null,{"$f":"Translations!$B$405","v":"Procedurenaam"}]
[null,null,null,null,{"$f":"Translations!$B$407","v":"Verwijzing naar de procedure"}]
[null,null,null,null,{"$f":"Translations!$B$409","v":"Verwijzing naar een diagram (indien van toepassing)"}]
[null,null,null,null,{"$f":"Translations!$B$411","v":"Korte procedurebeschrijving"}]
[]
[]
[null,null,null,null,{"$f":"Translations!$B$414","v":"Functie of afdeling die verantwoordelijk is voor de procedure en voor gegenereerde gegevens"}]
[null,null,null,null,{"$f":"Translations!$B$416","v":"Plaats waar de administratie wordt bewaard"}]
[null,null,null,null,{"$f":"Translations!$B$418","v":"Naam van het gebruikte IT-systeem (indien van toepassing)."}]
[null,null,null,null,{"$f":"Translations!$B$420","v":"Een lijst van EN-normen of andere toegepaste normen, indien van toepassing."}]
["ausblenden"]
["ausblenden",null,null,null,{"$f":"Translations!$B$1150","v":"Bijkomende procedure toegevoegd door de exploitant"}]
["ausblenden"]
["ausblenden",null,null,null,{"$f":"Translations!$B$405","v":"Procedurenaam"},null,null,null,null,null,null,null,null,null,null,null,null,"Annex I 2(e)"]
["ausblenden",null,null,null,{"$f":"Translations!$B$407","v":"Verwijzing naar de procedure"}]
["ausblenden",null,null,null,{"$f":"Translations!$B$409","v":"Verwijzing naar een diagram (indien van toepassing)"}]
["ausblenden",null,null,null,{"$f":"Translations!$B$411","v":"Korte procedurebeschrijving"}]
["ausblenden"]
["ausblenden"]
["ausblenden",null,null,null,{"$f":"Translations!$B$414","v":"Functie of afdeling die verantwoordelijk is voor de procedure en voor gegenereerde gegevens"}]
["ausblenden",null,null,null,{"$f":"Translations!$B$416","v":"Plaats waar de administratie wordt bewaard"}]
["ausblenden",null,null,null,{"$f":"Translations!$B$418","v":"Naam van het gebruikte IT-systeem (indien van toepassing)."}]
["ausblenden",null,null,null,{"$f":"Translations!$B$420","v":"Een lijst van EN-normen of andere toegepaste normen, indien van toepassing."}]
["ADD_Procedure"]
[null,null,null,null,null,null,{"$f":"Translations!$B$429","v":"Klik op \"+\" om meer procedures toe te voegen"}]
[]
[]
[]
[null,null,null,null,null,{"$f":"EUconst_MsgNextSheet","v":"<<< Klik hier om naar het volgende werkblad te gaan >>> "}]
["ausblenden",null,"end","end","end","end","end","end","end","end","end","end","end","end","end",null,"end","end","end","end","end","end","end"]

{"sheet":"E_SourceStreams","index":6,"n_rows":785,"n_cols":23,"rows_kept":785,"cut":false,"hidden":false,"merged":[[150,4,150,6],[141,4,141,6],[372,4,372,6],[373,4,373,6],[139,4,139,6],[164,4,164,6],[172,4,172,6],[167,4,167,6],[165,4,165,6],[151,4,151,6],[171,4,171,6],[175,3,175,13],[162,4,162,6],[139,9,139,13],[140,4,140,6],[173,4,173,6],[142,9,142,13],[170,4,170,6],[168,4,168,6],[169,4,169,6],[163,4,163,6],[155,4,155,13],[161,4,161,6],[160,4,160,6],[159,4,159,6],[148,4,148,6],[18,3,18,6],[18,7,18,11],[782,5,782,11],[180,4,180,13],[178,4,178,13],[177,4,177,13],[179,4,179,13],[183,4,183,13],[182,4,182,13],[184,4,184,13],[187,3,187,6],[187,7,187,11],[187,12,187,13],[385,3,385,6],[385,7,385,11],[385,12,385,13],[380,4,382,13],[189,4,189,6],[189,7,189,11],[190,4,190,6],[190,7,190,11],[191,4,191,6],[191,7,191,11],[371,4,371,6],[124,6,124,13],[117,6,117,13],[14,3,14,13],[3,12,3,13],[5,2,5,10],[11,3,11,13],[12,3,12,13],[99,5,99,13],[34,3,34,13],[37,5,37,13],[18,12,18,13],[60,7,60,8],[56,5,56,9],[82,4,82,13],[67,5,67,13],[56,10,56,11],[61,7,61,8],[66,5,66,10],[57,5,57,13],[65,5,65,10],[63,4,63,13],[27,4,27,6],[20,7,20,11],[70,5,70,10],[149,9,149,13],[147,9,147,13],[148,9,148,13],[147,4,147,6],[132,4,132,13],[71,5,71,10],[106,4,106,13],[143,9,143,13],[21,4,21,6],[22,7,22,11],[21,7,21,11],[22,4,22,6],[31,4,31,13],[27,7,27,11],[49,4,49,13],[20,4,20,6],[55,10,55,11],[58,5,58,13],[24,3,24,6],[24,7,24,11],[26,4,26,6],[26,7,26,11],[146,9,146,13],[109,6,109,13],[138,9,138,13],[119,5,119,13],[126,5,126,13],[137,9,137,13],[138,4,138,6],[137,4,137,6],[133,4,133,13],[121,4,125,4],[126,4,128,4],[122,6,122,13],[129,5,129,13],[116,6,116,13],[128,6,128,13],[127,6,127,13],[121,5,121,13],[125,6,125,13],[123,6,123,13],[154,4,154,13],[62,4,62,13],[145,4,145,6],[13,3,13,13],[142,4,142,6],[141,9,141,13],[151,9,151,13],[98,4,98,13],[97,4,97,13],[72,5,72,13],[85,4,85,13],[75,5,75,10],[74,5,74,10],[112,6,112,13],[114,6,114,13],[113,6,113,13],[143,4,143,6],[145,9,145,13],[146,4,146,6],[153,4,153,13],[15,3,15,13],[149,4,149,6],[150,9,150,13],[140,9,140,13],[1,4,1,5],[1,12,1,13],[9,3,9,13],[3,8,3,9],[1,1,3,3],[1,6,1,7],[1,8,1,9],[1,10,1,11],[2,10,2,11],[3,6,3,7],[2,8,2,9],[2,12,2,13],[5,11,5,13],[2,4,2,5],[2,6,2,7],[3,4,3,5],[3,10,3,11],[7,10,7,13],[28,4,28,6],[53,4,53,13],[32,4,32,13],[40,4,40,13],[38,5,38,13],[42,4,42,13],[36,4,36,13],[47,3,47,13],[39,5,39,13],[45,4,45,13],[52,7,52,8],[30,4,30,13],[51,7,51,8],[24,12,24,13],[107,4,107,13],[115,4,117,4],[111,4,114,4],[108,4,110,4],[119,4,120,4],[118,5,118,13],[120,5,120,13],[92,9,92,13],[86,4,88,13],[68,5,68,13],[101,4,101,13],[102,4,102,13],[110,6,110,13],[108,5,108,13],[76,5,76,13],[81,4,81,13],[77,5,77,13],[115,5,115,13],[100,5,100,13],[111,5,111,13],[104,3,104,13],[55,5,55,9],[28,7,28,11],[374,4,374,6],[376,3,376,13],[378,4,378,13],[193,4,193,13],[364,4,364,6],[364,9,364,13],[368,4,368,6],[369,4,369,6],[370,4,370,6],[195,3,195,13],[197,4,197,13],[199,7,199,8],[363,4,363,6],[363,9,363,13],[201,5,201,9],[201,10,201,11],[360,4,360,6],[360,9,360,13],[361,4,361,6],[361,9,361,13],[203,7,203,8],[205,5,205,10],[358,4,358,6],[358,9,358,13],[359,4,359,6],[359,9,359,13],[207,5,207,10],[209,5,209,10],[354,3,354,13],[333,5,333,9],[333,10,333,11],[335,7,335,8],[337,5,337,10],[339,5,339,10],[222,3,222,13],[322,4,322,6],[322,7,322,11],[323,4,323,6],[325,4,325,13],[319,3,319,6],[319,7,319,11],[319,12,319,13],[321,4,321,6],[321,7,321,11],[306,4,306,6],[307,4,307,6],[308,4,308,6],[310,3,310,13],[312,4,312,13],[323,7,323,11],[298,4,298,6],[298,9,298,13],[302,4,302,6],[303,4,303,6],[231,4,231,6],[231,9,231,13],[240,4,240,6],[293,4,293,6],[293,9,293,13],[294,4,294,6],[253,3,253,6],[253,7,253,11],[253,12,253,13],[263,4,263,13],[241,4,241,6],[242,4,242,6],[257,4,257,6],[257,7,257,11],[244,3,244,13],[246,4,246,13],[341,5,341,10],[327,3,327,13],[329,4,329,13],[331,7,331,8],[226,4,226,6],[226,9,226,13],[227,4,227,6],[227,9,227,13],[228,4,228,6],[228,9,228,13],[229,4,229,6],[229,9,229,13],[230,4,230,6],[230,9,230,13],[255,4,255,6],[255,7,255,11],[256,4,256,6],[269,7,269,8],[232,4,232,6],[232,9,232,13],[236,4,236,6],[237,4,237,6],[238,4,238,6],[239,4,239,6],[387,4,387,6],[387,7,387,11],[259,4,259,13],[261,3,261,13],[288,3,288,13],[292,4,292,6],[292,9,292,13],[265,7,265,8],[267,5,267,9],[267,10,267,11],[294,9,294,13],[275,5,275,10],[271,5,271,10],[273,5,273,10],[304,4,304,6],[305,4,305,6],[295,4,295,6],[295,9,295,13],[296,4,296,6],[296,9,296,13],[297,4,297,6],[297,9,297,13],[362,4,362,6],[362,9,362,13],[388,4,388,6],[388,7,388,11],[389,4,389,6],[389,7,389,11],[391,4,391,13],[393,3,393,13],[405,5,405,10],[407,5,407,10],[420,3,420,13],[412,4,414,13],[395,4,395,13],[397,7,397,8],[399,5,399,9],[399,10,399,11],[401,7,401,8],[403,5,403,10],[424,4,424,6],[424,9,424,13],[425,4,425,6],[425,9,425,13],[426,4,426,6],[426,9,426,13],[437,4,437,6],[427,4,427,6],[427,9,427,13],[428,4,428,6],[428,9,428,13],[429,4,429,6],[429,9,429,13],[438,4,438,6],[439,4,439,6],[440,4,440,6],[442,3,442,13],[444,4,444,13],[430,4,430,6],[430,9,430,13],[434,4,434,6],[435,4,435,6],[436,4,436,6],[451,3,451,6],[451,7,451,11],[451,12,451,13],[453,4,453,6],[453,7,453,11],[446,4,448,13],[454,4,454,6],[454,7,454,11],[455,4,455,6],[455,7,455,11],[457,4,457,13],[459,3,459,13],[471,5,471,10],[473,5,473,10],[486,3,486,13],[478,4,480,13],[461,4,461,13],[463,7,463,8],[465,5,465,9],[465,10,465,11],[467,7,467,8],[469,5,469,10],[490,4,490,6],[490,9,490,13],[491,4,491,6],[491,9,491,13],[492,4,492,6],[492,9,492,13],[503,4,503,6],[493,4,493,6],[493,9,493,13],[494,4,494,6],[494,9,494,13],[495,4,495,6],[495,9,495,13],[504,4,504,6],[505,4,505,6],[506,4,506,6],[508,3,508,13],[510,4,510,13],[496,4,496,6],[496,9,496,13],[500,4,500,6],[501,4,501,6],[502,4,502,6],[517,3,517,6],[517,7,517,11],[517,12,517,13],[519,4,519,6],[519,7,519,11],[512,4,514,13],[520,4,520,6],[520,7,520,11],[521,4,521,6],[521,7,521,11],[523,4,523,13],[525,3,525,13],[537,5,537,10],[539,5,539,10],[552,3,552,13],[544,4,546,13],[527,4,527,13],[529,7,529,8],[531,5,531,9],[531,10,531,11],[533,7,533,8],[535,5,535,10],[556,4,556,6],[556,9,556,13],[557,4,557,6],[557,9,557,13],[558,4,558,6],[558,9,558,13],[569,4,569,6],[559,4,559,6],[559,9,559,13],[560,4,560,6],[560,9,560,13],[561,4,561,6],[561,9,561,13],[570,4,570,6],[571,4,571,6],[572,4,572,6],[574,3,574,13],[576,4,576,13],[562,4,562,6],[562,9,562,13],[566,4,566,6],[567,4,567,6],[568,4,568,6],[583,3,583,6],[583,7,583,11],[583,12,583,13],[585,4,585,6],[585,7,585,11],[578,4,580,13],[586,4,586,6],[586,7,586,11],[587,4,587,6],[587,7,587,11],[589,4,589,13],[591,3,591,13],[603,5,603,10],[605,5,605,10],[618,3,618,13],[610,4,612,13],[593,4,593,13],[595,7,595,8],[597,5,597,9],[597,10,597,11],[599,7,599,8],[601,5,601,10],[622,4,622,6],[622,9,622,13],[623,4,623,6],[623,9,623,13],[624,4,624,6],[624,9,624,13],[635,4,635,6],[625,4,625,6],[625,9,625,13],[626,4,626,6],[626,9,626,13],[627,4,627,6],[627,9,627,13],[636,4,636,6],[637,4,637,6],[638,4,638,6],[640,3,640,13],[642,4,642,13],[628,4,628,6],[628,9,628,13],[632,4,632,6],[633,4,633,6],[634,4,634,6],[649,3,649,6],[649,7,649,11],[649,12,649,13],[651,4,651,6],[651,7,651,11],[644,4,646,13],[652,4,652,6],[652,7,652,11],[653,4,653,6],[653,7,653,11],[655,4,655,13],[657,3,657,13],[669,5,669,10],[671,5,671,10],[684,3,684,13],[676,4,678,13],[659,4,659,13],[661,7,661,8],[663,5,663,9],[663,10,663,11],[665,7,665,8],[667,5,667,10],[688,4,688,6],[688,9,688,13],[689,4,689,6],[689,9,689,13],[690,4,690,6],[690,9,690,13],[701,4,701,6],[691,4,691,6],[691,9,691,13],[692,4,692,6],[692,9,692,13],[693,4,693,6],[693,9,693,13],[721,4,721,13],[723,3,723,13],[702,4,702,6],[703,4,703,6],[704,4,704,6],[706,3,706,13],[708,4,708,13],[694,4,694,6],[694,9,694,13],[698,4,698,6],[699,4,699,6],[700,4,700,6],[768,4,768,6],[756,4,756,6],[756,9,756,13],[742,4,744,13],[682,9,682,13],[748,9,748,13],[725,4,725,13],[727,7,727,8],[729,5,729,9],[729,10,729,11],[731,7,731,8],[737,5,737,10],[750,3,750,13],[715,3,715,6],[715,7,715,11],[715,12,715,13],[717,4,717,6],[717,7,717,11],[710,4,712,13],[733,5,733,10],[718,4,718,6],[718,7,718,11],[719,4,719,6],[719,7,719,11],[757,4,757,6],[757,9,757,13],[735,5,735,10],[758,4,758,6],[758,9,758,13],[759,4,759,6],[759,9,759,13],[754,4,754,6],[754,9,754,13],[755,4,755,6],[755,9,755,13],[214,4,216,13],[248,4,250,13],[280,4,282,13],[314,4,316,13],[346,4,348,13],[220,9,220,13],[776,4,778,13],[760,4,760,6],[760,9,760,13],[764,4,764,6],[765,4,765,6],[774,4,774,13],[766,4,766,6],[767,4,767,6],[286,9,286,13],[256,7,256,11],[770,4,770,6],[772,3,772,13],[769,4,769,6],[352,9,352,13],[418,9,418,13],[484,9,484,13],[550,9,550,13],[616,9,616,13]]}
["ausblenden",null,null,null,null,null,null,null,null,null,null,null,null,null,null,"ausblenden","ausblenden","ausblenden","ausblenden","ausblenden","ausblenden","ausblenden","ausblenden"]
[null,{"$f":"Translations!$B$430","v":"E.\nSource streams"},null,null,{"$f":"Translations!$B$59","v":"Navigatiezone:"},null,{"$f":"Translations!$B$60","v":"Inhoudsopgave"},null,{"$f":"Translations!$B$61","v":"Vorig werkblad"},null,{"$f":"Translations!$B$62","v":"Volgend werkblad"}]
[null,null,null,null,{"$f":"Translations!$B$63","v":"Begin werkblad"},null,1,null,2,null,3]
[null,null,null,null,{"$f":"Translations!$B$64","v":"Einde werkblad"},null,4,null,5,null,{"$f":"Translations!$B$431","v":"6 tot en met 10 "}]
[]
[null,null,{"$f":"Translations!$B$432","v":"E. Bronstromen"},null,null,null,null,null,null,null,null,{"$f":"IF(AND(NOT(ISBLANK(CNTR_InstHasCalculation)), CNTR_InstHasCalculation=FALSE),EUconst_NotRelevant,EUconst_Relevant)","v":"relevant"}]
[]
[null,null,null,null,null,null,null,null,null,null,{"$f":"IF(L6=EUconst_NotRelevant,HYPERLINK(\"#JUMP_F_Top\",EUconst_MsgNextSheet),HYPERLINK(\"\",EUconst_MsgEnterThisSection))","v":"U wordt verzocht bij dit punt gegevens in te voeren"}]
[]
[null,null,8,{"$f":"Translations!$B$19","v":"Informatie over de niveaus die worden toegepast voor activiteitsgegevens en berekeningsfactoren"}]
[]
[null,null,null,{"$f":"Translations!$B$433","v":"De aanwijzingen worden alleen voor de eerste bronstroom weergegeven."}]
[null,null,null,{"$f":"Translations!$B$434","v":"Als u de gegevens voor meerdere bronstromen wilt weergeven, klik dan op de \"+\"-symbolen aan de linkerkant (gegevensgroepering)."}]
[null,null,null,{"$f":"Translations!$B$435","v":"Om verdere bronstromen toe te voegen gebruikt u de macro in punt 6e van het werkblad C_InstallationDescription."}]
[null,null,null,{"$f":"Translations!$B$135","v":"Voorbeelden van het weergeven of verbergen van informatie vindt u onder de knop \"Voorbeelden\" in de navigatiezone."}]
[null,null,null,{"$f":"Translations!$B$436","v":"Het voorbeeld is in de eerste bronstroom opgenomen."},null,null,null,null,null,null,null,null,null,null,null,null,null,null,"Check source stream category","auto","manual"]
[]
[null,null,null,null,null,null,null,null,null,null,null,null,null,null,null,null,null,null,"Check source stream category","auto","manual"]
[null,null,{"$f":"\"F\"&Q19","v":"F1"},{"$f":"CONCATENATE(Euconst_SourceStream,\" \", Q19,\":\")","v":"Bronstroom 1:"},null,null,null,{"$f":"IF(INDEX(C_InstallationDescription!$G$191:$G$201,MATCH(C19,C_InstallationDescription!$E$191:$E$201,0))>0,INDEX(C_InstallationDescription!$G$191:$G$201,MATCH(C19,C_InstallationDescription!$E$191:$E$201,0)),\"\")","v":""},null,null,null,null,{"$f":"IF(S19=TRUE,IF(U19=\"\",T19,U19),\"\")","v":""},null,null,null,1,null,{"$f":"IF(INDEX(C_InstallationDescription!$M:$M,MATCH(Q21,C_InstallationDescription!$Q:$Q,0))=\"\",FALSE,TRUE)","v":false},{"$f":"IF(S19=TRUE,INDEX(C_InstallationDescription!$M:$M,MATCH(Q21,C_InstallationDescription!$Q:$Q,0)),\"\")","v":""},{"$f":"IF(S19=TRUE,IF(ISBLANK(INDEX(C_InstallationDescription!$N:$N,MATCH(Q21,C_InstallationDescription!$Q:$Q,0))),\"\",INDEX(C_InstallationDescription!$N:$N,MATCH(Q21,C_InstallationDescription!$Q:$Q,0))),\"\")","v":""}]
[]
[null,null,null,null,{"$f":"Translations!$B$437","v":"Type bronstroom:"},null,null,{"$f":"IF(INDEX(C_InstallationDescription!$I$191:$I$201,MATCH(C19,C_InstallationDescription!$E$191:$E$201,0))>0,INDEX(C_InstallationDescription!$I$191:$I$201,MATCH(C19,C_InstallationDescription!$E$191:$E$201,0)),\"\")","v":""},null,null,null,null,null,null,null,null,{"$f":"EUconst_CNTR_SourceCategory&C19","v":"SourceCategory_F1"}]
[null,null,null,null,{"$f":"Translations!$B$438","v":"Te gebruiken methode volgens de MRV:"},null,null,{"$f":"IF(H21=\"\",\"\",INDEX(EUwideConstants!$F$261:$F$320,MATCH(H21,EUConst_TierActivityListNames,0)))","v":""}]
[null,null,null,null,{"$f":"Translations!$B$439","v":"Parameter waarop de onzekerheid wordt toegepast:"},null,null,{"$f":"IF(H21=\"\",\"\",INDEX(EUwideConstants!$E$261:$E$320,MATCH(H21,EUConst_TierActivityListNames,0)))","v":""}]
[]
["HIDE_Example",null,null,{"$f":"Translations!$B$440","v":"Voorbeeldbronstroom:"},null,null,null,{"$f":"Translations!$B$295","v":"Zware stookolie"},null,null,null,null,{"$f":"Translations!$B$313","v":"Groot"},null,null,null,1,null,{"$f":"IF(INDEX(C_InstallationDescription!$M:$M,MATCH(Q27,C_InstallationDescription!$Q:$Q,0))=\"\",FALSE,TRUE)","v":false},{"$f":"IF(S25=TRUE,INDEX(C_InstallationDescription!$M:$M,MATCH(Q27,C_InstallationDescription!$Q:$Q,0)),\"\")","v":""},{"$f":"IF(S25=TRUE,IF(ISBLANK(INDEX(C_InstallationDescription!$N:$N,MATCH(Q27,C_InstallationDescription!$Q:$Q,0))),\"\",INDEX(C_InstallationDescription!$N:$N,MATCH(Q27,C_InstallationDescription!$Q:$Q,0))),\"\")","v":""}]
["HIDE_Example"]
["HIDE_Example",null,null,null,{"$f":"Translations!$B$437","v":"Type bronstroom:"},null,null,{"$f":"Translations!$B$296","v":"Verbranding: Andere gasvormige en vloeibare brandstoffen"},null,null,null,null,null,null,null,null,{"$f":"EUconst_CNTR_SourceCategory&C25","v":"SourceCategory_"}]
["HIDE_Example",null,null,null,{"$f":"Translations!$B$438","v":"Te gebruiken methode volgens de MRV:"},null,null,{"$f":"Translations!$B$441","v":"Standaardmethode: Brandstoffen, artikel 24, lid 1"}]
["HIDE_Example",null,null,null,{"$f":"Translations!$B$439","v":"Parameter waarop de onzekerheid wordt toegepast:"},null,null,{"$f":"Translations!$B$442","v":"Brandstofhoeveelheid [t] of [Nm3]"}]
["HIDE_Example"]
[null,null,null,null,{"$f":"Translations!$B$443","v":"De naam, het type en de categorie van de bronstroom worden automatisch getoond op basis van de invoer bij punt 6e op het werkblad C_InstallationDescription."}]
[null,null,null,null,{"$f":"Translations!$B$444","v":"Als u de bronstroom daar niet in een van de categorieën (groot, klein, de-minimis) hebt ingedeeld, wordt de categorie gebruikt die automatisch wordt weergegeven bij dat punt. In dat geval kan het model hieronder niet aangeven welke niveaus moeten worden toegepast. Selecteer daarom de juiste categorie bij bovengenoemd punt."}]
[null,null,null,null,{"$f":"Translations!$B$445","v":"Wanneer het bronstroomtype zonder problemen gekoppeld kan worden aan een monitoringmethode overeenkomstig artikel 24 en 25 van de MRV en conform de parameters waarop de onzekerheid van de activiteitsgegevens van toepassing is (bijlage II), wordt deze informatie automatisch verstrekt op basis van de MRV."}]
[]
[null,null,null,{"$f":"Translations!$B$446","v":"Automatische aanwijzingen over de toepasselijke niveaus:"}]
[]
[null,null,null,null,{"$f":"Translations!$B$447","v":"Bij onderstaande punten (c) en (f) worden de vereiste niveaus voor activiteitsgegevens en berekeningsfactoren in de groene velden getoond op basis van uw invoer bij de punten 5d, 5e, 6e en 6f. Daar vindt u de minimale niveaus voor grote bronstromen van installaties die onder categorie C vallen. Het is echter mogelijk dat lagere eisen worden gesteld. In onderstaand groen tekstvak vindt u passende aanwijzingen die afhankelijk zijn van de volgende punten:"}]
[null,null,null,null,"-",{"$f":"Translations!$B$448","v":"Voor installaties met geringe emissies gelden overeenkomstig artikel 47, lid 2, lagere eisen;"}]
[null,null,null,null,"-",{"$f":"Translations!$B$449","v":"De installatiecategorie (A, B of C) overeenkomstig artikel 19;"}]
[null,null,null,null,"-",{"$f":"Translations!$B$450","v":"Voor bronstormen die krachtens artikel 19, lid 3, als  kleine en de-minimisbronstromen zijn ingedeeld, gelden lagere eisen."}]
[null,null,null,null,{"$f":"Translations!$B$451","v":"Dit bericht over de toe te passen niveaus is van belang voor de activiteitsgegevens en voor alle berekeningsfactoren."}]
[]
[null,null,null,null,{"$f":"IF(H19=\"\",\"\",INDEX(EUconst_SmallEmiSouStreamMsg,MATCH(Q43,EUconst_SmallEmiSouStream,0)))","v":""},null,null,null,null,null,null,null,null,null,null,null,{"$f":"IF(CNTR_SmallEmitter=TRUE,EUconst_CNTR_SmallEmitter,EUconst_CNTR_NoSmallEmitter) & IF((CNTR_Category)=\"\",\"C\",CNTR_Category) & \"_\" & IF(M19=\"\",1,MATCH(M19,SourceCategory,0))","v":"NoSmallEmitter_C_1"}]
["HIDE_Example"]
["HIDE_Example",null,null,{"$f":"Translations!$B$452","v":"Voorbeeldgegevens:"}]
["HIDE_Example",null,null,null,{"$f":"Translations!$B$453","v":"Artikel 26, lid 1: Ten minste worden onderstaande minimale niveaus gehanteerd.\nU mag echter tot twee niveaus lager gebruiken, met als minimum niveau 1, mits u ten genoegen van de bevoegde autoriteit aantoont dat het verplichte niveau overeenkomstig de eerste alinea technisch niet haalbaar is of leidt tot onredelijke kosten."}]
[]
[null,null,null,{"$f":"Translations!$B$454","v":"Activiteitsgegevens:"}]
[]
[null,null,null,"(a)",{"$f":"Translations!$B$455","v":"Bepalingsmethode voor activiteitsgegevens:"}]
[]
[null,null,null,"i.",{"$f":"Translations!$B$456","v":"Bepalingsmethode:"},null,null,null,null,null,null,null,null,null,null,null,null,null,null,null,null,null,{"$f":"IF(M19=\"\",\"\",IF(M19=INDEX(SourceCategory,3),1,IF(CNTR_InstHasCalculation=FALSE,0,2)))","v":""}]
["HIDE_Example",null,null,null,null,null,null,{"$f":"Translations!$B$457","v":"Voortdurend"},null,null,null,null,null,null,null,null,null,null,null,null,null,null,{"$f":"IF(M28=\"\",\"\",IF(M28=INDEX(SourceCategory,3),1,IF(CNTR_InstHasCalculation=FALSE,0,2)))","v":""}]
[null,null,null,null,{"$f":"Translations!$B$458","v":"Krachtens artikel 27, lid 1, kunnen de activiteitsgegevens van een bronstroom worden bepaald (a) op basis van een continue meting in het proces dat de emissies voortbrengt of (b) op basis van de som van afzonderlijke metingen van hoeveelheden, rekening houdend met relevante voorraadwijzigingen (batchmeting)."}]
[]
[null,null,null,null,null,{"$f":"Translations!$B$459","v":"Verwijzing naar de procedure voor het bepalen van de voorraden aan het einde van het jaar:"},null,null,null,null,null,null,null,null,null,null,null,null,null,null,null,{"$f":"IF(OR(H19=\"\",ISBLANK(H52)),FALSE,IF(MATCH(H52,EUconst_ActivityDeterminationMethod,0)=2,TRUE,FALSE))","v":false},{"$f":"IF(V56=TRUE,0,W52)","v":""}]
["HIDE_Example",null,null,null,null,null,null,null,null,null,null,null,null,null,null,null,null,null,null,null,null,{"$f":"IF(OR(H29=\"\",ISBLANK(H54)),FALSE,IF(MATCH(H54,EUconst_ActivityDeterminationMethod,0)=2,TRUE,FALSE))","v":false},{"$f":"IF(V57=TRUE,0,W54)","v":0}]
[null,null,null,null,null,{"$f":"Translations!$B$460","v":"Dit is alleen van toepassing als u bij de bepalingsmethode \"Batch\" hebt geselecteerd. Verwijs naar de procedure die bij punt 7i beschreven wordt. "}]
[null,null,null,null,null,{"$f":"Translations!$B$461","v":"Installaties met geringe emissies (punt 5e) zijn vrijgesteld van de eis om de voorraadbepaling op te nemen in hun beoordeling van de onzekerheid (artikel 47, lid 5)."}]
[]
[null,null,null,"ii.",{"$f":"Translations!$B$462","v":"Het instrument wordt beheerd door:"},null,null,null,null,null,null,null,null,null,null,null,null,null,null,null,null,null,{"$f":"W52","v":""}]
["HIDE_Example",null,null,null,null,null,null,{"$f":"Translations!$B$149","v":"Exploitant"},null,null,null,null,null,null,null,null,null,null,null,null,null,null,{"$f":"W55","v":0}]
[null,null,null,null,{"$f":"Translations!$B$463","v":"Selecteer \"exploitant\" als u het meetinstrument beheert en kies voor \"Handelspartner\" als dat niet zo is."}]
[null,null,null,null,{"$f":"Translations!$B$464","v":"Als er sprake is van meerdere instrumenten, selecteert u \"Handelspartner\" als ten minste een van de voor deze bronstroom gebruikte instrumenten niet door u beheerd wordt. Geef in dat geval in het commentaarvak onder punt b aan welke instrumenten door de exploitant en welke instrumenten door de handelspartner worden beheerd."}]
[]
[null,null,null,null,"a.",{"$f":"Translations!$B$465","v":"Bevestig dat is voldaan aan de voorwaarden van artikel 29, lid 1:"},null,null,null,null,null,null,null,null,null,null,null,null,null,null,null,{"$f":"IF(OR(H19=\"\",ISBLANK(H61)),FALSE,IF(MATCH(H61,EUconst_OwnerInstrument,0)=1,TRUE,FALSE))","v":false},{"$f":"IF(V66=TRUE,0,W52)","v":""}]
["HIDE_Example",null,null,null,null,null,null,null,null,null,null,null,null,null,null,null,null,null,null,null,null,{"$f":"IF(OR(H31=\"\",ISBLANK(H63)),FALSE,IF(MATCH(H63,EUconst_OwnerInstrument,0)=1,TRUE,FALSE))","v":false},{"$f":"IF(V67=TRUE,0,W56)","v":""}]
[null,null,null,null,null,{"$f":"Translations!$B$466","v":"Dit punt is alleen van toepassing als u niet de eigenaar van het meetinstrument bent."}]
[null,null,null,null,null,{"$f":"Translations!$B$467","v":"Krachtens  artikel 29, lid 1, mag u alleen gebruik maken van meetsystemen die niet door u worden beheerd als deze u in staat stellen om ten minste aan een even hoog niveau te voldoen, als deze betrouwbaardere resultaten opleveren en minder controlerisico's met zich meebrengen."}]
[]
[null,null,null,null,"b.",{"$f":"Translations!$B$468","v":"Bepaalt u de hoeveelheid brandstof of materiaal aan de hand van facturen?"},null,null,null,null,null,null,null,null,null,null,null,null,null,null,null,{"$f":"IF(OR(H19=\"\",ISBLANK(H61)),FALSE,IF(MATCH(H61,EUconst_OwnerInstrument,0)=1,TRUE,FALSE))","v":false},{"$f":"IF(V71=TRUE,0,W52)","v":""}]
["HIDE_Example",null,null,null,null,null,null,null,null,null,null,null,null,null,null,null,null,null,null,null,null,{"$f":"IF(OR(H36=\"\",ISBLANK(H68)),FALSE,IF(MATCH(H68,EUconst_OwnerInstrument,0)=1,TRUE,FALSE))","v":false},{"$f":"IF(V72=TRUE,0,W61)","v":""}]
[null,null,null,null,null,{"$f":"Translations!$B$466","v":"Dit punt is alleen van toepassing als u niet de eigenaar van het meetinstrument bent."}]
[]
[null,null,null,null,"c.",{"$f":"Translations!$B$469","v":"Bevestig dat de handelspartner en de exploitant onafhankelijk zijn:"},null,null,null,null,null,null,null,null,null,null,null,null,null,null,null,{"$f":"IF(OR(H19=\"\",ISBLANK(H61)),FALSE,IF(MATCH(H61,EUconst_OwnerInstrument,0)=1,TRUE,FALSE))","v":false},{"$f":"IF(V75=TRUE,0,W52)","v":""}]
["HIDE_Example",null,null,null,null,null,null,null,null,null,null,null,null,null,null,null,null,null,null,null,null,{"$f":"IF(OR(H40=\"\",ISBLANK(H72)),FALSE,IF(MATCH(H72,EUconst_OwnerInstrument,0)=1,TRUE,FALSE))","v":false},{"$f":"IF(V76=TRUE,0,W65)","v":0}]
[null,null,null,null,null,{"$f":"Translations!$B$470","v":"Dit punt is alleen van toepassing als u niet de eigenaar van het meetinstrument bent "}]
[null,null,null,null,null,{"$f":"Translations!$B$471","v":"Krachtens artikel 29, lid 1, onder a), mag u alleen facturen gebruiken wanneer de handelspartners onafhankelijk zijn."}]
[]
[null,null,null,"(b)",{"$f":"Translations!$B$472","v":"Toegepaste meetinstrumenten:"}]
["HIDE_Example",null,null,null,null,null,null,"MI01","MI03"]
[null,null,null,null,{"$f":"Translations!$B$473","v":"Selecteer hier een of meer instrumenten die u bij punt 7b hebt gedefinieerd. "}]
[null,null,null,null,{"$f":"Translations!$B$474","v":"Als u voor deze bronstroom meer dan vijf meetinstrumenten gebruikt, bijvoorbeeld als de p/T-compensatie met verschillende instrumenten wordt verricht, verschaft u daarover informatie in onderstaand tekstvak."}]
[]
[null,null,null,null,{"$f":"Translations!$B$475","v":"Commentaar op / beschrijving van de methode, indien meerdere instrumenten zijn gebruikt:"}]
[null,null,null,null,{"$f":"Translations!$B$476","v":"Verklaar indien van toepassing waarom en op welke wijze meerdere instrumenten worden gebruikt. Zo kan een van de instrumenten benodigd zijn voor het aftrekken van het niet-ETS-deel van de brandstof. U kunt ook weeginstrumenten gebruiken, of instrumenten ter bevestiging, enz."}]
[]
[]
[]
[]
[null,null,null,"(c)",{"$f":"Translations!$B$477","v":"Vereist niveau voor de activiteitsgegevens:"},null,null,{"$f":"IF(H21=\"\",\"\",IF(CNTR_Category=\"A\",INDEX(EUwideConstants!$G:$G,MATCH(Q91,EUwideConstants!$Q:$Q,0)),INDEX(EUwideConstants!$N:$N,MATCH(Q91,EUwideConstants!$Q:$Q,0))))","v":""},{"$f":"IF(H91=\"\",\"\",IF(S91=0,EUconst_NA,IF(ISERROR(S91),\"\",EUconst_MsgTierActivityLevel & \" \" &S91)))","v":""},null,null,null,null,null,null,null,{"$f":"EUconst_CNTR_ActivityData&H21","v":"ActivityData_"},null,{"$f":"IF(H91=\"\",\"\",IF(H91=EUconst_NA,\"\",INDEX(EUwideConstants!$H:$M,MATCH(Q91,EUwideConstants!$Q:$Q,0),MATCH(H91,CNTR_TierList,0))))","v":""}]
[null,null,null,"(d)",{"$f":"Translations!$B$478","v":"Gebruikt niveau voor de activiteitsgegevens:"},null,null,null,{"$f":"IF(OR(ISBLANK(H92),H92=EUconst_NoTier),\"\",IF(S92=0,EUconst_NA,IF(ISERROR(S92),\"\",EUconst_MsgTierActivityLevel & \" \" &S92)))","v":""},null,null,null,null,null,null,null,{"$f":"EUconst_CNTR_ActivityData&H21","v":"ActivityData_"},null,{"$f":"IF(ISBLANK(H92),\"\",IF(H92=EUconst_NA,\"\",INDEX(EUwideConstants!$H:$M,MATCH(Q92,EUwideConstants!$Q:$Q,0),MATCH(H92,CNTR_TierList,0))))","v":""}]
[null,null,null,"(e)",{"$f":"Translations!$B$479","v":"Bereikte onzekerheid:"},null,null,null,{"$f":"Translations!$B$480","v":"Opmerking:"}]
["HIDE_Example",null,null,{"$f":"Translations!$B$452","v":"Voorbeeldgegevens:"}]
["HIDE_Example",null,null,"(c)",{"$f":"Translations!$B$477","v":"Vereist niveau voor de activiteitsgegevens:"},null,null,2,{"$f":"Translations!$B$481","v":"De onzekerheid mag niet meer bedragen dan ± 5,0%"}]
["HIDE_Example",null,null,"(d)",{"$f":"Translations!$B$478","v":"Gebruikt niveau voor de activiteitsgegevens:"},null,null,3,{"$f":"Translations!$B$482","v":"De onzekerheid mag niet meer bedragen dan ± 2,5%"}]
["HIDE_Example",null,null,"(e)",{"$f":"Translations!$B$479","v":"Bereikte onzekerheid:"},null,null,2.2499999999999999E-2,{"$f":"Translations!$B$480","v":"Opmerking:"},{"$f":"Translations!$B$483","v":"Onder nationale wettelijke metrologische controle --> maximaal toelaatbare bedrijfsfouten"}]
[null,null,null,null,{"$f":"Translations!$B$484","v":"Met betrekking tot het vereiste en gebruikte niveau verschaft u hier de bereikte onzekerheid over de gehele verslagperiode."}]
[null,null,null,null,{"$f":"Translations!$B$485","v":"Over het algemeen dient deze waarde te volgen uit een onzekerheidsbeoordeling (zie punt 7c). Artikel 28, leden 2 en 3, en artikel 29, lid 2, maken bepaalde vereenvoudigingen mogelijk:"}]
[null,null,null,null,"-",{"$f":"Translations!$B$486","v":"U de maximaal toelaatbare bedrijfsfouten voor het gebruikte meetinstrument gebruiken, of indien lager, de onzekerheid die wordt verkregen door kalibratie, vermenigvuldigd met een conservatieve aanpassingscoëfficiënt om rekening te houden met het effect van de bedrijfsonzekerheid, mits de meetinstrumenten zijn geïnstalleerd in een omgeving die voldoet aan de gebruiksspecificaties van de meetinstrumenten, of"}]
[null,null,null,null,"-",{"$f":"Translations!$B$487","v":"U mag de maximaal toelaatbare bedrijfsfout gebruiken als de verkregen onzekerheid, mits het meetinstrument onderworpen is aan nationale wettelijke metrologische controle."}]
[null,null,null,null,{"$f":"Translations!$B$488","v":"Gebruik onderstaand tekstvak bij punt h om te beschrijven hoe de bereikte onzekerheid voor de gehele periode wordt bepaald."}]
[null,null,null,null,{"$f":"Translations!$B$1171","v":"Raadpleeg voor verdere aanwijzingen de artikelen 28 en 29, MRV, en Richtsnoer nr. 4 en gebruik het “Instrument voor onzekerheidsbeoordeling”."}]
[]
[null,null,null,{"$f":"Translations!$B$490","v":"Berekeningsfactoren:"}]
[]
[null,null,null,null,{"$f":"Translations!$B$491","v":"Overeenkomstig artikel 30, lid 1, kunnen berekeningsfactoren worden bepaald als standaardwaarden of door laboratoriumonderzoek. De te kiezen optie wordt bepaald door het toegepaste niveau."}]
[null,null,null,null,{"$f":"Translations!$B$492","v":"U wordt geïnformeerd over de volgende niveaucategorieën (overeenkomstig richtsnoer 1):"}]
[null,null,null,null,{"$f":"Translations!$B$1172","v":"Standaardwaarden van het type I (niveau 1):"},{"$f":"Translations!$B$1173","v":"Standaardwaarden van het type I omvatten een van de volgende methoden:"}]
[null,null,null,null,null,"-",{"$f":"Translations!$B$1174","v":"gebruik standaardfactoren zoals opgenomen in bijlage VI (in principe zijn dit IPCC-waarden) of "}]
[null,null,null,null,null,"-",{"$f":"Translations!$B$1175","v":"gebruik andere constante waarden overeenkomstig artikel 31, lid 1, punt e), wanneer die standaardfactoren niet beschikbaar zijn (analysen die in het verleden zijn uitgevoerd, maar nog geldig zijn)."}]
[null,null,null,null,{"$f":"Translations!$B$1176","v":"Standaardwaarden van het type II (niveau 2):"},{"$f":"Translations!$B$1177","v":"Standaardwaarden van het type II omvatten een van de volgende als gelijkwaardig beschouwde methoden:"}]
[null,null,null,null,null,"-",{"$f":"Translations!$B$1178","v":"gebruik landspecifieke emissiefactoren overeenkomstig artikel 31, lid 1, punt b) (waarden die gebruikt worden voor de nationale broeikasgasinventarisatie) of "}]
[null,null,null,null,null,"-",{"$f":"Translations!$B$1179","v":"gebruik andere waarden die de bevoegde autoriteit verstrekt voor meer uitgesplitste soorten brandstoffen overeenkomstig artikel 31, lid 1, punt c), of andere waarden uit literatuurbronnen die de bevoegde autoriteit heeft goedgekeurd, of "}]
[null,null,null,null,null,"-",{"$f":"Translations!$B$1180","v":"gebruik andere constante waarden overeenkomstig artikel 31, lid 1, punt d) (waarden die de leverancier heeft gewaarborgd met een koolstofgehalte van ten hoogste 1 %)."}]
[null,null,null,null,{"$f":"Translations!$B$1181","v":"Algemeen aanvaarde proxy’s (niveau 2b):"},{"$f":"Translations!$B$498","v":"Deze methoden zijn gebaseerd op empirische correlaties en worden ten minste eenmaal per jaar vastgesteld overeenkomstig de eisen die gelden voor laboratoriumanalyses. Aangezien de analyses echter slechts eenmaal per jaar worden uitgevoerd, wordt dit niveau als een lager niveau dan volledige analyses beschouwd. De proxycorrelaties kunnen gebaseerd zijn op:"}]
[null,null,null,null,null,"-",{"$f":"Translations!$B$499","v":"dichtheidsmeting van specifieke oliën of gassen, waaronder die welke gewoonlijk worden gehanteerd in raffinaderijen of in de staalindustrie, of"}]
[null,null,null,null,null,"-",{"$f":"Translations!$B$500","v":"de calorische onderwaarde van specifieke soorten steenkool."}]
[null,null,null,null,{"$f":"Translations!$B$1182","v":"Aankoopgegevens (niveau 2b):"},{"$f":"Translations!$B$502","v":"De calorische onderwaarde mag worden ontleend aan de door de brandstofleverancier afgegeven aankoopbescheiden, voor zover die waarde is verkregen op basis van aanvaarde nationale of internationale normen. (Alleen van toepassing op commercieel verhandelbare brandstoffen)."}]
[null,null,null,null,{"$f":"Translations!$B$1183","v":"Laboratoriumanalysen (hoogste niveau):"},{"$f":"Translations!$B$1184","v":"In dit geval zijn de in de artikelen 32 tot en met 35 vastgelegde eisen voor analyse volledig van toepassing, waaronder het gebruik van de “algemeen aanvaarde proxy’s”, indien van toepassing, en wanneer de onzekerheid van de empirische correlatie niet meer dan 1/3 bedraagt van de onzekerheidswaarde in verband met het toepasselijke niveau voor activiteitsgegevens."}]
[null,null,null,null,null,{"$f":"Translations!$B$1185","v":"Voor zuiver chemische stoffen kan de bevoegde autoriteit ermee instemmen dat het gebruik van het stoichiometrische koolstofgehalte geacht wordt te voldoen aan het niveau waarvoor laboratoriumanalysen moeten worden verricht, op voorwaarde dat de exploitant aantoont dat dergelijke analysen onredelijke kosten met zich zouden meebrengen en dat de stoichiometrische waarde niet zal leiden tot een onderschatting van de emissies."}]
[null,null,null,null,{"$f":"Translations!$B$1186","v":"Biomassafractie van het type I (niveau 1):"},{"$f":"Translations!$B$1187","v":"Een van de volgende als gelijkwaardig beschouwde methoden moet worden toegepast:"}]
[null,null,null,null,null,"-",{"$f":"Translations!$B$1188","v":"gebruik waarden van de waarden die door de bevoegde autoriteit of de Commissie voor dit type brandstof of materiaal zijn gepubliceerd, of"}]
[null,null,null,null,null,"-",{"$f":"Translations!$B$1189","v":"gebruik waarden overeenkomstig artikel 31, lid 1 (een “Standaardwaarde van het type I”)."}]
[null,null,null,null,null,"-",{"$f":"Translations!$B$1190","v":"De exploitant kan eventueel altijd uitgaan van een fossiele fractie van 100 %. Dit wordt als een “Geen niveau”-methode beschouwd en als standaardwaarde wordt een biomassafractie van 0 % toegepast."}]
[null,null,null,null,null,"-",{"$f":"Translations!$B$1191","v":"Toepassing van artikel 39, leden 3 en 4, in geval van aardgasnetten waarin biogas wordt geïnjecteerd, d.w.z. wanneer de bevoegde autoriteit toestaat dat de biomassafractie wordt bepaald aan de hand van aankoopbescheiden van biogas met een gelijkwaardig energiegehalte."}]
[null,null,null,null,{"$f":"Translations!$B$1192","v":"Biomassafractie van het type II (niveau 2):"},{"$f":"Translations!$B$1193","v":"De biomassafractie wordt bepaald aan de hand van een schattingsmethode overeenkomstig artikel 39, lid 2, tweede alinea, die ter goedkeuring bij de bevoegde autoriteit wordt ingediend, waarbij rekening wordt gehouden met het volgende:"}]
[null,null,null,null,null,"-",{"$f":"Translations!$B$1194","v":"voor brandstoffen of materialen die via een productieproces met welomschreven en traceerbare inputstromen zijn verkregen, mag de exploitant de schatting baseren op een massabalans van fossiele en biomassakoolstof die het proces binnenkomt en verlaat;"}]
[null,null,null,null,null,"-",{"$f":"Translations!$B$1195","v":"eventuele door de Commissie gepubliceerde richtsnoeren voor verdere toepasselijke schattingsmethoden <nog te ontwikkelen in Richtsnoer nr. 3>."}]
[null,null,null,null,{"$f":"Translations!$B$1196","v":"Analyse van de biomassafractie (niveau 3):"},{"$f":"Translations!$B$1197","v":"In dit geval moeten laboratoriumanalysen worden uitgevoerd overeenkomstig artikel 39, lid 2, eerste alinea, en de artikelen 32 tot en met 35."}]
[]
[null,null,null,null,{"$f":"Translations!$B$512","v":"Opmerking:"}]
[null,null,null,null,{"$f":"Translations!$B$513","v":"De vereiste niveaus in onderstaande tabel hebben alle betrekking op grote bronstromen. Verwijs naar de informatie in het tekstvak bij de koptekst van deze bronstroom of er al dan niet lagere eisen mogen worden toegepast."}]
[null,null,null,null,{"$f":"Translations!$B$514","v":"Overeenkomstig artikel 26, lid 4, past de exploitant voor de oxidatiefactor en conversiefactor minimaal de in bijlage II opgenomen laagste niveaus toe."}]
[]
[null,null,null,"(f)",{"$f":"Translations!$B$515","v":"Toegepaste niveaus voor berekeningsfactoren:"}]
[]
[null,null,null,null,{"$f":"Translations!$B$516","v":"berekeningsfactor"},null,null,{"$f":"Translations!$B$517","v":"vereist niveau"},{"$f":"Translations!$B$518","v":"toegepast niveau"},{"$f":"Translations!$B$519","v":"volledige tekst voor het toegepaste niveau"},null,null,null,null,null,null,null,null,"full text tier",null,null,null,"cond. form."]
[null,null,null,"i.",{"$f":"Translations!$B$520","v":"Calorische onderwaarde (NCV)"},null,null,{"$f":"IF(H21=\"\",\"\",IF(CNTR_Category=\"A\",INDEX(EUwideConstants!$G:$G,MATCH(Q139,EUwideConstants!$Q:$Q,0)),INDEX(EUwideConstants!$N:$N,MATCH(Q139,EUwideConstants!$Q:$Q,0))))","v":""},null,{"$f":"IF(OR(ISBLANK(I139),I139=EUconst_NoTier),\"\",IF(S139=0,EUconst_NotApplicable,IF(ISERROR(S139),\"\",S139)))","v":""},null,null,null,null,null,null,{"$f":"EUconst_CNTR_NCV&H21","v":"NCV_"},null,{"$f":"IF(ISBLANK(I139),\"\",IF(I139=EUconst_NA,\"\",INDEX(EUwideConstants!$H:$M,MATCH(Q139,EUwideConstants!$Q:$Q,0),MATCH(I139,CNTR_TierList,0))))","v":""},null,null,null,{"$f":"(H139=EUconst_NA)","v":false}]
[null,null,null,"ii.",{"$f":"Translations!$B$521","v":"Voorlopige emissiefactor"},null,null,{"$f":"IF(H21=\"\",\"\",IF(CNTR_Category=\"A\",INDEX(EUwideConstants!$G:$G,MATCH(Q140,EUwideConstants!$Q:$Q,0)),INDEX(EUwideConstants!$N:$N,MATCH(Q140,EUwideConstants!$Q:$Q,0))))","v":""},null,"",null,null,null,null,null,null,{"$f":"EUconst_CNTR_EF&H21","v":"EF_"},null,{"$f":"IF(ISBLANK(I140),\"\",IF(I140=EUconst_NA,\"\",INDEX(EUwideConstants!$H:$M,MATCH(Q140,EUwideConstants!$Q:$Q,0),MATCH(I140,CNTR_TierList,0))))","v":""},null,null,null,false]
[null,null,null,"iii.",{"$f":"Translations!$B$522","v":"Oxidatiefactor"},null,null,{"$f":"IF(H21=\"\",\"\",IF(CNTR_Category=\"A\",INDEX(EUwideConstants!$G:$G,MATCH(Q141,EUwideConstants!$Q:$Q,0)),INDEX(EUwideConstants!$N:$N,MATCH(Q141,EUwideConstants!$Q:$Q,0))))","v":""},null,"",null,null,null,null,null,null,{"$f":"EUconst_CNTR_OxidationFactor&H21","v":"OxF_"},null,{"$f":"IF(ISBLANK(I141),\"\",IF(I141=EUconst_NA,\"\",INDEX(EUwideConstants!$H:$M,MATCH(Q141,EUwideConstants!$Q:$Q,0),MATCH(I141,CNTR_TierList,0))))","v":""},null,null,null,false]
[null,null,null,"iv.",{"$f":"Translations!$B$523","v":"Omrekeningsfactor"},null,null,{"$f":"IF(H21=\"\",\"\",IF(CNTR_Category=\"A\",INDEX(EUwideConstants!$G:$G,MATCH(Q142,EUwideConstants!$Q:$Q,0)),INDEX(EUwideConstants!$N:$N,MATCH(Q142,EUwideConstants!$Q:$Q,0))))","v":""},null,"",null,null,null,null,null,null,{"$f":"EUconst_CNTR_ConversionFactor&H21","v":"ConvF_"},null,{"$f":"IF(ISBLANK(I142),\"\",IF(I142=EUconst_NA,\"\",INDEX(EUwideConstants!$H:$M,MATCH(Q142,EUwideConstants!$Q:$Q,0),MATCH(I142,CNTR_TierList,0))))","v":""},null,null,null,false]
[null,null,null,"v.",{"$f":"Translations!$B$524","v":"Koolstofgehalte"},null,null,{"$f":"IF(H21=\"\",\"\",IF(CNTR_Category=\"A\",INDEX(EUwideConstants!$G:$G,MATCH(Q143,EUwideConstants!$Q:$Q,0)),INDEX(EUwideConstants!$N:$N,MATCH(Q143,EUwideConstants!$Q:$Q,0))))","v":""},null,"",null,null,null,null,null,null,{"$f":"EUconst_CNTR_CarbonContent&H21","v":"CarbC_"},null,{"$f":"IF(ISBLANK(I143),\"\",IF(I143=EUconst_NA,\"\",INDEX(EUwideConstants!$H:$M,MATCH(Q143,EUwideConstants!$Q:$Q,0),MATCH(I143,CNTR_TierList,0))))","v":""},null,null,null,false]
[null,null,null,"vi.",{"$f":"Translations!$B$525","v":"Biomassafractie (indien van toepassing)"},null,null,{"$f":"IF(H21=\"\",\"\",IF(CNTR_Category=\"A\",INDEX(EUwideConstants!$G:$G,MATCH(Q144,EUwideConstants!$Q:$Q,0)),INDEX(EUwideConstants!$N:$N,MATCH(Q144,EUwideConstants!$Q:$Q,0))))","v":""},null,"",null,null,null,null,null,null,{"$f":"EUconst_CNTR_BiomassContent&H21","v":"BioC_"},null,{"$f":"IF(ISBLANK(I144),\"\",IF(I144=EUconst_NA,\"\",INDEX(EUwideConstants!$H:$M,MATCH(Q144,EUwideConstants!$Q:$Q,0),MATCH(I144,CNTR_TierList,0))))","v":""},null,null,null,false]
["HIDE_Example",null,null,{"$f":"Translations!$B$452","v":"Voorbeeldgegevens:"}]
["HIDE_Example",null,null,null,{"$f":"Translations!$B$516","v":"berekeningsfactor"},null,null,{"$f":"Translations!$B$517","v":"vereist niveau"},{"$f":"Translations!$B$518","v":"toegepast niveau"},{"$f":"Translations!$B$526","v":"volledige tekst voor het toegepast niveau"},null,null,null,null,null,null,null,null,"full text tier",null,null,null,"cond. form."]
["HIDE_Example",null,null,"i.",{"$f":"Translations!$B$520","v":"Calorische onderwaarde (NCV)"},null,null,"2a/2b",3,{"$f":"Translations!$B$527","v":"Laboratoriumanalyses"},null,null,null,null,null,null,null,null,null,null,null,null,{"$f":"(H147=EUconst_NA)","v":false}]
["HIDE_Example",null,null,"ii.",{"$f":"Translations!$B$521","v":"Voorlopige emissiefactor"},null,null,"2a/2b",3,{"$f":"Translations!$B$527","v":"Laboratoriumanalyses"},null,null,null,null,null,null,null,null,null,null,null,null,false]
["HIDE_Example",null,null,"iii.",{"$f":"Translations!$B$522","v":"Oxidatiefactor"},null,null,1,1,{"$f":"Translations!$B$529","v":"Standaardwaarde OF=1 "},null,null,null,null,null,null,null,null,null,null,null,null,false]
["HIDE_Example",null,null,"iv.",{"$f":"Translations!$B$523","v":"Omrekeningsfactor"},null,null,{"$f":"Translations!$B$530","v":"n.v.t."},null,"",null,null,null,null,null,null,null,null,null,null,null,null,true]
["HIDE_Example",null,null,"v.",{"$f":"Translations!$B$524","v":"Koolstofgehalte"},null,null,{"$f":"Translations!$B$530","v":"n.v.t."},null,"",null,null,null,null,null,null,null,null,null,null,null,null,true]
["HIDE_Example",null,null,"vi.",{"$f":"Translations!$B$525","v":"Biomassafractie (indien van toepassing)"},null,null,"",{"$f":"Translations!$B$530","v":"n.v.t."},"",null,null,null,null,null,null,null,null,null,null,null,null,false]
[]
[null,null,null,null,{"$f":"Translations!$B$531","v":"Afhankelijk van het geselecteerde niveau (standaardwaarden of laboratoriumanalyse) moet u de volgende informatie invoeren per gebruikte berekeningsfactor:"}]
[null,null,null,null,{"$f":"Translations!$B$532","v":"Bij gebruik van een standaardwaarde voert u die waarde, de eenheid en de gebruikte literatuur in door te verwijzen naar tabel 7d op het vorige werkblad. De waarde moet overeenkomen met de constante waarde ten tijde van de kennisgeving van het monitoringplan."}]
[null,null,null,null,{"$f":"Translations!$B$533","v":"Wanneer laboratoriumanalyses vereist zijn, vermeldt u de analysemethode en het laboratorium door te verwijzen naar tabel 7e op het vorige werkblad, naar uw steekproefprogramma en naar de toegepaste analysefrequentie."}]
[]
[null,null,null,"(g)",{"$f":"Translations!$B$534","v":"Informatie over berekeningsfactoren:"}]
[]
[null,null,null,null,{"$f":"E138","v":"berekeningsfactor"},null,null,{"$f":"I138","v":"toegepast niveau"},{"$f":"Translations!$B$535","v":"standaardwaarde"},{"$f":"Translations!$B$536","v":"Eenheid"},{"$f":"Translations!$B$537","v":"bronreferentie"},{"$f":"Translations!$B$538","v":"analysereferentie"},{"$f":"Translations!$B$539","v":"steekproefreferentie"},{"$f":"Translations!$B$540","v":"Analysefrequentie"},null,null,null,null,"default value or lab",null,null,null,"cond. form."]
[null,null,null,"i.","Calorische onderwaarde (NCV)",null,null,{"$f":"IF(OR(ISBLANK(I139),I139=EUconst_NA),\"\",I139)","v":""},null,null,null,null,null,null,null,null,null,null,{"$f":"IF(H161=\"\",\"\",IF(I139=EUconst_NA,\"\",INDEX(EUwideConstants!$AJ:$AN,MATCH(Q139,EUwideConstants!$Q:$Q,0),MATCH(I139,CNTR_TierList,0))))","v":""},null,null,null,{"$f":"OR(H161=\"\",H161=EUconst_NA,J139=EUconst_NotApplicable)","v":true}]
[null,null,null,"ii.","Voorlopige emissiefactor",null,null,"",null,null,null,null,null,null,null,null,null,null,{"$f":"IF(H162=\"\",\"\",IF(I140=EUconst_NA,\"\",INDEX(EUwideConstants!$AJ:$AN,MATCH(Q140,EUwideConstants!$Q:$Q,0),MATCH(I140,CNTR_TierList,0))))","v":""},null,null,null,true]
[null,null,null,"iii.","Oxidatiefactor",null,null,"",null,null,null,null,null,null,null,null,null,null,{"$f":"IF(H163=\"\",\"\",IF(I141=EUconst_NA,\"\",INDEX(EUwideConstants!$AJ:$AN,MATCH(Q141,EUwideConstants!$Q:$Q,0),MATCH(I141,CNTR_TierList,0))))","v":""},null,null,null,true]
[null,null,null,"iv.","Omrekeningsfactor",null,null,"",null,null,null,null,null,null,null,null,null,null,{"$f":"IF(H164=\"\",\"\",IF(I142=EUconst_NA,\"\",INDEX(EUwideConstants!$AJ:$AN,MATCH(Q142,EUwideConstants!$Q:$Q,0),MATCH(I142,CNTR_TierList,0))))","v":""},null,null,null,true]
[null,null,null,"v.","Koolstofgehalte",null,null,"",null,null,null,null,null,null,null,null,null,null,{"$f":"IF(H165=\"\",\"\",IF(I143=EUconst_NA,\"\",INDEX(EUwideConstants!$AJ:$AN,MATCH(Q143,EUwideConstants!$Q:$Q,0),MATCH(I143,CNTR_TierList,0))))","v":""},null,null,null,true]
[null,null,null,"vi.","Biomassafractie (indien van toepassing)",null,null,"",null,null,null,null,null,null,null,null,null,null,{"$f":"IF(H166=\"\",\"\",IF(I144=EUconst_NA,\"\",INDEX(EUwideConstants!$AJ:$AN,MATCH(Q144,EUwideConstants!$Q:$Q,0),MATCH(I144,CNTR_TierList,0))))","v":""},null,null,null,true]
["HIDE_Example",null,null,{"$f":"Translations!$B$452","v":"Voorbeeldgegevens:"}]
["HIDE_Example",null,null,null,{"$f":"E154","v":"Afhankelijk van het geselecteerde niveau (standaardwaarden of laboratoriumanalyse) moet u de volgende informatie invoeren per gebruikte berekeningsfactor:"},null,null,{"$f":"H160","v":"toegepast niveau"},{"$f":"I160","v":"standaardwaarde"},"Eenheid","bronreferentie","analysereferentie","steekproefreferentie","Analysefrequentie",null,null,null,null,null,null,null,null,"cond. form."]
["HIDE_Example",null,null,"i.",{"$f":"E161","v":"Calorische onderwaarde (NCV)"},null,null,3,null,null,null,"L1, L3",{"$f":"Translations!$B$541","v":"NCV_Sample"},{"$f":"Translations!$B$542","v":"Per week"},null,null,null,null,null,null,null,null,{"$f":"OR(H169=\"\",H169=EUconst_NA,J155=EUconst_NotApplicable)","v":false}]
["HIDE_Example",null,null,"ii.","Voorlopige emissiefactor",null,null,"2a","74.1","t CO2 / TJ",{"$f":"Translations!$B$543","v":"IS5: IPCC"},null,null,null,null,null,null,null,null,null,null,null,false]
["HIDE_Example",null,null,"iii.","Oxidatiefactor",null,null,1,100,"%",{"$f":"Translations!$B$544","v":"IS1: MRV"},null,null,null,null,null,null,null,null,null,null,null,false]
["HIDE_Example",null,null,"iv.","Omrekeningsfactor",null,null,null,null,null,null,null,null,null,null,null,null,null,null,null,null,null,true]
["HIDE_Example",null,null,"v.","Koolstofgehalte",null,null,null,null,null,null,null,null,null,null,null,null,null,null,null,null,null,true]
["HIDE_Example",null,null,"vi.","Biomassafractie (indien van toepassing)",null,null,null,null,null,null,null,null,null,null,null,null,null,null,null,null,null,true]
[]
[null,null,null,{"$f":"Translations!$B$545","v":"Opmerkingen en uitleg:"}]
[]
[null,null,null,"(h)",{"$f":"Translations!$B$1198","v":"Geef een toelichting en verklaring als de vereiste niveaus niet worden toegepast:"}]
[null,null,null,null,{"$f":"Translations!$B$1199","v":"Relevante opmerkingen kunt u hieronder kwijt. Er kan bijvoorbeeld uitleg nodig zijn over de schatting van biomassa-emissies, de proxy- of correlatiemethode, de toepassing van artikel 31, lid 4, artikel 37, lid 2, enz."}]
[null,null,null,null,{"$f":"Translations!$B$549","v":"Hier geeft u een verklaring als de krachtens artikel 26 vereiste niveaus niet worden toegepast voor activiteitsgegevens en de toepasselijke berekeningsfactoren."}]
[null,null,null,null,{"$f":"Translations!$B$550","v":"Verbeterplannen die krachtens artikel 26 vereist zijn dienen met dit monitoringplan te worden ingediend. U dient er hieronder naar te verwijzen. Wanneer u onredelijke kosten als reden opgeeft overeenkomstig artikel 18, moet u de betreffende berekening met dit monitoringplan indienen en dient u er in onderstaande motivering naar te verwijzen."}]
[]
[]
[]
[]
[]
[null,null,null,null,null,null,null,null,null,null,null,null,null,null,null,null,null,null,"Check source stream category","auto","manual"]
[null,null,{"$f":"\"F\"&Q188","v":"F2"},{"$f":"CONCATENATE(Euconst_SourceStream,\" \", Q188,\":\")","v":"Bronstroom 2:"},null,null,null,{"$f":"IF(INDEX(C_InstallationDescription!$G$191:$G$201,MATCH(C188,C_InstallationDescription!$E$191:$E$201,0))>0,INDEX(C_InstallationDescription!$G$191:$G$201,MATCH(C188,C_InstallationDescription!$E$191:$E$201,0)),\"\")","v":""},null,null,null,null,{"$f":"IF(S188=TRUE,IF(U188=\"\",T188,U188),\"\")","v":""},null,null,null,{"$f":"Q19+1","v":2},null,{"$f":"IF(INDEX(C_InstallationDescription!$M:$M,MATCH(Q190,C_InstallationDescription!$Q:$Q,0))=\"\",FALSE,TRUE)","v":false},{"$f":"IF(S188=TRUE,INDEX(C_InstallationDescription!$M:$M,MATCH(Q190,C_InstallationDescription!$Q:$Q,0)),\"\")","v":""},{"$f":"IF(S188=TRUE,IF(ISBLANK(INDEX(C_InstallationDescription!$N:$N,MATCH(Q190,C_InstallationDescription!$Q:$Q,0))),\"\",INDEX(C_InstallationDescription!$N:$N,MATCH(Q190,C_InstallationDescription!$Q:$Q,0))),\"\")","v":""}]
[]
[null,null,null,null,{"$f":"Translations!$B$437","v":"Type bronstroom:"},null,null,{"$f":"IF(INDEX(C_InstallationDescription!$I$191:$I$201,MATCH(C188,C_InstallationDescription!$E$191:$E$201,0))>0,INDEX(C_InstallationDescription!$I$191:$I$201,MATCH(C188,C_InstallationDescription!$E$191:$E$201,0)),\"\")","v":""},null,null,null,null,null,null,null,null,{"$f":"EUconst_CNTR_SourceCategory&C188","v":"SourceCategory_F2"}]
[null,null,null,null,{"$f":"Translations!$B$438","v":"Te gebruiken methode volgens de MRV:"},null,null,{"$f":"IF(H190=\"\",\"\",INDEX(EUwideConstants!$F$261:$F$320,MATCH(H190,EUConst_TierActivityListNames,0)))","v":""}]
[null,null,null,null,{"$f":"Translations!$B$439","v":"Parameter waarop de onzekerheid wordt toegepast:"},null,null,{"$f":"IF(H190=\"\",\"\",INDEX(EUwideConstants!$E$261:$E$320,MATCH(H190,EUConst_TierActivityListNames,0)))","v":""}]
[]
[null,null,null,null,{"$f":"IF(H188=\"\",\"\",INDEX(EUconst_SmallEmiSouStreamMsg,MATCH(Q194,EUconst_SmallEmiSouStream,0)))","v":""},null,null,null,null,null,null,null,null,null,null,null,{"$f":"IF(CNTR_SmallEmitter=TRUE,EUconst_CNTR_SmallEmitter,EUconst_CNTR_NoSmallEmitter) & IF((CNTR_Category)=\"\",\"C\",CNTR_Category) & \"_\" & IF(M188=\"\",1,MATCH(M188,SourceCategory,0))","v":"NoSmallEmitter_C_1"}]
[]
[null,null,null,{"$f":"Translations!$B$454","v":"Activiteitsgegevens:"}]
[]
[null,null,null,"(a)",{"$f":"Translations!$B$455","v":"Bepalingsmethode voor activiteitsgegevens:"}]
[]
[null,null,null,"i.",{"$f":"Translations!$B$456","v":"Bepalingsmethode:"},null,null,null,null,null,null,null,null,null,null,null,null,null,null,null,null,null,{"$f":"IF(M188=\"\",\"\",IF(M188=INDEX(SourceCategory,3),1,IF(CNTR_InstHasCalculation=FALSE,0,2)))","v":""}]
[]
[null,null,null,null,null,{"$f":"Translations!$B$459","v":"Verwijzing naar de procedure voor het bepalen van de voorraden aan het einde van het jaar:"},null,null,null,null,null,null,null,null,null,null,null,null,null,null,null,{"$f":"IF(OR(H188=\"\",ISBLANK(H200)),FALSE,IF(MATCH(H200,EUconst_ActivityDeterminationMethod,0)=2,TRUE,FALSE))","v":false},{"$f":"IF(V202=TRUE,0,W200)","v":""}]
[]
[null,null,null,"ii.",{"$f":"Translations!$B$462","v":"Het instrument wordt beheerd door:"},null,null,null,null,null,null,null,null,null,null,null,null,null,null,null,null,null,{"$f":"W200","v":""}]
[]
[null,null,null,null,"a.",{"$f":"Translations!$B$465","v":"Bevestig dat is voldaan aan de voorwaarden van artikel 29, lid 1:"},null,null,null,null,null,null,null,null,null,null,null,null,null,null,null,{"$f":"IF(OR(H188=\"\",ISBLANK(H204)),FALSE,IF(MATCH(H204,EUconst_OwnerInstrument,0)=1,TRUE,FALSE))","v":false},{"$f":"IF(V206=TRUE,0,W200)","v":""}]
[]
[null,null,null,null,"b.",{"$f":"Translations!$B$468","v":"Bepaalt u de hoeveelheid brandstof of materiaal aan de hand van facturen?"},null,null,null,null,null,null,null,null,null,null,null,null,null,null,null,{"$f":"IF(OR(H188=\"\",ISBLANK(H204)),FALSE,IF(MATCH(H204,EUconst_OwnerInstrument,0)=1,TRUE,FALSE))","v":false},{"$f":"IF(V208=TRUE,0,W200)","v":""}]
[]
[null,null,null,null,"c.",{"$f":"Translations!$B$469","v":"Bevestig dat de handelspartner en de exploitant onafhankelijk zijn:"},null,null,null,null,null,null,null,null,null,null,null,null,null,null,null,{"$f":"IF(OR(H188=\"\",ISBLANK(H204)),FALSE,IF(MATCH(H204,EUconst_OwnerInstrument,0)=1,TRUE,FALSE))","v":false},{"$f":"IF(V210=TRUE,0,W200)","v":""}]
[]
[null,null,null,"(b)",{"$f":"Translations!$B$472","v":"Toegepaste meetinstrumenten:"}]
[]
[null,null,null,null,{"$f":"Translations!$B$475","v":"Commentaar op / beschrijving van de methode, indien meerdere instrumenten zijn gebruikt:"}]
[]
[]
[]
[]
[null,null,null,"(c)",{"$f":"Translations!$B$477","v":"Vereist niveau voor de activiteitsgegevens:"},null,null,{"$f":"IF(H190=\"\",\"\",IF(CNTR_Category=\"A\",INDEX(EUwideConstants!$G:$G,MATCH(Q219,EUwideConstants!$Q:$Q,0)),INDEX(EUwideConstants!$N:$N,MATCH(Q219,EUwideConstants!$Q:$Q,0))))","v":""},{"$f":"IF(H219=\"\",\"\",IF(S219=0,EUconst_NA,IF(ISERROR(S219),\"\",EUconst_MsgTierActivityLevel & \" \" &S219)))","v":""},null,null,null,null,null,null,null,{"$f":"EUconst_CNTR_ActivityData&H190","v":"ActivityData_"},null,{"$f":"IF(H219=\"\",\"\",IF(H219=EUconst_NA,\"\",INDEX(EUwideConstants!$H:$M,MATCH(Q219,EUwideConstants!$Q:$Q,0),MATCH(H219,CNTR_TierList,0))))","v":""}]
[null,null,null,"(d)",{"$f":"Translations!$B$478","v":"Gebruikt niveau voor de activiteitsgegevens:"},null,null,null,{"$f":"IF(OR(ISBLANK(H220),H220=EUconst_NoTier),\"\",IF(S220=0,EUconst_NA,IF(ISERROR(S220),\"\",EUconst_MsgTierActivityLevel & \" \" &S220)))","v":""},null,null,null,null,null,null,null,{"$f":"EUconst_CNTR_ActivityData&H190","v":"ActivityData_"},null,{"$f":"IF(ISBLANK(H220),\"\",IF(H220=EUconst_NA,\"\",INDEX(EUwideConstants!$H:$M,MATCH(Q220,EUwideConstants!$Q:$Q,0),MATCH(H220,CNTR_TierList,0))))","v":""}]
[null,null,null,"(e)",{"$f":"Translations!$B$479","v":"Bereikte onzekerheid:"},null,null,null,{"$f":"Translations!$B$480","v":"Opmerking:"}]
[]
[null,null,null,{"$f":"Translations!$B$490","v":"Berekeningsfactoren:"}]
[]
[null,null,null,"(f)",{"$f":"Translations!$B$515","v":"Toegepaste niveaus voor berekeningsfactoren:"}]
[]
[null,null,null,null,{"$f":"Translations!$B$516","v":"berekeningsfactor"},null,null,{"$f":"Translations!$B$517","v":"vereist niveau"},{"$f":"Translations!$B$518","v":"toegepast niveau"},{"$f":"Translations!$B$519","v":"volledige tekst voor het toegepaste niveau"},null,null,null,null,null,null,null,null,"full text tier",null,null,null,"cond. form."]
[null,null,null,"i.",{"$f":"Translations!$B$520","v":"Calorische onderwaarde (NCV)"},null,null,{"$f":"IF(H190=\"\",\"\",IF(CNTR_Category=\"A\",INDEX(EUwideConstants!$G:$G,MATCH(Q228,EUwideConstants!$Q:$Q,0)),INDEX(EUwideConstants!$N:$N,MATCH(Q228,EUwideConstants!$Q:$Q,0))))","v":""},null,{"$f":"IF(OR(ISBLANK(I228),I228=EUconst_NoTier),\"\",IF(S228=0,EUconst_NotApplicable,IF(ISERROR(S228),\"\",S228)))","v":""},null,null,null,null,null,null,{"$f":"EUconst_CNTR_NCV&H190","v":"NCV_"},null,{"$f":"IF(ISBLANK(I228),\"\",IF(I228=EUconst_NA,\"\",INDEX(EUwideConstants!$H:$M,MATCH(Q228,EUwideConstants!$Q:$Q,0),MATCH(I228,CNTR_TierList,0))))","v":""},null,null,null,{"$f":"(H228=EUconst_NA)","v":false}]
[null,null,null,"ii.",{"$f":"Translations!$B$521","v":"Voorlopige emissiefactor"},null,null,{"$f":"IF(H190=\"\",\"\",IF(CNTR_Category=\"A\",INDEX(EUwideConstants!$G:$G,MATCH(Q229,EUwideConstants!$Q:$Q,0)),INDEX(EUwideConstants!$N:$N,MATCH(Q229,EUwideConstants!$Q:$Q,0))))","v":""},null,"",null,null,null,null,null,null,{"$f":"EUconst_CNTR_EF&H190","v":"EF_"},null,{"$f":"IF(ISBLANK(I229),\"\",IF(I229=EUconst_NA,\"\",INDEX(EUwideConstants!$H:$M,MATCH(Q229,EUwideConstants!$Q:$Q,0),MATCH(I229,CNTR_TierList,0))))","v":""},null,null,null,false]
[null,null,null,"iii.",{"$f":"Translations!$B$522","v":"Oxidatiefactor"},null,null,{"$f":"IF(H190=\"\",\"\",IF(CNTR_Category=\"A\",INDEX(EUwideConstants!$G:$G,MATCH(Q230,EUwideConstants!$Q:$Q,0)),INDEX(EUwideConstants!$N:$N,MATCH(Q230,EUwideConstants!$Q:$Q,0))))","v":""},null,"",null,null,null,null,null,null,{"$f":"EUconst_CNTR_OxidationFactor&H190","v":"OxF_"},null,{"$f":"IF(ISBLANK(I230),\"\",IF(I230=EUconst_NA,\"\",INDEX(EUwideConstants!$H:$M,MATCH(Q230,EUwideConstants!$Q:$Q,0),MATCH(I230,CNTR_TierList,0))))","v":""},null,null,null,false]
[null,null,null,"iv.",{"$f":"Translations!$B$523","v":"Omrekeningsfactor"},null,null,{"$f":"IF(H190=\"\",\"\",IF(CNTR_Category=\"A\",INDEX(EUwideConstants!$G:$G,MATCH(Q231,EUwideConstants!$Q:$Q,0)),INDEX(EUwideConstants!$N:$N,MATCH(Q231,EUwideConstants!$Q:$Q,0))))","v":""},null,"",null,null,null,null,null,null,{"$f":"EUconst_CNTR_ConversionFactor&H190","v":"ConvF_"},null,{"$f":"IF(ISBLANK(I231),\"\",IF(I231=EUconst_NA,\"\",INDEX(EUwideConstants!$H:$M,MATCH(Q231,EUwideConstants!$Q:$Q,0),MATCH(I231,CNTR_TierList,0))))","v":""},null,null,null,false]
[null,null,null,"v.",{"$f":"Translations!$B$524","v":"Koolstofgehalte"},null,null,{"$f":"IF(H190=\"\",\"\",IF(CNTR_Category=\"A\",INDEX(EUwideConstants!$G:$G,MATCH(Q232,EUwideConstants!$Q:$Q,0)),INDEX(EUwideConstants!$N:$N,MATCH(Q232,EUwideConstants!$Q:$Q,0))))","v":""},null,"",null,null,null,null,null,null,{"$f":"EUconst_CNTR_CarbonContent&H190","v":"CarbC_"},null,{"$f":"IF(ISBLANK(I232),\"\",IF(I232=EUconst_NA,\"\",INDEX(EUwideConstants!$H:$M,MATCH(Q232,EUwideConstants!$Q:$Q,0),MATCH(I232,CNTR_TierList,0))))","v":""},null,null,null,false]
[null,null,null,"vi.",{"$f":"Translations!$B$525","v":"Biomassafractie (indien van toepassing)"},null,null,{"$f":"IF(H190=\"\",\"\",IF(CNTR_Category=\"A\",INDEX(EUwideConstants!$G:$G,MATCH(Q233,EUwideConstants!$Q:$Q,0)),INDEX(EUwideConstants!$N:$N,MATCH(Q233,EUwideConstants!$Q:$Q,0))))","v":""},null,"",null,null,null,null,null,null,{"$f":"EUconst_CNTR_BiomassContent&H190","v":"BioC_"},null,{"$f":"IF(ISBLANK(I233),\"\",IF(I233=EUconst_NA,\"\",INDEX(EUwideConstants!$H:$M,MATCH(Q233,EUwideConstants!$Q:$Q,0),MATCH(I233,CNTR_TierList,0))))","v":""},null,null,null,false]
[]
[null,null,null,"(g)",{"$f":"Translations!$B$534","v":"Informatie over berekeningsfactoren:"}]
[]
[null,null,null,null,{"$f":"E227","v":"berekeningsfactor"},null,null,{"$f":"I227","v":"toegepast niveau"},{"$f":"Translations!$B$535","v":"standaardwaarde"},{"$f":"Translations!$B$536","v":"Eenheid"},{"$f":"Translations!$B$537","v":"bronreferentie"},{"$f":"Translations!$B$538","v":"analysereferentie"},{"$f":"Translations!$B$539","v":"steekproefreferentie"},{"$f":"Translations!$B$540","v":"Analysefrequentie"},null,null,null,null,"default value or lab",null,null,null,"cond. form."]
[null,null,null,"i.","Calorische onderwaarde (NCV)",null,null,{"$f":"IF(OR(ISBLANK(I228),I228=EUconst_NA),\"\",I228)","v":""},null,null,null,null,null,null,null,null,null,null,{"$f":"IF(H238=\"\",\"\",IF(I228=EUconst_NA,\"\",INDEX(EUwideConstants!$AJ:$AN,MATCH(Q228,EUwideConstants!$Q:$Q,0),MATCH(I228,CNTR_TierList,0))))","v":""},null,null,null,{"$f":"OR(H238=\"\",H238=EUconst_NA,J228=EUconst_NotApplicable)","v":true}]
[null,null,null,"ii.","Voorlopige emissiefactor",null,null,"",null,null,null,null,null,null,null,null,null,null,{"$f":"IF(H239=\"\",\"\",IF(I229=EUconst_NA,\"\",INDEX(EUwideConstants!$AJ:$AN,MATCH(Q229,EUwideConstants!$Q:$Q,0),MATCH(I229,CNTR_TierList,0))))","v":""},null,null,null,true]
[null,null,null,"iii.","Oxidatiefactor",null,null,"",null,null,null,null,null,null,null,null,null,null,{"$f":"IF(H240=\"\",\"\",IF(I230=EUconst_NA,\"\",INDEX(EUwideConstants!$AJ:$AN,MATCH(Q230,EUwideConstants!$Q:$Q,0),MATCH(I230,CNTR_TierList,0))))","v":""},null,null,null,true]
[null,null,null,"iv.","Omrekeningsfactor",null,null,"",null,null,null,null,null,null,null,null,null,null,{"$f":"IF(H241=\"\",\"\",IF(I231=EUconst_NA,\"\",INDEX(EUwideConstants!$AJ:$AN,MATCH(Q231,EUwideConstants!$Q:$Q,0),MATCH(I231,CNTR_TierList,0))))","v":""},null,null,null,true]
[null,null,null,"v.","Koolstofgehalte",null,null,"",null,null,null,null,null,null,null,null,null,null,{"$f":"IF(H242=\"\",\"\",IF(I232=EUconst_NA,\"\",INDEX(EUwideConstants!$AJ:$AN,MATCH(Q232,EUwideConstants!$Q:$Q,0),MATCH(I232,CNTR_TierList,0))))","v":""},null,null,null,true]
[null,null,null,"vi.","Biomassafractie (indien van toepassing)",null,null,"",null,null,null,null,null,null,null,null,null,null,{"$f":"IF(H243=\"\",\"\",IF(I233=EUconst_NA,\"\",INDEX(EUwideConstants!$AJ:$AN,MATCH(Q233,EUwideConstants!$Q:$Q,0),MATCH(I233,CNTR_TierList,0))))","v":""},null,null,null,true]
[]
[null,null,null,{"$f":"Translations!$B$545","v":"Opmerkingen en uitleg:"}]
[]
[null,null,null,"(h)",{"$f":"Translations!$B$1198","v":"Geef een toelichting en verklaring als de vereiste niveaus niet worden toegepast:"}]
[]
[]
[]
[]
[]
[null,null,null,null,null,null,null,null,null,null,null,null,null,null,null,null,null,null,"Check source stream category","auto","manual"]
[null,null,{"$f":"\"F\"&Q254","v":"F3"},{"$f":"CONCATENATE(Euconst_SourceStream,\" \", Q254,\":\")","v":"Bronstroom 3:"},null,null,null,{"$f":"IF(INDEX(C_InstallationDescription!$G$191:$G$201,MATCH(C254,C_InstallationDescription!$E$191:$E$201,0))>0,INDEX(C_InstallationDescription!$G$191:$G$201,MATCH(C254,C_InstallationDescription!$E$191:$E$201,0)),\"\")","v":""},null,null,null,null,{"$f":"IF(S254=TRUE,IF(U254=\"\",T254,U254),\"\")","v":""},null,null,null,{"$f":"Q188+1","v":3},null,{"$f":"IF(INDEX(C_InstallationDescription!$M:$M,MATCH(Q256,C_InstallationDescription!$Q:$Q,0))=\"\",FALSE,TRUE)","v":false},{"$f":"IF(S254=TRUE,INDEX(C_InstallationDescription!$M:$M,MATCH(Q256,C_InstallationDescription!$Q:$Q,0)),\"\")","v":""},{"$f":"IF(S254=TRUE,IF(ISBLANK(INDEX(C_InstallationDescription!$N:$N,MATCH(Q256,C_InstallationDescription!$Q:$Q,0))),\"\",INDEX(C_InstallationDescription!$N:$N,MATCH(Q256,C_InstallationDescription!$Q:$Q,0))),\"\")","v":""}]
[]
[null,null,null,null,{"$f":"Translations!$B$437","v":"Type bronstroom:"},null,null,{"$f":"IF(INDEX(C_InstallationDescription!$I$191:$I$201,MATCH(C254,C_InstallationDescription!$E$191:$E$201,0))>0,INDEX(C_InstallationDescription!$I$191:$I$201,MATCH(C254,C_InstallationDescription!$E$191:$E$201,0)),\"\")","v":""},null,null,null,null,null,null,null,null,{"$f":"EUconst_CNTR_SourceCategory&C254","v":"SourceCategory_F3"}]
[null,null,null,null,{"$f":"Translations!$B$438","v":"Te gebruiken methode volgens de MRV:"},null,null,{"$f":"IF(H256=\"\",\"\",INDEX(EUwideConstants!$F$261:$F$320,MATCH(H256,EUConst_TierActivityListNames,0)))","v":""}]
[null,null,null,null,{"$f":"Translations!$B$439","v":"Parameter waarop de onzekerheid wordt toegepast:"},null,null,{"$f":"IF(H256=\"\",\"\",INDEX(EUwideConstants!$E$261:$E$320,MATCH(H256,EUConst_TierActivityListNames,0)))","v":""}]
[]
[null,null,null,null,{"$f":"IF(H254=\"\",\"\",INDEX(EUconst_SmallEmiSouStreamMsg,MATCH(Q260,EUconst_SmallEmiSouStream,0)))","v":""},null,null,null,null,null,null,null,null,null,null,null,{"$f":"IF(CNTR_SmallEmitter=TRUE,EUconst_CNTR_SmallEmitter,EUconst_CNTR_NoSmallEmitter) & IF((CNTR_Category)=\"\",\"C\",CNTR_Category) & \"_\" & IF(M254=\"\",1,MATCH(M254,SourceCategory,0))","v":"NoSmallEmitter_C_1"}]
[]
[null,null,null,{"$f":"Translations!$B$454","v":"Activiteitsgegevens:"}]
[]
[null,null,null,"(a)",{"$f":"Translations!$B$455","v":"Bepalingsmethode voor activiteitsgegevens:"}]
[]
[null,null,null,"i.",{"$f":"Translations!$B$456","v":"Bepalingsmethode:"},null,null,null,null,null,null,null,null,null,null,null,null,null,null,null,null,null,{"$f":"IF(M254=\"\",\"\",IF(M254=INDEX(SourceCategory,3),1,IF(CNTR_InstHasCalculation=FALSE,0,2)))","v":""}]
[]
[null,null,null,null,null,{"$f":"Translations!$B$459","v":"Verwijzing naar de procedure voor het bepalen van de voorraden aan het einde van het jaar:"},null,null,null,null,null,null,null,null,null,null,null,null,null,null,null,{"$f":"IF(OR(H254=\"\",ISBLANK(H266)),FALSE,IF(MATCH(H266,EUconst_ActivityDeterminationMethod,0)=2,TRUE,FALSE))","v":false},{"$f":"IF(V268=TRUE,0,W266)","v":""}]
[]
[null,null,null,"ii.",{"$f":"Translations!$B$462","v":"Het instrument wordt beheerd door:"},null,null,null,null,null,null,null,null,null,null,null,null,null,null,null,null,null,{"$f":"W266","v":""}]
[]
[null,null,null,null,"a.",{"$f":"Translations!$B$465","v":"Bevestig dat is voldaan aan de voorwaarden van artikel 29, lid 1:"},null,null,null,null,null,null,null,null,null,null,null,null,null,null,null,{"$f":"IF(OR(H254=\"\",ISBLANK(H270)),FALSE,IF(MATCH(H270,EUconst_OwnerInstrument,0)=1,TRUE,FALSE))","v":false},{"$f":"IF(V272=TRUE,0,W266)","v":""}]
[]
[null,null,null,null,"b.",{"$f":"Translations!$B$468","v":"Bepaalt u de hoeveelheid brandstof of materiaal aan de hand van facturen?"},null,null,null,null,null,null,null,null,null,null,null,null,null,null,null,{"$f":"IF(OR(H254=\"\",ISBLANK(H270)),FALSE,IF(MATCH(H270,EUconst_OwnerInstrument,0)=1,TRUE,FALSE))","v":false},{"$f":"IF(V274=TRUE,0,W266)","v":""}]
[]
[null,null,null,null,"c.",{"$f":"Translations!$B$469","v":"Bevestig dat de handelspartner en de exploitant onafhankelijk zijn:"},null,null,null,null,null,null,null,null,null,null,null,null,null,null,null,{"$f":"IF(OR(H254=\"\",ISBLANK(H270)),FALSE,IF(MATCH(H270,EUconst_OwnerInstrument,0)=1,TRUE,FALSE))","v":false},{"$f":"IF(V276=TRUE,0,W266)","v":""}]
[]
[null,null,null,"(b)",{"$f":"Translations!$B$472","v":"Toegepaste meetinstrumenten:"}]
[]
[null,null,null,null,{"$f":"Translations!$B$475","v":"Commentaar op / beschrijving van de methode, indien meerdere instrumenten zijn gebruikt:"}]
[]
[]
[]
[]
[null,null,null,"(c)",{"$f":"Translations!$B$477","v":"Vereist niveau voor de activiteitsgegevens:"},null,null,{"$f":"IF(H256=\"\",\"\",IF(CNTR_Category=\"A\",INDEX(EUwideConstants!$G:$G,MATCH(Q285,EUwideConstants!$Q:$Q,0)),INDEX(EUwideConstants!$N:$N,MATCH(Q285,EUwideConstants!$Q:$Q,0))))","v":""},{"$f":"IF(H285=\"\",\"\",IF(S285=0,EUconst_NA,IF(ISERROR(S285),\"\",EUconst_MsgTierActivityLevel & \" \" &S285)))","v":""},null,null,null,null,null,null,null,{"$f":"EUconst_CNTR_ActivityData&H256","v":"ActivityData_"},null,{"$f":"IF(H285=\"\",\"\",IF(H285=EUconst_NA,\"\",INDEX(EUwideConstants!$H:$M,MATCH(Q285,EUwideConstants!$Q:$Q,0),MATCH(H285,CNTR_TierList,0))))","v":""}]
[null,null,null,"(d)",{"$f":"Translations!$B$478","v":"Gebruikt niveau voor de activiteitsgegevens:"},null,null,null,{"$f":"IF(OR(ISBLANK(H286),H286=EUconst_NoTier),\"\",IF(S286=0,EUconst_NA,IF(ISERROR(S286),\"\",EUconst_MsgTierActivityLevel & \" \" &S286)))","v":""},null,null,null,null,null,null,null,{"$f":"EUconst_CNTR_ActivityData&H256","v":"ActivityData_"},null,{"$f":"IF(ISBLANK(H286),\"\",IF(H286=EUconst_NA,\"\",INDEX(EUwideConstants!$H:$M,MATCH(Q286,EUwideConstants!$Q:$Q,0),MATCH(H286,CNTR_TierList,0))))","v":""}]
[null,null,null,"(e)",{"$f":"Translations!$B$479","v":"Bereikte onzekerheid:"},null,null,null,{"$f":"Translations!$B$480","v":"Opmerking:"}]
[]
[null,null,null,{"$f":"Translations!$B$490","v":"Berekeningsfactoren:"}]
[]
[null,null,null,"(f)",{"$f":"Translations!$B$515","v":"Toegepaste niveaus voor berekeningsfactoren:"}]
[]
[null,null,null,null,{"$f":"Translations!$B$516","v":"berekeningsfactor"},null,null,{"$f":"Translations!$B$517","v":"vereist niveau"},{"$f":"Translations!$B$518","v":"toegepast niveau"},{"$f":"Translations!$B$519","v":"volledige tekst voor het toegepaste niveau"},null,null,null,null,null,null,null,null,"full text tier",null,null,null,"cond. form."]
[null,null,null,"i.",{"$f":"Translations!$B$520","v":"Calorische onderwaarde (NCV)"},null,null,{"$f":"IF(H256=\"\",\"\",IF(CNTR_Category=\"A\",INDEX(EUwideConstants!$G:$G,MATCH(Q294,EUwideConstants!$Q:$Q,0)),INDEX(EUwideConstants!$N:$N,MATCH(Q294,EUwideConstants!$Q:$Q,0))))","v":""},null,{"$f":"IF(OR(ISBLANK(I294),I294=EUconst_NoTier),\"\",IF(S294=0,EUconst_NotApplicable,IF(ISERROR(S294),\"\",S294)))","v":""},null,null,null,null,null,null,{"$f":"EUconst_CNTR_NCV&H256","v":"NCV_"},null,{"$f":"IF(ISBLANK(I294),\"\",IF(I294=EUconst_NA,\"\",INDEX(EUwideConstants!$H:$M,MATCH(Q294,EUwideConstants!$Q:$Q,0),MATCH(I294,CNTR_TierList,0))))","v":""},null,null,null,{"$f":"(H294=EUconst_NA)","v":false}]
[null,null,null,"ii.",{"$f":"Translations!$B$521","v":"Voorlopige emissiefactor"},null,null,{"$f":"IF(H256=\"\",\"\",IF(CNTR_Category=\"A\",INDEX(EUwideConstants!$G:$G,MATCH(Q295,EUwideConstants!$Q:$Q,0)),INDEX(EUwideConstants!$N:$N,MATCH(Q295,EUwideConstants!$Q:$Q,0))))","v":""},null,"",null,null,null,null,null,null,{"$f":"EUconst_CNTR_EF&H256","v":"EF_"},null,{"$f":"IF(ISBLANK(I295),\"\",IF(I295=EUconst_NA,\"\",INDEX(EUwideConstants!$H:$M,MATCH(Q295,EUwideConstants!$Q:$Q,0),MATCH(I295,CNTR_TierList,0))))","v":""},null,null,null,false]
[null,null,null,"iii.",{"$f":"Translations!$B$522","v":"Oxidatiefactor"},null,null,{"$f":"IF(H256=\"\",\"\",IF(CNTR_Category=\"A\",INDEX(EUwideConstants!$G:$G,MATCH(Q296,EUwideConstants!$Q:$Q,0)),INDEX(EUwideConstants!$N:$N,MATCH(Q296,EUwideConstants!$Q:$Q,0))))","v":""},null,"",null,null,null,null,null,null,{"$f":"EUconst_CNTR_OxidationFactor&H256","v":"OxF_"},null,{"$f":"IF(ISBLANK(I296),\"\",IF(I296=EUconst_NA,\"\",INDEX(EUwideConstants!$H:$M,MATCH(Q296,EUwideConstants!$Q:$Q,0),MATCH(I296,CNTR_TierList,0))))","v":""},null,null,null,false]
[null,null,null,"iv.",{"$f":"Translations!$B$523","v":"Omrekeningsfactor"},null,null,{"$f":"IF(H256=\"\",\"\",IF(CNTR_Category=\"A\",INDEX(EUwideConstants!$G:$G,MATCH(Q297,EUwideConstants!$Q:$Q,0)),INDEX(EUwideConstants!$N:$N,MATCH(Q297,EUwideConstants!$Q:$Q,0))))","v":""},null,"",null,null,null,null,null,null,{"$f":"EUconst_CNTR_ConversionFactor&H256","v":"ConvF_"},null,{"$f":"IF(ISBLANK(I297),\"\",IF(I297=EUconst_NA,\"\",INDEX(EUwideConstants!$H:$M,MATCH(Q297,EUwideConstants!$Q:$Q,0),MATCH(I297,CNTR_TierList,0))))","v":""},null,null,null,false]
[null,null,null,"v.",{"$f":"Translations!$B$524","v":"Koolstofgehalte"},null,null,{"$f":"IF(H256=\"\",\"\",IF(CNTR_Category=\"A\",INDEX(EUwideConstants!$G:$G,MATCH(Q298,EUwideConstants!$Q:$Q,0)),INDEX(EUwideConstants!$N:$N,MATCH(Q298,EUwideConstants!$Q:$Q,0))))","v":""},null,"",null,null,null,null,null,null,{"$f":"EUconst_CNTR_CarbonContent&H256","v":"CarbC_"},null,{"$f":"IF(ISBLANK(I298),\"\",IF(I298=EUconst_NA,\"\",INDEX(EUwideConstants!$H:$M,MATCH(Q298,EUwideConstants!$Q:$Q,0),MATCH(I298,CNTR_TierList,0))))","v":""},null,null,null,false]
[null,null,null,"vi.",{"$f":"Translations!$B$525","v":"Biomassafractie (indien van toepassing)"},null,null,{"$f":"IF(H256=\"\",\"\",IF(CNTR_Category=\"A\",INDEX(EUwideConstants!$G:$G,MATCH(Q299,EUwideConstants!$Q:$Q,0)),INDEX(EUwideConstants!$N:$N,MATCH(Q299,EUwideConstants!$Q:$Q,0))))","v":""},null,"",null,null,null,null,null,null,{"$f":"EUconst_CNTR_BiomassContent&H256","v":"BioC_"},null,{"$f":"IF(ISBLANK(I299),\"\",IF(I299=EUconst_NA,\"\",INDEX(EUwideConstants!$H:$M,MATCH(Q299,EUwideConstants!$Q:$Q,0),MATCH(I299,CNTR_TierList,0))))","v":""},null,null,null,false]
[]
[null,null,null,"(g)",{"$f":"Translations!$B$534","v":"Informatie over berekeningsfactoren:"}]
[]
[null,null,null,null,{"$f":"E293","v":"berekeningsfactor"},null,null,{"$f":"I293","v":"toegepast niveau"},{"$f":"Translations!$B$535","v":"standaardwaarde"},{"$f":"Translations!$B$536","v":"Eenheid"},{"$f":"Translations!$B$537","v":"bronreferentie"},{"$f":"Translations!$B$538","v":"analysereferentie"},{"$f":"Translations!$B$539","v":"steekproefreferentie"},{"$f":"Translations!$B$540","v":"Analysefrequentie"},null,null,null,null,"default value or lab",null,null,null,"cond. form."]
[null,null,null,"i.","Calorische onderwaarde (NCV)",null,null,{"$f":"IF(OR(ISBLANK(I294),I294=EUconst_NA),\"\",I294)","v":""},null,null,null,null,null,null,null,null,null,null,{"$f":"IF(H304=\"\",\"\",IF(I294=EUconst_NA,\"\",INDEX(EUwideConstants!$AJ:$AN,MATCH(Q294,EUwideConstants!$Q:$Q,0),MATCH(I294,CNTR_TierList,0))))","v":""},null,null,null,{"$f":"OR(H304=\"\",H304=EUconst_NA,J294=EUconst_NotApplicable)","v":true}]
[null,null,null,"ii.","Voorlopige emissiefactor",null,null,"",null,null,null,null,null,null,null,null,null,null,{"$f":"IF(H305=\"\",\"\",IF(I295=EUconst_NA,\"\",INDEX(EUwideConstants!$AJ:$AN,MATCH(Q295,EUwideConstants!$Q:$Q,0),MATCH(I295,CNTR_TierList,0))))","v":""},null,null,null,true]
[null,null,null,"iii.","Oxidatiefactor",null,null,"",null,null,null,null,null,null,null,null,null,null,{"$f":"IF(H306=\"\",\"\",IF(I296=EUconst_NA,\"\",INDEX(EUwideConstants!$AJ:$AN,MATCH(Q296,EUwideConstants!$Q:$Q,0),MATCH(I296,CNTR_TierList,0))))","v":""},null,null,null,true]
[null,null,null,"iv.","Omrekeningsfactor",null,null,"",null,null,null,null,null,null,null,null,null,null,{"$f":"IF(H307=\"\",\"\",IF(I297=EUconst_NA,\"\",INDEX(EUwideConstants!$AJ:$AN,MATCH(Q297,EUwideConstants!$Q:$Q,0),MATCH(I297,CNTR_TierList,0))))","v":""},null,null,null,true]
[null,null,null,"v.","Koolstofgehalte",null,null,"",null,null,null,null,null,null,null,null,null,null,{"$f":"IF(H308=\"\",\"\",IF(I298=EUconst_NA,\"\",INDEX(EUwideConstants!$AJ:$AN,MATCH(Q298,EUwideConstants!$Q:$Q,0),MATCH(I298,CNTR_TierList,0))))","v":""},null,null,null,true]
[null,null,null,"vi.","Biomassafractie (indien van toepassing)",null,null,"",null,null,null,null,null,null,null,null,null,null,{"$f":"IF(H309=\"\",\"\",IF(I299=EUconst_NA,\"\",INDEX(EUwideConstants!$AJ:$AN,MATCH(Q299,EUwideConstants!$Q:$Q,0),MATCH(I299,CNTR_TierList,0))))","v":""},null,null,null,true]
[]
[null,null,null,{"$f":"Translations!$B$545","v":"Opmerkingen en uitleg:"}]
[]
[null,null,null,"(h)",{"$f":"Translations!$B$1198","v":"Geef een toelichting en verklaring als de vereiste niveaus niet worden toegepast:"}]
[]
[]
[]
[]
[]
[null,null,null,null,null,null,null,null,null,null,null,null,null,null,null,null,null,null,"Check source stream category","auto","manual"]
[null,null,{"$f":"\"F\"&Q320","v":"F4"},{"$f":"CONCATENATE(Euconst_SourceStream,\" \", Q320,\":\")","v":"Bronstroom 4:"},null,null,null,{"$f":"IF(INDEX(C_InstallationDescription!$G$191:$G$201,MATCH(C320,C_InstallationDescription!$E$191:$E$201,0))>0,INDEX(C_InstallationDescription!$G$191:$G$201,MATCH(C320,C_InstallationDescription!$E$191:$E$201,0)),\"\")","v":""},null,null,null,null,{"$f":"IF(S320=TRUE,IF(U320=\"\",T320,U320),\"\")","v":""},null,null,null,{"$f":"Q254+1","v":4},null,{"$f":"IF(INDEX(C_InstallationDescription!$M:$M,MATCH(Q322,C_InstallationDescription!$Q:$Q,0))=\"\",FALSE,TRUE)","v":false},{"$f":"IF(S320=TRUE,INDEX(C_InstallationDescription!$M:$M,MATCH(Q322,C_InstallationDescription!$Q:$Q,0)),\"\")","v":""},{"$f":"IF(S320=TRUE,IF(ISBLANK(INDEX(C_InstallationDescription!$N:$N,MATCH(Q322,C_InstallationDescription!$Q:$Q,0))),\"\",INDEX(C_InstallationDescription!$N:$N,MATCH(Q322,C_InstallationDescription!$Q:$Q,0))),\"\")","v":""}]
[]
[null,null,null,null,{"$f":"Translations!$B$437","v":"Type bronstroom:"},null,null,{"$f":"IF(INDEX(C_InstallationDescription!$I$191:$I$201,MATCH(C320,C_InstallationDescription!$E$191:$E$201,0))>0,INDEX(C_InstallationDescription!$I$191:$I$201,MATCH(C320,C_InstallationDescription!$E$191:$E$201,0)),\"\")","v":""},null,null,null,null,null,null,null,null,{"$f":"EUconst_CNTR_SourceCategory&C320","v":"SourceCategory_F4"}]
[null,null,null,null,{"$f":"Translations!$B$438","v":"Te gebruiken methode volgens de MRV:"},null,null,{"$f":"IF(H322=\"\",\"\",INDEX(EUwideConstants!$F$261:$F$320,MATCH(H322,EUConst_TierActivityListNames,0)))","v":""}]
[null,null,null,null,{"$f":"Translations!$B$439","v":"Parameter waarop de onzekerheid wordt toegepast:"},null,null,{"$f":"IF(H322=\"\",\"\",INDEX(EUwideConstants!$E$261:$E$320,MATCH(H322,EUConst_TierActivityListNames,0)))","v":""}]
[]
[null,null,null,null,{"$f":"IF(H320=\"\",\"\",INDEX(EUconst_SmallEmiSouStreamMsg,MATCH(Q326,EUconst_SmallEmiSouStream,0)))","v":""},null,null,null,null,null,null,null,null,null,null,null,{"$f":"IF(CNTR_SmallEmitter=TRUE,EUconst_CNTR_SmallEmitter,EUconst_CNTR_NoSmallEmitter) & IF((CNTR_Category)=\"\",\"C\",CNTR_Category) & \"_\" & IF(M320=\"\",1,MATCH(M320,SourceCategory,0))","v":"NoSmallEmitter_C_1"}]
[]
[null,null,null,{"$f":"Translations!$B$454","v":"Activiteitsgegevens:"}]
[]
[null,null,null,"(a)",{"$f":"Translations!$B$455","v":"Bepalingsmethode voor activiteitsgegevens:"}]
[]
[null,null,null,"i.",{"$f":"Translations!$B$456","v":"Bepalingsmethode:"},null,null,null,null,null,null,null,null,null,null,null,null,null,null,null,null,null,{"$f":"IF(M320=\"\",\"\",IF(M320=INDEX(SourceCategory,3),1,IF(CNTR_InstHasCalculation=FALSE,0,2)))","v":""}]
[]
[null,null,null,null,null,{"$f":"Translations!$B$459","v":"Verwijzing naar de procedure voor het bepalen van de voorraden aan het einde van het jaar:"},null,null,null,null,null,null,null,null,null,null,null,null,null,null,null,{"$f":"IF(OR(H320=\"\",ISBLANK(H332)),FALSE,IF(MATCH(H332,EUconst_ActivityDeterminationMethod,0)=2,TRUE,FALSE))","v":false},{"$f":"IF(V334=TRUE,0,W332)","v":""}]
[]
[null,null,null,"ii.",{"$f":"Translations!$B$462","v":"Het instrument wordt beheerd door:"},null,null,null,null,null,null,null,null,null,null,null,null,null,null,null,null,null,{"$f":"W332","v":""}]
[]
[null,null,null,null,"a.",{"$f":"Translations!$B$465","v":"Bevestig dat is voldaan aan de voorwaarden van artikel 29, lid 1:"},null,null,null,null,null,null,null,null,null,null,null,null,null,null,null,{"$f":"IF(OR(H320=\"\",ISBLANK(H336)),FALSE,IF(MATCH(H336,EUconst_OwnerInstrument,0)=1,TRUE,FALSE))","v":false},{"$f":"IF(V338=TRUE,0,W332)","v":""}]
[]
[null,null,null,null,"b.",{"$f":"Translations!$B$468","v":"Bepaalt u de hoeveelheid brandstof of materiaal aan de hand van facturen?"},null,null,null,null,null,null,null,null,null,null,null,null,null,null,null,{"$f":"IF(OR(H320=\"\",ISBLANK(H336)),FALSE,IF(MATCH(H336,EUconst_OwnerInstrument,0)=1,TRUE,FALSE))","v":false},{"$f":"IF(V340=TRUE,0,W332)","v":""}]
[]
[null,null,null,null,"c.",{"$f":"Translations!$B$469","v":"Bevestig dat de handelspartner en de exploitant onafhankelijk zijn:"},null,null,null,null,null,null,null,null,null,null,null,null,null,null,null,{"$f":"IF(OR(H320=\"\",ISBLANK(H336)),FALSE,IF(MATCH(H336,EUconst_OwnerInstrument,0)=1,TRUE,FALSE))","v":false},{"$f":"IF(V342=TRUE,0,W332)","v":""}]
[]
[null,null,null,"(b)",{"$f":"Translations!$B$472","v":"Toegepaste meetinstrumenten:"}]
[]
[null,null,null,null,{"$f":"Translations!$B$475","v":"Commentaar op / beschrijving van de methode, indien meerdere instrumenten zijn gebruikt:"}]
[]
[]
[]
[]
[null,null,null,"(c)",{"$f":"Translations!$B$477","v":"Vereist niveau voor de activiteitsgegevens:"},null,null,{"$f":"IF(H322=\"\",\"\",IF(CNTR_Category=\"A\",INDEX(EUwideConstants!$G:$G,MATCH(Q351,EUwideConstants!$Q:$Q,0)),INDEX(EUwideConstants!$N:$N,MATCH(Q351,EUwideConstants!$Q:$Q,0))))","v":""},{"$f":"IF(H351=\"\",\"\",IF(S351=0,EUconst_NA,IF(ISERROR(S351),\"\",EUconst_MsgTierActivityLevel & \" \" &S351)))","v":""},null,null,null,null,null,null,null,{"$f":"EUconst_CNTR_ActivityData&H322","v":"ActivityData_"},null,{"$f":"IF(H351=\"\",\"\",IF(H351=EUconst_NA,\"\",INDEX(EUwideConstants!$H:$M,MATCH(Q351,EUwideConstants!$Q:$Q,0),MATCH(H351,CNTR_TierList,0))))","v":""}]
[null,null,null,"(d)",{"$f":"Translations!$B$478","v":"Gebruikt niveau voor de activiteitsgegevens:"},null,null,null,{"$f":"IF(OR(ISBLANK(H352),H352=EUconst_NoTier),\"\",IF(S352=0,EUconst_NA,IF(ISERROR(S352),\"\",EUconst_MsgTierActivityLevel & \" \" &S352)))","v":""},null,null,null,null,null,null,null,{"$f":"EUconst_CNTR_ActivityData&H322","v":"ActivityData_"},null,{"$f":"IF(ISBLANK(H352),\"\",IF(H352=EUconst_NA,\"\",INDEX(EUwideConstants!$H:$M,MATCH(Q352,EUwideConstants!$Q:$Q,0),MATCH(H352,CNTR_TierList,0))))","v":""}]
[null,null,null,"(e)",{"$f":"Translations!$B$479","v":"Bereikte onzekerheid:"},null,null,null,{"$f":"Translations!$B$480","v":"Opmerking:"}]
[]
[null,null,null,{"$f":"Translations!$B$490","v":"Berekeningsfactoren:"}]
[]
[null,null,null,"(f)",{"$f":"Translations!$B$515","v":"Toegepaste niveaus voor berekeningsfactoren:"}]
[]
[null,null,null,null,{"$f":"Translations!$B$516","v":"berekeningsfactor"},null,null,{"$f":"Translations!$B$517","v":"vereist niveau"},{"$f":"Translations!$B$518","v":"toegepast niveau"},{"$f":"Translations!$B$519","v":"volledige tekst voor het toegepaste niveau"},null,null,null,null,null,null,null,null,"full text tier",null,null,null,"cond. form."]
[null,null,null,"i.",{"$f":"Translations!$B$520","v":"Calorische onderwaarde (NCV)"},null,null,{"$f":"IF(H322=\"\",\"\",IF(CNTR_Category=\"A\",INDEX(EUwideConstants!$G:$G,MATCH(Q360,EUwideConstants!$Q:$Q,0)),INDEX(EUwideConstants!$N:$N,MATCH(Q360,EUwideConstants!$Q:$Q,0))))","v":""},null,{"$f":"IF(OR(ISBLANK(I360),I360=EUconst_NoTier),\"\",IF(S360=0,EUconst_NotApplicable,IF(ISERROR(S360),\"\",S360)))","v":""},null,null,null,null,null,null,{"$f":"EUconst_CNTR_NCV&H322","v":"NCV_"},null,{"$f":"IF(ISBLANK(I360),\"\",IF(I360=EUconst_NA,\"\",INDEX(EUwideConstants!$H:$M,MATCH(Q360,EUwideConstants!$Q:$Q,0),MATCH(I360,CNTR_TierList,0))))","v":""},null,null,null,{"$f":"(H360=EUconst_NA)","v":false}]
[null,null,null,"ii.",{"$f":"Translations!$B$521","v":"Voorlopige emissiefactor"},null,null,{"$f":"IF(H322=\"\",\"\",IF(CNTR_Category=\"A\",INDEX(EUwideConstants!$G:$G,MATCH(Q361,EUwideConstants!$Q:$Q,0)),INDEX(EUwideConstants!$N:$N,MATCH(Q361,EUwideConstants!$Q:$Q,0))))","v":""},null,"",null,null,null,null,null,null,{"$f":"EUconst_CNTR_EF&H322","v":"EF_"},null,{"$f":"IF(ISBLANK(I361),\"\",IF(I361=EUconst_NA,\"\",INDEX(EUwideConstants!$H:$M,MATCH(Q361,EUwideConstants!$Q:$Q,0),MATCH(I361,CNTR_TierList,0))))","v":""},null,null,null,false]
[null,null,null,"iii.",{"$f":"Translations!$B$522","v":"Oxidatiefactor"},null,null,{"$f":"IF(H322=\"\",\"\",IF(CNTR_Category=\"A\",INDEX(EUwideConstants!$G:$G,MATCH(Q362,EUwideConstants!$Q:$Q,0)),INDEX(EUwideConstants!$N:$N,MATCH(Q362,EUwideConstants!$Q:$Q,0))))","v":""},null,"",null,null,null,null,null,null,{"$f":"EUconst_CNTR_OxidationFactor&H322","v":"OxF_"},null,{"$f":"IF(ISBLANK(I362),\"\",IF(I362=EUconst_NA,\"\",INDEX(EUwideConstants!$H:$M,MATCH(Q362,EUwideConstants!$Q:$Q,0),MATCH(I362,CNTR_TierList,0))))","v":""},null,null,null,false]
[null,null,null,"iv.",{"$f":"Translations!$B$523","v":"Omrekeningsfactor"},null,null,{"$f":"IF(H322=\"\",\"\",IF(CNTR_Category=\"A\",INDEX(EUwideConstants!$G:$G,MATCH(Q363,EUwideConstants!$Q:$Q,0)),INDEX(EUwideConstants!$N:$N,MATCH(Q363,EUwideConstants!$Q:$Q,0))))","v":""},null,"",null,null,null,null,null,null,{"$f":"EUconst_CNTR_ConversionFactor&H322","v":"ConvF_"},null,{"$f":"IF(ISBLANK(I363),\"\",IF(I363=EUconst_NA,\"\",INDEX(EUwideConstants!$H:$M,MATCH(Q363,EUwideConstants!$Q:$Q,0),MATCH(I363,CNTR_TierList,0))))","v":""},null,null,null,false]
[null,null,null,"v.",{"$f":"Translations!$B$524","v":"Koolstofgehalte"},null,null,{"$f":"IF(H322=\"\",\"\",IF(CNTR_Category=\"A\",INDEX(EUwideConstants!$G:$G,MATCH(Q364,EUwideConstants!$Q:$Q,0)),INDEX(EUwideConstants!$N:$N,MATCH(Q364,EUwideConstants!$Q:$Q,0))))","v":""},null,"",null,null,null,null,null,null,{"$f":"EUconst_CNTR_CarbonContent&H322","v":"CarbC_"},null,{"$f":"IF(ISBLANK(I364),\"\",IF(I364=EUconst_NA,\"\",INDEX(EUwideConstants!$H:$M,MATCH(Q364,EUwideConstants!$Q:$Q,0),MATCH(I364,CNTR_TierList,0))))","v":""},null,null,null,false]
[null,null,null,"vi.",{"$f":"Translations!$B$525","v":"Biomassafractie (indien van toepassing)"},null,null,{"$f":"IF(H322=\"\",\"\",IF(CNTR_Category=\"A\",INDEX(EUwideConstants!$G:$G,MATCH(Q365,EUwideConstants!$Q:$Q,0)),INDEX(EUwideConstants!$N:$N,MATCH(Q365,EUwideConstants!$Q:$Q,0))))","v":""},null,"",null,null,null,null,null,null,{"$f":"EUconst_CNTR_BiomassContent&H322","v":"BioC_"},null,{"$f":"IF(ISBLANK(I365),\"\",IF(I365=EUconst_NA,\"\",INDEX(EUwideConstants!$H:$M,MATCH(Q365,EUwideConstants!$Q:$Q,0),MATCH(I365,CNTR_TierList,0))))","v":""},null,null,null,false]
[]
[null,null,null,"(g)",{"$f":"Translations!$B$534","v":"Informatie over berekeningsfactoren:"}]
[]
[null,null,null,null,{"$f":"E359","v":"berekeningsfactor"},null,null,{"$f":"I359","v":"toegepast niveau"},{"$f":"Translations!$B$535","v":"standaardwaarde"},{"$f":"Translations!$B$536","v":"Eenheid"},{"$f":"Translations!$B$537","v":"bronreferentie"},{"$f":"Translations!$B$538","v":"analysereferentie"},{"$f":"Translations!$B$539","v":"steekproefreferentie"},{"$f":"Translations!$B$540","v":"Analysefrequentie"},null,null,null,null,"default value or lab",null,null,null,"cond. form."]
[null,null,null,"i.","Calorische onderwaarde (NCV)",null,null,{"$f":"IF(OR(ISBLANK(I360),I360=EUconst_NA),\"\",I360)","v":""},null,null,null,null,null,null,null,null,null,null,{"$f":"IF(H370=\"\",\"\",IF(I360=EUconst_NA,\"\",INDEX(EUwideConstants!$AJ:$AN,MATCH(Q360,EUwideConstants!$Q:$Q,0),MATCH(I360,CNTR_TierList,0))))","v":""},null,null,null,{"$f":"OR(H370=\"\",H370=EUconst_NA,J360=EUconst_NotApplicable)","v":true}]
[null,null,null,"ii.","Voorlopige emissiefactor",null,null,"",null,null,null,null,null,null,null,null,null,null,{"$f":"IF(H371=\"\",\"\",IF(I361=EUconst_NA,\"\",INDEX(EUwideConstants!$AJ:$AN,MATCH(Q361,EUwideConstants!$Q:$Q,0),MATCH(I361,CNTR_TierList,0))))","v":""},null,null,null,true]
[null,null,null,"iii.","Oxidatiefactor",null,null,"",null,null,null,null,null,null,null,null,null,null,{"$f":"IF(H372=\"\",\"\",IF(I362=EUconst_NA,\"\",INDEX(EUwideConstants!$AJ:$AN,MATCH(Q362,EUwideConstants!$Q:$Q,0),MATCH(I362,CNTR_TierList,0))))","v":""},null,null,null,true]
[null,null,null,"iv.","Omrekeningsfactor",null,null,"",null,null,null,null,null,null,null,null,null,null,{"$f":"IF(H373=\"\",\"\",IF(I363=EUconst_NA,\"\",INDEX(EUwideConstants!$AJ:$AN,MATCH(Q363,EUwideConstants!$Q:$Q,0),MATCH(I363,CNTR_TierList,0))))","v":""},null,null,null,true]
[null,null,null,"v.","Koolstofgehalte",null,null,"",null,null,null,null,null,null,null,null,null,null,{"$f":"IF(H374=\"\",\"\",IF(I364=EUconst_NA,\"\",INDEX(EUwideConstants!$AJ:$AN,MATCH(Q364,EUwideConstants!$Q:$Q,0),MATCH(I364,CNTR_TierList,0))))","v":""},null,null,null,true]
[null,null,null,"vi.","Biomassafractie (indien van toepassing)",null,null,"",null,null,null,null,null,null,null,null,null,null,{"$f":"IF(H375=\"\",\"\",IF(I365=EUconst_NA,\"\",INDEX(EUwideConstants!$AJ:$AN,MATCH(Q365,EUwideConstants!$Q:$Q,0),MATCH(I365,CNTR_TierList,0))))","v":""},null,null,null,true]
[]
[null,null,null,{"$f":"Translations!$B$545","v":"Opmerkingen en uitleg:"}]
[]
[null,null,null,"(h)",{"$f":"Translations!$B$1198","v":"Geef een toelichting en verklaring als de vereiste niveaus niet worden toegepast:"}]
[]
[]
[]
[]
[]
[null,null,null,null,null,null,null,null,null,null,null,null,null,null,null,null,null,null,"Check source stream category","auto","manual"]
[null,null,{"$f":"\"F\"&Q386","v":"F5"},{"$f":"CONCATENATE(Euconst_SourceStream,\" \", Q386,\":\")","v":"Bronstroom 5:"},null,null,null,{"$f":"IF(INDEX(C_InstallationDescription!$G$191:$G$201,MATCH(C386,C_InstallationDescription!$E$191:$E$201,0))>0,INDEX(C_InstallationDescription!$G$191:$G$201,MATCH(C386,C_InstallationDescription!$E$191:$E$201,0)),\"\")","v":""},null,null,null,null,{"$f":"IF(S386=TRUE,IF(U386=\"\",T386,U386),\"\")","v":""},null,null,null,{"$f":"Q320+1","v":5},null,{"$f":"IF(INDEX(C_InstallationDescription!$M:$M,MATCH(Q388,C_InstallationDescription!$Q:$Q,0))=\"\",FALSE,TRUE)","v":false},{"$f":"IF(S386=TRUE,INDEX(C_InstallationDescription!$M:$M,MATCH(Q388,C_InstallationDescription!$Q:$Q,0)),\"\")","v":""},{"$f":"IF(S386=TRUE,IF(ISBLANK(INDEX(C_InstallationDescription!$N:$N,MATCH(Q388,C_InstallationDescription!$Q:$Q,0))),\"\",INDEX(C_InstallationDescription!$N:$N,MATCH(Q388,C_InstallationDescription!$Q:$Q,0))),\"\")","v":""}]
[]
[null,null,null,null,{"$f":"Translations!$B$437","v":"Type bronstroom:"},null,null,{"$f":"IF(INDEX(C_InstallationDescription!$I$191:$I$201,MATCH(C386,C_InstallationDescription!$E$191:$E$201,0))>0,INDEX(C_InstallationDescription!$I$191:$I$201,MATCH(C386,C_InstallationDescription!$E$191:$E$201,0)),\"\")","v":""},null,null,null,null,null,null,null,null,{"$f":"EUconst_CNTR_SourceCategory&C386","v":"SourceCategory_F5"}]
[null,null,null,null,{"$f":"Translations!$B$438","v":"Te gebruiken methode volgens de MRV:"},null,null,{"$f":"IF(H388=\"\",\"\",INDEX(EUwideConstants!$F$261:$F$320,MATCH(H388,EUConst_TierActivityListNames,0)))","v":""}]
[null,null,null,null,{"$f":"Translations!$B$439","v":"Parameter waarop de onzekerheid wordt toegepast:"},null,null,{"$f":"IF(H388=\"\",\"\",INDEX(EUwideConstants!$E$261:$E$320,MATCH(H388,EUConst_TierActivityListNames,0)))","v":""}]
[]
[null,null,null,null,{"$f":"IF(H386=\"\",\"\",INDEX(EUconst_SmallEmiSouStreamMsg,MATCH(Q392,EUconst_SmallEmiSouStream,0)))","v":""},null,null,null,null,null,null,null,null,null,null,null,{"$f":"IF(CNTR_SmallEmitter=TRUE,EUconst_CNTR_SmallEmitter,EUconst_CNTR_NoSmallEmitter) & IF((CNTR_Category)=\"\",\"C\",CNTR_Category) & \"_\" & IF(M386=\"\",1,MATCH(M386,SourceCategory,0))","v":"NoSmallEmitter_C_1"}]
[]
[null,null,null,{"$f":"Translations!$B$454","v":"Activiteitsgegevens:"}]
[]
[null,null,null,"(a)",{"$f":"Translations!$B$455","v":"Bepalingsmethode voor activiteitsgegevens:"}]
[]
[null,null,null,"i.",{"$f":"Translations!$B$456","v":"Bepalingsmethode:"},null,null,null,null,null,null,null,null,null,null,null,null,null,null,null,null,null,{"$f":"IF(M386=\"\",\"\",IF(M386=INDEX(SourceCategory,3),1,IF(CNTR_InstHasCalculation=FALSE,0,2)))","v":""}]
[]
[null,null,null,null,null,{"$f":"Translations!$B$459","v":"Verwijzing naar de procedure voor het bepalen van de voorraden aan het einde van het jaar:"},null,null,null,null,null,null,null,null,null,null,null,null,null,null,null,{"$f":"IF(OR(H386=\"\",ISBLANK(H398)),FALSE,IF(MATCH(H398,EUconst_ActivityDeterminationMethod,0)=2,TRUE,FALSE))","v":false},{"$f":"IF(V400=TRUE,0,W398)","v":""}]
[]
[null,null,null,"ii.",{"$f":"Translations!$B$462","v":"Het instrument wordt beheerd door:"},null,null,null,null,null,null,null,null,null,null,null,null,null,null,null,null,null,{"$f":"W398","v":""}]
[]
[null,null,null,null,"a.",{"$f":"Translations!$B$465","v":"Bevestig dat is voldaan aan de voorwaarden van artikel 29, lid 1:"},null,null,null,null,null,null,null,null,null,null,null,null,null,null,null,{"$f":"IF(OR(H386=\"\",ISBLANK(H402)),FALSE,IF(MATCH(H402,EUconst_OwnerInstrument,0)=1,TRUE,FALSE))","v":false},{"$f":"IF(V404=TRUE,0,W398)","v":""}]
[]
[null,null,null,null,"b.",{"$f":"Translations!$B$468","v":"Bepaalt u de hoeveelheid brandstof of materiaal aan de hand van facturen?"},null,null,null,null,null,null,null,null,null,null,null,null,null,null,null,{"$f":"IF(OR(H386=\"\",ISBLANK(H402)),FALSE,IF(MATCH(H402,EUconst_OwnerInstrument,0)=1,TRUE,FALSE))","v":false},{"$f":"IF(V406=TRUE,0,W398)","v":""}]
[]
[null,null,null,null,"c.",{"$f":"Translations!$B$469","v":"Bevestig dat de handelspartner en de exploitant onafhankelijk zijn:"},null,null,null,null,null,null,null,null,null,null,null,null,null,null,null,{"$f":"IF(OR(H386=\"\",ISBLANK(H402)),FALSE,IF(MATCH(H402,EUconst_OwnerInstrument,0)=1,TRUE,FALSE))","v":false},{"$f":"IF(V408=TRUE,0,W398)","v":""}]
[]
[null,null,null,"(b)",{"$f":"Translations!$B$472","v":"Toegepaste meetinstrumenten:"}]
[]
[null,null,null,null,{"$f":"Translations!$B$475","v":"Commentaar op / beschrijving van de methode, indien meerdere instrumenten zijn gebruikt:"}]
[]
[]
[]
[]
[null,null,null,"(c)",{"$f":"Translations!$B$477","v":"Vereist niveau voor de activiteitsgegevens:"},null,null,{"$f":"IF(H388=\"\",\"\",IF(CNTR_Category=\"A\",INDEX(EUwideConstants!$G:$G,MATCH(Q417,EUwideConstants!$Q:$Q,0)),INDEX(EUwideConstants!$N:$N,MATCH(Q417,EUwideConstants!$Q:$Q,0))))","v":""},{"$f":"IF(H417=\"\",\"\",IF(S417=0,EUconst_NA,IF(ISERROR(S417),\"\",EUconst_MsgTierActivityLevel & \" \" &S417)))","v":""},null,null,null,null,null,null,null,{"$f":"EUconst_CNTR_ActivityData&H388","v":"ActivityData_"},null,{"$f":"IF(H417=\"\",\"\",IF(H417=EUconst_NA,\"\",INDEX(EUwideConstants!$H:$M,MATCH(Q417,EUwideConstants!$Q:$Q,0),MATCH(H417,CNTR_TierList,0))))","v":""}]
[null,null,null,"(d)",{"$f":"Translations!$B$478","v":"Gebruikt niveau voor de activiteitsgegevens:"},null,null,null,{"$f":"IF(OR(ISBLANK(H418),H418=EUconst_NoTier),\"\",IF(S418=0,EUconst_NA,IF(ISERROR(S418),\"\",EUconst_MsgTierActivityLevel & \" \" &S418)))","v":""},null,null,null,null,null,null,null,{"$f":"EUconst_CNTR_ActivityData&H388","v":"ActivityData_"},null,{"$f":"IF(ISBLANK(H418),\"\",IF(H418=EUconst_NA,\"\",INDEX(EUwideConstants!$H:$M,MATCH(Q418,EUwideConstants!$Q:$Q,0),MATCH(H418,CNTR_TierList,0))))","v":""}]
[null,null,null,"(e)",{"$f":"Translations!$B$479","v":"Bereikte onzekerheid:"},null,null,null,{"$f":"Translations!$B$480","v":"Opmerking:"}]
[]
[null,null,null,{"$f":"Translations!$B$490","v":"Berekeningsfactoren:"}]
[]
[null,null,null,"(f)",{"$f":"Translations!$B$515","v":"Toegepaste niveaus voor berekeningsfactoren:"}]
[]
[null,null,null,null,{"$f":"Translations!$B$516","v":"berekeningsfactor"},null,null,{"$f":"Translations!$B$517","v":"vereist niveau"},{"$f":"Translations!$B$518","v":"toegepast niveau"},{"$f":"Translations!$B$519","v":"volledige tekst voor het toegepaste niveau"},null,null,null,null,null,null,null,null,"full text tier",null,null,null,"cond. form."]
[null,null,null,"i.",{"$f":"Translations!$B$520","v":"Calorische onderwaarde (NCV)"},null,null,{"$f":"IF(H388=\"\",\"\",IF(CNTR_Category=\"A\",INDEX(EUwideConstants!$G:$G,MATCH(Q426,EUwideConstants!$Q:$Q,0)),INDEX(EUwideConstants!$N:$N,MATCH(Q426,EUwideConstants!$Q:$Q,0))))","v":""},null,{"$f":"IF(OR(ISBLANK(I426),I426=EUconst_NoTier),\"\",IF(S426=0,EUconst_NotApplicable,IF(ISERROR(S426),\"\",S426)))","v":""},null,null,null,null,null,null,{"$f":"EUconst_CNTR_NCV&H388","v":"NCV_"},null,{"$f":"IF(ISBLANK(I426),\"\",IF(I426=EUconst_NA,\"\",INDEX(EUwideConstants!$H:$M,MATCH(Q426,EUwideConstants!$Q:$Q,0),MATCH(I426,CNTR_TierList,0))))","v":""},null,null,null,{"$f":"(H426=EUconst_NA)","v":false}]
[null,null,null,"ii.",{"$f":"Translations!$B$521","v":"Voorlopige emissiefactor"},null,null,{"$f":"IF(H388=\"\",\"\",IF(CNTR_Category=\"A\",INDEX(EUwideConstants!$G:$G,MATCH(Q427,EUwideConstants!$Q:$Q,0)),INDEX(EUwideConstants!$N:$N,MATCH(Q427,EUwideConstants!$Q:$Q,0))))","v":""},null,"",null,null,null,null,null,null,{"$f":"EUconst_CNTR_EF&H388","v":"EF_"},null,{"$f":"IF(ISBLANK(I427),\"\",IF(I427=EUconst_NA,\"\",INDEX(EUwideConstants!$H:$M,MATCH(Q427,EUwideConstants!$Q:$Q,0),MATCH(I427,CNTR_TierList,0))))","v":""},null,null,null,false]
[null,null,null,"iii.",{"$f":"Translations!$B$522","v":"Oxidatiefactor"},null,null,{"$f":"IF(H388=\"\",\"\",IF(CNTR_Category=\"A\",INDEX(EUwideConstants!$G:$G,MATCH(Q428,EUwideConstants!$Q:$Q,0)),INDEX(EUwideConstants!$N:$N,MATCH(Q428,EUwideConstants!$Q:$Q,0))))","v":""},null,"",null,null,null,null,null,null,{"$f":"EUconst_CNTR_OxidationFactor&H388","v":"OxF_"},null,{"$f":"IF(ISBLANK(I428),\"\",IF(I428=EUconst_NA,\"\",INDEX(EUwideConstants!$H:$M,MATCH(Q428,EUwideConstants!$Q:$Q,0),MATCH(I428,CNTR_TierList,0))))","v":""},null,null,null,false]
[null,null,null,"iv.",{"$f":"Translations!$B$523","v":"Omrekeningsfactor"},null,null,{"$f":"IF(H388=\"\",\"\",IF(CNTR_Category=\"A\",INDEX(EUwideConstants!$G:$G,MATCH(Q429,EUwideConstants!$Q:$Q,0)),INDEX(EUwideConstants!$N:$N,MATCH(Q429,EUwideConstants!$Q:$Q,0))))","v":""},null,"",null,null,null,null,null,null,{"$f":"EUconst_CNTR_ConversionFactor&H388","v":"ConvF_"},null,{"$f":"IF(ISBLANK(I429),\"\",IF(I429=EUconst_NA,\"\",INDEX(EUwideConstants!$H:$M,MATCH(Q429,EUwideConstants!$Q:$Q,0),MATCH(I429,CNTR_TierList,0))))","v":""},null,null,null,false]
[null,null,null,"v.",{"$f":"Translations!$B$524","v":"Koolstofgehalte"},null,null,{"$f":"IF(H388=\"\",\"\",IF(CNTR_Category=\"A\",INDEX(EUwideConstants!$G:$G,MATCH(Q430,EUwideConstants!$Q:$Q,0)),INDEX(EUwideConstants!$N:$N,MATCH(Q430,EUwideConstants!$Q:$Q,0))))","v":""},null,"",null,null,null,null,null,null,{"$f":"EUconst_CNTR_CarbonContent&H388","v":"CarbC_"},null,{"$f":"IF(ISBLANK(I430),\"\",IF(I430=EUconst_NA,\"\",INDEX(EUwideConstants!$H:$M,MATCH(Q430,EUwideConstants!$Q:$Q,0),MATCH(I430,CNTR_TierList,0))))","v":""},null,null,null,false]
[null,null,null,"vi.",{"$f":"Translations!$B$525","v":"Biomassafractie (indien van toepassing)"},null,null,{"$f":"IF(H388=\"\",\"\",IF(CNTR_Category=\"A\",INDEX(EUwideConstants!$G:$G,MATCH(Q431,EUwideConstants!$Q:$Q,0)),INDEX(EUwideConstants!$N:$N,MATCH(Q431,EUwideConstants!$Q:$Q,0))))","v":""},null,"",null,null,null,null,null,null,{"$f":"EUconst_CNTR_BiomassContent&H388","v":"BioC_"},null,{"$f":"IF(ISBLANK(I431),\"\",IF(I431=EUconst_NA,\"\",INDEX(EUwideConstants!$H:$M,MATCH(Q431,EUwideConstants!$Q:$Q,0),MATCH(I431,CNTR_TierList,0))))","v":""},null,null,null,false]
[]
[null,null,null,"(g)",{"$f":"Translations!$B$534","v":"Informatie over berekeningsfactoren:"}]
[]
[null,null,null,null,{"$f":"E425","v":"berekeningsfactor"},null,null,{"$f":"I425","v":"toegepast niveau"},{"$f":"Translations!$B$535","v":"standaardwaarde"},{"$f":"Translations!$B$536","v":"Eenheid"},{"$f":"Translations!$B$537","v":"bronreferentie"},{"$f":"Translations!$B$538","v":"analysereferentie"},{"$f":"Translations!$B$539","v":"steekproefreferentie"},{"$f":"Translations!$B$540","v":"Analysefrequentie"},null,null,null,null,"default value or lab",null,null,null,"cond. form."]
[null,null,null,"i.","Calorische onderwaarde (NCV)",null,null,{"$f":"IF(OR(ISBLANK(I426),I426=EUconst_NA),\"\",I426)","v":""},null,null,null,null,null,null,null,null,null,null,{"$f":"IF(H436=\"\",\"\",IF(I426=EUconst_NA,\"\",INDEX(EUwideConstants!$AJ:$AN,MATCH(Q426,EUwideConstants!$Q:$Q,0),MATCH(I426,CNTR_TierList,0))))","v":""},null,null,null,{"$f":"OR(H436=\"\",H436=EUconst_NA,J426=EUconst_NotApplicable)","v":true}]
[null,null,null,"ii.","Voorlopige emissiefactor",null,null,"",null,null,null,null,null,null,null,null,null,null,{"$f":"IF(H437=\"\",\"\",IF(I427=EUconst_NA,\"\",INDEX(EUwideConstants!$AJ:$AN,MATCH(Q427,EUwideConstants!$Q:$Q,0),MATCH(I427,CNTR_TierList,0))))","v":""},null,null,null,true]
[null,null,null,"iii.","Oxidatiefactor",null,null,"",null,null,null,null,null,null,null,null,null,null,{"$f":"IF(H438=\"\",\"\",IF(I428=EUconst_NA,\"\",INDEX(EUwideConstants!$AJ:$AN,MATCH(Q428,EUwideConstants!$Q:$Q,0),MATCH(I428,CNTR_TierList,0))))","v":""},null,null,null,true]
[null,null,null,"iv.","Omrekeningsfactor",null,null,"",null,null,null,null,null,null,null,null,null,null,{"$f":"IF(H439=\"\",\"\",IF(I429=EUconst_NA,\"\",INDEX(EUwideConstants!$AJ:$AN,MATCH(Q429,EUwideConstants!$Q:$Q,0),MATCH(I429,CNTR_TierList,0))))","v":""},null,null,null,true]
[null,null,null,"v.","Koolstofgehalte",null,null,"",null,null,null,null,null,null,null,null,null,null,{"$f":"IF(H440=\"\",\"\",IF(I430=EUconst_NA,\"\",INDEX(EUwideConstants!$AJ:$AN,MATCH(Q430,EUwideConstants!$Q:$Q,0),MATCH(I430,CNTR_TierList,0))))","v":""},null,null,null,true]
[null,null,null,"vi.","Biomassafractie (indien van toepassing)",null,null,"",null,null,null,null,null,null,null,null,null,null,{"$f":"IF(H441=\"\",\"\",IF(I431=EUconst_NA,\"\",INDEX(EUwideConstants!$AJ:$AN,MATCH(Q431,EUwideConstants!$Q:$Q,0),MATCH(I431,CNTR_TierList,0))))","v":""},null,null,null,true]
[]
[null,null,null,{"$f":"Translations!$B$545","v":"Opmerkingen en uitleg:"}]
[]
[null,null,null,"(h)",{"$f":"Translations!$B$1198","v":"Geef een toelichting en verklaring als de vereiste niveaus niet worden toegepast:"}]
[]
[]
[]
[]
[]
[null,null,null,null,null,null,null,null,null,null,null,null,null,null,null,null,null,null,"Check source stream category","auto","manual"]
[null,null,{"$f":"\"F\"&Q452","v":"F6"},{"$f":"CONCATENATE(Euconst_SourceStream,\" \", Q452,\":\")","v":"Bronstroom 6:"},null,null,null,{"$f":"IF(INDEX(C_InstallationDescription!$G$191:$G$201,MATCH(C452,C_InstallationDescription!$E$191:$E$201,0))>0,INDEX(C_InstallationDescription!$G$191:$G$201,MATCH(C452,C_InstallationDescription!$E$191:$E$201,0)),\"\")","v":""},null,null,null,null,{"$f":"IF(S452=TRUE,IF(U452=\"\",T452,U452),\"\")","v":""},null,null,null,{"$f":"Q386+1","v":6},null,{"$f":"IF(INDEX(C_InstallationDescription!$M:$M,MATCH(Q454,C_InstallationDescription!$Q:$Q,0))=\"\",FALSE,TRUE)","v":false},{"$f":"IF(S452=TRUE,INDEX(C_InstallationDescription!$M:$M,MATCH(Q454,C_InstallationDescription!$Q:$Q,0)),\"\")","v":""},{"$f":"IF(S452=TRUE,IF(ISBLANK(INDEX(C_InstallationDescription!$N:$N,MATCH(Q454,C_InstallationDescription!$Q:$Q,0))),\"\",INDEX(C_InstallationDescription!$N:$N,MATCH(Q454,C_InstallationDescription!$Q:$Q,0))),\"\")","v":""}]
[]
[null,null,null,null,{"$f":"Translations!$B$437","v":"Type bronstroom:"},null,null,{"$f":"IF(INDEX(C_InstallationDescription!$I$191:$I$201,MATCH(C452,C_InstallationDescription!$E$191:$E$201,0))>0,INDEX(C_InstallationDescription!$I$191:$I$201,MATCH(C452,C_InstallationDescription!$E$191:$E$201,0)),\"\")","v":""},null,null,null,null,null,null,null,null,{"$f":"EUconst_CNTR_SourceCategory&C452","v":"SourceCategory_F6"}]
[null,null,null,null,{"$f":"Translations!$B$438","v":"Te gebruiken methode volgens de MRV:"},null,null,{"$f":"IF(H454=\"\",\"\",INDEX(EUwideConstants!$F$261:$F$320,MATCH(H454,EUConst_TierActivityListNames,0)))","v":""}]
[null,null,null,null,{"$f":"Translations!$B$439","v":"Parameter waarop de onzekerheid wordt toegepast:"},null,null,{"$f":"IF(H454=\"\",\"\",INDEX(EUwideConstants!$E$261:$E$320,MATCH(H454,EUConst_TierActivityListNames,0)))","v":""}]
[]
[null,null,null,null,{"$f":"IF(H452=\"\",\"\",INDEX(EUconst_SmallEmiSouStreamMsg,MATCH(Q458,EUconst_SmallEmiSouStream,0)))","v":""},null,null,null,null,null,null,null,null,null,null,null,{"$f":"IF(CNTR_SmallEmitter=TRUE,EUconst_CNTR_SmallEmitter,EUconst_CNTR_NoSmallEmitter) & IF((CNTR_Category)=\"\",\"C\",CNTR_Category) & \"_\" & IF(M452=\"\",1,MATCH(M452,SourceCategory,0))","v":"NoSmallEmitter_C_1"}]
[]
[null,null,null,{"$f":"Translations!$B$454","v":"Activiteitsgegevens:"}]
[]
[null,null,null,"(a)",{"$f":"Translations!$B$455","v":"Bepalingsmethode voor activiteitsgegevens:"}]
[]
[null,null,null,"i.",{"$f":"Translations!$B$456","v":"Bepalingsmethode:"},null,null,null,null,null,null,null,null,null,null,null,null,null,null,null,null,null,{"$f":"IF(M452=\"\",\"\",IF(M452=INDEX(SourceCategory,3),1,IF(CNTR_InstHasCalculation=FALSE,0,2)))","v":""}]
[]
[null,null,null,null,null,{"$f":"Translations!$B$459","v":"Verwijzing naar de procedure voor het bepalen van de voorraden aan het einde van het jaar:"},null,null,null,null,null,null,null,null,null,null,null,null,null,null,null,{"$f":"IF(OR(H452=\"\",ISBLANK(H464)),FALSE,IF(MATCH(H464,EUconst_ActivityDeterminationMethod,0)=2,TRUE,FALSE))","v":false},{"$f":"IF(V466=TRUE,0,W464)","v":""}]
[]
[null,null,null,"ii.",{"$f":"Translations!$B$462","v":"Het instrument wordt beheerd door:"},null,null,null,null,null,null,null,null,null,null,null,null,null,null,null,null,null,{"$f":"W464","v":""}]
[]
[null,null,null,null,"a.",{"$f":"Translations!$B$465","v":"Bevestig dat is voldaan aan de voorwaarden van artikel 29, lid 1:"},null,null,null,null,null,null,null,null,null,null,null,null,null,null,null,{"$f":"IF(OR(H452=\"\",ISBLANK(H468)),FALSE,IF(MATCH(H468,EUconst_OwnerInstrument,0)=1,TRUE,FALSE))","v":false},{"$f":"IF(V470=TRUE,0,W464)","v":""}]
[]
[null,null,null,null,"b.",{"$f":"Translations!$B$468","v":"Bepaalt u de hoeveelheid brandstof of materiaal aan de hand van facturen?"},null,null,null,null,null,null,null,null,null,null,null,null,null,null,null,{"$f":"IF(OR(H452=\"\",ISBLANK(H468)),FALSE,IF(MATCH(H468,EUconst_OwnerInstrument,0)=1,TRUE,FALSE))","v":false},{"$f":"IF(V472=TRUE,0,W464)","v":""}]
[]
[null,null,null,null,"c.",{"$f":"Translations!$B$469","v":"Bevestig dat de handelspartner en de exploitant onafhankelijk zijn:"},null,null,null,null,null,null,null,null,null,null,null,null,null,null,null,{"$f":"IF(OR(H452=\"\",ISBLANK(H468)),FALSE,IF(MATCH(H468,EUconst_OwnerInstrument,0)=1,TRUE,FALSE))","v":false},{"$f":"IF(V474=TRUE,0,W464)","v":""}]
[]
[null,null,null,"(b)",{"$f":"Translations!$B$472","v":"Toegepaste meetinstrumenten:"}]
[]
[null,null,null,null,{"$f":"Translations!$B$475","v":"Commentaar op / beschrijving van de methode, indien meerdere instrumenten zijn gebruikt:"}]
[]
[]
[]
[]
[null,null,null,"(c)",{"$f":"Translations!$B$477","v":"Vereist niveau voor de activiteitsgegevens:"},null,null,{"$f":"IF(H454=\"\",\"\",IF(CNTR_Category=\"A\",INDEX(EUwideConstants!$G:$G,MATCH(Q483,EUwideConstants!$Q:$Q,0)),INDEX(EUwideConstants!$N:$N,MATCH(Q483,EUwideConstants!$Q:$Q,0))))","v":""},{"$f":"IF(H483=\"\",\"\",IF(S483=0,EUconst_NA,IF(ISERROR(S483),\"\",EUconst_MsgTierActivityLevel & \" \" &S483)))","v":""},null,null,null,null,null,null,null,{"$f":"EUconst_CNTR_ActivityData&H454","v":"ActivityData_"},null,{"$f":"IF(H483=\"\",\"\",IF(H483=EUconst_NA,\"\",INDEX(EUwideConstants!$H:$M,MATCH(Q483,EUwideConstants!$Q:$Q,0),MATCH(H483,CNTR_TierList,0))))","v":""}]
[null,null,null,"(d)",{"$f":"Translations!$B$478","v":"Gebruikt niveau voor de activiteitsgegevens:"},null,null,null,{"$f":"IF(OR(ISBLANK(H484),H484=EUconst_NoTier),\"\",IF(S484=0,EUconst_NA,IF(ISERROR(S484),\"\",EUconst_MsgTierActivityLevel & \" \" &S484)))","v":""},null,null,null,null,null,null,null,{"$f":"EUconst_CNTR_ActivityData&H454","v":"ActivityData_"},null,{"$f":"IF(ISBLANK(H484),\"\",IF(H484=EUconst_NA,\"\",INDEX(EUwideConstants!$H:$M,MATCH(Q484,EUwideConstants!$Q:$Q,0),MATCH(H484,CNTR_TierList,0))))","v":""}]
[null,null,null,"(e)",{"$f":"Translations!$B$479","v":"Bereikte onzekerheid:"},null,null,null,{"$f":"Translations!$B$480","v":"Opmerking:"}]
[]
[null,null,null,{"$f":"Translations!$B$490","v":"Berekeningsfactoren:"}]
[]
[null,null,null,"(f)",{"$f":"Translations!$B$515","v":"Toegepaste niveaus voor berekeningsfactoren:"}]
[]
[null,null,null,null,{"$f":"Translations!$B$516","v":"berekeningsfactor"},null,null,{"$f":"Translations!$B$517","v":"vereist niveau"},{"$f":"Translations!$B$518","v":"toegepast niveau"},{"$f":"Translations!$B$519","v":"volledige tekst voor het toegepaste niveau"},null,null,null,null,null,null,null,null,"full text tier",null,null,null,"cond. form."]
[null,null,null,"i.",{"$f":"Translations!$B$520","v":"Calorische onderwaarde (NCV)"},null,null,{"$f":"IF(H454=\"\",\"\",IF(CNTR_Category=\"A\",INDEX(EUwideConstants!$G:$G,MATCH(Q492,EUwideConstants!$Q:$Q,0)),INDEX(EUwideConstants!$N:$N,MATCH(Q492,EUwideConstants!$Q:$Q,0))))","v":""},null,{"$f":"IF(OR(ISBLANK(I492),I492=EUconst_NoTier),\"\",IF(S492=0,EUconst_NotApplicable,IF(ISERROR(S492),\"\",S492)))","v":""},null,null,null,null,null,null,{"$f":"EUconst_CNTR_NCV&H454","v":"NCV_"},null,{"$f":"IF(ISBLANK(I492),\"\",IF(I492=EUconst_NA,\"\",INDEX(EUwideConstants!$H:$M,MATCH(Q492,EUwideConstants!$Q:$Q,0),MATCH(I492,CNTR_TierList,0))))","v":""},null,null,null,{"$f":"(H492=EUconst_NA)","v":false}]
[null,null,null,"ii.",{"$f":"Translations!$B$521","v":"Voorlopige emissiefactor"},null,null,{"$f":"IF(H454=\"\",\"\",IF(CNTR_Category=\"A\",INDEX(EUwideConstants!$G:$G,MATCH(Q493,EUwideConstants!$Q:$Q,0)),INDEX(EUwideConstants!$N:$N,MATCH(Q493,EUwideConstants!$Q:$Q,0))))","v":""},null,"",null,null,null,null,null,null,{"$f":"EUconst_CNTR_EF&H454","v":"EF_"},null,{"$f":"IF(ISBLANK(I493),\"\",IF(I493=EUconst_NA,\"\",INDEX(EUwideConstants!$H:$M,MATCH(Q493,EUwideConstants!$Q:$Q,0),MATCH(I493,CNTR_TierList,0))))","v":""},null,null,null,false]
[null,null,null,"iii.",{"$f":"Translations!$B$522","v":"Oxidatiefactor"},null,null,{"$f":"IF(H454=\"\",\"\",IF(CNTR_Category=\"A\",INDEX(EUwideConstants!$G:$G,MATCH(Q494,EUwideConstants!$Q:$Q,0)),INDEX(EUwideConstants!$N:$N,MATCH(Q494,EUwideConstants!$Q:$Q,0))))","v":""},null,"",null,null,null,null,null,null,{"$f":"EUconst_CNTR_OxidationFactor&H454","v":"OxF_"},null,{"$f":"IF(ISBLANK(I494),\"\",IF(I494=EUconst_NA,\"\",INDEX(EUwideConstants!$H:$M,MATCH(Q494,EUwideConstants!$Q:$Q,0),MATCH(I494,CNTR_TierList,0))))","v":""},null,null,null,false]
[null,null,null,"iv.",{"$f":"Translations!$B$523","v":"Omrekeningsfactor"},null,null,{"$f":"IF(H454=\"\",\"\",IF(CNTR_Category=\"A\",INDEX(EUwideConstants!$G:$G,MATCH(Q495,EUwideConstants!$Q:$Q,0)),INDEX(EUwideConstants!$N:$N,MATCH(Q495,EUwideConstants!$Q:$Q,0))))","v":""},null,"",null,null,null,null,null,null,{"$f":"EUconst_CNTR_ConversionFactor&H454","v":"ConvF_"},null,{"$f":"IF(ISBLANK(I495),\"\",IF(I495=EUconst_NA,\"\",INDEX(EUwideConstants!$H:$M,MATCH(Q495,EUwideConstants!$Q:$Q,0),MATCH(I495,CNTR_TierList,0))))","v":""},null,null,null,false]
[null,null,null,"v.",{"$f":"Translations!$B$524","v":"Koolstofgehalte"},null,null,{"$f":"IF(H454=\"\",\"\",IF(CNTR_Category=\"A\",INDEX(EUwideConstants!$G:$G,MATCH(Q496,EUwideConstants!$Q:$Q,0)),INDEX(EUwideConstants!$N:$N,MATCH(Q496,EUwideConstants!$Q:$Q,0))))","v":""},null,"",null,null,null,null,null,null,{"$f":"EUconst_CNTR_CarbonContent&H454","v":"CarbC_"},null,{"$f":"IF(ISBLANK(I496),\"\",IF(I496=EUconst_NA,\"\",INDEX(EUwideConstants!$H:$M,MATCH(Q496,EUwideConstants!$Q:$Q,0),MATCH(I496,CNTR_TierList,0))))","v":""},null,null,null,false]
[null,null,null,"vi.",{"$f":"Translations!$B$525","v":"Biomassafractie (indien van toepassing)"},null,null,{"$f":"IF(H454=\"\",\"\",IF(CNTR_Category=\"A\",INDEX(EUwideConstants!$G:$G,MATCH(Q497,EUwideConstants!$Q:$Q,0)),INDEX(EUwideConstants!$N:$N,MATCH(Q497,EUwideConstants!$Q:$Q,0))))","v":""},null,"",null,null,null,null,null,null,{"$f":"EUconst_CNTR_BiomassContent&H454","v":"BioC_"},null,{"$f":"IF(ISBLANK(I497),\"\",IF(I497=EUconst_NA,\"\",INDEX(EUwideConstants!$H:$M,MATCH(Q497,EUwideConstants!$Q:$Q,0),MATCH(I497,CNTR_TierList,0))))","v":""},null,null,null,false]
[]
[null,null,null,"(g)",{"$f":"Translations!$B$534","v":"Informatie over berekeningsfactoren:"}]
[]
[null,null,null,null,{"$f":"E491","v":"berekeningsfactor"},null,null,{"$f":"I491","v":"toegepast niveau"},{"$f":"Translations!$B$535","v":"standaardwaarde"},{"$f":"Translations!$B$536","v":"Eenheid"},{"$f":"Translations!$B$537","v":"bronreferentie"},{"$f":"Translations!$B$538","v":"analysereferentie"},{"$f":"Translations!$B$539","v":"steekproefreferentie"},{"$f":"Translations!$B$540","v":"Analysefrequentie"},null,null,null,null,"default value or lab",null,null,null,"cond. form."]
[null,null,null,"i.","Calorische onderwaarde (NCV)",null,null,{"$f":"IF(OR(ISBLANK(I492),I492=EUconst_NA),\"\",I492)","v":""},null,null,null,null,null,null,null,null,null,null,{"$f":"IF(H502=\"\",\"\",IF(I492=EUconst_NA,\"\",INDEX(EUwideConstants!$AJ:$AN,MATCH(Q492,EUwideConstants!$Q:$Q,0),MATCH(I492,CNTR_TierList,0))))","v":""},null,null,null,{"$f":"OR(H502=\"\",H502=EUconst_NA,J492=EUconst_NotApplicable)","v":true}]
[null,null,null,"ii.","Voorlopige emissiefactor",null,null,"",null,null,null,null,null,null,null,null,null,null,{"$f":"IF(H503=\"\",\"\",IF(I493=EUconst_NA,\"\",INDEX(EUwideConstants!$AJ:$AN,MATCH(Q493,EUwideConstants!$Q:$Q,0),MATCH(I493,CNTR_TierList,0))))","v":""},null,null,null,true]
[null,null,null,"iii.","Oxidatiefactor",null,null,"",null,null,null,null,null,null,null,null,null,null,{"$f":"IF(H504=\"\",\"\",IF(I494=EUconst_NA,\"\",INDEX(EUwideConstants!$AJ:$AN,MATCH(Q494,EUwideConstants!$Q:$Q,0),MATCH(I494,CNTR_TierList,0))))","v":""},null,null,null,true]
[null,null,null,"iv.","Omrekeningsfactor",null,null,"",null,null,null,null,null,null,null,null,null,null,{"$f":"IF(H505=\"\",\"\",IF(I495=EUconst_NA,\"\",INDEX(EUwideConstants!$AJ:$AN,MATCH(Q495,EUwideConstants!$Q:$Q,0),MATCH(I495,CNTR_TierList,0))))","v":""},null,null,null,true]
[null,null,null,"v.","Koolstofgehalte",null,null,"",null,null,null,null,null,null,null,null,null,null,{"$f":"IF(H506=\"\",\"\",IF(I496=EUconst_NA,\"\",INDEX(EUwideConstants!$AJ:$AN,MATCH(Q496,EUwideConstants!$Q:$Q,0),MATCH(I496,CNTR_TierList,0))))","v":""},null,null,null,true]
[null,null,null,"vi.","Biomassafractie (indien van toepassing)",null,null,"",null,null,null,null,null,null,null,null,null,null,{"$f":"IF(H507=\"\",\"\",IF(I497=EUconst_NA,\"\",INDEX(EUwideConstants!$AJ:$AN,MATCH(Q497,EUwideConstants!$Q:$Q,0),MATCH(I497,CNTR_TierList,0))))","v":""},null,null,null,true]
[]
[null,null,null,{"$f":"Translations!$B$545","v":"Opmerkingen en uitleg:"}]
[]
[null,null,null,"(h)",{"$f":"Translations!$B$1198","v":"Geef een toelichting en verklaring als de vereiste niveaus niet worden toegepast:"}]
[]
[]
[]
[]
[]
[null,null,null,null,null,null,null,null,null,null,null,null,null,null,null,null,null,null,"Check source stream category","auto","manual"]
[null,null,{"$f":"\"F\"&Q518","v":"F7"},{"$f":"CONCATENATE(Euconst_SourceStream,\" \", Q518,\":\")","v":"Bronstroom 7:"},null,null,null,{"$f":"IF(INDEX(C_InstallationDescription!$G$191:$G$201,MATCH(C518,C_InstallationDescription!$E$191:$E$201,0))>0,INDEX(C_InstallationDescription!$G$191:$G$201,MATCH(C518,C_InstallationDescription!$E$191:$E$201,0)),\"\")","v":""},null,null,null,null,{"$f":"IF(S518=TRUE,IF(U518=\"\",T518,U518),\"\")","v":""},null,null,null,{"$f":"Q452+1","v":7},null,{"$f":"IF(INDEX(C_InstallationDescription!$M:$M,MATCH(Q520,C_InstallationDescription!$Q:$Q,0))=\"\",FALSE,TRUE)","v":false},{"$f":"IF(S518=TRUE,INDEX(C_InstallationDescription!$M:$M,MATCH(Q520,C_InstallationDescription!$Q:$Q,0)),\"\")","v":""},{"$f":"IF(S518=TRUE,IF(ISBLANK(INDEX(C_InstallationDescription!$N:$N,MATCH(Q520,C_InstallationDescription!$Q:$Q,0))),\"\",INDEX(C_InstallationDescription!$N:$N,MATCH(Q520,C_InstallationDescription!$Q:$Q,0))),\"\")","v":""}]
[]
[null,null,null,null,{"$f":"Translations!$B$437","v":"Type bronstroom:"},null,null,{"$f":"IF(INDEX(C_InstallationDescription!$I$191:$I$201,MATCH(C518,C_InstallationDescription!$E$191:$E$201,0))>0,INDEX(C_InstallationDescription!$I$191:$I$201,MATCH(C518,C_InstallationDescription!$E$191:$E$201,0)),\"\")","v":""},null,null,null,null,null,null,null,null,{"$f":"EUconst_CNTR_SourceCategory&C518","v":"SourceCategory_F7"}]
[null,null,null,null,{"$f":"Translations!$B$438","v":"Te gebruiken methode volgens de MRV:"},null,null,{"$f":"IF(H520=\"\",\"\",INDEX(EUwideConstants!$F$261:$F$320,MATCH(H520,EUConst_TierActivityListNames,0)))","v":""}]
[null,null,null,null,{"$f":"Translations!$B$439","v":"Parameter waarop de onzekerheid wordt toegepast:"},null,null,{"$f":"IF(H520=\"\",\"\",INDEX(EUwideConstants!$E$261:$E$320,MATCH(H520,EUConst_TierActivityListNames,0)))","v":""}]
[]
[null,null,null,null,{"$f":"IF(H518=\"\",\"\",INDEX(EUconst_SmallEmiSouStreamMsg,MATCH(Q524,EUconst_SmallEmiSouStream,0)))","v":""},null,null,null,null,null,null,null,null,null,null,null,{"$f":"IF(CNTR_SmallEmitter=TRUE,EUconst_CNTR_SmallEmitter,EUconst_CNTR_NoSmallEmitter) & IF((CNTR_Category)=\"\",\"C\",CNTR_Category) & \"_\" & IF(M518=\"\",1,MATCH(M518,SourceCategory,0))","v":"NoSmallEmitter_C_1"}]
[]
[null,null,null,{"$f":"Translations!$B$454","v":"Activiteitsgegevens:"}]
[]
[null,null,null,"(a)",{"$f":"Translations!$B$455","v":"Bepalingsmethode voor activiteitsgegevens:"}]
[]
[null,null,null,"i.",{"$f":"Translations!$B$456","v":"Bepalingsmethode:"},null,null,null,null,null,null,null,null,null,null,null,null,null,null,null,null,null,{"$f":"IF(M518=\"\",\"\",IF(M518=INDEX(SourceCategory,3),1,IF(CNTR_InstHasCalculation=FALSE,0,2)))","v":""}]
[]
[null,null,null,null,null,{"$f":"Translations!$B$459","v":"Verwijzing naar de procedure voor het bepalen van de voorraden aan het einde van het jaar:"},null,null,null,null,null,null,null,null,null,null,null,null,null,null,null,{"$f":"IF(OR(H518=\"\",ISBLANK(H530)),FALSE,IF(MATCH(H530,EUconst_ActivityDeterminationMethod,0)=2,TRUE,FALSE))","v":false},{"$f":"IF(V532=TRUE,0,W530)","v":""}]
[]
[null,null,null,"ii.",{"$f":"Translations!$B$462","v":"Het instrument wordt beheerd door:"},null,null,null,null,null,null,null,null,null,null,null,null,null,null,null,null,null,{"$f":"W530","v":""}]
[]
[null,null,null,null,"a.",{"$f":"Translations!$B$465","v":"Bevestig dat is voldaan aan de voorwaarden van artikel 29, lid 1:"},null,null,null,null,null,null,null,null,null,null,null,null,null,null,null,{"$f":"IF(OR(H518=\"\",ISBLANK(H534)),FALSE,IF(MATCH(H534,EUconst_OwnerInstrument,0)=1,TRUE,FALSE))","v":false},{"$f":"IF(V536=TRUE,0,W530)","v":""}]
[]
[null,null,null,null,"b.",{"$f":"Translations!$B$468","v":"Bepaalt u de hoeveelheid brandstof of materiaal aan de hand van facturen?"},null,null,null,null,null,null,null,null,null,null,null,null,null,null,null,{"$f":"IF(OR(H518=\"\",ISBLANK(H534)),FALSE,IF(MATCH(H534,EUconst_OwnerInstrument,0)=1,TRUE,FALSE))","v":false},{"$f":"IF(V538=TRUE,0,W530)","v":""}]
[]
[null,null,null,null,"c.",{"$f":"Translations!$B$469","v":"Bevestig dat de handelspartner en de exploitant onafhankelijk zijn:"},null,null,null,null,null,null,null,null,null,null,null,null,null,null,null,{"$f":"IF(OR(H518=\"\",ISBLANK(H534)),FALSE,IF(MATCH(H534,EUconst_OwnerInstrument,0)=1,TRUE,FALSE))","v":false},{"$f":"IF(V540=TRUE,0,W530)","v":""}]
[]
[null,null,null,"(b)",{"$f":"Translations!$B$472","v":"Toegepaste meetinstrumenten:"}]
[]
[null,null,null,null,{"$f":"Translations!$B$475","v":"Commentaar op / beschrijving van de methode, indien meerdere instrumenten zijn gebruikt:"}]
[]
[]
[]
[]
[null,null,null,"(c)",{"$f":"Translations!$B$477","v":"Vereist niveau voor de activiteitsgegevens:"},null,null,{"$f":"IF(H520=\"\",\"\",IF(CNTR_Category=\"A\",INDEX(EUwideConstants!$G:$G,MATCH(Q549,EUwideConstants!$Q:$Q,0)),INDEX(EUwideConstants!$N:$N,MATCH(Q549,EUwideConstants!$Q:$Q,0))))","v":""},{"$f":"IF(H549=\"\",\"\",IF(S549=0,EUconst_NA,IF(ISERROR(S549),\"\",EUconst_MsgTierActivityLevel & \" \" &S549)))","v":""},null,null,null,null,null,null,null,{"$f":"EUconst_CNTR_ActivityData&H520","v":"ActivityData_"},null,{"$f":"IF(H549=\"\",\"\",IF(H549=EUconst_NA,\"\",INDEX(EUwideConstants!$H:$M,MATCH(Q549,EUwideConstants!$Q:$Q,0),MATCH(H549,CNTR_TierList,0))))","v":""}]
[null,null,null,"(d)",{"$f":"Translations!$B$478","v":"Gebruikt niveau voor de activiteitsgegevens:"},null,null,null,{"$f":"IF(OR(ISBLANK(H550),H550=EUconst_NoTier),\"\",IF(S550=0,EUconst_NA,IF(ISERROR(S550),\"\",EUconst_MsgTierActivityLevel & \" \" &S550)))","v":""},null,null,null,null,null,null,null,{"$f":"EUconst_CNTR_ActivityData&H520","v":"ActivityData_"},null,{"$f":"IF(ISBLANK(H550),\"\",IF(H550=EUconst_NA,\"\",INDEX(EUwideConstants!$H:$M,MATCH(Q550,EUwideConstants!$Q:$Q,0),MATCH(H550,CNTR_TierList,0))))","v":""}]
[null,null,null,"(e)",{"$f":"Translations!$B$479","v":"Bereikte onzekerheid:"},null,null,null,{"$f":"Translations!$B$480","v":"Opmerking:"}]
[]
[null,null,null,{"$f":"Translations!$B$490","v":"Berekeningsfactoren:"}]
[]
[null,null,null,"(f)",{"$f":"Translations!$B$515","v":"Toegepaste niveaus voor berekeningsfactoren:"}]
[]
[null,null,null,null,{"$f":"Translations!$B$516","v":"berekeningsfactor"},null,null,{"$f":"Translations!$B$517","v":"vereist niveau"},{"$f":"Translations!$B$518","v":"toegepast niveau"},{"$f":"Translations!$B$519","v":"volledige tekst voor het toegepaste niveau"},null,null,null,null,null,null,null,null,"full text tier",null,null,null,"cond. form."]
[null,null,null,"i.",{"$f":"Translations!$B$520","v":"Calorische onderwaarde (NCV)"},null,null,{"$f":"IF(H520=\"\",\"\",IF(CNTR_Category=\"A\",INDEX(EUwideConstants!$G:$G,MATCH(Q558,EUwideConstants!$Q:$Q,0)),INDEX(EUwideConstants!$N:$N,MATCH(Q558,EUwideConstants!$Q:$Q,0))))","v":""},null,{"$f":"IF(OR(ISBLANK(I558),I558=EUconst_NoTier),\"\",IF(S558=0,EUconst_NotApplicable,IF(ISERROR(S558),\"\",S558)))","v":""},null,null,null,null,null,null,{"$f":"EUconst_CNTR_NCV&H520","v":"NCV_"},null,{"$f":"IF(ISBLANK(I558),\"\",IF(I558=EUconst_NA,\"\",INDEX(EUwideConstants!$H:$M,MATCH(Q558,EUwideConstants!$Q:$Q,0),MATCH(I558,CNTR_TierList,0))))","v":""},null,null,null,{"$f":"(H558=EUconst_NA)","v":false}]
[null,null,null,"ii.",{"$f":"Translations!$B$521","v":"Voorlopige emissiefactor"},null,null,{"$f":"IF(H520=\"\",\"\",IF(CNTR_Category=\"A\",INDEX(EUwideConstants!$G:$G,MATCH(Q559,EUwideConstants!$Q:$Q,0)),INDEX(EUwideConstants!$N:$N,MATCH(Q559,EUwideConstants!$Q:$Q,0))))","v":""},null,"",null,null,null,null,null,null,{"$f":"EUconst_CNTR_EF&H520","v":"EF_"},null,{"$f":"IF(ISBLANK(I559),\"\",IF(I559=EUconst_NA,\"\",INDEX(EUwideConstants!$H:$M,MATCH(Q559,EUwideConstants!$Q:$Q,0),MATCH(I559,CNTR_TierList,0))))","v":""},null,null,null,false]
[null,null,null,"iii.",{"$f":"Translations!$B$522","v":"Oxidatiefactor"},null,null,{"$f":"IF(H520=\"\",\"\",IF(CNTR_Category=\"A\",INDEX(EUwideConstants!$G:$G,MATCH(Q560,EUwideConstants!$Q:$Q,0)),INDEX(EUwideConstants!$N:$N,MATCH(Q560,EUwideConstants!$Q:$Q,0))))","v":""},null,"",null,null,null,null,null,null,{"$f":"EUconst_CNTR_OxidationFactor&H520","v":"OxF_"},null,{"$f":"IF(ISBLANK(I560),\"\",IF(I560=EUconst_NA,\"\",INDEX(EUwideConstants!$H:$M,MATCH(Q560,EUwideConstants!$Q:$Q,0),MATCH(I560,CNTR_TierList,0))))","v":""},null,null,null,false]
[null,null,null,"iv.",{"$f":"Translations!$B$523","v":"Omrekeningsfactor"},null,null,{"$f":"IF(H520=\"\",\"\",IF(CNTR_Category=\"A\",INDEX(EUwideConstants!$G:$G,MATCH(Q561,EUwideConstants!$Q:$Q,0)),INDEX(EUwideConstants!$N:$N,MATCH(Q561,EUwideConstants!$Q:$Q,0))))","v":""},null,"",null,null,null,null,null,null,{"$f":"EUconst_CNTR_ConversionFactor&H520","v":"ConvF_"},null,{"$f":"IF(ISBLANK(I561),\"\",IF(I561=EUconst_NA,\"\",INDEX(EUwideConstants!$H:$M,MATCH(Q561,EUwideConstants!$Q:$Q,0),MATCH(I561,CNTR_TierList,0))))","v":""},null,null,null,false]
[null,null,null,"v.",{"$f":"Translations!$B$524","v":"Koolstofgehalte"},null,null,{"$f":"IF(H520=\"\",\"\",IF(CNTR_Category=\"A\",INDEX(EUwideConstants!$G:$G,MATCH(Q562,EUwideConstants!$Q:$Q,0)),INDEX(EUwideConstants!$N:$N,MATCH(Q562,EUwideConstants!$Q:$Q,0))))","v":""},null,"",null,null,null,null,null,null,{"$f":"EUconst_CNTR_CarbonContent&H520","v":"CarbC_"},null,{"$f":"IF(ISBLANK(I562),\"\",IF(I562=EUconst_NA,\"\",INDEX(EUwideConstants!$H:$M,MATCH(Q562,EUwideConstants!$Q:$Q,0),MATCH(I562,CNTR_TierList,0))))","v":""},null,null,null,false]
[null,null,null,"vi.",{"$f":"Translations!$B$525","v":"Biomassafractie (indien van toepassing)"},null,null,{"$f":"IF(H520=\"\",\"\",IF(CNTR_Category=\"A\",INDEX(EUwideConstants!$G:$G,MATCH(Q563,EUwideConstants!$Q:$Q,0)),INDEX(EUwideConstants!$N:$N,MATCH(Q563,EUwideConstants!$Q:$Q,0))))","v":""},null,"",null,null,null,null,null,null,{"$f":"EUconst_CNTR_BiomassContent&H520","v":"BioC_"},null,{"$f":"IF(ISBLANK(I563),\"\",IF(I563=EUconst_NA,\"\",INDEX(EUwideConstants!$H:$M,MATCH(Q563,EUwideConstants!$Q:$Q,0),MATCH(I563,CNTR_TierList,0))))","v":""},null,null,null,false]
[]
[null,null,null,"(g)",{"$f":"Translations!$B$534","v":"Informatie over berekeningsfactoren:"}]
[]
[null,null,null,null,{"$f":"E557","v":"berekeningsfactor"},null,null,{"$f":"I557","v":"toegepast niveau"},{"$f":"Translations!$B$535","v":"standaardwaarde"},{"$f":"Translations!$B$536","v":"Eenheid"},{"$f":"Translations!$B$537","v":"bronreferentie"},{"$f":"Translations!$B$538","v":"analysereferentie"},{"$f":"Translations!$B$539","v":"steekproefreferentie"},{"$f":"Translations!$B$540","v":"Analysefrequentie"},null,null,null,null,"default value or lab",null,null,null,"cond. form."]
[null,null,null,"i.","Calorische onderwaarde (NCV)",null,null,{"$f":"IF(OR(ISBLANK(I558),I558=EUconst_NA),\"\",I558)","v":""},null,null,null,null,null,null,null,null,null,null,{"$f":"IF(H568=\"\",\"\",IF(I558=EUconst_NA,\"\",INDEX(EUwideConstants!$AJ:$AN,MATCH(Q558,EUwideConstants!$Q:$Q,0),MATCH(I558,CNTR_TierList,0))))","v":""},null,null,null,{"$f":"OR(H568=\"\",H568=EUconst_NA,J558=EUconst_NotApplicable)","v":true}]
[null,null,null,"ii.","Voorlopige emissiefactor",null,null,"",null,null,null,null,null,null,null,null,null,null,{"$f":"IF(H569=\"\",\"\",IF(I559=EUconst_NA,\"\",INDEX(EUwideConstants!$AJ:$AN,MATCH(Q559,EUwideConstants!$Q:$Q,0),MATCH(I559,CNTR_TierList,0))))","v":""},null,null,null,true]
[null,null,null,"iii.","Oxidatiefactor",null,null,"",null,null,null,null,null,null,null,null,null,null,{"$f":"IF(H570=\"\",\"\",IF(I560=EUconst_NA,\"\",INDEX(EUwideConstants!$AJ:$AN,MATCH(Q560,EUwideConstants!$Q:$Q,0),MATCH(I560,CNTR_TierList,0))))","v":""},null,null,null,true]
[null,null,null,"iv.","Omrekeningsfactor",null,null,"",null,null,null,null,null,null,null,null,null,null,{"$f":"IF(H571=\"\",\"\",IF(I561=EUconst_NA,\"\",INDEX(EUwideConstants!$AJ:$AN,MATCH(Q561,EUwideConstants!$Q:$Q,0),MATCH(I561,CNTR_TierList,0))))","v":""},null,null,null,true]
[null,null,null,"v.","Koolstofgehalte",null,null,"",null,null,null,null,null,null,null,null,null,null,{"$f":"IF(H572=\"\",\"\",IF(I562=EUconst_NA,\"\",INDEX(EUwideConstants!$AJ:$AN,MATCH(Q562,EUwideConstants!$Q:$Q,0),MATCH(I562,CNTR_TierList,0))))","v":""},null,null,null,true]
[null,null,null,"vi.","Biomassafractie (indien van toepassing)",null,null,"",null,null,null,null,null,null,null,null,null,null,{"$f":"IF(H573=\"\",\"\",IF(I563=EUconst_NA,\"\",INDEX(EUwideConstants!$AJ:$AN,MATCH(Q563,EUwideConstants!$Q:$Q,0),MATCH(I563,CNTR_TierList,0))))","v":""},null,null,null,true]
[]
[null,null,null,{"$f":"Translations!$B$545","v":"Opmerkingen en uitleg:"}]
[]
[null,null,null,"(h)",{"$f":"Translations!$B$1198","v":"Geef een toelichting en verklaring als de vereiste niveaus niet worden toegepast:"}]
[]
[]
[]
[]
[]
[null,null,null,null,null,null,null,null,null,null,null,null,null,null,null,null,null,null,"Check source stream category","auto","manual"]
[null,null,{"$f":"\"F\"&Q584","v":"F8"},{"$f":"CONCATENATE(Euconst_SourceStream,\" \", Q584,\":\")","v":"Bronstroom 8:"},null,null,null,{"$f":"IF(INDEX(C_InstallationDescription!$G$191:$G$201,MATCH(C584,C_InstallationDescription!$E$191:$E$201,0))>0,INDEX(C_InstallationDescription!$G$191:$G$201,MATCH(C584,C_InstallationDescription!$E$191:$E$201,0)),\"\")","v":""},null,null,null,null,{"$f":"IF(S584=TRUE,IF(U584=\"\",T584,U584),\"\")","v":""},null,null,null,{"$f":"Q518+1","v":8},null,{"$f":"IF(INDEX(C_InstallationDescription!$M:$M,MATCH(Q586,C_InstallationDescription!$Q:$Q,0))=\"\",FALSE,TRUE)","v":false},{"$f":"IF(S584=TRUE,INDEX(C_InstallationDescription!$M:$M,MATCH(Q586,C_InstallationDescription!$Q:$Q,0)),\"\")","v":""},{"$f":"IF(S584=TRUE,IF(ISBLANK(INDEX(C_InstallationDescription!$N:$N,MATCH(Q586,C_InstallationDescription!$Q:$Q,0))),\"\",INDEX(C_InstallationDescription!$N:$N,MATCH(Q586,C_InstallationDescription!$Q:$Q,0))),\"\")","v":""}]
[]
[null,null,null,null,{"$f":"Translations!$B$437","v":"Type bronstroom:"},null,null,{"$f":"IF(INDEX(C_InstallationDescription!$I$191:$I$201,MATCH(C584,C_InstallationDescription!$E$191:$E$201,0))>0,INDEX(C_InstallationDescription!$I$191:$I$201,MATCH(C584,C_InstallationDescription!$E$191:$E$201,0)),\"\")","v":""},null,null,null,null,null,null,null,null,{"$f":"EUconst_CNTR_SourceCategory&C584","v":"SourceCategory_F8"}]
[null,null,null,null,{"$f":"Translations!$B$438","v":"Te gebruiken methode volgens de MRV:"},null,null,{"$f":"IF(H586=\"\",\"\",INDEX(EUwideConstants!$F$261:$F$320,MATCH(H586,EUConst_TierActivityListNames,0)))","v":""}]
[null,null,null,null,{"$f":"Translations!$B$439","v":"Parameter waarop de onzekerheid wordt toegepast:"},null,null,{"$f":"IF(H586=\"\",\"\",INDEX(EUwideConstants!$E$261:$E$320,MATCH(H586,EUConst_TierActivityListNames,0)))","v":""}]
[]
[null,null,null,null,{"$f":"IF(H584=\"\",\"\",INDEX(EUconst_SmallEmiSouStreamMsg,MATCH(Q590,EUconst_SmallEmiSouStream,0)))","v":""},null,null,null,null,null,null,null,null,null,null,null,{"$f":"IF(CNTR_SmallEmitter=TRUE,EUconst_CNTR_SmallEmitter,EUconst_CNTR_NoSmallEmitter) & IF((CNTR_Category)=\"\",\"C\",CNTR_Category) & \"_\" & IF(M584=\"\",1,MATCH(M584,SourceCategory,0))","v":"NoSmallEmitter_C_1"}]
[]
[null,null,null,{"$f":"Translations!$B$454","v":"Activiteitsgegevens:"}]
[]
[null,null,null,"(a)",{"$f":"Translations!$B$455","v":"Bepalingsmethode voor activiteitsgegevens:"}]
[]
[null,null,null,"i.",{"$f":"Translations!$B$456","v":"Bepalingsmethode:"},null,null,null,null,null,null,null,null,null,null,null,null,null,null,null,null,null,{"$f":"IF(M584=\"\",\"\",IF(M584=INDEX(SourceCategory,3),1,IF(CNTR_InstHasCalculation=FALSE,0,2)))","v":""}]
[]
[null,null,null,null,null,{"$f":"Translations!$B$459","v":"Verwijzing naar de procedure voor het bepalen van de voorraden aan het einde van het jaar:"},null,null,null,null,null,null,null,null,null,null,null,null,null,null,null,{"$f":"IF(OR(H584=\"\",ISBLANK(H596)),FALSE,IF(MATCH(H596,EUconst_ActivityDeterminationMethod,0)=2,TRUE,FALSE))","v":false},{"$f":"IF(V598=TRUE,0,W596)","v":""}]
[]
[null,null,null,"ii.",{"$f":"Translations!$B$462","v":"Het instrument wordt beheerd door:"},null,null,null,null,null,null,null,null,null,null,null,null,null,null,null,null,null,{"$f":"W596","v":""}]
[]
[null,null,null,null,"a.",{"$f":"Translations!$B$465","v":"Bevestig dat is voldaan aan de voorwaarden van artikel 29, lid 1:"},null,null,null,null,null,null,null,null,null,null,null,null,null,null,null,{"$f":"IF(OR(H584=\"\",ISBLANK(H600)),FALSE,IF(MATCH(H600,EUconst_OwnerInstrument,0)=1,TRUE,FALSE))","v":false},{"$f":"IF(V602=TRUE,0,W596)","v":""}]
[]
[null,null,null,null,"b.",{"$f":"Translations!$B$468","v":"Bepaalt u de hoeveelheid brandstof of materiaal aan de hand van facturen?"},null,null,null,null,null,null,null,null,null,null,null,null,null,null,null,{"$f":"IF(OR(H584=\"\",ISBLANK(H600)),FALSE,IF(MATCH(H600,EUconst_OwnerInstrument,0)=1,TRUE,FALSE))","v":false},{"$f":"IF(V604=TRUE,0,W596)","v":""}]
[]
[null,null,null,null,"c.",{"$f":"Translations!$B$469","v":"Bevestig dat de handelspartner en de exploitant onafhankelijk zijn:"},null,null,null,null,null,null,null,null,null,null,null,null,null,null,null,{"$f":"IF(OR(H584=\"\",ISBLANK(H600)),FALSE,IF(MATCH(H600,EUconst_OwnerInstrument,0)=1,TRUE,FALSE))","v":false},{"$f":"IF(V606=TRUE,0,W596)","v":""}]
[]
[null,null,null,"(b)",{"$f":"Translations!$B$472","v":"Toegepaste meetinstrumenten:"}]
[]
[null,null,null,null,{"$f":"Translations!$B$475","v":"Commentaar op / beschrijving van de methode, indien meerdere instrumenten zijn gebruikt:"}]
[]
[]
[]
[]
[null,null,null,"(c)",{"$f":"Translations!$B$477","v":"Vereist niveau voor de activiteitsgegevens:"},null,null,{"$f":"IF(H586=\"\",\"\",IF(CNTR_Category=\"A\",INDEX(EUwideConstants!$G:$G,MATCH(Q615,EUwideConstants!$Q:$Q,0)),INDEX(EUwideConstants!$N:$N,MATCH(Q615,EUwideConstants!$Q:$Q,0))))","v":""},{"$f":"IF(H615=\"\",\"\",IF(S615=0,EUconst_NA,IF(ISERROR(S615),\"\",EUconst_MsgTierActivityLevel & \" \" &S615)))","v":""},null,null,null,null,null,null,null,{"$f":"EUconst_CNTR_ActivityData&H586","v":"ActivityData_"},null,{"$f":"IF(H615=\"\",\"\",IF(H615=EUconst_NA,\"\",INDEX(EUwideConstants!$H:$M,MATCH(Q615,EUwideConstants!$Q:$Q,0),MATCH(H615,CNTR_TierList,0))))","v":""}]
[null,null,null,"(d)",{"$f":"Translations!$B$478","v":"Gebruikt niveau voor de activiteitsgegevens:"},null,null,null,{"$f":"IF(OR(ISBLANK(H616),H616=EUconst_NoTier),\"\",IF(S616=0,EUconst_NA,IF(ISERROR(S616),\"\",EUconst_MsgTierActivityLevel & \" \" &S616)))","v":""},null,null,null,null,null,null,null,{"$f":"EUconst_CNTR_ActivityData&H586","v":"ActivityData_"},null,{"$f":"IF(ISBLANK(H616),\"\",IF(H616=EUconst_NA,\"\",INDEX(EUwideConstants!$H:$M,MATCH(Q616,EUwideConstants!$Q:$Q,0),MATCH(H616,CNTR_TierList,0))))","v":""}]
[null,null,null,"(e)",{"$f":"Translations!$B$479","v":"Bereikte onzekerheid:"},null,null,null,{"$f":"Translations!$B$480","v":"Opmerking:"}]
[]
[null,null,null,{"$f":"Translations!$B$490","v":"Berekeningsfactoren:"}]
[]
[null,null,null,"(f)",{"$f":"Translations!$B$515","v":"Toegepaste niveaus voor berekeningsfactoren:"}]
[]
[null,null,null,null,{"$f":"Translations!$B$516","v":"berekeningsfactor"},null,null,{"$f":"Translations!$B$517","v":"vereist niveau"},{"$f":"Translations!$B$518","v":"toegepast niveau"},{"$f":"Translations!$B$519","v":"volledige tekst voor het toegepaste niveau"},null,null,null,null,null,null,null,null,"full text tier",null,null,null,"cond. form."]
[null,null,null,"i.",{"$f":"Translations!$B$520","v":"Calorische onderwaarde (NCV)"},null,null,{"$f":"IF(H586=\"\",\"\",IF(CNTR_Category=\"A\",INDEX(EUwideConstants!$G:$G,MATCH(Q624,EUwideConstants!$Q:$Q,0)),INDEX(EUwideConstants!$N:$N,MATCH(Q624,EUwideConstants!$Q:$Q,0))))","v":""},null,{"$f":"IF(OR(ISBLANK(I624),I624=EUconst_NoTier),\"\",IF(S624=0,EUconst_NotApplicable,IF(ISERROR(S624),\"\",S624)))","v":""},null,null,null,null,null,null,{"$f":"EUconst_CNTR_NCV&H586","v":"NCV_"},null,{"$f":"IF(ISBLANK(I624),\"\",IF(I624=EUconst_NA,\"\",INDEX(EUwideConstants!$H:$M,MATCH(Q624,EUwideConstants!$Q:$Q,0),MATCH(I624,CNTR_TierList,0))))","v":""},null,null,null,{"$f":"(H624=EUconst_NA)","v":false}]
[null,null,null,"ii.",{"$f":"Translations!$B$521","v":"Voorlopige emissiefactor"},null,null,{"$f":"IF(H586=\"\",\"\",IF(CNTR_Category=\"A\",INDEX(EUwideConstants!$G:$G,MATCH(Q625,EUwideConstants!$Q:$Q,0)),INDEX(EUwideConstants!$N:$N,MATCH(Q625,EUwideConstants!$Q:$Q,0))))","v":""},null,"",null,null,null,null,null,null,{"$f":"EUconst_CNTR_EF&H586","v":"EF_"},null,{"$f":"IF(ISBLANK(I625),\"\",IF(I625=EUconst_NA,\"\",INDEX(EUwideConstants!$H:$M,MATCH(Q625,EUwideConstants!$Q:$Q,0),MATCH(I625,CNTR_TierList,0))))","v":""},null,null,null,false]
[null,null,null,"iii.",{"$f":"Translations!$B$522","v":"Oxidatiefactor"},null,null,{"$f":"IF(H586=\"\",\"\",IF(CNTR_Category=\"A\",INDEX(EUwideConstants!$G:$G,MATCH(Q626,EUwideConstants!$Q:$Q,0)),INDEX(EUwideConstants!$N:$N,MATCH(Q626,EUwideConstants!$Q:$Q,0))))","v":""},null,"",null,null,null,null,null,null,{"$f":"EUconst_CNTR_OxidationFactor&H586","v":"OxF_"},null,{"$f":"IF(ISBLANK(I626),\"\",IF(I626=EUconst_NA,\"\",INDEX(EUwideConstants!$H:$M,MATCH(Q626,EUwideConstants!$Q:$Q,0),MATCH(I626,CNTR_TierList,0))))","v":""},null,null,null,false]
[null,null,null,"iv.",{"$f":"Translations!$B$523","v":"Omrekeningsfactor"},null,null,{"$f":"IF(H586=\"\",\"\",IF(CNTR_Category=\"A\",INDEX(EUwideConstants!$G:$G,MATCH(Q627,EUwideConstants!$Q:$Q,0)),INDEX(EUwideConstants!$N:$N,MATCH(Q627,EUwideConstants!$Q:$Q,0))))","v":""},null,"",null,null,null,null,null,null,{"$f":"EUconst_CNTR_ConversionFactor&H586","v":"ConvF_"},null,{"$f":"IF(ISBLANK(I627),\"\",IF(I627=EUconst_NA,\"\",INDEX(EUwideConstants!$H:$M,MATCH(Q627,EUwideConstants!$Q:$Q,0),MATCH(I627,CNTR_TierList,0))))","v":""},null,null,null,false]
[null,null,null,"v.",{"$f":"Translations!$B$524","v":"Koolstofgehalte"},null,null,{"$f":"IF(H586=\"\",\"\",IF(CNTR_Category=\"A\",INDEX(EUwideConstants!$G:$G,MATCH(Q628,EUwideConstants!$Q:$Q,0)),INDEX(EUwideConstants!$N:$N,MATCH(Q628,EUwideConstants!$Q:$Q,0))))","v":""},null,"",null,null,null,null,null,null,{"$f":"EUconst_CNTR_CarbonContent&H586","v":"CarbC_"},null,{"$f":"IF(ISBLANK(I628),\"\",IF(I628=EUconst_NA,\"\",INDEX(EUwideConstants!$H:$M,MATCH(Q628,EUwideConstants!$Q:$Q,0),MATCH(I628,CNTR_TierList,0))))","v":""},null,null,null,false]
[null,null,null,"vi.",{"$f":"Translations!$B$525","v":"Biomassafractie (indien van toepassing)"},null,null,{"$f":"IF(H586=\"\",\"\",IF(CNTR_Category=\"A\",INDEX(EUwideConstants!$G:$G,MATCH(Q629,EUwideConstants!$Q:$Q,0)),INDEX(EUwideConstants!$N:$N,MATCH(Q629,EUwideConstants!$Q:$Q,0))))","v":""},null,"",null,null,null,null,null,null,{"$f":"EUconst_CNTR_BiomassContent&H586","v":"BioC_"},null,{"$f":"IF(ISBLANK(I629),\"\",IF(I629=EUconst_NA,\"\",INDEX(EUwideConstants!$H:$M,MATCH(Q629,EUwideConstants!$Q:$Q,0),MATCH(I629,CNTR_TierList,0))))","v":""},null,null,null,false]
[]
[null,null,null,"(g)",{"$f":"Translations!$B$534","v":"Informatie over berekeningsfactoren:"}]
[]
[null,null,null,null,{"$f":"E623","v":"berekeningsfactor"},null,null,{"$f":"I623","v":"toegepast niveau"},{"$f":"Translations!$B$535","v":"standaardwaarde"},{"$f":"Translations!$B$536","v":"Eenheid"},{"$f":"Translations!$B$537","v":"bronreferentie"},{"$f":"Translations!$B$538","v":"analysereferentie"},{"$f":"Translations!$B$539","v":"steekproefreferentie"},{"$f":"Translations!$B$540","v":"Analysefrequentie"},null,null,null,null,"default value or lab",null,null,null,"cond. form."]
[null,null,null,"i.","Calorische onderwaarde (NCV)",null,null,{"$f":"IF(OR(ISBLANK(I624),I624=EUconst_NA),\"\",I624)","v":""},null,null,null,null,null,null,null,null,null,null,{"$f":"IF(H634=\"\",\"\",IF(I624=EUconst_NA,\"\",INDEX(EUwideConstants!$AJ:$AN,MATCH(Q624,EUwideConstants!$Q:$Q,0),MATCH(I624,CNTR_TierList,0))))","v":""},null,null,null,{"$f":"OR(H634=\"\",H634=EUconst_NA,J624=EUconst_NotApplicable)","v":true}]
[null,null,null,"ii.","Voorlopige emissiefactor",null,null,"",null,null,null,null,null,null,null,null,null,null,{"$f":"IF(H635=\"\",\"\",IF(I625=EUconst_NA,\"\",INDEX(EUwideConstants!$AJ:$AN,MATCH(Q625,EUwideConstants!$Q:$Q,0),MATCH(I625,CNTR_TierList,0))))","v":""},null,null,null,true]
[null,null,null,"iii.","Oxidatiefactor",null,null,"",null,null,null,null,null,null,null,null,null,null,{"$f":"IF(H636=\"\",\"\",IF(I626=EUconst_NA,\"\",INDEX(EUwideConstants!$AJ:$AN,MATCH(Q626,EUwideConstants!$Q:$Q,0),MATCH(I626,CNTR_TierList,0))))","v":""},null,null,null,true]
[null,null,null,"iv.","Omrekeningsfactor",null,null,"",null,null,null,null,null,null,null,null,null,null,{"$f":"IF(H637=\"\",\"\",IF(I627=EUconst_NA,\"\",INDEX(EUwideConstants!$AJ:$AN,MATCH(Q627,EUwideConstants!$Q:$Q,0),MATCH(I627,CNTR_TierList,0))))","v":""},null,null,null,true]
[null,null,null,"v.","Koolstofgehalte",null,null,"",null,null,null,null,null,null,null,null,null,null,{"$f":"IF(H638=\"\",\"\",IF(I628=EUconst_NA,\"\",INDEX(EUwideConstants!$AJ:$AN,MATCH(Q628,EUwideConstants!$Q:$Q,0),MATCH(I628,CNTR_TierList,0))))","v":""},null,null,null,true]
[null,null,null,"vi.","Biomassafractie (indien van toepassing)",null,null,"",null,null,null,null,null,null,null,null,null,null,{"$f":"IF(H639=\"\",\"\",IF(I629=EUconst_NA,\"\",INDEX(EUwideConstants!$AJ:$AN,MATCH(Q629,EUwideConstants!$Q:$Q,0),MATCH(I629,CNTR_TierList,0))))","v":""},null,null,null,true]
[]
[null,null,null,{"$f":"Translations!$B$545","v":"Opmerkingen en uitleg:"}]
[]
[null,null,null,"(h)",{"$f":"Translations!$B$1198","v":"Geef een toelichting en verklaring als de vereiste niveaus niet worden toegepast:"}]
[]
[]
[]
[]
[]
[null,null,null,null,null,null,null,null,null,null,null,null,null,null,null,null,null,null,"Check source stream category","auto","manual"]
[null,null,{"$f":"\"F\"&Q650","v":"F9"},{"$f":"CONCATENATE(Euconst_SourceStream,\" \", Q650,\":\")","v":"Bronstroom 9:"},null,null,null,{"$f":"IF(INDEX(C_InstallationDescription!$G$191:$G$201,MATCH(C650,C_InstallationDescription!$E$191:$E$201,0))>0,INDEX(C_InstallationDescription!$G$191:$G$201,MATCH(C650,C_InstallationDescription!$E$191:$E$201,0)),\"\")","v":""},null,null,null,null,{"$f":"IF(S650=TRUE,IF(U650=\"\",T650,U650),\"\")","v":""},null,null,null,{"$f":"Q584+1","v":9},null,{"$f":"IF(INDEX(C_InstallationDescription!$M:$M,MATCH(Q652,C_InstallationDescription!$Q:$Q,0))=\"\",FALSE,TRUE)","v":false},{"$f":"IF(S650=TRUE,INDEX(C_InstallationDescription!$M:$M,MATCH(Q652,C_InstallationDescription!$Q:$Q,0)),\"\")","v":""},{"$f":"IF(S650=TRUE,IF(ISBLANK(INDEX(C_InstallationDescription!$N:$N,MATCH(Q652,C_InstallationDescription!$Q:$Q,0))),\"\",INDEX(C_InstallationDescription!$N:$N,MATCH(Q652,C_InstallationDescription!$Q:$Q,0))),\"\")","v":""}]
[]
[null,null,null,null,{"$f":"Translations!$B$437","v":"Type bronstroom:"},null,null,{"$f":"IF(INDEX(C_InstallationDescription!$I$191:$I$201,MATCH(C650,C_InstallationDescription!$E$191:$E$201,0))>0,INDEX(C_InstallationDescription!$I$191:$I$201,MATCH(C650,C_InstallationDescription!$E$191:$E$201,0)),\"\")","v":""},null,null,null,null,null,null,null,null,{"$f":"EUconst_CNTR_SourceCategory&C650","v":"SourceCategory_F9"}]
[null,null,null,null,{"$f":"Translations!$B$438","v":"Te gebruiken methode volgens de MRV:"},null,null,{"$f":"IF(H652=\"\",\"\",INDEX(EUwideConstants!$F$261:$F$320,MATCH(H652,EUConst_TierActivityListNames,0)))","v":""}]
[null,null,null,null,{"$f":"Translations!$B$439","v":"Parameter waarop de onzekerheid wordt toegepast:"},null,null,{"$f":"IF(H652=\"\",\"\",INDEX(EUwideConstants!$E$261:$E$320,MATCH(H652,EUConst_TierActivityListNames,0)))","v":""}]
[]
[null,null,null,null,{"$f":"IF(H650=\"\",\"\",INDEX(EUconst_SmallEmiSouStreamMsg,MATCH(Q656,EUconst_SmallEmiSouStream,0)))","v":""},null,null,null,null,null,null,null,null,null,null,null,{"$f":"IF(CNTR_SmallEmitter=TRUE,EUconst_CNTR_SmallEmitter,EUconst_CNTR_NoSmallEmitter) & IF((CNTR_Category)=\"\",\"C\",CNTR_Category) & \"_\" & IF(M650=\"\",1,MATCH(M650,SourceCategory,0))","v":"NoSmallEmitter_C_1"}]
[]
[null,null,null,{"$f":"Translations!$B$454","v":"Activiteitsgegevens:"}]
[]
[null,null,null,"(a)",{"$f":"Translations!$B$455","v":"Bepalingsmethode voor activiteitsgegevens:"}]
[]
[null,null,null,"i.",{"$f":"Translations!$B$456","v":"Bepalingsmethode:"},null,null,null,null,null,null,null,null,null,null,null,null,null,null,null,null,null,{"$f":"IF(M650=\"\",\"\",IF(M650=INDEX(SourceCategory,3),1,IF(CNTR_InstHasCalculation=FALSE,0,2)))","v":""}]
[]
[null,null,null,null,null,{"$f":"Translations!$B$459","v":"Verwijzing naar de procedure voor het bepalen van de voorraden aan het einde van het jaar:"},null,null,null,null,null,null,null,null,null,null,null,null,null,null,null,{"$f":"IF(OR(H650=\"\",ISBLANK(H662)),FALSE,IF(MATCH(H662,EUconst_ActivityDeterminationMethod,0)=2,TRUE,FALSE))","v":false},{"$f":"IF(V664=TRUE,0,W662)","v":""}]
[]
[null,null,null,"ii.",{"$f":"Translations!$B$462","v":"Het instrument wordt beheerd door:"},null,null,null,null,null,null,null,null,null,null,null,null,null,null,null,null,null,{"$f":"W662","v":""}]
[]
[null,null,null,null,"a.",{"$f":"Translations!$B$465","v":"Bevestig dat is voldaan aan de voorwaarden van artikel 29, lid 1:"},null,null,null,null,null,null,null,null,null,null,null,null,null,null,null,{"$f":"IF(OR(H650=\"\",ISBLANK(H666)),FALSE,IF(MATCH(H666,EUconst_OwnerInstrument,0)=1,TRUE,FALSE))","v":false},{"$f":"IF(V668=TRUE,0,W662)","v":""}]
[]
[null,null,null,null,"b.",{"$f":"Translations!$B$468","v":"Bepaalt u de hoeveelheid brandstof of materiaal aan de hand van facturen?"},null,null,null,null,null,null,null,null,null,null,null,null,null,null,null,{"$f":"IF(OR(H650=\"\",ISBLANK(H666)),FALSE,IF(MATCH(H666,EUconst_OwnerInstrument,0)=1,TRUE,FALSE))","v":false},{"$f":"IF(V670=TRUE,0,W662)","v":""}]
[]
[null,null,null,null,"c.",{"$f":"Translations!$B$469","v":"Bevestig dat de handelspartner en de exploitant onafhankelijk zijn:"},null,null,null,null,null,null,null,null,null,null,null,null,null,null,null,{"$f":"IF(OR(H650=\"\",ISBLANK(H666)),FALSE,IF(MATCH(H666,EUconst_OwnerInstrument,0)=1,TRUE,FALSE))","v":false},{"$f":"IF(V672=TRUE,0,W662)","v":""}]
[]
[null,null,null,"(b)",{"$f":"Translations!$B$472","v":"Toegepaste meetinstrumenten:"}]
[]
[null,null,null,null,{"$f":"Translations!$B$475","v":"Commentaar op / beschrijving van de methode, indien meerdere instrumenten zijn gebruikt:"}]
[]
[]
[]
[]
[null,null,null,"(c)",{"$f":"Translations!$B$477","v":"Vereist niveau voor de activiteitsgegevens:"},null,null,{"$f":"IF(H652=\"\",\"\",IF(CNTR_Category=\"A\",INDEX(EUwideConstants!$G:$G,MATCH(Q681,EUwideConstants!$Q:$Q,0)),INDEX(EUwideConstants!$N:$N,MATCH(Q681,EUwideConstants!$Q:$Q,0))))","v":""},{"$f":"IF(H681=\"\",\"\",IF(S681=0,EUconst_NA,IF(ISERROR(S681),\"\",EUconst_MsgTierActivityLevel & \" \" &S681)))","v":""},null,null,null,null,null,null,null,{"$f":"EUconst_CNTR_ActivityData&H652","v":"ActivityData_"},null,{"$f":"IF(H681=\"\",\"\",IF(H681=EUconst_NA,\"\",INDEX(EUwideConstants!$H:$M,MATCH(Q681,EUwideConstants!$Q:$Q,0),MATCH(H681,CNTR_TierList,0))))","v":""}]
[null,null,null,"(d)",{"$f":"Translations!$B$478","v":"Gebruikt niveau voor de activiteitsgegevens:"},null,null,null,{"$f":"IF(OR(ISBLANK(H682),H682=EUconst_NoTier),\"\",IF(S682=0,EUconst_NA,IF(ISERROR(S682),\"\",EUconst_MsgTierActivityLevel & \" \" &S682)))","v":""},null,null,null,null,null,null,null,{"$f":"EUconst_CNTR_ActivityData&H652","v":"ActivityData_"},null,{"$f":"IF(ISBLANK(H682),\"\",IF(H682=EUconst_NA,\"\",INDEX(EUwideConstants!$H:$M,MATCH(Q682,EUwideConstants!$Q:$Q,0),MATCH(H682,CNTR_TierList,0))))","v":""}]
[null,null,null,"(e)",{"$f":"Translations!$B$479","v":"Bereikte onzekerheid:"},null,null,null,{"$f":"Translations!$B$480","v":"Opmerking:"}]
[]
[null,null,null,{"$f":"Translations!$B$490","v":"Berekeningsfactoren:"}]
[]
[null,null,null,"(f)",{"$f":"Translations!$B$515","v":"Toegepaste niveaus voor berekeningsfactoren:"}]
[]
[null,null,null,null,{"$f":"Translations!$B$516","v":"berekeningsfactor"},null,null,{"$f":"Translations!$B$517","v":"vereist niveau"},{"$f":"Translations!$B$518","v":"toegepast niveau"},{"$f":"Translations!$B$519","v":"volledige tekst voor het toegepaste niveau"},null,null,null,null,null,null,null,null,"full text tier",null,null,null,"cond. form."]
[null,null,null,"i.",{"$f":"Translations!$B$520","v":"Calorische onderwaarde (NCV)"},null,null,{"$f":"IF(H652=\"\",\"\",IF(CNTR_Category=\"A\",INDEX(EUwideConstants!$G:$G,MATCH(Q690,EUwideConstants!$Q:$Q,0)),INDEX(EUwideConstants!$N:$N,MATCH(Q690,EUwideConstants!$Q:$Q,0))))","v":""},null,{"$f":"IF(OR(ISBLANK(I690),I690=EUconst_NoTier),\"\",IF(S690=0,EUconst_NotApplicable,IF(ISERROR(S690),\"\",S690)))","v":""},null,null,null,null,null,null,{"$f":"EUconst_CNTR_NCV&H652","v":"NCV_"},null,{"$f":"IF(ISBLANK(I690),\"\",IF(I690=EUconst_NA,\"\",INDEX(EUwideConstants!$H:$M,MATCH(Q690,EUwideConstants!$Q:$Q,0),MATCH(I690,CNTR_TierList,0))))","v":""},null,null,null,{"$f":"(H690=EUconst_NA)","v":false}]
[null,null,null,"ii.",{"$f":"Translations!$B$521","v":"Voorlopige emissiefactor"},null,null,{"$f":"IF(H652=\"\",\"\",IF(CNTR_Category=\"A\",INDEX(EUwideConstants!$G:$G,MATCH(Q691,EUwideConstants!$Q:$Q,0)),INDEX(EUwideConstants!$N:$N,MATCH(Q691,EUwideConstants!$Q:$Q,0))))","v":""},null,"",null,null,null,null,null,null,{"$f":"EUconst_CNTR_EF&H652","v":"EF_"},null,{"$f":"IF(ISBLANK(I691),\"\",IF(I691=EUconst_NA,\"\",INDEX(EUwideConstants!$H:$M,MATCH(Q691,EUwideConstants!$Q:$Q,0),MATCH(I691,CNTR_TierList,0))))","v":""},null,null,null,false]
[null,null,null,"iii.",{"$f":"Translations!$B$522","v":"Oxidatiefactor"},null,null,{"$f":"IF(H652=\"\",\"\",IF(CNTR_Category=\"A\",INDEX(EUwideConstants!$G:$G,MATCH(Q692,EUwideConstants!$Q:$Q,0)),INDEX(EUwideConstants!$N:$N,MATCH(Q692,EUwideConstants!$Q:$Q,0))))","v":""},null,"",null,null,null,null,null,null,{"$f":"EUconst_CNTR_OxidationFactor&H652","v":"OxF_"},null,{"$f":"IF(ISBLANK(I692),\"\",IF(I692=EUconst_NA,\"\",INDEX(EUwideConstants!$H:$M,MATCH(Q692,EUwideConstants!$Q:$Q,0),MATCH(I692,CNTR_TierList,0))))","v":""},null,null,null,false]
[null,null,null,"iv.",{"$f":"Translations!$B$523","v":"Omrekeningsfactor"},null,null,{"$f":"IF(H652=\"\",\"\",IF(CNTR_Category=\"A\",INDEX(EUwideConstants!$G:$G,MATCH(Q693,EUwideConstants!$Q:$Q,0)),INDEX(EUwideConstants!$N:$N,MATCH(Q693,EUwideConstants!$Q:$Q,0))))","v":""},null,"",null,null,null,null,null,null,{"$f":"EUconst_CNTR_ConversionFactor&H652","v":"ConvF_"},null,{"$f":"IF(ISBLANK(I693),\"\",IF(I693=EUconst_NA,\"\",INDEX(EUwideConstants!$H:$M,MATCH(Q693,EUwideConstants!$Q:$Q,0),MATCH(I693,CNTR_TierList,0))))","v":""},null,null,null,false]
[null,null,null,"v.",{"$f":"Translations!$B$524","v":"Koolstofgehalte"},null,null,{"$f":"IF(H652=\"\",\"\",IF(CNTR_Category=\"A\",INDEX(EUwideConstants!$G:$G,MATCH(Q694,EUwideConstants!$Q:$Q,0)),INDEX(EUwideConstants!$N:$N,MATCH(Q694,EUwideConstants!$Q:$Q,0))))","v":""},null,"",null,null,null,null,null,null,{"$f":"EUconst_CNTR_CarbonContent&H652","v":"CarbC_"},null,{"$f":"IF(ISBLANK(I694),\"\",IF(I694=EUconst_NA,\"\",INDEX(EUwideConstants!$H:$M,MATCH(Q694,EUwideConstants!$Q:$Q,0),MATCH(I694,CNTR_TierList,0))))","v":""},null,null,null,false]
[null,null,null,"vi.",{"$f":"Translations!$B$525","v":"Biomassafractie (indien van toepassing)"},null,null,{"$f":"IF(H652=\"\",\"\",IF(CNTR_Category=\"A\",INDEX(EUwideConstants!$G:$G,MATCH(Q695,EUwideConstants!$Q:$Q,0)),INDEX(EUwideConstants!$N:$N,MATCH(Q695,EUwideConstants!$Q:$Q,0))))","v":""},null,"",null,null,null,null,null,null,{"$f":"EUconst_CNTR_BiomassContent&H652","v":"BioC_"},null,{"$f":"IF(ISBLANK(I695),\"\",IF(I695=EUconst_NA,\"\",INDEX(EUwideConstants!$H:$M,MATCH(Q695,EUwideConstants!$Q:$Q,0),MATCH(I695,CNTR_TierList,0))))","v":""},null,null,null,false]
[]
[null,null,null,"(g)",{"$f":"Translations!$B$534","v":"Informatie over berekeningsfactoren:"}]
[]
[null,null,null,null,{"$f":"E689","v":"berekeningsfactor"},null,null,{"$f":"I689","v":"toegepast niveau"},{"$f":"Translations!$B$535","v":"standaardwaarde"},{"$f":"Translations!$B$536","v":"Eenheid"},{"$f":"Translations!$B$537","v":"bronreferentie"},{"$f":"Translations!$B$538","v":"analysereferentie"},{"$f":"Translations!$B$539","v":"steekproefreferentie"},{"$f":"Translations!$B$540","v":"Analysefrequentie"},null,null,null,null,"default value or lab",null,null,null,"cond. form."]
[null,null,null,"i.","Calorische onderwaarde (NCV)",null,null,{"$f":"IF(OR(ISBLANK(I690),I690=EUconst_NA),\"\",I690)","v":""},null,null,null,null,null,null,null,null,null,null,{"$f":"IF(H700=\"\",\"\",IF(I690=EUconst_NA,\"\",INDEX(EUwideConstants!$AJ:$AN,MATCH(Q690,EUwideConstants!$Q:$Q,0),MATCH(I690,CNTR_TierList,0))))","v":""},null,null,null,{"$f":"OR(H700=\"\",H700=EUconst_NA,J690=EUconst_NotApplicable)","v":true}]
[null,null,null,"ii.","Voorlopige emissiefactor",null,null,"",null,null,null,null,null,null,null,null,null,null,{"$f":"IF(H701=\"\",\"\",IF(I691=EUconst_NA,\"\",INDEX(EUwideConstants!$AJ:$AN,MATCH(Q691,EUwideConstants!$Q:$Q,0),MATCH(I691,CNTR_TierList,0))))","v":""},null,null,null,true]
[null,null,null,"iii.","Oxidatiefactor",null,null,"",null,null,null,null,null,null,null,null,null,null,{"$f":"IF(H702=\"\",\"\",IF(I692=EUconst_NA,\"\",INDEX(EUwideConstants!$AJ:$AN,MATCH(Q692,EUwideConstants!$Q:$Q,0),MATCH(I692,CNTR_TierList,0))))","v":""},null,null,null,true]
[null,null,null,"iv.","Omrekeningsfactor",null,null,"",null,null,null,null,null,null,null,null,null,null,{"$f":"IF(H703=\"\",\"\",IF(I693=EUconst_NA,\"\",INDEX(EUwideConstants!$AJ:$AN,MATCH(Q693,EUwideConstants!$Q:$Q,0),MATCH(I693,CNTR_TierList,0))))","v":""},null,null,null,true]
[null,null,null,"v.","Koolstofgehalte",null,null,"",null,null,null,null,null,null,null,null,null,null,{"$f":"IF(H704=\"\",\"\",IF(I694=EUconst_NA,\"\",INDEX(EUwideConstants!$AJ:$AN,MATCH(Q694,EUwideConstants!$Q:$Q,0),MATCH(I694,CNTR_TierList,0))))","v":""},null,null,null,true]
[null,null,null,"vi.","Biomassafractie (indien van toepassing)",null,null,"",null,null,null,null,null,null,null,null,null,null,{"$f":"IF(H705=\"\",\"\",IF(I695=EUconst_NA,\"\",INDEX(EUwideConstants!$AJ:$AN,MATCH(Q695,EUwideConstants!$Q:$Q,0),MATCH(I695,CNTR_TierList,0))))","v":""},null,null,null,true]
[]
[null,null,null,{"$f":"Translations!$B$545","v":"Opmerkingen en uitleg:"}]
[]
[null,null,null,"(h)",{"$f":"Translations!$B$1198","v":"Geef een toelichting en verklaring als de vereiste niveaus niet worden toegepast:"}]
[]
[]
[]
[]
[]
["ADD_CompleteSourceStream",null,null,null,null,null,null,null,null,null,null,null,null,null,null,null,null,null,"Check source stream category","auto","manual"]
[null,null,{"$f":"\"F\"&Q716","v":"F10"},{"$f":"CONCATENATE(Euconst_SourceStream,\" \", Q716,\":\")","v":"Bronstroom 10:"},null,null,null,{"$f":"IF(INDEX(C_InstallationDescription!$G$191:$G$201,MATCH(C716,C_InstallationDescription!$E$191:$E$201,0))>0,INDEX(C_InstallationDescription!$G$191:$G$201,MATCH(C716,C_InstallationDescription!$E$191:$E$201,0)),\"\")","v":""},null,null,null,null,{"$f":"IF(S716=TRUE,IF(U716=\"\",T716,U716),\"\")","v":""},null,null,null,{"$f":"Q650+1","v":10},null,{"$f":"IF(INDEX(C_InstallationDescription!$M:$M,MATCH(Q718,C_InstallationDescription!$Q:$Q,0))=\"\",FALSE,TRUE)","v":false},{"$f":"IF(S716=TRUE,INDEX(C_InstallationDescription!$M:$M,MATCH(Q718,C_InstallationDescription!$Q:$Q,0)),\"\")","v":""},{"$f":"IF(S716=TRUE,IF(ISBLANK(INDEX(C_InstallationDescription!$N:$N,MATCH(Q718,C_InstallationDescription!$Q:$Q,0))),\"\",INDEX(C_InstallationDescription!$N:$N,MATCH(Q718,C_InstallationDescription!$Q:$Q,0))),\"\")","v":""}]
[]
[null,null,null,null,{"$f":"Translations!$B$437","v":"Type bronstroom:"},null,null,{"$f":"IF(INDEX(C_InstallationDescription!$I$191:$I$201,MATCH(C716,C_InstallationDescription!$E$191:$E$201,0))>0,INDEX(C_InstallationDescription!$I$191:$I$201,MATCH(C716,C_InstallationDescription!$E$191:$E$201,0)),\"\")","v":""},null,null,null,null,null,null,null,null,{"$f":"EUconst_CNTR_SourceCategory&C716","v":"SourceCategory_F10"}]
[null,null,null,null,{"$f":"Translations!$B$438","v":"Te gebruiken methode volgens de MRV:"},null,null,{"$f":"IF(H718=\"\",\"\",INDEX(EUwideConstants!$F$261:$F$320,MATCH(H718,EUConst_TierActivityListNames,0)))","v":""}]
[null,null,null,null,{"$f":"Translations!$B$439","v":"Parameter waarop de onzekerheid wordt toegepast:"},null,null,{"$f":"IF(H718=\"\",\"\",INDEX(EUwideConstants!$E$261:$E$320,MATCH(H718,EUConst_TierActivityListNames,0)))","v":""}]
[]
[null,null,null,null,{"$f":"IF(H716=\"\",\"\",INDEX(EUconst_SmallEmiSouStreamMsg,MATCH(Q722,EUconst_SmallEmiSouStream,0)))","v":""},null,null,null,null,null,null,null,null,null,null,null,{"$f":"IF(CNTR_SmallEmitter=TRUE,EUconst_CNTR_SmallEmitter,EUconst_CNTR_NoSmallEmitter) & IF((CNTR_Category)=\"\",\"C\",CNTR_Category) & \"_\" & IF(M716=\"\",1,MATCH(M716,SourceCategory,0))","v":"NoSmallEmitter_C_1"}]
[]
[null,null,null,{"$f":"Translations!$B$454","v":"Activiteitsgegevens:"}]
[]
[null,null,null,"(a)",{"$f":"Translations!$B$455","v":"Bepalingsmethode voor activiteitsgegevens:"}]
[]
[null,null,null,"i.",{"$f":"Translations!$B$456","v":"Bepalingsmethode:"},null,null,null,null,null,null,null,null,null,null,null,null,null,null,null,null,null,{"$f":"IF(M716=\"\",\"\",IF(M716=INDEX(SourceCategory,3),1,IF(CNTR_InstHasCalculation=FALSE,0,2)))","v":""}]
[]
[null,null,null,null,null,{"$f":"Translations!$B$459","v":"Verwijzing naar de procedure voor het bepalen van de voorraden aan het einde van het jaar:"},null,null,null,null,null,null,null,null,null,null,null,null,null,null,null,{"$f":"IF(OR(H716=\"\",ISBLANK(H728)),FALSE,IF(MATCH(H728,EUconst_ActivityDeterminationMethod,0)=2,TRUE,FALSE))","v":false},{"$f":"IF(V730=TRUE,0,W728)","v":""}]
[]
[null,null,null,"ii.",{"$f":"Translations!$B$462","v":"Het instrument wordt beheerd door:"},null,null,null,null,null,null,null,null,null,null,null,null,null,null,null,null,null,{"$f":"W728","v":""}]
[]
[null,null,null,null,"a.",{"$f":"Translations!$B$465","v":"Bevestig dat is voldaan aan de voorwaarden van artikel 29, lid 1:"},null,null,null,null,null,null,null,null,null,null,null,null,null,null,null,{"$f":"IF(OR(H716=\"\",ISBLANK(H732)),FALSE,IF(MATCH(H732,EUconst_OwnerInstrument,0)=1,TRUE,FALSE))","v":false},{"$f":"IF(V734=TRUE,0,W728)","v":""}]
[]
[null,null,null,null,"b.",{"$f":"Translations!$B$468","v":"Bepaalt u de hoeveelheid brandstof of materiaal aan de hand van facturen?"},null,null,null,null,null,null,null,null,null,null,null,null,null,null,null,{"$f":"IF(OR(H716=\"\",ISBLANK(H732)),FALSE,IF(MATCH(H732,EUconst_OwnerInstrument,0)=1,TRUE,FALSE))","v":false},{"$f":"IF(V736=TRUE,0,W728)","v":""}]
[]
[null,null,null,null,"c.",{"$f":"Translations!$B$469","v":"Bevestig dat de handelspartner en de exploitant onafhankelijk zijn:"},null,null,null,null,null,null,null,null,null,null,null,null,null,null,null,{"$f":"IF(OR(H716=\"\",ISBLANK(H732)),FALSE,IF(MATCH(H732,EUconst_OwnerInstrument,0)=1,TRUE,FALSE))","v":false},{"$f":"IF(V738=TRUE,0,W728)","v":""}]
[]
[null,null,null,"(b)",{"$f":"Translations!$B$472","v":"Toegepaste meetinstrumenten:"}]
[]
[null,null,null,null,{"$f":"Translations!$B$475","v":"Commentaar op / beschrijving van de methode, indien meerdere instrumenten zijn gebruikt:"}]
[]
[]
[]
[]
[null,null,null,"(c)",{"$f":"Translations!$B$477","v":"Vereist niveau voor de activiteitsgegevens:"},null,null,{"$f":"IF(H718=\"\",\"\",IF(CNTR_Category=\"A\",INDEX(EUwideConstants!$G:$G,MATCH(Q747,EUwideConstants!$Q:$Q,0)),INDEX(EUwideConstants!$N:$N,MATCH(Q747,EUwideConstants!$Q:$Q,0))))","v":""},{"$f":"IF(H747=\"\",\"\",IF(S747=0,EUconst_NA,IF(ISERROR(S747),\"\",EUconst_MsgTierActivityLevel & \" \" &S747)))","v":""},null,null,null,null,null,null,null,{"$f":"EUconst_CNTR_ActivityData&H718","v":"ActivityData_"},null,{"$f":"IF(H747=\"\",\"\",IF(H747=EUconst_NA,\"\",INDEX(EUwideConstants!$H:$M,MATCH(Q747,EUwideConstants!$Q:$Q,0),MATCH(H747,CNTR_TierList,0))))","v":""}]
[null,null,null,"(d)",{"$f":"Translations!$B$478","v":"Gebruikt niveau voor de activiteitsgegevens:"},null,null,null,{"$f":"IF(OR(ISBLANK(H748),H748=EUconst_NoTier),\"\",IF(S748=0,EUconst_NA,IF(ISERROR(S748),\"\",EUconst_MsgTierActivityLevel & \" \" &S748)))","v":""},null,null,null,null,null,null,null,{"$f":"EUconst_CNTR_ActivityData&H718","v":"ActivityData_"},null,{"$f":"IF(ISBLANK(H748),\"\",IF(H748=EUconst_NA,\"\",INDEX(EUwideConstants!$H:$M,MATCH(Q748,EUwideConstants!$Q:$Q,0),MATCH(H748,CNTR_TierList,0))))","v":""}]
[null,null,null,"(e)",{"$f":"Translations!$B$479","v":"Bereikte onzekerheid:"},null,null,null,{"$f":"Translations!$B$480","v":"Opmerking:"}]
[]
[null,null,null,{"$f":"Translations!$B$490","v":"Berekeningsfactoren:"}]
[]
[null,null,null,"(f)",{"$f":"Translations!$B$515","v":"Toegepaste niveaus voor berekeningsfactoren:"}]
[]
[null,null,null,null,{"$f":"Translations!$B$516","v":"berekeningsfactor"},null,null,{"$f":"Translations!$B$517","v":"vereist niveau"},{"$f":"Translations!$B$518","v":"toegepast niveau"},{"$f":"Translations!$B$519","v":"volledige tekst voor het toegepaste niveau"},null,null,null,null,null,null,null,null,"full text tier",null,null,null,"cond. form."]
[null,null,null,"i.",{"$f":"Translations!$B$520","v":"Calorische onderwaarde (NCV)"},null,null,{"$f":"IF(H718=\"\",\"\",IF(CNTR_Category=\"A\",INDEX(EUwideConstants!$G:$G,MATCH(Q756,EUwideConstants!$Q:$Q,0)),INDEX(EUwideConstants!$N:$N,MATCH(Q756,EUwideConstants!$Q:$Q,0))))","v":""},null,{"$f":"IF(OR(ISBLANK(I756),I756=EUconst_NoTier),\"\",IF(S756=0,EUconst_NotApplicable,IF(ISERROR(S756),\"\",S756)))","v":""},null,null,null,null,null,null,{"$f":"EUconst_CNTR_NCV&H718","v":"NCV_"},null,{"$f":"IF(ISBLANK(I756),\"\",IF(I756=EUconst_NA,\"\",INDEX(EUwideConstants!$H:$M,MATCH(Q756,EUwideConstants!$Q:$Q,0),MATCH(I756,CNTR_TierList,0))))","v":""},null,null,null,{"$f":"(H756=EUconst_NA)","v":false}]
[null,null,null,"ii.",{"$f":"Translations!$B$521","v":"Voorlopige emissiefactor"},null,null,{"$f":"IF(H718=\"\",\"\",IF(CNTR_Category=\"A\",INDEX(EUwideConstants!$G:$G,MATCH(Q757,EUwideConstants!$Q:$Q,0)),INDEX(EUwideConstants!$N:$N,MATCH(Q757,EUwideConstants!$Q:$Q,0))))","v":""},null,"",null,null,null,null,null,null,{"$f":"EUconst_CNTR_EF&H718","v":"EF_"},null,{"$f":"IF(ISBLANK(I757),\"\",IF(I757=EUconst_NA,\"\",INDEX(EUwideConstants!$H:$M,MATCH(Q757,EUwideConstants!$Q:$Q,0),MATCH(I757,CNTR_TierList,0))))","v":""},null,null,null,false]
[null,null,null,"iii.",{"$f":"Translations!$B$522","v":"Oxidatiefactor"},null,null,{"$f":"IF(H718=\"\",\"\",IF(CNTR_Category=\"A\",INDEX(EUwideConstants!$G:$G,MATCH(Q758,EUwideConstants!$Q:$Q,0)),INDEX(EUwideConstants!$N:$N,MATCH(Q758,EUwideConstants!$Q:$Q,0))))","v":""},null,"",null,null,null,null,null,null,{"$f":"EUconst_CNTR_OxidationFactor&H718","v":"OxF_"},null,{"$f":"IF(ISBLANK(I758),\"\",IF(I758=EUconst_NA,\"\",INDEX(EUwideConstants!$H:$M,MATCH(Q758,EUwideConstants!$Q:$Q,0),MATCH(I758,CNTR_TierList,0))))","v":""},null,null,null,false]
[null,null,null,"iv.",{"$f":"Translations!$B$523","v":"Omrekeningsfactor"},null,null,{"$f":"IF(H718=\"\",\"\",IF(CNTR_Category=\"A\",INDEX(EUwideConstants!$G:$G,MATCH(Q759,EUwideConstants!$Q:$Q,0)),INDEX(EUwideConstants!$N:$N,MATCH(Q759,EUwideConstants!$Q:$Q,0))))","v":""},null,"",null,null,null,null,null,null,{"$f":"EUconst_CNTR_ConversionFactor&H718","v":"ConvF_"},null,{"$f":"IF(ISBLANK(I759),\"\",IF(I759=EUconst_NA,\"\",INDEX(EUwideConstants!$H:$M,MATCH(Q759,EUwideConstants!$Q:$Q,0),MATCH(I759,CNTR_TierList,0))))","v":""},null,null,null,false]
[null,null,null,"v.",{"$f":"Translations!$B$524","v":"Koolstofgehalte"},null,null,{"$f":"IF(H718=\"\",\"\",IF(CNTR_Category=\"A\",INDEX(EUwideConstants!$G:$G,MATCH(Q760,EUwideConstants!$Q:$Q,0)),INDEX(EUwideConstants!$N:$N,MATCH(Q760,EUwideConstants!$Q:$Q,0))))","v":""},null,"",null,null,null,null,null,null,{"$f":"EUconst_CNTR_CarbonContent&H718","v":"CarbC_"},null,{"$f":"IF(ISBLANK(I760),\"\",IF(I760=EUconst_NA,\"\",INDEX(EUwideConstants!$H:$M,MATCH(Q760,EUwideConstants!$Q:$Q,0),MATCH(I760,CNTR_TierList,0))))","v":""},null,null,null,false]
[null,null,null,"vi.",{"$f":"Translations!$B$525","v":"Biomassafractie (indien van toepassing)"},null,null,{"$f":"IF(H718=\"\",\"\",IF(CNTR_Category=\"A\",INDEX(EUwideConstants!$G:$G,MATCH(Q761,EUwideConstants!$Q:$Q,0)),INDEX(EUwideConstants!$N:$N,MATCH(Q761,EUwideConstants!$Q:$Q,0))))","v":""},null,"",null,null,null,null,null,null,{"$f":"EUconst_CNTR_BiomassContent&H718","v":"BioC_"},null,{"$f":"IF(ISBLANK(I761),\"\",IF(I761=EUconst_NA,\"\",INDEX(EUwideConstants!$H:$M,MATCH(Q761,EUwideConstants!$Q:$Q,0),MATCH(I761,CNTR_TierList,0))))","v":""},null,null,null,false]
[]
[null,null,null,"(g)",{"$f":"Translations!$B$534","v":"Informatie over berekeningsfactoren:"}]
[]
[null,null,null,null,{"$f":"E755","v":"berekeningsfactor"},null,null,{"$f":"I755","v":"toegepast niveau"},{"$f":"Translations!$B$535","v":"standaardwaarde"},{"$f":"Translations!$B$536","v":"Eenheid"},{"$f":"Translations!$B$537","v":"bronreferentie"},{"$f":"Translations!$B$538","v":"analysereferentie"},{"$f":"Translations!$B$539","v":"steekproefreferentie"},{"$f":"Translations!$B$540","v":"Analysefrequentie"},null,null,null,null,"default value or lab",null,null,null,"cond. form."]
[null,null,null,"i.","Calorische onderwaarde (NCV)",null,null,{"$f":"IF(OR(ISBLANK(I756),I756=EUconst_NA),\"\",I756)","v":""},null,null,null,null,null,null,null,null,null,null,{"$f":"IF(H766=\"\",\"\",IF(I756=EUconst_NA,\"\",INDEX(EUwideConstants!$AJ:$AN,MATCH(Q756,EUwideConstants!$Q:$Q,0),MATCH(I756,CNTR_TierList,0))))","v":""},null,null,null,{"$f":"OR(H766=\"\",H766=EUconst_NA,J756=EUconst_NotApplicable)","v":true}]
[null,null,null,"ii.","Voorlopige emissiefactor",null,null,"",null,null,null,null,null,null,null,null,null,null,{"$f":"IF(H767=\"\",\"\",IF(I757=EUconst_NA,\"\",INDEX(EUwideConstants!$AJ:$AN,MATCH(Q757,EUwideConstants!$Q:$Q,0),MATCH(I757,CNTR_TierList,0))))","v":""},null,null,null,true]
[null,null,null,"iii.","Oxidatiefactor",null,null,"",null,null,null,null,null,null,null,null,null,null,{"$f":"IF(H768=\"\",\"\",IF(I758=EUconst_NA,\"\",INDEX(EUwideConstants!$AJ:$AN,MATCH(Q758,EUwideConstants!$Q:$Q,0),MATCH(I758,CNTR_TierList,0))))","v":""},null,null,null,true]
[null,null,null,"iv.","Omrekeningsfactor",null,null,"",null,null,null,null,null,null,null,null,null,null,{"$f":"IF(H769=\"\",\"\",IF(I759=EUconst_NA,\"\",INDEX(EUwideConstants!$AJ:$AN,MATCH(Q759,EUwideConstants!$Q:$Q,0),MATCH(I759,CNTR_TierList,0))))","v":""},null,null,null,true]
[null,null,null,"v.","Koolstofgehalte",null,null,"",null,null,null,null,null,null,null,null,null,null,{"$f":"IF(H770=\"\",\"\",IF(I760=EUconst_NA,\"\",INDEX(EUwideConstants!$AJ:$AN,MATCH(Q760,EUwideConstants!$Q:$Q,0),MATCH(I760,CNTR_TierList,0))))","v":""},null,null,null,true]
[null,null,null,"vi.","Biomassafractie (indien van toepassing)",null,null,"",null,null,null,null,null,null,null,null,null,null,{"$f":"IF(H771=\"\",\"\",IF(I761=EUconst_NA,\"\",INDEX(EUwideConstants!$AJ:$AN,MATCH(Q761,EUwideConstants!$Q:$Q,0),MATCH(I761,CNTR_TierList,0))))","v":""},null,null,null,true]
[]
[null,null,null,{"$f":"Translations!$B$545","v":"Opmerkingen en uitleg:"}]
[]
[null,null,null,"(h)",{"$f":"Translations!$B$1198","v":"Geef een toelichting en verklaring als de vereiste niveaus niet worden toegepast:"}]
[]
[]
[]
[]
[]
["ADD_CompleteSourceStream"]
[]
[null,null,null,null,null,{"$f":"EUconst_MsgNextSheet","v":"<<< Klik hier om naar het volgende werkblad te gaan >>> "}]
[]
["ausblenden","End","End","End","End","End","End","End","End","End","End","End","End","End","End",null,"End","End","End","End","End","End","End"]

{"sheet":"F_MeasurementBasedApproaches","index":7,"n_rows":526,"n_cols":25,"rows_kept":526,"cut":false,"hidden":false,"merged":[[452,4,452,13],[485,4,485,5],[480,6,480,13],[450,3,450,13],[481,6,481,13],[469,6,469,13],[469,4,469,5],[466,4,466,13],[461,4,461,5],[455,4,455,13],[478,4,478,13],[458,4,458,5],[461,6,461,13],[464,4,464,5],[463,6,463,13],[472,4,472,5],[463,4,463,5],[458,6,458,13],[476,6,476,13],[457,6,457,13],[459,4,459,5],[474,4,474,5],[482,6,482,13],[472,6,472,13],[483,6,483,13],[475,4,475,5],[473,4,473,5],[479,6,479,13],[473,6,473,13],[479,4,479,5],[476,4,476,5],[475,6,475,13],[459,6,459,13],[464,6,464,13],[470,4,470,5],[482,4,482,5],[204,5,204,13],[214,4,214,13],[185,4,185,13],[198,5,198,13],[186,4,186,13],[194,5,194,13],[188,4,188,13],[206,3,206,13],[209,4,209,13],[197,5,197,13],[195,5,195,13],[200,5,200,13],[191,5,191,13],[213,4,213,13],[184,4,184,13],[201,5,201,13],[182,4,182,13],[192,5,192,13],[177,4,177,13],[203,5,203,13],[117,8,117,10],[117,12,117,13],[176,4,176,13],[130,3,130,13],[138,3,138,6],[138,7,138,11],[147,4,147,13],[151,4,151,13],[156,3,156,6],[163,4,163,13],[170,3,170,6],[136,12,136,13],[143,4,143,13],[142,4,142,13],[145,3,145,13],[189,4,189,13],[116,5,116,6],[107,5,107,6],[113,12,113,13],[115,12,115,13],[114,5,114,6],[114,8,114,10],[114,12,114,13],[108,8,108,10],[109,5,109,6],[108,12,108,13],[110,12,110,13],[109,8,109,10],[110,8,110,10],[73,2,74,3],[75,11,76,11],[73,7,74,7],[73,11,74,11],[75,13,76,13],[75,12,76,12],[75,18,76,18],[75,19,76,19],[73,13,74,13],[73,18,74,18],[73,19,74,19],[83,2,84,3],[83,7,84,7],[83,12,84,12],[81,11,82,11],[81,12,82,12],[81,13,82,13],[81,4,82,5],[81,2,82,3],[81,6,82,6],[81,7,82,7],[77,4,78,5],[77,6,78,6],[73,6,74,6],[79,4,80,5],[79,6,80,6],[73,12,74,12],[75,7,76,7],[71,20,72,20],[81,19,82,19],[81,20,82,20],[73,20,74,20],[75,20,76,20],[77,19,78,19],[77,20,78,20],[79,11,80,11],[81,18,82,18],[79,19,80,19],[86,6,88,10],[83,19,84,19],[83,13,84,13],[83,6,84,6],[79,20,80,20],[77,18,78,18],[79,18,80,18],[83,20,84,20],[83,11,84,11],[90,4,90,8],[90,9,90,13],[83,18,84,18],[457,4,457,5],[491,4,491,5],[491,6,491,13],[490,6,490,13],[489,4,489,5],[489,6,489,13],[483,4,483,5],[480,4,480,5],[484,4,484,5],[481,4,481,5],[116,12,116,13],[115,5,115,6],[104,8,104,10],[92,4,92,13],[91,4,91,13],[83,4,84,5],[165,4,165,13],[153,3,153,13],[129,3,129,13],[100,5,100,6],[99,8,99,10],[59,2,60,3],[105,5,105,6],[75,2,76,3],[61,2,62,3],[71,6,72,6],[75,6,76,6],[79,2,80,3],[63,4,64,5],[67,2,68,3],[69,2,70,3],[104,5,104,6],[101,5,101,6],[97,4,97,13],[96,4,96,13],[71,4,72,5],[77,2,78,3],[103,5,103,6],[101,12,101,13],[103,8,103,10],[103,12,103,13],[102,5,102,6],[102,12,102,13],[102,8,102,10],[99,12,99,13],[1,6,1,7],[2,6,2,7],[15,4,15,13],[21,4,21,13],[22,4,22,13],[2,10,2,11],[2,12,2,13],[5,2,5,10],[5,11,5,13],[9,3,9,13],[2,4,2,5],[2,8,2,9],[1,1,3,3],[1,10,1,11],[3,10,3,11],[1,12,1,13],[1,8,1,9],[3,12,3,13],[3,4,3,5],[1,4,1,5],[7,10,7,13],[12,4,12,13],[11,4,11,13],[57,2,58,3],[59,13,60,13],[57,6,58,6],[112,5,112,6],[112,8,112,10],[112,12,112,13],[104,12,104,13],[63,2,64,3],[65,2,66,3],[71,2,72,3],[61,13,62,13],[73,4,74,5],[75,4,76,5],[69,6,70,6],[69,7,70,7],[69,4,70,5],[77,13,78,13],[79,12,80,12],[79,13,80,13],[79,7,80,7],[77,11,78,11],[77,12,78,12],[77,7,78,7],[106,8,106,10],[24,4,24,13],[3,6,3,7],[3,8,3,9],[14,4,14,13],[23,4,23,13],[19,4,19,13],[16,4,16,13],[17,4,17,13],[18,4,18,13],[25,4,25,13],[28,4,28,13],[26,4,26,13],[50,4,50,13],[47,4,47,13],[45,4,45,13],[42,9,42,13],[39,4,39,13],[36,4,36,13],[27,4,27,13],[48,4,48,13],[49,4,49,13],[43,4,43,13],[46,4,46,13],[29,4,29,13],[34,4,34,13],[31,4,31,13],[33,4,33,13],[30,4,30,13],[32,4,32,13],[99,5,99,6],[115,8,115,10],[119,6,121,10],[57,13,58,13],[42,4,42,8],[35,4,35,13],[38,4,38,13],[37,4,37,13],[54,4,54,13],[67,7,68,7],[67,12,68,12],[61,12,62,12],[59,12,60,12],[65,4,66,5],[67,4,68,5],[111,8,111,10],[51,4,51,13],[52,4,52,13],[53,4,53,13],[55,4,55,13],[65,7,66,7],[40,4,40,13],[65,6,66,6],[63,6,64,6],[63,19,64,19],[63,13,64,13],[63,18,64,18],[65,18,66,18],[67,18,68,18],[65,13,66,13],[63,20,64,20],[57,4,58,5],[61,7,62,7],[61,6,62,6],[61,11,62,11],[59,7,60,7],[59,11,60,11],[57,10,58,10],[57,11,57,12],[61,4,62,5],[67,19,68,19],[65,12,66,12],[65,20,66,20],[65,19,66,19],[59,6,60,6],[59,4,60,5],[63,12,64,12],[57,7,57,9],[69,19,70,19],[71,18,72,18],[69,18,70,18],[69,20,70,20],[69,12,70,12],[67,13,68,13],[71,7,72,7],[71,11,72,11],[69,13,70,13],[69,11,70,11],[71,19,72,19],[71,12,72,12],[71,13,72,13],[67,20,68,20],[67,11,68,11],[63,11,64,11],[65,11,66,11],[63,7,64,7],[67,6,68,6],[117,5,117,6],[105,12,105,13],[107,12,107,13],[108,5,108,6],[94,4,94,13],[106,5,106,6],[113,5,113,6],[113,8,113,10],[106,12,106,13],[100,8,100,10],[100,12,100,13],[95,4,95,13],[110,5,110,6],[107,8,107,10],[111,5,111,6],[109,12,109,13],[111,12,111,13],[101,8,101,10],[116,8,116,10],[105,8,105,10],[179,3,179,13],[208,4,208,13],[212,4,212,13],[210,4,210,13],[124,3,124,13],[158,4,158,13],[150,4,150,13],[136,7,136,9],[138,12,138,13],[134,12,134,13],[126,3,126,13],[140,4,140,6],[134,7,134,11],[136,4,136,6],[134,3,134,6],[128,3,128,13],[140,12,140,13],[159,4,159,13],[164,4,164,13],[140,7,140,9],[148,5,148,13],[127,3,127,13],[181,4,181,13],[175,4,175,13],[251,5,251,13],[252,5,252,13],[254,5,254,13],[255,5,255,13],[337,3,337,13],[257,5,257,13],[258,5,258,13],[260,5,260,13],[261,5,261,13],[263,5,263,13],[264,5,264,13],[266,3,266,13],[268,4,268,13],[270,4,270,13],[271,4,271,13],[335,4,335,6],[305,4,305,13],[307,4,307,13],[309,5,309,13],[310,5,310,13],[284,3,284,13],[290,4,290,13],[291,4,291,13],[292,4,292,13],[525,5,525,11],[467,4,467,13],[471,6,471,13],[470,6,470,13],[485,6,485,13],[460,4,460,5],[492,6,492,13],[492,4,492,5],[488,4,488,13],[493,6,493,13],[516,4,516,5],[500,4,500,5],[505,4,505,5],[511,4,511,5],[513,6,513,13],[506,6,506,13],[484,6,484,13],[498,4,498,13],[502,4,502,5],[501,4,501,5],[496,4,496,5],[494,4,494,5],[486,6,486,13],[495,4,495,5],[521,6,523,10],[499,6,499,13],[518,4,518,5],[518,6,518,13],[502,6,502,13],[513,4,513,5],[512,6,512,13],[515,6,515,13],[503,4,503,5],[504,4,504,5],[519,4,519,5],[519,6,519,13],[511,6,511,13],[517,4,517,5],[510,6,510,13],[500,6,500,13],[509,4,509,13],[508,4,508,13],[512,4,512,5],[504,6,504,13],[514,6,514,13],[510,4,510,5],[499,4,499,5],[517,6,517,13],[217,3,217,6],[217,7,217,11],[217,12,217,13],[219,4,219,6],[219,7,219,9],[219,12,219,13],[226,3,226,13],[232,4,232,13],[350,4,350,13],[233,4,233,13],[234,4,234,13],[340,4,340,13],[342,3,342,13],[348,4,348,13],[349,4,349,13],[240,3,240,13],[242,4,242,13],[221,3,221,13],[224,4,224,13],[243,4,243,13],[245,4,245,13],[246,4,246,13],[247,4,247,13],[249,4,249,13],[501,6,501,13],[503,6,503,13],[505,6,505,13],[516,6,516,13],[506,4,506,5],[356,3,356,13],[493,4,493,5],[490,4,490,5],[453,4,453,13],[454,4,454,13],[486,4,486,5],[494,6,494,13],[495,6,495,13],[496,6,496,13],[460,6,460,13],[462,6,462,13],[462,4,462,5],[474,6,474,13],[471,4,471,5],[367,5,367,13],[368,5,368,13],[370,5,370,13],[371,5,371,13],[361,4,361,13],[298,3,298,13],[300,4,300,13],[301,4,301,13],[303,4,303,13],[304,4,304,13],[272,4,272,13],[275,3,275,6],[275,7,275,11],[275,12,275,13],[277,4,277,6],[277,7,277,9],[277,12,277,13],[279,3,279,13],[282,4,282,13],[312,5,312,13],[313,5,313,13],[315,5,315,13],[316,5,316,13],[318,5,318,13],[319,5,319,13],[321,5,321,13],[322,5,322,13],[324,3,324,13],[326,4,326,13],[328,4,328,13],[329,4,329,13],[330,4,330,13],[333,3,333,6],[333,7,333,11],[333,12,333,13],[358,4,358,13],[359,4,359,13],[335,7,335,9],[335,12,335,13],[362,4,362,13],[363,4,363,13],[377,5,377,13],[379,5,379,13],[365,4,365,13],[373,5,373,13],[374,5,374,13],[380,5,380,13],[376,5,376,13],[382,3,382,13],[384,4,384,13],[386,4,386,13],[387,4,387,13],[388,4,388,13],[391,3,391,6],[391,7,391,11],[391,12,391,13],[393,4,393,6],[393,7,393,9],[393,12,393,13],[395,3,395,13],[398,4,398,13],[400,3,400,13],[406,4,406,13],[407,4,407,13],[408,4,408,13],[414,3,414,13],[416,4,416,13],[417,4,417,13],[419,4,419,13],[420,4,420,13],[421,4,421,13],[423,4,423,13],[425,5,425,13],[426,5,426,13],[428,5,428,13],[429,5,429,13],[431,5,431,13],[432,5,432,13],[434,5,434,13],[435,5,435,13],[446,4,446,13],[437,5,437,13],[438,5,438,13],[440,3,440,13],[442,4,442,13],[444,4,444,13],[445,4,445,13]]}
["ausblenden",null,null,null,null,null,null,null,null,null,null,null,null,null,null,"ausblenden","ausblenden","ausblenden","ausblenden","ausblenden","ausblenden","ausblenden","ausblenden","ausblenden","ausblenden"]
[null,{"$f":"Translations!$B$551","v":"F.\nMeasurement Approach"},null,null,{"$f":"Translations!$B$59","v":"Navigatiezone:"},null,{"$f":"Translations!$B$60","v":"Inhoudsopgave"},null,{"$f":"Translations!$B$61","v":"Vorig werkblad"},null,{"$f":"Translations!$B$62","v":"Volgend werkblad"}]
[null,null,null,null,{"$f":"Translations!$B$63","v":"Begin werkblad"},null,{"$f":"Translations!$B$552","v":"Emissiemeting"},null,{"$f":"Translations!$B$188","v":"Meetpunten "}]
[null,null,null,null,{"$f":"Translations!$B$64","v":"Einde werkblad"},null,{"$f":"Translations!$B$553","v":"Beheer en procedures"}]
[null,null,null,null,null,null,null,null,null,null,null,null,null,null,null,null,null,null,null,null,null,null,null,null,"Make grey?"]
[null,null,{"$f":"Translations!$B$20","v":"F. Meetmethoden"},null,null,null,null,null,null,null,null,{"$f":"IF(OR(CNTR_InstHasMeasurement=TRUE,CNTR_InstHasN2O=TRUE,CNTR_InstHasTransferredCO2=TRUE),EUconst_Relevant,IF(COUNTA(CNTR_ListRelevantSections)>0,EUconst_NotRelevant,EUconst_Relevant))","v":"relevant"},null,null,null,null,null,null,null,null,null,null,null,null,{"$f":"IF(L6=EUconst_NotRelevant,TRUE,FALSE)","v":false}]
[]
[null,null,null,null,null,null,null,null,null,null,{"$f":"IF(L6=EUconst_NotRelevant,HYPERLINK(\"#JUMP_G_Top\",EUconst_MsgNextSheet),HYPERLINK(\"\",EUconst_MsgEnterThisSection))","v":"U wordt verzocht bij dit punt gegevens in te voeren"}]
[]
[null,null,9,{"$f":"Translations!$B$21","v":"Meting van CO2- en N2O-emissies "}]
[]
[null,null,null,null,{"$f":"Translations!$B$554","v":"Opmerking: Dit punt moet worden ingevuld voor de continue meting van CO2-emissies en N2O-emissies."}]
[null,null,null,null,{"$f":"Translations!$B$1200","v":"Daarnaast moet hier een deel van de informatie voor de monitoring van overgebracht CO2 en N2O, alsook van inherent CO2, worden verstrekt."}]
[]
[null,null,null,"(a)",{"$f":"Translations!$B$556","v":"Beschrijving van de meetmethode"}]
[null,null,null,null,{"$f":"Translations!$B$557","v":"Geef in onderstaand tekstvak een beknopte beschrijving van de meetmethode aan de hand waarvan u uw jaarlijkse CO2- of N2O-emissies bepaalt. Bij N2O-emissies vermeldt u ook de methode die u hanteert om deze om te zetten naar CO2(e)-gegevens."}]
[null,null,null,null,{"$f":"Translations!$B$558","v":"In de beschrijving dient u de gebruikte instrumenttypen te vermelden, aan te geven of de metingen worden verricht onder natte of droge omstandigheden en de formules voor correctiefactoren te vermelden (p, T, O2 en H2O). Wanneer EN 14181 van toepassing is, dient u de voor kwaliteitsniveau 2-procedures vereiste ijkfactoren te vermelden. Als u het rookgasvolume berekent, geeft u een korte beschrijving van de methode voor de bepaling van dat volume. "}]
[null,null,null,null,{"$f":"Translations!$B$559","v":"Beschrijf hoe de jaarlijkse emissies bepaald worden op basis van concentratie- en rookgasdebietgegevens, waarbij u de frequentie aangeeft waarmee de concentratie en het rookgasdebiet worden bepaald. Vermeld ook welke vervangwaarden worden gebruikt als u geen geldige uurwaarde kunt bepalen."}]
[null,null,null,null,{"$f":"Translations!$B$560","v":"Beschrijf indien van de toepassing de rekenmethode waarmee emissies uit biomassa worden bepaald teneinde deze van de totale emissies af te trekken."}]
[null,null,null,null,{"$f":"Translations!$B$195","v":"Deze beschrijving dient de verbindende informatie te bevatten die nodig is om te begrijpen hoe alle informatie die elders in dit sjabloon is ingevoerd, gebruikt wordt bij de emissieberekening. De beschrijving mag zo kort zijn als het voorbeeld bij punt 7a op het werkblad D_CalculationBasedApproaches."}]
[]
[]
[]
[]
[]
[]
[]
[]
[]
[]
[]
[]
[]
[]
[]
[]
[]
[]
[]
[]
[]
[]
[null,null,null,"(b)",{"$f":"Translations!$B$561","v":"Procesdiagram, wanneer de bevoegde autoriteit daarom verzoekt:"},null,null,null,null,null,null,null,null,null,null,null,null,null,null,null,null,null,null,null,{"$f":"CNTR_SmallEmitter=TRUE","v":false}]
[null,null,null,null,{"$f":"Translations!$B$562","v":"Verschaf een procesdiagram met alle relevante emissiepunten bij normaal bedrijf en bij afwijkend bedrijf, bijvoorbeeld gedurende restrictieve en overgangsfasen, waaronder tijdens uitvalperioden of bij de inbedrijfstelling."}]
[]
[null,null,null,"(c)",{"$f":"Translations!$B$563","v":"Specificatie en locatie van meetsystemen voor meetpunten:"}]
[null,null,null,null,{"$f":"Translations!$B$564","v":"Beschrijf de specificatie en locatie van de meetsystemen die per bronstroom gebruikt worden, in het geval van meetmethoden, en van de meetpunten voor de overdracht van CO2."}]
[null,null,null,null,{"$f":"Translations!$B$565","v":"Neem daarin ook instrumenten voor hulpparameters op, zoals het O2- en het vochtgehalte, en neem bij indirecte metingen ook instrumenten op voor de meting van de concentratie van andere bestanddelen van het gas dan CO2."}]
[null,null,null,null,{"$f":"Translations!$B$349","v":"Bij \"Locatie\" dient u aan te geven waar de meter zich in de installatie bevindt en hoe deze is weergegeven op het stroomschema van het proces."}]
[null,null,null,null,{"$f":"Translations!$B$356","v":"Alle instrumenten moeten duidelijk te onderscheiden zijn middels een uniek identificatienummer (zoals het serienummer). De uitwisseling van instrumenten (bijvoorbeeld ten gevolge van schade) leidt echter niet tot significante wijzigingen in het monitoringplan in de zin van artikel 15, lid 3. Het unieke identificatienummer dient daarom apart van het monitoringplan te worden gedocumenteerd. Zorg ervoor dat u voor dit doel een passende schriftelijke procedure opstelt."}]
[null,null,null,null,{"$f":"Translations!$B$350","v":"Voor elk meetinstrument voert u de gespecificeerde onzekerheid in, inclusief het bereik ervan, zoals vermeld in de specificatie van de fabrikant. In bepaalde gevallen mag u twee onzekerheidsbereiken opgeven. In dat geval voert u beide bereiken in."}]
[null,null,null,null,{"$f":"Translations!$B$351","v":"Het normale gebruiksbereik verwijst naar het bereik waarvoor het desbetreffende meetinstrument gewoonlijk in uw installatie wordt gebruikt."}]
[null,null,null,null,{"$f":"Translations!$B$353","v":"\"Type meetinstrument\": Selecteer het type dat van toepassing is in de vervolgkeuzelijst of voer zelf een toepasselijker type in. "}]
[null,null,null,null,{"$f":"Translations!$B$566","v":"De hier ingevoerde instrumentenlijst komt voor elke emissiebron als vervolgkeuzelijst beschikbaar bij punt 10, waar verwezen wordt naar de relevante meetinstrumenten."}]
[null,null,null,null,{"$f":"Translations!$B$355","v":"Ga bij gasstroommeters uit van Nm³/u als de p/T-compensatie in het instrument plaatsvindt en ga uit van m³ in bedrijfstoestand als de p/T-compensatie door een afzonderlijk instrument wordt verricht. Als dat laatste het geval is, vermeldt u de afzonderlijke instrumenten."}]
[null,null,null,null,{"$f":"Translations!$B$567","v":"Uit de meetfrequentie dient te blijken hoe vaak het instrument metingen verricht bij de meetpunten voordat de gegevens geaggregeerd worden tot uurgemiddelden of gemiddelden voor kortere perioden."}]
[]
[null,null,{"$f":"Translations!$B$357","v":"Referentie"},null,{"$f":"Translations!$B$358","v":"Type meetinstrument"},null,{"$f":"Translations!$B$359","v":"locatie (intern identificatienummer)"},{"$f":"Translations!$B$360","v":"Meetbereik"},null,null,{"$f":"Translations!$B$361","v":"Gespecificeerde\nonzekerheid\n (+/-%)"},{"$f":"Translations!$B$362","v":"Normaal gebruiksbereik"},null,{"$f":"Translations!$B$568","v":"Meetfrequentie"}]
[null,null,null,null,null,null,null,{"$f":"Translations!$B$363","v":"eenheid"},{"$f":"Translations!$B$364","v":"ondergrens"},{"$f":"Translations!$B$365","v":"bovengrens"},null,{"$f":"Translations!$B$364","v":"ondergrens"},{"$f":"Translations!$B$365","v":"bovengrens"},null,null,null,null,null,"Sorting","Sorting","Sorting","Sorting"]
["HIDE_Example",null,"MM01",null,{"$f":"Translations!$B$569","v":"CO2-concentratie (NDIR)"},null,{"$f":"Translations!$B$570","v":"Schoorsteen 1, platform A (grafiek: Sch. 1-A)"},{"$f":"Translations!$B$1201","v":"g CO2/Nm³"},0,250,5.5,25,200,{"$f":"Translations!$B$571","v":"1 per seconde"}]
["HIDE_Example"]
["HIDE_Example",null,"MM02",null,{"$f":"Translations!$B$572","v":"Debietmeting (pitotbuisgemiddelde)"},null,{"$f":"Translations!$B$570","v":"Schoorsteen 1, platform A (grafiek: Sch. 1-A)"},"Nm³/h",10,10000,4,1000,8000,{"$f":"Translations!$B$571","v":"1 per seconde"}]
["HIDE_Example"]
[null,null,"MM1",null,null,null,null,null,null,null,null,null,null,null,null,null,null,1,1,{"$f":"IF(ISBLANK(E64),\"\",MAX(T$60:T63)+1)","v":""},{"$f":"IF(ISBLANK(E64),\"\",C64 & \": \" &E64)","v":""},{"$f":"IF(COUNTIF($T$61:$T$85,R64)=1,INDEX($U$61:$U$85,MATCH(R64,$T$61:$T$85,0)),EUconst_NA)","v":"n.v.t."}]
[null,null,null,null,null,null,null,null,null,null,null,null,null,null,null,null,null,2,null,null,null,"n.v.t."]
[null,null,"MM2",null,null,null,null,null,null,null,null,null,null,null,null,null,null,3,2,{"$f":"IF(ISBLANK(E66),\"\",MAX(T$60:T65)+1)","v":""},{"$f":"IF(ISBLANK(E66),\"\",C66 & \": \" &E66)","v":""},"n.v.t."]
[null,null,null,null,null,null,null,null,null,null,null,null,null,null,null,null,null,4,null,null,null,"n.v.t."]
[null,null,"MM3",null,null,null,null,null,null,null,null,null,null,null,null,null,null,5,3,{"$f":"IF(ISBLANK(E68),\"\",MAX(T$60:T67)+1)","v":""},{"$f":"IF(ISBLANK(E68),\"\",C68 & \": \" &E68)","v":""},"n.v.t."]
[null,null,null,null,null,null,null,null,null,null,null,null,null,null,null,null,null,6,null,null,null,"n.v.t."]
[null,null,"MM4",null,null,null,null,null,null,null,null,null,null,null,null,null,null,7,4,{"$f":"IF(ISBLANK(E70),\"\",MAX(T$60:T69)+1)","v":""},{"$f":"IF(ISBLANK(E70),\"\",C70 & \": \" &E70)","v":""},"n.v.t."]
[null,null,null,null,null,null,null,null,null,null,null,null,null,null,null,null,null,8,null,null,null,"n.v.t."]
[null,null,"MM5",null,null,null,null,null,null,null,null,null,null,null,null,null,null,9,5,{"$f":"IF(ISBLANK(E72),\"\",MAX(T$60:T71)+1)","v":""},{"$f":"IF(ISBLANK(E72),\"\",C72 & \": \" &E72)","v":""},"n.v.t."]
[null,null,null,null,null,null,null,null,null,null,null,null,null,null,null,null,null,10,null,null,null,"n.v.t."]
[null,null,"MM6",null,null,null,null,null,null,null,null,null,null,null,null,null,null,11,6,{"$f":"IF(ISBLANK(E74),\"\",MAX(T$60:T73)+1)","v":""},{"$f":"IF(ISBLANK(E74),\"\",C74 & \": \" &E74)","v":""},"n.v.t."]
[null,null,null,null,null,null,null,null,null,null,null,null,null,null,null,null,null,12,null,null,null,"n.v.t."]
[null,null,"MM7",null,null,null,null,null,null,null,null,null,null,null,null,null,null,13,7,{"$f":"IF(ISBLANK(E76),\"\",MAX(T$60:T75)+1)","v":""},{"$f":"IF(ISBLANK(E76),\"\",C76 & \": \" &E76)","v":""},"n.v.t."]
[null,null,null,null,null,null,null,null,null,null,null,null,null,null,null,null,null,14,null,null,null,"n.v.t."]
[null,null,"MM8",null,null,null,null,null,null,null,null,null,null,null,null,null,null,15,8,{"$f":"IF(ISBLANK(E78),\"\",MAX(T$60:T77)+1)","v":""},{"$f":"IF(ISBLANK(E78),\"\",C78 & \": \" &E78)","v":""},"n.v.t."]
[null,null,null,null,null,null,null,null,null,null,null,null,null,null,null,null,null,16,null,null,null,"n.v.t."]
[null,null,"MM9",null,null,null,null,null,null,null,null,null,null,null,null,null,null,17,9,{"$f":"IF(ISBLANK(E80),\"\",MAX(T$60:T79)+1)","v":""},{"$f":"IF(ISBLANK(E80),\"\",C80 & \": \" &E80)","v":""},"n.v.t."]
[null,null,null,null,null,null,null,null,null,null,null,null,null,null,null,null,null,18,null,null,null,"n.v.t."]
[null,null,"MM10",null,null,null,null,null,null,null,null,null,null,null,null,null,null,19,10,{"$f":"IF(ISBLANK(E82),\"\",MAX(T$60:T81)+1)","v":""},{"$f":"IF(ISBLANK(E82),\"\",C82 & \": \" &E82)","v":""},"n.v.t."]
[null,null,null,null,null,null,null,null,null,null,null,null,null,null,null,null,null,20,null,null,null,"n.v.t."]
["ausblenden",null,null,null,null,null,null,null,null,null,null,null,null,null,null,null,null,null,null,{"$f":"IF(ISBLANK(E84),\"\",MAX(T$60:T83)+1)","v":""},{"$f":"IF(ISBLANK(E84),\"\",C84 & \": \" &E84)","v":""},"n.v.t."]
["ausblenden",null,null,null,null,null,null,null,null,null,null,null,null,null,null,null,null,null,null,null,null,"n.v.t."]
["ADD_MeasurementInstrument"]
[null,null,null,null,null,null,{"$f":"Translations!$B$368","v":"Klik op \"+\" om meer meetinstrumenten toe te voegen"}]
[]
[]
[]
[null,null,null,"(d)",{"$f":"Translations!$B$369","v":"Naam en referentie van het document ter beoordeling van onzekerheidsberekeningen:"},null,null,null,null,null,null,null,null,null,null,null,null,null,null,null,null,null,{"$f":"CNTR_SmallEmitter=TRUE","v":false}]
[null,null,null,null,{"$f":"Translations!$B$370","v":"U dient aan te tonen dat u voldoet aan de toegepaste niveaus overeenkomstig artikel 12. Verwijs in bovenstaand vak naar onzekerheidsberekeningen en/of -schema's. "}]
[null,null,null,null,{"$f":"Translations!$B$371","v":"Overeenkomstig artikel 47, lid 3, hoeft dit document niet bij de bevoegde autoriteit te worden ingediend voor installaties met geringe emissies."}]
[]
[null,null,null,"(e)",{"$f":"Translations!$B$573","v":"Laboratoria en methoden die gebruikt worden voor continue meetmethoden:"}]
[null,null,null,null,{"$f":"Translations!$B$384","v":"Geef een overzicht van de methoden voor de analyse van brandstoffen en materialen bij het bepalen van alle berekeningsfactoren, indien dat voor het geselecteerde niveau nodig is. Indien het laboratorium niet volgens EN ISO/IEC 17025 is erkend, dient u aan te tonen dat het laboratorium technisch geschikt is overeenkomstig artikel 34. Verwijs hiertoe naar een bijlage."}]
[null,null,null,null,{"$f":"Translations!$B$574","v":"Deze lijst komt als vervolgkeuzelijst beschikbaar bij punt 10. U verwijst ermee naar de analysemethoden voor de relevante meetpunten."}]
[null,null,null,null,{"$f":"Translations!$B$135","v":"Voorbeelden van het weergeven of verbergen van informatie vindt u onder de knop \"Voorbeelden\" in de navigatiezone."}]
[]
[null,null,null,null,{"$f":"Translations!$B$387","v":"Laboratoriumreferentie"},{"$f":"Translations!$B$388","v":"Laboratoriumnaam"},null,{"$f":"Translations!$B$389","v":"Parameter"},{"$f":"Translations!$B$390","v":"Analysemethode\n (verwijs naar de procedure en geef een beknopte beschrijving van de methode)"},null,null,{"$f":"Translations!$B$391","v":"Is het laboratorium voor deze analyse EN ISO/IEC 17025-erkend?"},{"$f":"Translations!$B$392","v":"Als dat niet zo is, moet u verwijzen naar bewijsstukken"},null,null,null,null,null,null,"Sorting",null,"Sorting","Sorting"]
["HIDE_Example",null,null,null,"LC01",{"$f":"Translations!$B$393","v":"Laboratorium (voorbeeld)"},null,{"$f":"Translations!$B$575","v":"Kwaliteitsniveau-procedures"},{"$f":"Translations!$B$576","v":"EN 14181"},null,null,true]
["HIDE_Example",null,null,null,"LC02",{"$f":"Translations!$B$396","v":"Laboratorium (voorbeeld 2)"},null,{"$f":"Translations!$B$577","v":"CO2-concentratie"},{"$f":"Translations!$B$578","v":"ISO 12039"},null,null,false,{"$f":"Translations!$B$399","v":"Lab_competence.pdf, 2/3/2012"}]
[null,null,null,null,"LC1",null,null,null,null,null,null,null,null,null,null,null,null,null,null,1,null,{"$f":"IF(ISBLANK(F103),\"\",MAX(V$102:V102)+1)","v":""},{"$f":"IF(COUNTIF($V$103:$V$118,T103)=1,INDEX($E$103:$E$118,MATCH(T103,$V$103:$V$118,0))& \": \" &INDEX($F$103:$F$118,MATCH(T103,$V$103:$V$118,0)),EUconst_NA)","v":"n.v.t."}]
[null,null,null,null,"LC2",null,null,null,null,null,null,null,null,null,null,null,null,null,null,2,null,{"$f":"IF(ISBLANK(F104),\"\",MAX(V$102:V103)+1)","v":""},"n.v.t."]
[null,null,null,null,"LC3",null,null,null,null,null,null,null,null,null,null,null,null,null,null,3,null,{"$f":"IF(ISBLANK(F105),\"\",MAX(V$102:V104)+1)","v":""},"n.v.t."]
[null,null,null,null,"LC4",null,null,null,null,null,null,null,null,null,null,null,null,null,null,4,null,{"$f":"IF(ISBLANK(F106),\"\",MAX(V$102:V105)+1)","v":""},"n.v.t."]
[null,null,null,null,"LC5",null,null,null,null,null,null,null,null,null,null,null,null,null,null,5,null,{"$f":"IF(ISBLANK(F107),\"\",MAX(V$102:V106)+1)","v":""},"n.v.t."]
[null,null,null,null,"LC6",null,null,null,null,null,null,null,null,null,null,null,null,null,null,6,null,{"$f":"IF(ISBLANK(F108),\"\",MAX(V$102:V107)+1)","v":""},"n.v.t."]
[null,null,null,null,"LC7",null,null,null,null,null,null,null,null,null,null,null,null,null,null,7,null,{"$f":"IF(ISBLANK(F109),\"\",MAX(V$102:V108)+1)","v":""},"n.v.t."]
[null,null,null,null,"LC8",null,null,null,null,null,null,null,null,null,null,null,null,null,null,8,null,{"$f":"IF(ISBLANK(F110),\"\",MAX(V$102:V109)+1)","v":""},"n.v.t."]
[null,null,null,null,"LC9",null,null,null,null,null,null,null,null,null,null,null,null,null,null,9,null,{"$f":"IF(ISBLANK(F111),\"\",MAX(V$102:V110)+1)","v":""},"n.v.t."]
[null,null,null,null,"LC10",null,null,null,null,null,null,null,null,null,null,null,null,null,null,10,null,{"$f":"IF(ISBLANK(F112),\"\",MAX(V$102:V111)+1)","v":""},"n.v.t."]
[null,null,null,null,"LC11",null,null,null,null,null,null,null,null,null,null,null,null,null,null,11,null,{"$f":"IF(ISBLANK(F113),\"\",MAX(V$102:V112)+1)","v":""},"n.v.t."]
[null,null,null,null,"LC12",null,null,null,null,null,null,null,null,null,null,null,null,null,null,12,null,{"$f":"IF(ISBLANK(F114),\"\",MAX(V$102:V113)+1)","v":""},"n.v.t."]
[null,null,null,null,"LC13",null,null,null,null,null,null,null,null,null,null,null,null,null,null,13,null,{"$f":"IF(ISBLANK(F115),\"\",MAX(V$102:V114)+1)","v":""},"n.v.t."]
[null,null,null,null,"LC14",null,null,null,null,null,null,null,null,null,null,null,null,null,null,14,null,{"$f":"IF(ISBLANK(F116),\"\",MAX(V$102:V115)+1)","v":""},"n.v.t."]
[null,null,null,null,"LC15",null,null,null,null,null,null,null,null,null,null,null,null,null,null,15,null,{"$f":"IF(ISBLANK(F117),\"\",MAX(V$102:V116)+1)","v":""},"n.v.t."]
["ausblenden",null,null,null,null,null,null,null,null,null,null,null,null,null,null,null,null,null,null,null,null,{"$f":"IF(ISBLANK(F118),\"\",MAX(V$102:V117)+1)","v":""},"n.v.t."]
["ADD_Laboratories"]
[null,null,null,null,null,null,{"$f":"Translations!$B$400","v":"Klik op \"+\" om meer methoden en laboratoria toe te voegen"}]
[]
[]
[]
[]
[null,null,10,{"$f":"Translations!$B$22","v":"Informatie over meetpunten"}]
[]
[null,null,null,{"$f":"Translations!$B$579","v":"NB: De handleiding wordt alleen getoond bij het eerste meetpunt."}]
[null,null,null,{"$f":"Translations!$B$580","v":"Als u de gegevens van verdere meetpunten wilt tonen, klik dan op de \"+\"-tekens aan de linkerkant (gegevensgroepering)."}]
[null,null,null,{"$f":"Translations!$B$581","v":"Om meer meetpunten toe te voegen gebruikt u de macro bij punt 6d op het werkblad C_InstallationDescription."}]
[null,null,null,{"$f":"Translations!$B$135","v":"Voorbeelden van het weergeven of verbergen van informatie vindt u onder de knop \"Voorbeelden\" in de navigatiezone."}]
[null,null,null,{"$f":"Translations!$B$582","v":"Het voorbeeld is opgenomen in het eerste meetpunt."}]
[]
[]
[null,null,null,null,null,null,null,null,null,null,null,null,null,null,null,null,null,null,null,null,null,null,null,null,"make grey?"]
[null,null,{"$f":"\"M\"&Q135","v":"M1"},{"$f":"CONCATENATE(EUconst_MeasurementPoint,\" \",Q135,\":\")","v":"Meetpunt 1:"},null,null,null,{"$f":"IF(INDEX(C_InstallationDescription!$F$169:$F$174,MATCH(C135,C_InstallationDescription!$E$169:$E$174,0))>0,INDEX(C_InstallationDescription!$F$169:$F$174,MATCH(C135,C_InstallationDescription!$E$169:$E$174,0)),\"\")","v":""},null,null,null,null,{"$f":"IF(U135=TRUE,V135,\"\")","v":""},null,null,null,1,null,{"$f":"IF(INDEX(C_InstallationDescription!$M:$M,MATCH(Q137,C_InstallationDescription!$Q:$Q,0))=\"\",FALSE,TRUE)","v":false},{"$f":"IF(S135=TRUE,INDEX(C_InstallationDescription!$M:$M,MATCH(Q137,C_InstallationDescription!$Q:$Q,0)),\"\")","v":""},{"$f":"IF(INDEX(C_InstallationDescription!$N:$N,MATCH(Q137,C_InstallationDescription!$Q:$Q,0))=\"\",FALSE,TRUE)","v":false},{"$f":"IF(U135=TRUE,INDEX(C_InstallationDescription!$N:$N,MATCH(Q137,C_InstallationDescription!$Q:$Q,0)),\"\")","v":""},null,null,"xxx"]
[]
[null,null,null,"(a)",{"$f":"Translations!$B$583","v":"Werking:"},null,null,null,null,null,null,null,{"$f":"IF(S135=TRUE,T135,\"\")","v":""},null,null,null,{"$f":"EUconst_CNTR_SourceCategory&C135","v":"SourceCategory_M1"}]
["HIDE_Example"]
["HIDE_Example",null,null,{"$f":"Translations!$B$452","v":"Voorbeeldgegevens:"},null,null,null,{"$f":"Translations!$B$279","v":"Schoorsteen van een op kolen gestookte ketelinstallatie, meetplatform A"},null,null,null,null,"CO2"]
["HIDE_Example"]
["HIDE_Example",null,null,null,null,null,null,{"$f":"Translations!$B$584","v":"Normaal of afwijkend bedrijf"},null,null,null,null,{"$f":"Translations!$B$313","v":"Groot"}]
["HIDE_Example"]
[null,null,null,null,{"$f":"Translations!$B$585","v":"Geef hier aan of het hier een emissie- of meetpunt bij normaal bedrijf of bij afwijkend bedrijf betreft (gedurende restrictieve en overgangsfasen, waaronder tijdens uitvalperioden of bij de inbedrijfstelling)."},null,null,null,null,null,null,null,null,null,null,null,null,null,null,null,null,null,"cond. Format?"]
[null,null,null,null,{"$f":"Translations!$B$586","v":"De informatie in de groene velden wordt automatisch overgenomen uit punt 6d op het werkblad C_InstallationDescription."}]
[]
[null,null,null,{"$f":"Translations!$B$446","v":"Automatische aanwijzingen over de toepasselijke niveaus:"}]
[]
[null,null,null,null,{"$f":"Translations!$B$587","v":"In onderstaande groene velden worden de vereiste niveaus voor meetmethoden weergegeven. Deze zijn gebaseerd op uw invoer bij de punten 5d en 6d. Het betreft de minimale niveaus voor grote emissiebronnen. Het is echter mogelijk dat lagere eisen worden gesteld. Passende aanwijzingen worden afhankelijk van de volgende punten getoond in onderstaand groen tekstvak:"}]
[null,null,null,null,"-",{"$f":"Translations!$B$588","v":"Verlaagde eisen gelden overeenkomstig artikel 41, lid 1, voor emissiebronnen die per jaar minder dan 5 000 ton CO2(e) uitstoten, of minder dan 10% aan de totale jaarlijkse emissies van de installatie bijdragen, afhankelijk van welke groter is."}]
[]
[null,null,null,null,{"$f":"IF(H135=\"\",\"\",INDEX(EUconst_CEMSTiersMsg,MATCH(Q151,EUconst_CEMSTiers,0)))","v":""},null,null,null,null,null,null,null,null,null,null,null,{"$f":"IF(CNTR_SmallEmitter=TRUE,EUconst_CNTR_SmallEmitter,EUconst_CNTR_NoSmallEmitter) & \"_\" & IF(M137=\"\",1,MATCH(M137,SourceCategoryCEMS,0))","v":"NoSmallEmitter__1"}]
["HIDE_Example",null,null,null,{"$f":"Translations!$B$589","v":"Artikel 41: Het hieronder getoonde minimale niveau is van toepassing.\nAlleen als u ten genoegen van de bevoegde autoriteit kunt aantonen dat de toepassing van het vereiste niveau technisch niet haalbaar is of tot onredelijke kosten leidt en de toepassing van een rekenmethode op basis van de in artikel 26 vereiste niveaus technisch niet haalbaar is of leidt tot onredelijke kosten, mag het eerstvolgende lagere niveau, met als minimum niveau 1, worden aangehouden."}]
[]
[null,null,null,{"$f":"Translations!$B$590","v":"Instrumenten en niveaus:"}]
[]
[null,null,null,"(b)",{"$f":"Translations!$B$472","v":"Toegepaste meetinstrumenten:"}]
["HIDE_Example",null,null,null,null,null,null,{"$f":"Translations!$B$591","v":"MM1: CO2"},{"$f":"Translations!$B$592","v":"MM2: Debiet"}]
[]
[null,null,null,null,{"$f":"Translations!$B$593","v":"Selecteer hier een of meerdere instrumenten die u hierboven bij punt 9c hebt ingevoerd."}]
[null,null,null,null,{"$f":"Translations!$B$594","v":"Als u voor dit meetpunt meer dan vijf meetinstrumenten gebruikt, dient u in onderstaand commentaarvak uitleg te verschaffen."}]
[]
[null,null,null,null,{"$f":"Translations!$B$475","v":"Commentaar op / beschrijving van de methode, indien meerdere instrumenten zijn gebruikt:"}]
[]
[]
[]
[]
[null,null,null,null,null,null,null,null,null,null,null,null,null,null,null,null,null,null,"Tier def."]
[null,null,null,"(c)",{"$f":"Translations!$B$595","v":"Vereist niveau:"},null,null,{"$f":"IF(H135=\"\",\"\",IF(CNTR_Category=\"A\",INDEX(EUconst_CEMSMinimumTiers,MATCH(M135,EUconst_CEMSTypes,0)),INDEX(EUconst_CEMSHighestTiers,MATCH(M135,EUconst_CEMSTypes,0))))","v":""},{"$f":"IF(H168=\"\",\"\",IF(S168=0,EUconst_NA,IF(ISERROR(S168),\"\",EUconst_MsgTierActivityLevel & \" \" &S168)))","v":""},null,null,null,null,null,null,null,null,null,{"$f":"IF(H168=\"\",\"\",IF(H168=EUconst_NA,\"\",INDEX(EUwideConstants!$H$695:$M$698,MATCH(M135,EUconst_CEMSTypes,0),MATCH(H168,CNTR_TierList,0))))","v":""}]
[null,null,null,"(d)",{"$f":"Translations!$B$596","v":"Toegepast niveau:"},null,null,null,{"$f":"IF(OR(ISBLANK(H169),H169=EUconst_NoTier),\"\",IF(S169=EUconst_NA,EUconst_NA,IF(ISERROR(S169),\"\",EUconst_MsgTierActivityLevel & \" \" &S169)))","v":""},null,null,null,null,null,null,null,null,null,{"$f":"IF(H169=\"\",\"\",IF(H169=EUconst_NA,\"\",INDEX(EUwideConstants!$H$695:$M$698,MATCH(M135,EUconst_CEMSTypes,0),MATCH(H169,CNTR_TierList,0))))","v":""}]
[null,null,null,"(e)",{"$f":"Translations!$B$479","v":"Bereikte onzekerheid:"},null,null,null,{"$f":"Translations!$B$480","v":"Opmerking:"}]
["HIDE_Example",null,null,{"$f":"Translations!$B$452","v":"Voorbeeldgegevens:"}]
["HIDE_Example",null,null,"(c)",{"$f":"Translations!$B$595","v":"Vereist niveau:"},null,null,4,{"$f":"Translations!$B$482","v":"De onzekerheid mag niet meer bedragen dan ± 2,5%"}]
["HIDE_Example",null,null,"(d)",{"$f":"Translations!$B$596","v":"Toegepast niveau:"},null,null,3,{"$f":"Translations!$B$481","v":"De onzekerheid mag niet meer bedragen dan ± 5,0%"}]
["HIDE_Example",null,null,"(e)",{"$f":"Translations!$B$479","v":"Bereikte onzekerheid:"},null,null,3.5999999999999997E-2,{"$f":"Translations!$B$480","v":"Opmerking:"}]
["HIDE_Example"]
[null,null,null,null,{"$f":"Translations!$B$597","v":"Geef hier, met betrekking tot het vereiste en gehanteerde niveau, de totale bereikte onzekerheid over de gehele verslagperiode."}]
[null,null,null,null,{"$f":"Translations!$B$598","v":"Over het algemeen dient deze waarde te volgen uit een onzekerheidsbeoordeling (zie punt 7c). "}]
[null,null,null,null,{"$f":"Translations!$B$488","v":"Gebruik onderstaand tekstvak bij punt h om te beschrijven hoe de bereikte onzekerheid voor de gehele periode wordt bepaald."}]
[]
[null,null,null,{"$f":"Translations!$B$599","v":"Normen en procedures:"}]
[]
[null,null,null,"(f)",{"$f":"Translations!$B$600","v":"Toegepaste normen en eventuele afwijkingen van die normen"}]
[null,null,null,null,{"$f":"Translations!$B$601","v":"Verwijs waar nodig naar tabel 9e."}]
[]
[]
[]
[]
[]
[null,null,null,"(g)",{"$f":"Translations!$B$602","v":"Verwijzingen naar procedures"}]
[null,null,null,null,{"$f":"Translations!$B$603","v":"Om de toegepaste methoden volledig te beschrijven dient u de volgende informatie te verschaffen. Verwijs naar de relevante schriftelijke procedures, die verderop in dit werkblad bij punt 11 worden geschetst."}]
[]
[null,null,null,null,"i.",{"$f":"Translations!$B$604","v":"De berekeningsformules voor de verzameling van gegevens en de bepaling van de jaarlijkse emissies"}]
[]
[]
[null,null,null,null,"ii.",{"$f":"Translations!$B$605","v":"De methode om te bepalen of geldige uren of kortere referentieperioden voor elke parameter kunnen worden berekend (uitgaande van de drempelwaarde van artikel 44, lid 2), en voor het bepalen van waarden ter vervanging van ontbrekende gegevens overeenkomstig artikel 45"}]
[]
[]
[null,null,null,null,"iii.",{"$f":"Translations!$B$606","v":"Berekening van het rookgasdebiet, indien van toepassing"}]
[]
[]
[null,null,null,null,"iv.",{"$f":"Translations!$B$607","v":"Bepaling van het CO2 afkomstig uit biomassa, afgetrokken van de gemeten CO2-emissies, indien van toepassing"}]
[]
[]
[null,null,null,null,"v.",{"$f":"Translations!$B$608","v":"Ter bevestiging uitgevoerde berekeningen overeenkomstig artikel 46, indien van toepassing"}]
[]
[]
[null,null,null,{"$f":"Translations!$B$545","v":"Opmerkingen en uitleg:"}]
[]
[null,null,null,"(h)",{"$f":"Translations!$B$1202","v":"Geef een toelichting en verklaring als het vereiste niveau niet wordt toegepast:"}]
[null,null,null,null,{"$f":"Translations!$B$609","v":"Relevante opmerkingen kunt u hieronder kwijt. Mogelijk dient u uitleg te verschaffen over de schattingsmethode voor biomassa, aanvullende kwaliteitsevaluatie/kwaliteitscontrole, enz."}]
[null,null,null,null,{"$f":"Translations!$B$610","v":"Indien van toepassing verklaart u hier waarom u het krachtens artikel 41 voor dit meetpunt vereiste niveau niet gebruikt."}]
[]
[]
[]
[]
[]
[null,null,null,null,null,null,null,null,null,null,null,null,null,null,null,null,null,null,null,null,null,null,null,null,"make grey?"]
[null,null,{"$f":"\"M\"&Q218","v":"M2"},{"$f":"CONCATENATE(EUconst_MeasurementPoint,\" \",Q218,\":\")","v":"Meetpunt 2:"},null,null,null,{"$f":"IF(INDEX(C_InstallationDescription!$F$169:$F$174,MATCH(C218,C_InstallationDescription!$E$169:$E$174,0))>0,INDEX(C_InstallationDescription!$F$169:$F$174,MATCH(C218,C_InstallationDescription!$E$169:$E$174,0)),\"\")","v":""},null,null,null,null,{"$f":"IF(U218=TRUE,V218,\"\")","v":""},null,null,null,2,null,{"$f":"IF(INDEX(C_InstallationDescription!$M:$M,MATCH(Q220,C_InstallationDescription!$Q:$Q,0))=\"\",FALSE,TRUE)","v":false},{"$f":"IF(S218=TRUE,INDEX(C_InstallationDescription!$M:$M,MATCH(Q220,C_InstallationDescription!$Q:$Q,0)),\"\")","v":""},{"$f":"IF(INDEX(C_InstallationDescription!$N:$N,MATCH(Q220,C_InstallationDescription!$Q:$Q,0))=\"\",FALSE,TRUE)","v":false},{"$f":"IF(U218=TRUE,INDEX(C_InstallationDescription!$N:$N,MATCH(Q220,C_InstallationDescription!$Q:$Q,0)),\"\")","v":""},null,null,"xxx"]
[]
[null,null,null,"(a)",{"$f":"Translations!$B$583","v":"Werking:"},null,null,null,null,null,null,null,{"$f":"IF(S218=TRUE,T218,\"\")","v":""},null,null,null,{"$f":"EUconst_CNTR_SourceCategory&C218","v":"SourceCategory_M2"}]
[]
[null,null,null,{"$f":"Translations!$B$446","v":"Automatische aanwijzingen over de toepasselijke niveaus:"}]
[]
[]
[null,null,null,null,{"$f":"IF(H218=\"\",\"\",INDEX(EUconst_CEMSTiersMsg,MATCH(Q225,EUconst_CEMSTiers,0)))","v":""},null,null,null,null,null,null,null,null,null,null,null,{"$f":"IF(CNTR_SmallEmitter=TRUE,EUconst_CNTR_SmallEmitter,EUconst_CNTR_NoSmallEmitter) & \"_\" & IF(M220=\"\",1,MATCH(M220,SourceCategoryCEMS,0))","v":"NoSmallEmitter__1"}]
[]
[null,null,null,{"$f":"Translations!$B$590","v":"Instrumenten en niveaus:"}]
[]
[null,null,null,"(b)",{"$f":"Translations!$B$472","v":"Toegepaste meetinstrumenten:"}]
[]
[null,null,null,null,{"$f":"Translations!$B$475","v":"Commentaar op / beschrijving van de methode, indien meerdere instrumenten zijn gebruikt:"}]
[]
[]
[]
[]
[null,null,null,null,null,null,null,null,null,null,null,null,null,null,null,null,null,null,"Tier def."]
[null,null,null,"(c)",{"$f":"Translations!$B$595","v":"Vereist niveau:"},null,null,{"$f":"IF(H218=\"\",\"\",IF(CNTR_Category=\"A\",INDEX(EUconst_CEMSMinimumTiers,MATCH(M218,EUconst_CEMSTypes,0)),INDEX(EUconst_CEMSHighestTiers,MATCH(M218,EUconst_CEMSTypes,0))))","v":""},{"$f":"IF(H237=\"\",\"\",IF(S237=0,EUconst_NA,IF(ISERROR(S237),\"\",EUconst_MsgTierActivityLevel & \" \" &S237)))","v":""},null,null,null,null,null,null,null,null,null,{"$f":"IF(H237=\"\",\"\",IF(H237=EUconst_NA,\"\",INDEX(EUwideConstants!$H$695:$M$698,MATCH(M218,EUconst_CEMSTypes,0),MATCH(H237,CNTR_TierList,0))))","v":""}]
[null,null,null,"(d)",{"$f":"Translations!$B$596","v":"Toegepast niveau:"},null,null,null,{"$f":"IF(OR(ISBLANK(H238),H238=EUconst_NoTier),\"\",IF(S238=EUconst_NA,EUconst_NA,IF(ISERROR(S238),\"\",EUconst_MsgTierActivityLevel & \" \" &S238)))","v":""},null,null,null,null,null,null,null,null,null,{"$f":"IF(H238=\"\",\"\",IF(H238=EUconst_NA,\"\",INDEX(EUwideConstants!$H$695:$M$698,MATCH(M218,EUconst_CEMSTypes,0),MATCH(H238,CNTR_TierList,0))))","v":""}]
[null,null,null,"(e)",{"$f":"Translations!$B$479","v":"Bereikte onzekerheid:"},null,null,null,{"$f":"Translations!$B$480","v":"Opmerking:"}]
[]
[null,null,null,{"$f":"Translations!$B$599","v":"Normen en procedures:"}]
[]
[null,null,null,"(f)",{"$f":"Translations!$B$600","v":"Toegepaste normen en eventuele afwijkingen van die normen"}]
[null,null,null,null,{"$f":"Translations!$B$601","v":"Verwijs waar nodig naar tabel 9e."}]
[]
[]
[]
[]
[]
[null,null,null,"(g)",{"$f":"Translations!$B$602","v":"Verwijzingen naar procedures"}]
[]
[null,null,null,null,"i.",{"$f":"Translations!$B$604","v":"De berekeningsformules voor de verzameling van gegevens en de bepaling van de jaarlijkse emissies"}]
[]
[]
[null,null,null,null,"ii.",{"$f":"Translations!$B$605","v":"De methode om te bepalen of geldige uren of kortere referentieperioden voor elke parameter kunnen worden berekend (uitgaande van de drempelwaarde van artikel 44, lid 2), en voor het bepalen van waarden ter vervanging van ontbrekende gegevens overeenkomstig artikel 45"}]
[]
[]
[null,null,null,null,"iii.",{"$f":"Translations!$B$606","v":"Berekening van het rookgasdebiet, indien van toepassing"}]
[]
[]
[null,null,null,null,"iv.",{"$f":"Translations!$B$607","v":"Bepaling van het CO2 afkomstig uit biomassa, afgetrokken van de gemeten CO2-emissies, indien van toepassing"}]
[]
[]
[null,null,null,null,"v.",{"$f":"Translations!$B$608","v":"Ter bevestiging uitgevoerde berekeningen overeenkomstig artikel 46, indien van toepassing"}]
[]
[]
[null,null,null,{"$f":"Translations!$B$545","v":"Opmerkingen en uitleg:"}]
[]
[null,null,null,"(h)",{"$f":"Translations!$B$1202","v":"Geef een toelichting en verklaring als het vereiste niveau niet wordt toegepast:"}]
[]
[]
[]
[]
[]
[null,null,null,null,null,null,null,null,null,null,null,null,null,null,null,null,null,null,null,null,null,null,null,null,"make grey?"]
[null,null,{"$f":"\"M\"&Q276","v":"M3"},{"$f":"CONCATENATE(EUconst_MeasurementPoint,\" \",Q276,\":\")","v":"Meetpunt 3:"},null,null,null,{"$f":"IF(INDEX(C_InstallationDescription!$F$169:$F$174,MATCH(C276,C_InstallationDescription!$E$169:$E$174,0))>0,INDEX(C_InstallationDescription!$F$169:$F$174,MATCH(C276,C_InstallationDescription!$E$169:$E$174,0)),\"\")","v":""},null,null,null,null,{"$f":"IF(U276=TRUE,V276,\"\")","v":""},null,null,null,{"$f":"Q218+1","v":3},null,{"$f":"IF(INDEX(C_InstallationDescription!$M:$M,MATCH(Q278,C_InstallationDescription!$Q:$Q,0))=\"\",FALSE,TRUE)","v":false},{"$f":"IF(S276=TRUE,INDEX(C_InstallationDescription!$M:$M,MATCH(Q278,C_InstallationDescription!$Q:$Q,0)),\"\")","v":""},{"$f":"IF(INDEX(C_InstallationDescription!$N:$N,MATCH(Q278,C_InstallationDescription!$Q:$Q,0))=\"\",FALSE,TRUE)","v":false},{"$f":"IF(U276=TRUE,INDEX(C_InstallationDescription!$N:$N,MATCH(Q278,C_InstallationDescription!$Q:$Q,0)),\"\")","v":""},null,null,"xxx"]
[]
[null,null,null,"(a)",{"$f":"Translations!$B$583","v":"Werking:"},null,null,null,null,null,null,null,{"$f":"IF(S276=TRUE,T276,\"\")","v":""},null,null,null,{"$f":"EUconst_CNTR_SourceCategory&C276","v":"SourceCategory_M3"}]
[]
[null,null,null,{"$f":"Translations!$B$446","v":"Automatische aanwijzingen over de toepasselijke niveaus:"}]
[]
[]
[null,null,null,null,{"$f":"IF(H276=\"\",\"\",INDEX(EUconst_CEMSTiersMsg,MATCH(Q283,EUconst_CEMSTiers,0)))","v":""},null,null,null,null,null,null,null,null,null,null,null,{"$f":"IF(CNTR_SmallEmitter=TRUE,EUconst_CNTR_SmallEmitter,EUconst_CNTR_NoSmallEmitter) & \"_\" & IF(M278=\"\",1,MATCH(M278,SourceCategoryCEMS,0))","v":"NoSmallEmitter__1"}]
[]
[null,null,null,{"$f":"Translations!$B$590","v":"Instrumenten en niveaus:"}]
[]
[null,null,null,"(b)",{"$f":"Translations!$B$472","v":"Toegepaste meetinstrumenten:"}]
[]
[null,null,null,null,{"$f":"Translations!$B$475","v":"Commentaar op / beschrijving van de methode, indien meerdere instrumenten zijn gebruikt:"}]
[]
[]
[]
[]
[null,null,null,null,null,null,null,null,null,null,null,null,null,null,null,null,null,null,"Tier def."]
[null,null,null,"(c)",{"$f":"Translations!$B$595","v":"Vereist niveau:"},null,null,{"$f":"IF(H276=\"\",\"\",IF(CNTR_Category=\"A\",INDEX(EUconst_CEMSMinimumTiers,MATCH(M276,EUconst_CEMSTypes,0)),INDEX(EUconst_CEMSHighestTiers,MATCH(M276,EUconst_CEMSTypes,0))))","v":""},{"$f":"IF(H295=\"\",\"\",IF(S295=0,EUconst_NA,IF(ISERROR(S295),\"\",EUconst_MsgTierActivityLevel & \" \" &S295)))","v":""},null,null,null,null,null,null,null,null,null,{"$f":"IF(H295=\"\",\"\",IF(H295=EUconst_NA,\"\",INDEX(EUwideConstants!$H$695:$M$698,MATCH(M276,EUconst_CEMSTypes,0),MATCH(H295,CNTR_TierList,0))))","v":""}]
[null,null,null,"(d)",{"$f":"Translations!$B$596","v":"Toegepast niveau:"},null,null,null,{"$f":"IF(OR(ISBLANK(H296),H296=EUconst_NoTier),\"\",IF(S296=EUconst_NA,EUconst_NA,IF(ISERROR(S296),\"\",EUconst_MsgTierActivityLevel & \" \" &S296)))","v":""},null,null,null,null,null,null,null,null,null,{"$f":"IF(H296=\"\",\"\",IF(H296=EUconst_NA,\"\",INDEX(EUwideConstants!$H$695:$M$698,MATCH(M276,EUconst_CEMSTypes,0),MATCH(H296,CNTR_TierList,0))))","v":""}]
[null,null,null,"(e)",{"$f":"Translations!$B$479","v":"Bereikte onzekerheid:"},null,null,null,{"$f":"Translations!$B$480","v":"Opmerking:"}]
[]
[null,null,null,{"$f":"Translations!$B$599","v":"Normen en procedures:"}]
[]
[null,null,null,"(f)",{"$f":"Translations!$B$600","v":"Toegepaste normen en eventuele afwijkingen van die normen"}]
[null,null,null,null,{"$f":"Translations!$B$601","v":"Verwijs waar nodig naar tabel 9e."}]
[]
[]
[]
[]
[]
[null,null,null,"(g)",{"$f":"Translations!$B$602","v":"Verwijzingen naar procedures"}]
[]
[null,null,null,null,"i.",{"$f":"Translations!$B$604","v":"De berekeningsformules voor de verzameling van gegevens en de bepaling van de jaarlijkse emissies"}]
[]
[]
[null,null,null,null,"ii.",{"$f":"Translations!$B$605","v":"De methode om te bepalen of geldige uren of kortere referentieperioden voor elke parameter kunnen worden berekend (uitgaande van de drempelwaarde van artikel 44, lid 2), en voor het bepalen van waarden ter vervanging van ontbrekende gegevens overeenkomstig artikel 45"}]
[]
[]
[null,null,null,null,"iii.",{"$f":"Translations!$B$606","v":"Berekening van het rookgasdebiet, indien van toepassing"}]
[]
[]
[null,null,null,null,"iv.",{"$f":"Translations!$B$607","v":"Bepaling van het CO2 afkomstig uit biomassa, afgetrokken van de gemeten CO2-emissies, indien van toepassing"}]
[]
[]
[null,null,null,null,"v.",{"$f":"Translations!$B$608","v":"Ter bevestiging uitgevoerde berekeningen overeenkomstig artikel 46, indien van toepassing"}]
[]
[]
[null,null,null,{"$f":"Translations!$B$545","v":"Opmerkingen en uitleg:"}]
[]
[null,null,null,"(h)",{"$f":"Translations!$B$1202","v":"Geef een toelichting en verklaring als het vereiste niveau niet wordt toegepast:"}]
[]
[]
[]
[]
[]
[null,null,null,null,null,null,null,null,null,null,null,null,null,null,null,null,null,null,null,null,null,null,null,null,"make grey?"]
[null,null,{"$f":"\"M\"&Q334","v":"M4"},{"$f":"CONCATENATE(EUconst_MeasurementPoint,\" \",Q334,\":\")","v":"Meetpunt 4:"},null,null,null,{"$f":"IF(INDEX(C_InstallationDescription!$F$169:$F$174,MATCH(C334,C_InstallationDescription!$E$169:$E$174,0))>0,INDEX(C_InstallationDescription!$F$169:$F$174,MATCH(C334,C_InstallationDescription!$E$169:$E$174,0)),\"\")","v":""},null,null,null,null,{"$f":"IF(U334=TRUE,V334,\"\")","v":""},null,null,null,{"$f":"Q276+1","v":4},null,{"$f":"IF(INDEX(C_InstallationDescription!$M:$M,MATCH(Q336,C_InstallationDescription!$Q:$Q,0))=\"\",FALSE,TRUE)","v":false},{"$f":"IF(S334=TRUE,INDEX(C_InstallationDescription!$M:$M,MATCH(Q336,C_InstallationDescription!$Q:$Q,0)),\"\")","v":""},{"$f":"IF(INDEX(C_InstallationDescription!$N:$N,MATCH(Q336,C_InstallationDescription!$Q:$Q,0))=\"\",FALSE,TRUE)","v":false},{"$f":"IF(U334=TRUE,INDEX(C_InstallationDescription!$N:$N,MATCH(Q336,C_InstallationDescription!$Q:$Q,0)),\"\")","v":""},null,null,"xxx"]
[]
[null,null,null,"(a)",{"$f":"Translations!$B$583","v":"Werking:"},null,null,null,null,null,null,null,{"$f":"IF(S334=TRUE,T334,\"\")","v":""},null,null,null,{"$f":"EUconst_CNTR_SourceCategory&C334","v":"SourceCategory_M4"}]
[]
[null,null,null,{"$f":"Translations!$B$446","v":"Automatische aanwijzingen over de toepasselijke niveaus:"}]
[]
[]
[null,null,null,null,{"$f":"IF(H334=\"\",\"\",INDEX(EUconst_CEMSTiersMsg,MATCH(Q341,EUconst_CEMSTiers,0)))","v":""},null,null,null,null,null,null,null,null,null,null,null,{"$f":"IF(CNTR_SmallEmitter=TRUE,EUconst_CNTR_SmallEmitter,EUconst_CNTR_NoSmallEmitter) & \"_\" & IF(M336=\"\",1,MATCH(M336,SourceCategoryCEMS,0))","v":"NoSmallEmitter__1"}]
[]
[null,null,null,{"$f":"Translations!$B$590","v":"Instrumenten en niveaus:"}]
[]
[null,null,null,"(b)",{"$f":"Translations!$B$472","v":"Toegepaste meetinstrumenten:"}]
[]
[null,null,null,null,{"$f":"Translations!$B$475","v":"Commentaar op / beschrijving van de methode, indien meerdere instrumenten zijn gebruikt:"}]
[]
[]
[]
[]
[null,null,null,null,null,null,null,null,null,null,null,null,null,null,null,null,null,null,"Tier def."]
[null,null,null,"(c)",{"$f":"Translations!$B$595","v":"Vereist niveau:"},null,null,{"$f":"IF(H334=\"\",\"\",IF(CNTR_Category=\"A\",INDEX(EUconst_CEMSMinimumTiers,MATCH(M334,EUconst_CEMSTypes,0)),INDEX(EUconst_CEMSHighestTiers,MATCH(M334,EUconst_CEMSTypes,0))))","v":""},{"$f":"IF(H353=\"\",\"\",IF(S353=0,EUconst_NA,IF(ISERROR(S353),\"\",EUconst_MsgTierActivityLevel & \" \" &S353)))","v":""},null,null,null,null,null,null,null,null,null,{"$f":"IF(H353=\"\",\"\",IF(H353=EUconst_NA,\"\",INDEX(EUwideConstants!$H$695:$M$698,MATCH(M334,EUconst_CEMSTypes,0),MATCH(H353,CNTR_TierList,0))))","v":""}]
[null,null,null,"(d)",{"$f":"Translations!$B$596","v":"Toegepast niveau:"},null,null,null,{"$f":"IF(OR(ISBLANK(H354),H354=EUconst_NoTier),\"\",IF(S354=EUconst_NA,EUconst_NA,IF(ISERROR(S354),\"\",EUconst_MsgTierActivityLevel & \" \" &S354)))","v":""},null,null,null,null,null,null,null,null,null,{"$f":"IF(H354=\"\",\"\",IF(H354=EUconst_NA,\"\",INDEX(EUwideConstants!$H$695:$M$698,MATCH(M334,EUconst_CEMSTypes,0),MATCH(H354,CNTR_TierList,0))))","v":""}]
[null,null,null,"(e)",{"$f":"Translations!$B$479","v":"Bereikte onzekerheid:"},null,null,null,{"$f":"Translations!$B$480","v":"Opmerking:"}]
[]
[null,null,null,{"$f":"Translations!$B$599","v":"Normen en procedures:"}]
[]
[null,null,null,"(f)",{"$f":"Translations!$B$600","v":"Toegepaste normen en eventuele afwijkingen van die normen"}]
[null,null,null,null,{"$f":"Translations!$B$601","v":"Verwijs waar nodig naar tabel 9e."}]
[]
[]
[]
[]
[]
[null,null,null,"(g)",{"$f":"Translations!$B$602","v":"Verwijzingen naar procedures"}]
[]
[null,null,null,null,"i.",{"$f":"Translations!$B$604","v":"De berekeningsformules voor de verzameling van gegevens en de bepaling van de jaarlijkse emissies"}]
[]
[]
[null,null,null,null,"ii.",{"$f":"Translations!$B$605","v":"De methode om te bepalen of geldige uren of kortere referentieperioden voor elke parameter kunnen worden berekend (uitgaande van de drempelwaarde van artikel 44, lid 2), en voor het bepalen van waarden ter vervanging van ontbrekende gegevens overeenkomstig artikel 45"}]
[]
[]
[null,null,null,null,"iii.",{"$f":"Translations!$B$606","v":"Berekening van het rookgasdebiet, indien van toepassing"}]
[]
[]
[null,null,null,null,"iv.",{"$f":"Translations!$B$607","v":"Bepaling van het CO2 afkomstig uit biomassa, afgetrokken van de gemeten CO2-emissies, indien van toepassing"}]
[]
[]
[null,null,null,null,"v.",{"$f":"Translations!$B$608","v":"Ter bevestiging uitgevoerde berekeningen overeenkomstig artikel 46, indien van toepassing"}]
[]
[]
[null,null,null,{"$f":"Translations!$B$545","v":"Opmerkingen en uitleg:"}]
[]
[null,null,null,"(h)",{"$f":"Translations!$B$1202","v":"Geef een toelichting en verklaring als het vereiste niveau niet wordt toegepast:"}]
[]
[]
[]
[]
[]
["ADD_CompleteMeasurementPoint",null,null,null,null,null,null,null,null,null,null,null,null,null,null,null,null,null,null,null,null,null,null,null,"make grey?"]
[null,null,{"$f":"\"M\"&Q392","v":"M5"},{"$f":"CONCATENATE(EUconst_MeasurementPoint,\" \",Q392,\":\")","v":"Meetpunt 5:"},null,null,null,{"$f":"IF(INDEX(C_InstallationDescription!$F$169:$F$174,MATCH(C392,C_InstallationDescription!$E$169:$E$174,0))>0,INDEX(C_InstallationDescription!$F$169:$F$174,MATCH(C392,C_InstallationDescription!$E$169:$E$174,0)),\"\")","v":""},null,null,null,null,{"$f":"IF(U392=TRUE,V392,\"\")","v":""},null,null,null,{"$f":"Q334+1","v":5},null,{"$f":"IF(INDEX(C_InstallationDescription!$M:$M,MATCH(Q394,C_InstallationDescription!$Q:$Q,0))=\"\",FALSE,TRUE)","v":false},{"$f":"IF(S392=TRUE,INDEX(C_InstallationDescription!$M:$M,MATCH(Q394,C_InstallationDescription!$Q:$Q,0)),\"\")","v":""},{"$f":"IF(INDEX(C_InstallationDescription!$N:$N,MATCH(Q394,C_InstallationDescription!$Q:$Q,0))=\"\",FALSE,TRUE)","v":false},{"$f":"IF(U392=TRUE,INDEX(C_InstallationDescription!$N:$N,MATCH(Q394,C_InstallationDescription!$Q:$Q,0)),\"\")","v":""},null,null,"xxx"]
[]
[null,null,null,"(a)",{"$f":"Translations!$B$583","v":"Werking:"},null,null,null,null,null,null,null,{"$f":"IF(S392=TRUE,T392,\"\")","v":""},null,null,null,{"$f":"EUconst_CNTR_SourceCategory&C392","v":"SourceCategory_M5"}]
[]
[null,null,null,{"$f":"Translations!$B$446","v":"Automatische aanwijzingen over de toepasselijke niveaus:"}]
[]
[]
[null,null,null,null,{"$f":"IF(H392=\"\",\"\",INDEX(EUconst_CEMSTiersMsg,MATCH(Q399,EUconst_CEMSTiers,0)))","v":""},null,null,null,null,null,null,null,null,null,null,null,{"$f":"IF(CNTR_SmallEmitter=TRUE,EUconst_CNTR_SmallEmitter,EUconst_CNTR_NoSmallEmitter) & \"_\" & IF(M394=\"\",1,MATCH(M394,SourceCategoryCEMS,0))","v":"NoSmallEmitter__1"}]
[]
[null,null,null,{"$f":"Translations!$B$590","v":"Instrumenten en niveaus:"}]
[]
[null,null,null,"(b)",{"$f":"Translations!$B$472","v":"Toegepaste meetinstrumenten:"}]
[]
[null,null,null,null,{"$f":"Translations!$B$475","v":"Commentaar op / beschrijving van de methode, indien meerdere instrumenten zijn gebruikt:"}]
[]
[]
[]
[]
[null,null,null,null,null,null,null,null,null,null,null,null,null,null,null,null,null,null,"Tier def."]
[null,null,null,"(c)",{"$f":"Translations!$B$595","v":"Vereist niveau:"},null,null,{"$f":"IF(H392=\"\",\"\",IF(CNTR_Category=\"A\",INDEX(EUconst_CEMSMinimumTiers,MATCH(M392,EUconst_CEMSTypes,0)),INDEX(EUconst_CEMSHighestTiers,MATCH(M392,EUconst_CEMSTypes,0))))","v":""},{"$f":"IF(H411=\"\",\"\",IF(S411=0,EUconst_NA,IF(ISERROR(S411),\"\",EUconst_MsgTierActivityLevel & \" \" &S411)))","v":""},null,null,null,null,null,null,null,null,null,{"$f":"IF(H411=\"\",\"\",IF(H411=EUconst_NA,\"\",INDEX(EUwideConstants!$H$695:$M$698,MATCH(M392,EUconst_CEMSTypes,0),MATCH(H411,CNTR_TierList,0))))","v":""}]
[null,null,null,"(d)",{"$f":"Translations!$B$596","v":"Toegepast niveau:"},null,null,null,{"$f":"IF(OR(ISBLANK(H412),H412=EUconst_NoTier),\"\",IF(S412=EUconst_NA,EUconst_NA,IF(ISERROR(S412),\"\",EUconst_MsgTierActivityLevel & \" \" &S412)))","v":""},null,null,null,null,null,null,null,null,null,{"$f":"IF(H412=\"\",\"\",IF(H412=EUconst_NA,\"\",INDEX(EUwideConstants!$H$695:$M$698,MATCH(M392,EUconst_CEMSTypes,0),MATCH(H412,CNTR_TierList,0))))","v":""}]
[null,null,null,"(e)",{"$f":"Translations!$B$479","v":"Bereikte onzekerheid:"},null,null,null,{"$f":"Translations!$B$480","v":"Opmerking:"}]
[]
[null,null,null,{"$f":"Translations!$B$599","v":"Normen en procedures:"}]
[]
[null,null,null,"(f)",{"$f":"Translations!$B$600","v":"Toegepaste normen en eventuele afwijkingen van die normen"}]
[null,null,null,null,{"$f":"Translations!$B$601","v":"Verwijs waar nodig naar tabel 9e."}]
[]
[]
[]
[]
[]
[null,null,null,"(g)",{"$f":"Translations!$B$602","v":"Verwijzingen naar procedures"}]
[]
[null,null,null,null,"i.",{"$f":"Translations!$B$604","v":"De berekeningsformules voor de verzameling van gegevens en de bepaling van de jaarlijkse emissies"}]
[]
[]
[null,null,null,null,"ii.",{"$f":"Translations!$B$605","v":"De methode om te bepalen of geldige uren of kortere referentieperioden voor elke parameter kunnen worden berekend (uitgaande van de drempelwaarde van artikel 44, lid 2), en voor het bepalen van waarden ter vervanging van ontbrekende gegevens overeenkomstig artikel 45"}]
[]
[]
[null,null,null,null,"iii.",{"$f":"Translations!$B$606","v":"Berekening van het rookgasdebiet, indien van toepassing"}]
[]
[]
[null,null,null,null,"iv.",{"$f":"Translations!$B$607","v":"Bepaling van het CO2 afkomstig uit biomassa, afgetrokken van de gemeten CO2-emissies, indien van toepassing"}]
[]
[]
[null,null,null,null,"v.",{"$f":"Translations!$B$608","v":"Ter bevestiging uitgevoerde berekeningen overeenkomstig artikel 46, indien van toepassing"}]
[]
[]
[null,null,null,{"$f":"Translations!$B$545","v":"Opmerkingen en uitleg:"}]
[]
[null,null,null,"(h)",{"$f":"Translations!$B$1202","v":"Geef een toelichting en verklaring als het vereiste niveau niet wordt toegepast:"}]
[]
[]
[]
[]
[]
["ADD_CompleteMeasurementPoint"]
[]
[null,null,11,{"$f":"Translations!$B$23","v":"Beheer van en procedures voor meetmethoden"}]
[]
[null,null,null,"(a)",{"$f":"Translations!$B$611","v":"Verschaf informatie over de schriftelijke procedures waarin de methode en berekeningsformules zijn opgenomen voor de gegevensverzameling en voor het bepalen van de jaarlijkse CO2(e)-emissies bij gebruik van meetmethoden."}]
[null,null,null,null,{"$f":"Translations!$B$612","v":"Verschaf informatie over de schriftelijke procedures overeenkomstig artikel 44 van de MRV."}]
[null,null,null,null,{"$f":"Translations!$B$613","v":"Indien meerdere procedures voor een soortgelijk doel worden gebruikt voor verschillende emissiebronnen of meetpunten, beschrijft u een overkoepelende procedure waarin de gemeenschappelijke elementen en de kwaliteitswaarborging van de toegepaste methoden worden behandeld."}]
[null,null,null,null,{"$f":"Translations!$B$614","v":"U kunt daarbij verwijzen naar afzonderlijke \"subprocedures\" of informatie verschaffen over elke afzonderlijke relevante procedure. In het tweede geval klikt u op de \"Voeg een procedure toe\"-knop aan het einde van dit werkblad. Zorg ervoor dat u duidelijk kunt verwijzen naar de relevante (sub-)procedures."}]
[]
[null,null,null,null,{"$f":"Translations!$B$405","v":"Procedurenaam"}]
[null,null,null,null,{"$f":"Translations!$B$407","v":"Verwijzing naar de procedure"}]
[null,null,null,null,{"$f":"Translations!$B$409","v":"Verwijzing naar een diagram (indien van toepassing)"}]
[null,null,null,null,{"$f":"Translations!$B$615","v":"Beknopte beschrijving van de procedure    In de beschrijving moeten de wezenlijke parameters en uitgevoerde handelingen aan bod komen"}]
[null,null,null,null,{"$f":"Translations!$B$414","v":"Functie of afdeling die verantwoordelijk is voor de procedure en voor gegenereerde gegevens"}]
[null,null,null,null,{"$f":"Translations!$B$416","v":"Plaats waar de administratie wordt bewaard"}]
[null,null,null,null,{"$f":"Translations!$B$418","v":"Naam van het gebruikte IT-systeem (indien van toepassing)."}]
[null,null,null,null,{"$f":"Translations!$B$420","v":"Een lijst van EN-normen of andere toegepaste normen, indien van toepassing."}]
[]
[null,null,null,"(b)",{"$f":"Translations!$B$616","v":"Verschaf informatie over de schriftelijke procedures voor de methode om geldige uren (of kortere referentieperioden) voor elke parameter en waarden ter vervanging van ontbrekende gegevens te bepalen."}]
[null,null,null,null,{"$f":"Translations!$B$617","v":"Verschaf informatie over de schriftelijke procedures voor de methode om te bepalen of geldige uren of kortere referentieperioden voor elke parameter kunnen worden geleverd, en voor het bepalen van waarden ter vervanging van ontbrekende gegevens overeenkomstig artikel 45 van de MRV."}]
[]
[null,null,null,null,{"$f":"Translations!$B$405","v":"Procedurenaam"}]
[null,null,null,null,{"$f":"Translations!$B$407","v":"Verwijzing naar de procedure"}]
[null,null,null,null,{"$f":"Translations!$B$409","v":"Verwijzing naar een diagram (indien van toepassing)"}]
[null,null,null,null,{"$f":"Translations!$B$615","v":"Beknopte beschrijving van de procedure    In de beschrijving moeten de wezenlijke parameters en uitgevoerde handelingen aan bod komen"}]
[null,null,null,null,{"$f":"Translations!$B$414","v":"Functie of afdeling die verantwoordelijk is voor de procedure en voor gegenereerde gegevens"}]
[null,null,null,null,{"$f":"Translations!$B$416","v":"Plaats waar de administratie wordt bewaard"}]
[null,null,null,null,{"$f":"Translations!$B$418","v":"Naam van het gebruikte IT-systeem (indien van toepassing)."}]
[null,null,null,null,{"$f":"Translations!$B$420","v":"Een lijst van EN-normen of andere toegepaste normen, indien van toepassing."}]
[]
[null,null,null,"(c)",{"$f":"Translations!$B$618","v":"Als het rookgasdebiet bepaald wordt via een rekenmethode verschaft u informatie over de schriftelijke procedure voor deze berekening per relevante overeenkomstig artikel 43, lid 5, onder a), van de MRV."}]
[null,null,null,null,{"$f":"Translations!$B$405","v":"Procedurenaam"}]
[null,null,null,null,{"$f":"Translations!$B$407","v":"Verwijzing naar de procedure"}]
[null,null,null,null,{"$f":"Translations!$B$409","v":"Verwijzing naar een diagram (indien van toepassing)"}]
[null,null,null,null,{"$f":"Translations!$B$615","v":"Beknopte beschrijving van de procedure    In de beschrijving moeten de wezenlijke parameters en uitgevoerde handelingen aan bod komen"}]
[null,null,null,null,{"$f":"Translations!$B$414","v":"Functie of afdeling die verantwoordelijk is voor de procedure en voor gegenereerde gegevens"}]
[null,null,null,null,{"$f":"Translations!$B$416","v":"Plaats waar de administratie wordt bewaard"}]
[null,null,null,null,{"$f":"Translations!$B$418","v":"Naam van het gebruikte IT-systeem (indien van toepassing)."}]
[null,null,null,null,{"$f":"Translations!$B$420","v":"Een lijst van EN-normen of andere toegepaste normen, indien van toepassing."}]
[]
[null,null,null,"(d)",{"$f":"Translations!$B$1203","v":"Als de emissiemeting ook CO2 afkomstig uit biomassa betreft, verschaft u informatie over de schriftelijke procedure aan de hand waarvan deze wordt bepaald en wordt afgetrokken van de gemeten CO2-emissies, overeenkomstig artikel 43, lid 4, en artikel 43, lid 4 bis, MRV, indien van toepassing."}]
[null,null,null,null,{"$f":"Translations!$B$405","v":"Procedurenaam"}]
[null,null,null,null,{"$f":"Translations!$B$407","v":"Verwijzing naar de procedure"}]
[null,null,null,null,{"$f":"Translations!$B$409","v":"Verwijzing naar een diagram (indien van toepassing)"}]
[null,null,null,null,{"$f":"Translations!$B$615","v":"Beknopte beschrijving van de procedure    In de beschrijving moeten de wezenlijke parameters en uitgevoerde handelingen aan bod komen"}]
[null,null,null,null,{"$f":"Translations!$B$414","v":"Functie of afdeling die verantwoordelijk is voor de procedure en voor gegenereerde gegevens"}]
[null,null,null,null,{"$f":"Translations!$B$416","v":"Plaats waar de administratie wordt bewaard"}]
[null,null,null,null,{"$f":"Translations!$B$418","v":"Naam van het gebruikte IT-systeem (indien van toepassing)."}]
[null,null,null,null,{"$f":"Translations!$B$420","v":"Een lijst van EN-normen of andere toegepaste normen, indien van toepassing."}]
[]
[null,null,null,"(e)",{"$f":"Translations!$B$620","v":"Verschaf informatie over de schriftelijke procedure voor het uitvoeren van ter bevestiging uitgevoerde berekeningen overeenkomstig artikel 46 van de MRV, indien van toepassing."}]
[null,null,null,null,{"$f":"Translations!$B$405","v":"Procedurenaam"}]
[null,null,null,null,{"$f":"Translations!$B$407","v":"Verwijzing naar de procedure"}]
[null,null,null,null,{"$f":"Translations!$B$409","v":"Verwijzing naar een diagram (indien van toepassing)"}]
[null,null,null,null,{"$f":"Translations!$B$615","v":"Beknopte beschrijving van de procedure    In de beschrijving moeten de wezenlijke parameters en uitgevoerde handelingen aan bod komen"}]
[null,null,null,null,{"$f":"Translations!$B$414","v":"Functie of afdeling die verantwoordelijk is voor de procedure en voor gegenereerde gegevens"}]
[null,null,null,null,{"$f":"Translations!$B$416","v":"Plaats waar de administratie wordt bewaard"}]
[null,null,null,null,{"$f":"Translations!$B$418","v":"Naam van het gebruikte IT-systeem (indien van toepassing)."}]
[null,null,null,null,{"$f":"Translations!$B$420","v":"Een lijst van EN-normen of andere toegepaste normen, indien van toepassing."}]
["ausblenden"]
["ausblenden",null,null,null,{"$f":"Translations!$B$1150","v":"Bijkomende procedure toegevoegd door de exploitant"}]
["ausblenden"]
["ausblenden",null,null,null,{"$f":"Translations!$B$405","v":"Procedurenaam"}]
["ausblenden",null,null,null,{"$f":"Translations!$B$407","v":"Verwijzing naar de procedure"}]
["ausblenden",null,null,null,{"$f":"Translations!$B$409","v":"Verwijzing naar een diagram (indien van toepassing)"}]
["ausblenden",null,null,null,{"$f":"Translations!$B$615","v":"Beknopte beschrijving van de procedure    In de beschrijving moeten de wezenlijke parameters en uitgevoerde handelingen aan bod komen"}]
["ausblenden"]
["ausblenden"]
["ausblenden",null,null,null,{"$f":"Translations!$B$414","v":"Functie of afdeling die verantwoordelijk is voor de procedure en voor gegenereerde gegevens"}]
["ausblenden",null,null,null,{"$f":"Translations!$B$416","v":"Plaats waar de administratie wordt bewaard"}]
["ausblenden",null,null,null,{"$f":"Translations!$B$418","v":"Naam van het gebruikte IT-systeem (indien van toepassing)."}]
["ausblenden",null,null,null,{"$f":"Translations!$B$420","v":"Een lijst van EN-normen of andere toegepaste normen, indien van toepassing."}]
["ADD_Procedure"]
[null,null,null,null,null,null,{"$f":"Translations!$B$429","v":"Klik op \"+\" om meer procedures toe te voegen"}]
[]
[]
[]
[null,null,null,null,null,{"$f":"EUconst_MsgNextSheet","v":"<<< Klik hier om naar het volgende werkblad te gaan >>> "}]

{"sheet":"G_Fall-backApproach","index":8,"n_rows":86,"n_cols":12,"rows_kept":86,"cut":false,"hidden":false,"merged":[[77,4,77,5],[70,4,70,5],[71,4,71,5],[76,4,76,5],[73,4,73,5],[73,6,73,13],[70,6,70,13],[68,4,68,13],[64,6,64,13],[66,4,66,5],[62,6,62,13],[85,5,85,11],[81,6,83,10],[76,6,76,13],[72,4,72,5],[79,6,79,13],[72,6,72,13],[78,4,78,5],[79,4,79,5],[78,6,78,13],[74,6,74,13],[77,6,77,13],[71,6,71,13],[63,6,63,13],[65,6,65,13],[75,6,75,13],[55,4,55,13],[45,4,45,13],[66,6,66,13],[62,4,62,5],[59,4,59,5],[59,6,59,13],[64,4,64,5],[63,4,63,5],[65,4,65,5],[50,4,50,13],[51,4,51,13],[57,4,57,13],[60,4,60,5],[61,4,61,5],[61,6,61,13],[60,6,60,13],[52,4,52,13],[53,4,53,13],[54,4,54,13],[43,4,43,13],[41,4,41,13],[44,4,44,13],[39,4,39,13],[37,4,37,13],[49,4,49,13],[48,4,48,13],[46,4,46,13],[47,4,47,13],[40,4,40,13],[26,4,26,13],[27,4,27,13],[3,8,3,9],[3,4,3,5],[25,4,25,13],[16,4,16,13],[23,4,23,13],[24,4,24,13],[21,4,21,13],[3,6,3,7],[9,3,9,13],[15,4,15,13],[14,4,14,13],[11,2,11,13],[13,4,13,13],[12,4,12,13],[35,4,35,13],[36,4,36,13],[28,4,28,13],[29,4,29,13],[33,4,33,13],[34,4,34,13],[30,4,30,13],[31,4,31,13],[32,4,32,13],[1,1,3,3],[1,10,1,11],[5,2,5,10],[1,6,1,7],[1,8,1,9],[2,10,2,11],[1,4,1,5],[5,11,5,13],[3,10,3,11],[1,12,1,13],[2,4,2,5],[2,6,2,7],[2,8,2,9],[2,12,2,13],[3,12,3,13],[20,4,20,13],[22,4,22,13],[18,4,18,13],[19,4,19,13],[7,10,7,13]]}
["ausblenden"]
[null,{"$f":"Translations!$B$621","v":"G. Fall-back approaches"},null,null,{"$f":"Translations!$B$59","v":"Navigatiezone:"},null,{"$f":"Translations!$B$60","v":"Inhoudsopgave"},null,{"$f":"Translations!$B$61","v":"Vorig werkblad"},null,{"$f":"Translations!$B$62","v":"Volgend werkblad"}]
[null,null,null,null,{"$f":"Translations!$B$63","v":"Begin werkblad"}]
[null,null,null,null,{"$f":"Translations!$B$64","v":"Einde werkblad"}]
[]
[null,null,{"$f":"Translations!$B$24","v":"G. \"Fall-back\"-methode"},null,null,null,null,null,null,null,null,{"$f":"IF(AND(NOT(ISBLANK(CNTR_InstHasFallBack)), CNTR_InstHasFallBack=FALSE),EUconst_NotRelevant,EUconst_Relevant)","v":"relevant"}]
[]
[null,null,null,null,null,null,null,null,null,null,{"$f":"IF(L6=EUconst_NotRelevant,HYPERLINK(\"#JUMP_H_Top\",EUconst_MsgNextSheet),HYPERLINK(\"\",EUconst_MsgEnterThisSection))","v":"U wordt verzocht bij dit punt gegevens in te voeren"}]
[]
[null,null,12,{"$f":"Translations!$B$25","v":"Beschrijving van de \"Fall-back\"-methode"}]
[]
[null,null,{"$f":"Translations!$B$622","v":"In artikel 22 van de MRV is bepaald dat de exploitant voor geselecteerde bronstromen of emissiebronnen een monitoringmethode mag gebruiken die niet op niveaus is gebaseerd, mits aan de in dat artikel vastgelegde voorwaarden is voldaan. Vul dit punt in als u de \"fall-back\"-methode wilt hanteren voor een bronstroom of emissiebron. De bevoegde autoriteit kan om nadere informatie en motivering verzoeken."}]
[]
[null,null,null,"(a)",{"$f":"Translations!$B$623","v":"Indien een \"fall-back\"-monitoringmethodiek wordt toegepast overeenkomstig artikel 22 van de MRV, verschaft u een gedetailleerde beschrijving van de monitoringmethodiek die is toegepast voor alle bronstromen of emissiebronnen waarvoor geen niveau-aanpak wordt gehanteerd."}]
[null,null,null,null,{"$f":"Translations!$B$624","v":"Geef in onderstaand tekstvak een beknopte beschrijving van de monitoringmethode, inclusief formules, die gebruikt wordt om de jaarlijkse CO2- of CO2(e)-emissies te bepalen."}]
[null,null,null,null,{"$f":"Translations!$B$338","v":"Als de beschrijving te complex is, bijvoorbeeld als er complexe formules worden gebruikt, mag u de beschrijving bijvoegen in een afzonderlijk document met een door de bevoegde autoriteit geaccepteerd formaat. Noem in dat geval hier de bestandsnaam en -datum."}]
[null,null,null,null,{"$f":"Translations!$B$195","v":"Deze beschrijving dient de verbindende informatie te bevatten die nodig is om te begrijpen hoe alle informatie die elders in dit sjabloon is ingevoerd, gebruikt wordt bij de emissieberekening. De beschrijving mag zo kort zijn als het voorbeeld bij punt 7a op het werkblad D_CalculationBasedApproaches."}]
[]
[]
[]
[]
[]
[]
[]
[]
[]
[]
[]
[]
[]
[]
[]
[]
[]
[]
[]
[]
[]
[]
[null,null,null,"(b) ",{"$f":"Translations!$B$625","v":"Geef een beknopte motivering voor het toepassen van de \"fall-back\"-methode voor bovenstaande emissiebronnen, overeenkomstig de bepalingen van artikel 22."}]
[null,null,null,null,{"$f":"Translations!$B$626","v":"U moet kunnen aantonen dat de totale onzekerheid met betrekking tot de jaarlijkse broeikasgasemissies van de installatie als geheel niet meer bedraagt dan 7,5% voor installaties van categorie A, 5,0% voor installaties van categorie B en 2,5% voor installaties van categorie C. Opmerking: De bevoegde autoriteit mag u om alle benodigde informatie vragen waaruit blijkt dat een op niveaus gebaseerde reken- of meetmethode technisch onhaalbaar is of tot onredelijke kosten zou leiden."}]
[null,null,null,null,{"$f":"Translations!$B$338","v":"Als de beschrijving te complex is, bijvoorbeeld als er complexe formules worden gebruikt, mag u de beschrijving bijvoegen in een afzonderlijk document met een door de bevoegde autoriteit geaccepteerd formaat. Noem in dat geval hier de bestandsnaam en -datum."}]
[]
[]
[]
[]
[]
[]
[]
[]
[]
[]
[]
[]
[]
[]
[]
[null,null,null,"(c)",{"$f":"Translations!$B$627","v":"Verschaf informatie over de schriftelijke procedures voor de jaarlijkse onzekerheidsanalyse, zoals vereist krachtens artikel 22 van de MRV."}]
[]
[null,null,null,null,{"$f":"Translations!$B$405","v":"Procedurenaam"}]
[null,null,null,null,{"$f":"Translations!$B$407","v":"Verwijzing naar de procedure"}]
[null,null,null,null,{"$f":"Translations!$B$409","v":"Verwijzing naar een diagram (indien van toepassing)"}]
[null,null,null,null,{"$f":"Translations!$B$615","v":"Beknopte beschrijving van de procedure    In de beschrijving moeten de wezenlijke parameters en uitgevoerde handelingen aan bod komen"}]
[null,null,null,null,{"$f":"Translations!$B$414","v":"Functie of afdeling die verantwoordelijk is voor de procedure en voor gegenereerde gegevens"}]
[null,null,null,null,{"$f":"Translations!$B$416","v":"Plaats waar de administratie wordt bewaard"}]
[null,null,null,null,{"$f":"Translations!$B$418","v":"Naam van het gebruikte IT-systeem (indien van toepassing)."}]
[null,null,null,null,{"$f":"Translations!$B$420","v":"Een lijst van EN-normen of andere toegepaste normen, indien van toepassing."}]
["ausblenden"]
["ausblenden",null,null,null,{"$f":"Translations!$B$1150","v":"Bijkomende procedure toegevoegd door de exploitant"}]
["ausblenden"]
["ausblenden",null,null,null,{"$f":"Translations!$B$405","v":"Procedurenaam"}]
["ausblenden",null,null,null,{"$f":"Translations!$B$407","v":"Verwijzing naar de procedure"}]
["ausblenden",null,null,null,{"$f":"Translations!$B$409","v":"Verwijzing naar een diagram (indien van toepassing)"}]
["ausblenden",null,null,null,{"$f":"Translations!$B$411","v":"Korte procedurebeschrijving"}]
["ausblenden"]
["ausblenden"]
["ausblenden",null,null,null,{"$f":"Translations!$B$414","v":"Functie of afdeling die verantwoordelijk is voor de procedure en voor gegenereerde gegevens"}]
["ausblenden",null,null,null,{"$f":"Translations!$B$416","v":"Plaats waar de administratie wordt bewaard"}]
["ausblenden",null,null,null,{"$f":"Translations!$B$418","v":"Naam van het gebruikte IT-systeem (indien van toepassing)."}]
["ausblenden",null,null,null,{"$f":"Translations!$B$420","v":"Een lijst van EN-normen of andere toegepaste normen, indien van toepassing."}]
["ADD_Procedure"]
[null,null,null,null,null,null,{"$f":"Translations!$B$429","v":"Klik op \"+\" om meer procedures toe te voegen"}]
[]
[]
[]
[null,null,null,null,null,{"$f":"EUconst_MsgNextSheet","v":"<<< Klik hier om naar het volgende werkblad te gaan >>> "}]

{"sheet":"H_N2O","index":9,"n_rows":116,"n_cols":12,"rows_kept":116,"cut":false,"hidden":false,"merged":[[2,8,2,9],[2,10,2,11],[1,4,1,5],[1,6,1,7],[9,3,9,13],[3,8,3,9],[3,10,3,11],[3,6,3,7],[2,12,2,13],[3,12,3,13],[5,2,5,10],[5,11,5,13],[1,1,3,3],[3,4,3,5],[19,6,19,13],[1,10,1,11],[2,4,2,5],[2,6,2,7],[1,8,1,9],[1,12,1,13],[48,4,48,5],[52,4,52,5],[14,4,14,13],[11,4,11,13],[12,4,12,13],[7,10,7,13],[40,4,40,5],[20,6,20,13],[15,4,15,5],[16,4,16,5],[45,6,45,13],[46,6,46,13],[17,6,17,13],[15,6,15,13],[18,4,18,5],[18,6,18,13],[36,4,36,5],[17,4,17,5],[16,6,16,13],[21,4,21,5],[66,4,66,5],[69,4,69,5],[70,4,70,5],[63,4,63,5],[41,4,41,5],[39,4,39,5],[53,4,53,5],[65,4,65,5],[62,4,62,13],[54,4,54,5],[22,6,22,13],[21,6,21,13],[29,4,29,5],[59,4,59,5],[64,4,64,5],[51,4,51,5],[55,6,55,13],[56,6,56,13],[57,4,57,5],[58,4,58,5],[47,6,47,13],[48,6,48,13],[22,4,22,5],[30,4,30,5],[71,4,71,5],[71,6,71,13],[110,6,112,10],[90,4,90,13],[91,4,91,13],[92,4,92,13],[93,4,93,13],[107,4,107,5],[107,6,107,13],[94,4,94,13],[95,4,95,13],[108,6,108,13],[74,4,74,13],[75,4,75,13],[76,4,76,13],[77,4,77,13],[100,4,100,5],[89,4,89,13],[86,4,86,13],[108,4,108,5],[105,4,105,5],[85,4,85,13],[78,4,78,13],[79,4,79,13],[99,4,99,5],[82,4,82,13],[84,4,84,13],[83,4,83,13],[99,6,99,13],[80,4,80,13],[100,6,100,13],[81,4,81,13],[106,4,106,5],[106,6,106,13],[105,6,105,13],[87,4,87,13],[88,4,88,13],[101,4,101,5],[101,6,101,13],[104,6,104,13],[103,6,103,13],[97,4,97,13],[46,4,46,5],[38,4,38,13],[72,6,72,13],[70,6,70,13],[57,6,57,13],[58,6,58,13],[59,6,59,13],[68,6,68,13],[63,6,63,13],[67,6,67,13],[69,6,69,13],[72,4,72,5],[65,6,65,13],[60,4,60,5],[23,6,23,13],[24,6,24,13],[27,6,27,13],[28,6,28,13],[26,4,26,13],[42,4,42,5],[24,4,24,5],[23,4,23,5],[27,4,27,5],[28,4,28,5],[29,6,29,13],[30,6,30,13],[31,6,31,13],[42,6,42,13],[34,4,34,5],[36,6,36,13],[115,5,115,11],[32,6,32,13],[33,6,33,13],[102,4,102,5],[102,6,102,13],[35,4,35,5],[50,4,50,13],[47,4,47,5],[40,6,40,13],[41,6,41,13],[33,4,33,5],[34,6,34,13],[39,6,39,13],[35,6,35,13],[51,6,51,13],[52,6,52,13],[66,6,66,13],[60,6,60,13],[64,6,64,13],[53,6,53,13],[54,6,54,13],[43,6,43,13],[44,6,44,13],[45,4,45,5]]}
["ausblenden"]
[null,{"$f":"Translations!$B$26","v":"H. N2O-emissies"},null,null,{"$f":"Translations!$B$59","v":"Navigatiezone:"},null,{"$f":"Translations!$B$60","v":"Inhoudsopgave"},null,{"$f":"Translations!$B$61","v":"Vorig werkblad"},null,{"$f":"Translations!$B$62","v":"Volgend werkblad"}]
[null,null,null,null,{"$f":"Translations!$B$63","v":"Begin werkblad"}]
[null,null,null,null,{"$f":"Translations!$B$64","v":"Einde werkblad"}]
[]
[null,null,{"$f":"Translations!$B$26","v":"H. N2O-emissies"},null,null,null,null,null,null,null,null,{"$f":"IF(AND(NOT(ISBLANK(CNTR_InstHasN2O)), CNTR_InstHasN2O=FALSE),EUconst_NotRelevant,EUconst_Relevant)","v":"relevant"}]
[]
[null,null,null,null,null,null,null,null,null,null,{"$f":"IF(L6=EUconst_NotRelevant,HYPERLINK(\"#JUMP_I_Top\",EUconst_MsgNextSheet),HYPERLINK(\"\",EUconst_MsgEnterThisSection))","v":"U wordt verzocht bij dit punt gegevens in te voeren"}]
[]
[null,null,13,{"$f":"Translations!$B$27","v":"Beheer van en procedures voor de monitoring van N2O-emissies"}]
[]
[null,null,null,null,{"$f":"Translations!$B$628","v":"Opmerking: dit punt moet worden ingevuld voor de bepaling van N2O-emissies van gespecificeerde productieactiviteiten in een installatie. N2O-emissies uit de verbranding van brandstoffen vallen hier niet onder.  Zorg ervoor dat de informatie over uw meetsysteem waar nodig wordt ingevoerd op het werkblad F_MeasurementBasedApproaches."}]
[null,null,null,null,{"$f":"Translations!$B$629","v":"Dit werkblad betreft alleen eisen die niet van toepassing zijn op CO2-monitoring."}]
[]
[null,null,null,"(a)",{"$f":"Translations!$B$630","v":"Verschaf informatie over de schriftelijke procedure voor de gebruikte methode en parameters voor de bepaling van de hoeveelheid in het productieproces gebruikte materialen en de maximumhoeveelheid materiaal bij volledige gebruikscapaciteit."}]
[null,null,null,null,{"$f":"Translations!$B$405","v":"Procedurenaam"}]
[null,null,null,null,{"$f":"Translations!$B$407","v":"Verwijzing naar de procedure"}]
[null,null,null,null,{"$f":"Translations!$B$409","v":"Verwijzing naar een diagram (indien van toepassing)"}]
[null,null,null,null,{"$f":"Translations!$B$411","v":"Korte procedurebeschrijving"}]
[]
[]
[null,null,null,null,{"$f":"Translations!$B$414","v":"Functie of afdeling die verantwoordelijk is voor de procedure en voor gegenereerde gegevens"}]
[null,null,null,null,{"$f":"Translations!$B$416","v":"Plaats waar de administratie wordt bewaard"}]
[null,null,null,null,{"$f":"Translations!$B$418","v":"Naam van het gebruikte IT-systeem (indien van toepassing)."}]
[null,null,null,null,{"$f":"Translations!$B$420","v":"Een lijst van EN-normen of andere toegepaste normen, indien van toepassing."}]
[]
[null,null,null,"(b)",{"$f":"Translations!$B$631","v":"Verschaf informatie over de schriftelijke procedure voor de gebruikte methode en parameters voor de omrekening van de geproduceerde hoeveelheid product tot belastingsfactor per uur, uitgedrukt als per uur geproduceerd salpeterzuur (100%), adipinezuur (100%), glyoxal en glyoxylzuur en caprolactam."}]
[null,null,null,null,{"$f":"Translations!$B$405","v":"Procedurenaam"}]
[null,null,null,null,{"$f":"Translations!$B$407","v":"Verwijzing naar de procedure"}]
[null,null,null,null,{"$f":"Translations!$B$409","v":"Verwijzing naar een diagram (indien van toepassing)"}]
[null,null,null,null,{"$f":"Translations!$B$411","v":"Korte procedurebeschrijving"}]
[]
[]
[null,null,null,null,{"$f":"Translations!$B$414","v":"Functie of afdeling die verantwoordelijk is voor de procedure en voor gegenereerde gegevens"}]
[null,null,null,null,{"$f":"Translations!$B$416","v":"Plaats waar de administratie wordt bewaard"}]
[null,null,null,null,{"$f":"Translations!$B$418","v":"Naam van het gebruikte IT-systeem (indien van toepassing)."}]
[null,null,null,null,{"$f":"Translations!$B$420","v":"Een lijst van EN-normen of andere toegepaste normen, indien van toepassing."}]
[]
[null,null,null,"(c)",{"$f":"Translations!$B$632","v":"Verschaf informatie over de schriftelijke procedure voor de gebruikte methode en parameters voor de bepaling van de N2O-concentratie in het rookgas van elke emissiebron, het meetbereik en de onzekerheid van de methode en informatie over eventuele alternatieve methoden die worden gebruikt wanneer de concentraties buiten het meetbereik vallen alsmede over de situaties waarin dit kan voorkomen."}]
[null,null,null,null,{"$f":"Translations!$B$405","v":"Procedurenaam"}]
[null,null,null,null,{"$f":"Translations!$B$407","v":"Verwijzing naar de procedure"}]
[null,null,null,null,{"$f":"Translations!$B$409","v":"Verwijzing naar een diagram (indien van toepassing)"}]
[null,null,null,null,{"$f":"Translations!$B$411","v":"Korte procedurebeschrijving"}]
[]
[]
[null,null,null,null,{"$f":"Translations!$B$414","v":"Functie of afdeling die verantwoordelijk is voor de procedure en voor gegenereerde gegevens"}]
[null,null,null,null,{"$f":"Translations!$B$416","v":"Plaats waar de administratie wordt bewaard"}]
[null,null,null,null,{"$f":"Translations!$B$418","v":"Naam van het gebruikte IT-systeem (indien van toepassing)."}]
[null,null,null,null,{"$f":"Translations!$B$420","v":"Een lijst van EN-normen of andere toegepaste normen, indien van toepassing."}]
[]
[null,null,null,"(d)",{"$f":"Translations!$B$633","v":"Verschaf informatie over de schriftelijke procedure voor de berekeningsmethode voor de bepaling van periodieke ongereinigde N2O-emissies bij de productie van salpeterzuur, adipinezuur, caprolactam, glyoxal en glyoxylzuur."}]
[null,null,null,null,{"$f":"Translations!$B$405","v":"Procedurenaam"}]
[null,null,null,null,{"$f":"Translations!$B$407","v":"Verwijzing naar de procedure"}]
[null,null,null,null,{"$f":"Translations!$B$409","v":"Verwijzing naar een diagram (indien van toepassing)"}]
[null,null,null,null,{"$f":"Translations!$B$411","v":"Korte procedurebeschrijving"}]
[]
[]
[null,null,null,null,{"$f":"Translations!$B$414","v":"Functie of afdeling die verantwoordelijk is voor de procedure en voor gegenereerde gegevens"}]
[null,null,null,null,{"$f":"Translations!$B$416","v":"Plaats waar de administratie wordt bewaard"}]
[null,null,null,null,{"$f":"Translations!$B$418","v":"Naam van het gebruikte IT-systeem (indien van toepassing)."}]
[null,null,null,null,{"$f":"Translations!$B$420","v":"Een lijst van EN-normen of andere toegepaste normen, indien van toepassing."}]
[]
[null,null,null,"(e)",{"$f":"Translations!$B$634","v":"Verschaf informatie over de schriftelijke procedure voor de manier waarop of de mate waarin de installatie een variabele belasting kent, en de wijze waarop het logistieke beheer wordt gevoerd."}]
[null,null,null,null,{"$f":"Translations!$B$405","v":"Procedurenaam"}]
[null,null,null,null,{"$f":"Translations!$B$407","v":"Verwijzing naar de procedure"}]
[null,null,null,null,{"$f":"Translations!$B$409","v":"Verwijzing naar een diagram (indien van toepassing)"}]
[null,null,null,null,{"$f":"Translations!$B$411","v":"Korte procedurebeschrijving"}]
[]
[]
[null,null,null,null,{"$f":"Translations!$B$414","v":"Functie of afdeling die verantwoordelijk is voor de procedure en voor gegenereerde gegevens"}]
[null,null,null,null,{"$f":"Translations!$B$416","v":"Plaats waar de administratie wordt bewaard"}]
[null,null,null,null,{"$f":"Translations!$B$418","v":"Naam van het gebruikte IT-systeem (indien van toepassing)."}]
[null,null,null,null,{"$f":"Translations!$B$420","v":"Een lijst van EN-normen of andere toegepaste normen, indien van toepassing."}]
[]
[null,null,null,"(f)",{"$f":"Translations!$B$635","v":"Verschaf informatie over procesomstandigheden die afwijken van het normale bedrijf. "}]
[null,null,null,null,{"$f":"Translations!$B$636","v":"Daaronder moet zich een indicatie bevinden van de potentiële frequentie en de duur van dergelijke omstandigheden, alsmede een indicatie van de omvang van de N2O-emissies gedurende de afwijkende omstandigheden, bijvoorbeeld bij storingen van de rookgasreinigingsapparatuur."}]
[]
[]
[]
[]
[]
[]
[]
[]
[]
[]
[]
[]
[]
[]
[]
[]
[]
[]
[]
[]
["ausblenden"]
["ausblenden",null,null,null,{"$f":"Translations!$B$1150","v":"Bijkomende procedure toegevoegd door de exploitant"}]
["ausblenden"]
["ausblenden",null,null,null,{"$f":"Translations!$B$405","v":"Procedurenaam"}]
["ausblenden",null,null,null,{"$f":"Translations!$B$407","v":"Verwijzing naar de procedure"}]
["ausblenden",null,null,null,{"$f":"Translations!$B$409","v":"Verwijzing naar een diagram (indien van toepassing)"}]
["ausblenden",null,null,null,{"$f":"Translations!$B$411","v":"Korte procedurebeschrijving"}]
["ausblenden"]
["ausblenden"]
["ausblenden",null,null,null,{"$f":"Translations!$B$414","v":"Functie of afdeling die verantwoordelijk is voor de procedure en voor gegenereerde gegevens"}]
["ausblenden",null,null,null,{"$f":"Translations!$B$416","v":"Plaats waar de administratie wordt bewaard"}]
["ausblenden",null,null,null,{"$f":"Translations!$B$418","v":"Naam van het gebruikte IT-systeem (indien van toepassing)."}]
["ausblenden",null,null,null,{"$f":"Translations!$B$420","v":"Een lijst van EN-normen of andere toegepaste normen, indien van toepassing."}]
["ADD_Procedure"]
[null,null,null,null,null,null,{"$f":"Translations!$B$429","v":"Klik op \"+\" om meer procedures toe te voegen"}]
[]
[]
[]
[]
[null,null,null,null,null,{"$f":"EUconst_MsgNextSheet","v":"<<< Klik hier om naar het volgende werkblad te gaan >>> "}]

{"sheet":"I_PFC","index":10,"n_rows":500,"n_cols":23,"rows_kept":500,"cut":false,"hidden":false,"merged":[[419,3,419,13],[435,4,435,13],[436,4,436,13],[429,4,429,13],[430,4,430,13],[426,4,426,13],[428,4,428,13],[432,4,432,13],[434,4,434,13],[425,3,425,13],[397,9,397,13],[400,8,400,13],[401,8,401,13],[402,9,402,13],[409,9,409,13],[410,9,410,13],[407,9,407,13],[381,8,381,13],[382,9,382,13],[404,3,404,13],[408,9,408,13],[387,9,387,13],[390,8,390,13],[391,8,391,13],[392,9,392,13],[395,8,395,13],[396,8,396,13],[385,8,385,13],[386,8,386,13],[370,4,370,6],[370,7,370,11],[371,4,371,6],[371,7,371,11],[373,3,373,13],[375,4,375,13],[377,3,377,13],[380,8,380,13],[337,9,337,13],[338,9,338,13],[347,3,347,13],[353,3,353,13],[363,4,363,13],[364,4,364,13],[358,4,358,13],[360,4,360,13],[362,4,362,13],[367,3,367,6],[367,7,367,11],[367,12,367,13],[323,8,323,13],[324,8,324,13],[325,9,325,13],[328,8,328,13],[320,9,320,13],[329,8,329,13],[330,9,330,13],[369,4,369,6],[369,7,369,11],[354,4,354,13],[356,4,356,13],[357,4,357,13],[332,3,332,13],[336,9,336,13],[335,9,335,13],[301,3,301,13],[303,4,303,13],[305,3,305,13],[308,8,308,13],[309,8,309,13],[310,9,310,13],[319,8,319,13],[299,4,299,6],[299,7,299,11],[313,8,313,13],[314,8,314,13],[315,9,315,13],[318,8,318,13],[295,7,295,11],[295,12,295,13],[297,4,297,6],[290,4,290,13],[298,4,298,6],[298,7,298,11],[291,4,291,13],[292,4,292,13],[295,3,295,6],[284,4,284,13],[285,4,285,13],[256,8,256,13],[257,8,257,13],[258,9,258,13],[260,3,260,13],[286,4,286,13],[263,9,263,13],[288,4,288,13],[43,3,43,13],[2,12,2,13],[1,6,1,7],[22,3,22,13],[446,6,446,13],[241,8,241,13],[446,4,446,5],[1,12,1,13],[2,4,2,5],[229,3,229,13],[252,8,252,13],[236,8,236,13],[237,8,237,13],[246,8,246,13],[247,8,247,13],[251,8,251,13],[231,4,231,13],[440,3,440,13],[297,7,297,11],[264,9,264,13],[282,4,282,13],[266,9,266,13],[275,3,275,13],[281,3,281,13],[26,3,26,13],[18,3,18,13],[16,4,16,13],[3,10,3,11],[3,12,3,13],[27,3,27,13],[1,1,3,3],[3,4,3,5],[2,10,2,11],[19,3,19,13],[1,4,1,5],[2,6,2,7],[2,8,2,9],[3,6,3,7],[3,8,3,9],[20,3,20,13],[21,3,21,13],[1,8,1,9],[40,3,40,13],[42,3,42,13],[45,3,45,13],[39,9,39,13],[227,4,227,6],[48,4,48,6],[49,4,49,6],[48,11,48,13],[49,11,49,13],[48,7,48,10],[80,5,80,13],[78,4,78,13],[79,5,79,13],[64,3,64,13],[72,4,72,6],[72,7,72,11],[67,3,67,13],[68,3,68,13],[70,3,70,6],[66,3,66,13],[53,4,53,6],[56,6,58,10],[62,3,62,13],[54,4,54,6],[31,3,31,13],[44,3,44,13],[35,3,35,13],[32,3,32,13],[33,3,33,13],[34,3,34,13],[30,3,30,13],[1,10,1,11],[7,10,7,13],[5,2,5,10],[5,11,5,13],[24,3,24,13],[11,3,11,14],[9,3,9,13],[15,4,15,13],[29,3,29,13],[13,3,13,13],[14,4,14,13],[28,3,28,13],[23,3,23,13],[25,3,25,13],[36,3,36,13],[37,3,37,13],[39,3,39,8],[52,4,52,6],[53,11,53,13],[54,11,54,13],[52,7,52,10],[53,7,53,10],[54,7,54,10],[70,7,70,11],[70,12,70,13],[49,7,49,10],[50,7,50,10],[51,7,51,10],[448,6,448,13],[95,8,95,13],[91,9,91,13],[94,8,94,13],[96,9,96,13],[99,8,99,13],[216,4,216,13],[218,4,218,13],[193,9,193,13],[212,4,212,13],[214,4,214,13],[194,9,194,13],[203,3,203,13],[213,4,213,13],[209,3,209,13],[219,4,219,13],[447,4,447,5],[445,6,445,13],[227,7,227,11],[447,6,447,13],[265,9,265,13],[444,6,444,13],[444,4,444,5],[445,4,445,5],[451,6,451,13],[117,9,117,13],[113,3,113,13],[225,7,225,11],[450,4,450,5],[243,9,243,13],[166,9,166,13],[161,3,161,13],[164,8,164,13],[242,8,242,13],[139,4,139,13],[136,4,136,13],[151,7,151,11],[151,12,151,13],[226,4,226,6],[226,7,226,11],[140,4,140,13],[118,9,118,13],[135,4,135,13],[442,4,442,13],[451,4,451,5],[450,6,450,13],[449,6,449,13],[220,4,220,13],[465,6,465,13],[478,6,478,13],[479,6,479,13],[492,4,492,5],[453,4,453,5],[462,6,462,13],[463,6,463,13],[465,4,465,5],[455,4,455,13],[459,4,459,5],[458,4,458,5],[459,6,459,13],[492,6,492,13],[485,6,485,13],[484,4,484,5],[484,6,484,13],[485,4,485,5],[466,4,466,5],[477,6,477,13],[474,4,474,5],[475,6,475,13],[467,4,467,5],[466,6,466,13],[467,6,467,13],[472,4,472,5],[499,5,499,11],[469,4,469,13],[489,6,489,13],[490,4,490,5],[490,6,490,13],[480,6,480,13],[471,6,471,13],[472,6,472,13],[476,6,476,13],[474,6,474,13],[477,4,477,5],[471,4,471,5],[473,4,473,5],[473,6,473,13],[495,6,497,10],[482,4,482,13],[478,4,478,5],[479,4,479,5],[488,6,488,13],[493,4,493,5],[493,6,493,13],[486,6,486,13],[491,6,491,13],[452,4,452,5],[452,6,452,13],[464,6,464,13],[460,4,460,5],[461,6,461,13],[461,4,461,5],[464,4,464,5],[458,6,458,13],[460,6,460,13],[456,4,456,13],[453,6,453,13],[491,4,491,5],[480,4,480,5],[487,4,487,5],[487,6,487,13],[486,4,486,5],[46,3,46,13],[51,4,51,6],[50,4,50,6],[175,8,175,13],[170,8,170,13],[171,9,171,13],[144,4,144,13],[153,7,153,11],[157,3,157,13],[153,4,153,6],[155,4,155,6],[155,7,155,11],[50,11,50,13],[51,11,51,13],[52,11,52,13],[65,3,65,13],[74,7,74,11],[76,3,76,13],[74,4,74,6],[111,9,111,13],[109,8,109,13],[134,3,134,13],[128,3,128,13],[81,5,81,13],[82,4,82,13],[89,8,89,13],[90,8,90,13],[84,4,84,13],[86,3,86,13],[169,8,169,13],[174,8,174,13],[165,8,165,13],[180,8,180,13],[142,4,142,13],[159,4,159,13],[73,4,73,6],[73,7,73,11],[104,8,104,13],[105,8,105,13],[138,4,138,13],[154,4,154,6],[154,7,154,11],[148,4,148,13],[147,4,147,13],[106,9,106,13],[151,3,151,6],[143,4,143,13],[146,4,146,13],[116,9,116,13],[119,9,119,13],[100,8,100,13],[101,9,101,13],[110,8,110,13],[210,4,210,13],[176,9,176,13],[179,8,179,13],[192,9,192,13],[186,9,186,13],[185,8,185,13],[233,3,233,13],[238,9,238,13],[253,9,253,13],[191,9,191,13],[188,3,188,13],[181,9,181,13],[184,8,184,13],[248,9,248,13],[223,3,223,6],[223,7,223,11],[223,12,223,13],[225,4,225,6]]}
["ausblenden",null,null,null,null,null,null,null,null,null,null,null,null,null,null,"ausblenden","ausblenden","ausblenden","ausblenden","ausblenden","ausblenden","ausblenden","ausblenden"]
[null,{"$f":"Translations!$B$637","v":"I. PFK-emissies"},null,null,{"$f":"Translations!$B$59","v":"Navigatiezone:"},null,{"$f":"Translations!$B$60","v":"Inhoudsopgave"},null,{"$f":"Translations!$B$61","v":"Vorig werkblad"},null,{"$f":"Translations!$B$62","v":"Volgend werkblad"}]
[null,null,null,null,{"$f":"Translations!$B$63","v":"Begin werkblad"},null,{"$f":"Translations!$B$29","v":"Bepaling van PFK-emissies"},null,{"$f":"EUwideConstants!$A$92","v":"PFK's"},null,{"$f":"F_MeasurementBasedApproaches!$G$4","v":"Beheer en procedures"}]
[null,null,null,null,{"$f":"Translations!$B$64","v":"Einde werkblad"}]
[]
[null,null,{"$f":"Translations!$B$28","v":"I. Bepaling van PFK-emissies uit de productie van primair aluminium"},null,null,null,null,null,null,null,null,{"$f":"IF(AND(NOT(ISBLANK(CNTR_InstHasPFC)), CNTR_InstHasPFC=FALSE),EUconst_NotRelevant,EUconst_Relevant)","v":"relevant"}]
[]
[null,null,null,null,null,null,null,null,null,null,{"$f":"IF(L6=EUconst_NotRelevant,HYPERLINK(\"#JUMP_J_Top\",EUconst_MsgNextSheet),HYPERLINK(\"\",EUconst_MsgEnterThisSection))","v":"U wordt verzocht bij dit punt gegevens in te voeren"}]
[]
[null,null,14,{"$f":"Translations!$B$29","v":"Bepaling van PFK-emissies"}]
[]
[null,null,null,{"$f":"Translations!$B$638","v":"Opmerking: dit punt dient te worden ingevuld om de emissies van perfluorkoolstoffen uit de productie of bewerking van primair aluminium in een installatie te bepalen.  Als u hier een rekenmethode hanteert, controleert u of u alle benodigde gegevens (behalve de gegevens over de bronstroom en de procedures die u op dit werkblad invult) bij punt 7 op het werkblad D_CalculationBasedApproaches hebt ingevuld."}]
[]
[null,null,"(a)",{"$f":"Translations!$B$639","v":"Geef in onderstaand tekstvak een beknopte beschrijving van de methode waarmee u PFK-emissies bepaalt en omrekent naar jaarlijkse CO2(e)-emissies."}]
[null,null,null,null,{"$f":"Translations!$B$640","v":"Geef in onderstaand tekstvak een beknopte beschrijving van de monitoringmethode, inclusief formules, waarmee u de jaarlijkse CO2(e)-emissies bepaalt."}]
[null,null,null,null,{"$f":"Translations!$B$338","v":"Als de beschrijving te complex is, bijvoorbeeld als er complexe formules worden gebruikt, mag u de beschrijving bijvoegen in een afzonderlijk document met een door de bevoegde autoriteit geaccepteerd formaat. Noem in dat geval hier de bestandsnaam en -datum."}]
[null,null,null,null,{"$f":"Translations!$B$195","v":"Deze beschrijving dient de verbindende informatie te bevatten die nodig is om te begrijpen hoe alle informatie die elders in dit sjabloon is ingevoerd, gebruikt wordt bij de emissieberekening. De beschrijving mag zo kort zijn als het voorbeeld bij punt 7a op het werkblad D_CalculationBasedApproaches."}]
[]
[]
[]
[]
[]
[]
[]
[]
[]
[]
[]
[]
[]
[]
[]
[]
[]
[]
[]
[]
[]
[null,null,null,null,null,null,null,null,null,null,null,null,null,null,null,null,null,null,null,null,null,null,"make conditional"]
[null,null,"(b)",{"$f":"Translations!$B$561","v":"Procesdiagram, wanneer de bevoegde autoriteit daarom verzoekt:"},null,null,null,null,null,null,null,null,null,null,null,null,null,null,null,null,null,null,{"$f":"CNTR_SmallEmitter=TRUE","v":false}]
[null,null,null,{"$f":"Translations!$B$641","v":"Verwijs naar een procesdiagram met alle relevante emissiebronnen en -punten bij normaal bedrijf en in afwijkende situaties, zoals gedurende restrictieve en overgangsfasen, waaronder tijdens uitvalperioden of bij de inbedrijfstelling."}]
[]
[null,null,"(c)",{"$f":"Translations!$B$642","v":"Lijst van alle gemonitorde PFK-bronstromen:"}]
[null,null,null,{"$f":"Translations!$B$643","v":"Bij PFK-emissies mogen twee methodes (A: Hellingsmethode, B: Overspanningsmethode) worden gebruikt. In een installatie kunnen verschillende celtypen voorkomen (bijvoorbeeld verschillende technologieën of bouwjaren) die over verschillende emissiekenmerken beschikken."}]
[null,null,null,{"$f":"Translations!$B$644","v":"Groepen van cellen die volgens dezelfde methode worden gemonitord en die dezelfde emissiekenmerken (en -factoren) vertonen, worden beschouwd als \"bronstromen\" (oftewel: te monitoren eenheden), analoog aan andere op rekenmethoden gebaseerde vormen van monitoring. "}]
[null,null,null,{"$f":"Translations!$B$645","v":"Geef in deze lijst met de bronstromen van uw installatie de relevante monitoringmethode en het cel- en anodetype aan. De lijst wordt automatisch overgenomen van punt 6e op het werkblad C_InstallationDescription."}]
[null,null,null,{"$f":"Translations!$B$646","v":"Deze lijst wordt bij het volgende punt gebruikt voor het vastleggen van de verdere eigenschappen van de bronstromen."}]
[]
[null,null,null,null,{"$f":"Translations!$B$288","v":"Bronstroomnaam"},null,null,{"$f":"Translations!$B$289","v":"Type bronstroom"},null,null,null,{"$f":"Translations!$B$647","v":"Celtype"},null,null,null,null,null,null,null,null,"Monitoring method"]
[null,null,null,{"$f":"IF(COUNTIF(CNTR_CheckPFC,S50)=0,\"\",INDEX(C_InstallationDescription!$E$191:$E$201,MATCH(S50,CNTR_CheckPFC,0)))","v":""},{"$f":"IF(D50=\"\",\"\",INDEX(C_InstallationDescription!$F$191:$F$201,MATCH(D50,C_InstallationDescription!$E$191:$E$201,0)))","v":""},null,null,{"$f":"IF(D50=\"\",\"\",INDEX(C_InstallationDescription!$I$191:$I$201,MATCH(D50,C_InstallationDescription!$E$191:$E$201,0)))","v":""},null,null,null,null,null,null,null,null,null,null,1,null,{"$f":"IF(D50=\"\",\"\",MATCH(H50,CNTR_PFCSourceStreams,0))","v":""}]
[null,null,null,{"$f":"IF(COUNTIF(CNTR_CheckPFC,S51)=0,\"\",INDEX(C_InstallationDescription!$E$191:$E$201,MATCH(S51,CNTR_CheckPFC,0)))","v":""},{"$f":"IF(D51=\"\",\"\",INDEX(C_InstallationDescription!$F$191:$F$201,MATCH(D51,C_InstallationDescription!$E$191:$E$201,0)))","v":""},null,null,{"$f":"IF(D51=\"\",\"\",INDEX(C_InstallationDescription!$I$191:$I$201,MATCH(D51,C_InstallationDescription!$E$191:$E$201,0)))","v":""},null,null,null,null,null,null,null,null,null,null,2,null,""]
[null,null,null,{"$f":"IF(COUNTIF(CNTR_CheckPFC,S52)=0,\"\",INDEX(C_InstallationDescription!$E$191:$E$201,MATCH(S52,CNTR_CheckPFC,0)))","v":""},{"$f":"IF(D52=\"\",\"\",INDEX(C_InstallationDescription!$F$191:$F$201,MATCH(D52,C_InstallationDescription!$E$191:$E$201,0)))","v":""},null,null,{"$f":"IF(D52=\"\",\"\",INDEX(C_InstallationDescription!$I$191:$I$201,MATCH(D52,C_InstallationDescription!$E$191:$E$201,0)))","v":""},null,null,null,null,null,null,null,null,null,null,3,null,""]
[null,null,null,{"$f":"IF(COUNTIF(CNTR_CheckPFC,S53)=0,\"\",INDEX(C_InstallationDescription!$E$191:$E$201,MATCH(S53,CNTR_CheckPFC,0)))","v":""},{"$f":"IF(D53=\"\",\"\",INDEX(C_InstallationDescription!$F$191:$F$201,MATCH(D53,C_InstallationDescription!$E$191:$E$201,0)))","v":""},null,null,{"$f":"IF(D53=\"\",\"\",INDEX(C_InstallationDescription!$I$191:$I$201,MATCH(D53,C_InstallationDescription!$E$191:$E$201,0)))","v":""},null,null,null,null,null,null,null,null,null,null,4,null,""]
[null,null,null,{"$f":"IF(COUNTIF(CNTR_CheckPFC,S54)=0,\"\",INDEX(C_InstallationDescription!$E$191:$E$201,MATCH(S54,CNTR_CheckPFC,0)))","v":""},{"$f":"IF(D54=\"\",\"\",INDEX(C_InstallationDescription!$F$191:$F$201,MATCH(D54,C_InstallationDescription!$E$191:$E$201,0)))","v":""},null,null,{"$f":"IF(D54=\"\",\"\",INDEX(C_InstallationDescription!$I$191:$I$201,MATCH(D54,C_InstallationDescription!$E$191:$E$201,0)))","v":""},null,null,null,null,null,null,null,null,null,null,5,null,""]
["ausblenden",null,null,{"$f":"IF(COUNTIF(CNTR_CheckPFC,S55)=0,\"\",INDEX(C_InstallationDescription!$E$191:$E$201,MATCH(S55,CNTR_CheckPFC,0)))","v":""},{"$f":"IF(D55=\"\",\"\",INDEX(C_InstallationDescription!$F$191:$F$201,MATCH(D55,C_InstallationDescription!$E$191:$E$201,0)))","v":""},null,null,{"$f":"IF(D55=\"\",\"\",INDEX(C_InstallationDescription!$I$191:$I$201,MATCH(D55,C_InstallationDescription!$E$191:$E$201,0)))","v":""},null,null,null,null,null,null,null,null,null,null,null,null,""]
["ADD_AluSourceStream"]
[null,null,null,null,null,null,{"$f":"Translations!$B$297","v":"Klik op \"+\" om meer bronstromen toe te voegen"}]
[]
[]
[]
[]
[]
[null,null,15,{"$f":"Translations!$B$30","v":"Informatie over de monitoring van bronstromen van PFK-emissies"}]
[null,null,null,null,null,null,null,null,null,null,null,null,null,null,null,null,null,null,"Check source stream category","auto","manual"]
[null,null,null,{"$f":"Translations!$B$433","v":"De aanwijzingen worden alleen voor de eerste bronstroom weergegeven."}]
[null,null,null,{"$f":"Translations!$B$434","v":"Als u de gegevens voor meerdere bronstromen wilt weergeven, klik dan op de \"+\"-symbolen aan de linkerkant (gegevensgroepering)."}]
[null,null,null,{"$f":"Translations!$B$435","v":"Om verdere bronstromen toe te voegen gebruikt u de macro in punt 6e van het werkblad C_InstallationDescription."}]
["ausblenden",null,null,"For showing/hiding examples, press the \"Examples\" button in the navigation area."]
["ausblenden",null,null,"The example is integrated in the first source stream.",null,null,null,null,null,null,null,null,null,null,null,null,null,null,"Check source stream category","auto","manual"]
[null,null,null,null,null,null,null,null,null,null,null,null,null,null,null,null,null,null,"Check source stream category","auto","manual","Method"]
[null,null,{"$f":"INDEX($D$50:$D$55,Q71)","v":""},{"$f":"CONCATENATE(Euconst_SourceStream,\" \", Q71,\":\")","v":"Bronstroom 1:"},null,null,null,{"$f":"IF(INDEX($E$50:$E$55,Q71)=\"\",\"\",INDEX($E$50:$E$55,Q71))","v":""},null,null,null,null,{"$f":"IF(S71=TRUE,IF(U71=\"\",T71,U71),\"\")","v":""},null,null,null,1,null,{"$f":"IF(INDEX(C_InstallationDescription!$M:$M,MATCH(Q73,C_InstallationDescription!$Q:$Q,0))=\"\",FALSE,TRUE)","v":false},{"$f":"IF(S71=TRUE,INDEX(C_InstallationDescription!$M:$M,MATCH(Q73,C_InstallationDescription!$Q:$Q,0)),\"\")","v":""},{"$f":"IF(S71=TRUE,IF(ISBLANK(INDEX(C_InstallationDescription!$N:$N,MATCH(Q73,C_InstallationDescription!$Q:$Q,0))),\"\",INDEX(C_InstallationDescription!$N:$N,MATCH(Q73,C_InstallationDescription!$Q:$Q,0))),\"\")","v":""},{"$f":"IF(ISNUMBER(INDEX(CNTR_ListPFCmethods,Q71)),INDEX(CNTR_ListPFCmethods,Q71),\"\")","v":""}]
[]
[null,null,null,null,{"$f":"Translations!$B$437","v":"Type bronstroom:"},null,null,{"$f":"IF(INDEX($H$50:$H$55,Q71)=\"\",\"\",INDEX($H$50:$H$55,Q71))","v":""},null,null,null,null,null,null,null,null,{"$f":"EUconst_CNTR_SourceCategory&C71","v":"SourceCategory_"}]
[null,null,null,null,{"$f":"Translations!$B$438","v":"Te gebruiken methode volgens de MRV:"},null,null,{"$f":"IF(H73=\"\",\"\",INDEX(EUwideConstants!$F$261:$F$320,MATCH(H73,EUConst_TierActivityListNames,0)))","v":""}]
[null,null,null,null,{"$f":"Translations!$B$439","v":"Parameter waarop de onzekerheid wordt toegepast:"},null,null,{"$f":"IF(H73=\"\",\"\",INDEX(EUwideConstants!$E$261:$E$320,MATCH(H73,EUConst_TierActivityListNames,0)))","v":""}]
[]
[null,null,null,{"$f":"Translations!$B$446","v":"Automatische aanwijzingen over de toepasselijke niveaus:"}]
[]
[null,null,null,null,{"$f":"Translations!$B$649","v":"In onderstaande groene velden worden de vereiste niveaus voor activiteitsgegevens en berekeningsfactoren weergegeven op basis van uw invoer bij de punten 5d, 5e, 6e en 6f. Daar vindt u de minimale niveaus voor grote bronstromen van installaties die onder categorie C vallen. Het is echter mogelijk dat lagere eisen worden gesteld. Passende aanwijzingen worden afhankelijk van de volgende punten getoond in onderstaand groen tekstvak:"}]
[null,null,null,null,"-",{"$f":"Translations!$B$650","v":"Voor installaties met geringe emissies gelden lagere eisen, overeenkomstig artikel 47, lid 2;"}]
[null,null,null,null,"-",{"$f":"Translations!$B$651","v":"De installatiecategorie (A, B of C) overeenkomstig artikel 19;"}]
[null,null,null,null,"-",{"$f":"Translations!$B$450","v":"Voor bronstormen die krachtens artikel 19, lid 3, als  kleine en de-minimisbronstromen zijn ingedeeld, gelden lagere eisen."}]
[null,null,null,null,{"$f":"Translations!$B$451","v":"Dit bericht over de toe te passen niveaus is van belang voor de activiteitsgegevens en voor alle berekeningsfactoren."}]
[]
[null,null,null,null,{"$f":"IF(H71=\"\",\"\",INDEX(EUconst_SmallEmiSouStreamMsg,MATCH(Q85,EUconst_SmallEmiSouStream,0)))","v":""},null,null,null,null,null,null,null,null,null,null,null,{"$f":"IF(ISBLANK(CNTR_SmallEmitter),IF(CNTR_SmallEmitter=TRUE,EUconst_CNTR_SmallEmitter,EUconst_CNTR_NoSmallEmitter),EUconst_CNTR_NoSmallEmitter) & IF((CNTR_Category)=\"\",\"C\",CNTR_Category) & \"_\" & IF(M71=\"\",1,MATCH(M71,SourceCategory,0))","v":"NoSmallEmitter_C_1"}]
[]
[null,null,null,{"$f":"Translations!$B$652","v":"Activiteitsgegevens"}]
[]
[null,null,null,{"$f":"Translations!$B$653","v":"Productie van primair aluminium:"},null,null,null,null,null,null,null,null,null,null,null,null,null,null,null,null,"Stream method","Relevant method","Make grey?"]
[null,null,null,"(b)",{"$f":"Translations!$B$477","v":"Vereist niveau voor de activiteitsgegevens:"},null,null,{"$f":"IF(H73=\"\",\"\",IF(CNTR_Category=\"A\",INDEX(EUwideConstants!$G:$G,MATCH(Q90,EUwideConstants!$Q:$Q,0)),INDEX(EUwideConstants!$N:$N,MATCH(Q90,EUwideConstants!$Q:$Q,0))))","v":""},{"$f":"IF(H90=\"\",\"\",IF(S90=0,EUconst_NA,IF(ISERROR(S90),\"\",EUconst_MsgTierActivityLevel & \" \" &S90)))","v":""},null,null,null,null,null,null,null,{"$f":"EUconst_CNTR_ActivityData&H73","v":"ActivityData_"},null,{"$f":"IF(H90=\"\",\"\",IF(H90=EUconst_NA,\"\",INDEX(EUwideConstants!$H:$M,MATCH(Q90,EUwideConstants!$Q:$Q,0),MATCH(H90,CNTR_TierList,0))))","v":""},null,{"$f":"V71","v":""},0,{"$f":"IF($L$6=EUconst_NotRelevant,TRUE,IF(V90>0,(V90<>U90),IF(U90=\"\",TRUE,FALSE)))","v":true}]
[null,null,null,"(c)",{"$f":"Translations!$B$478","v":"Gebruikt niveau voor de activiteitsgegevens:"},null,null,null,{"$f":"IF(OR(ISBLANK(H91),H91=EUconst_NoTier),\"\",IF(S91=0,EUconst_NA,IF(ISERROR(S91),\"\",EUconst_MsgTierActivityLevel & \" \" &S91)))","v":""},null,null,null,null,null,null,null,{"$f":"EUconst_CNTR_ActivityData&H73","v":"ActivityData_"},null,{"$f":"IF(ISBLANK(H91),\"\",IF(H91=EUconst_NA,\"\",INDEX(EUwideConstants!$H:$M,MATCH(Q91,EUwideConstants!$Q:$Q,0),MATCH(H91,CNTR_TierList,0))))","v":""},null,{"$f":"U90","v":""},0,{"$f":"IF($L$6=EUconst_NotRelevant,TRUE,IF(V91>0,(V91<>U91),IF(U91=\"\",TRUE,FALSE)))","v":true}]
[null,null,null,"(d)",{"$f":"Translations!$B$479","v":"Bereikte onzekerheid:"},null,null,null,{"$f":"Translations!$B$480","v":"Opmerking:"},null,null,null,null,null,null,null,null,null,null,null,{"$f":"U91","v":""},0,{"$f":"IF($L$6=EUconst_NotRelevant,TRUE,IF(V92>0,(V92<>U92),IF(U92=\"\",TRUE,FALSE)))","v":true}]
[]
[null,null,null,{"$f":"Translations!$B$654","v":"Methode A: Aantal anode-effecten per celdag"}]
[null,null,null,"(e)",{"$f":"Translations!$B$477","v":"Vereist niveau voor de activiteitsgegevens:"},null,null,{"$f":"IF(W95,\"\",H90)","v":""},{"$f":"IF(W95,\"\",I90)","v":""},null,null,null,null,null,null,null,null,null,null,null,{"$f":"U92","v":""},1,{"$f":"IF($L$6=EUconst_NotRelevant,TRUE,IF(V95>0,(V95<>U95),IF(U95=\"\",TRUE,FALSE)))","v":true}]
[null,null,null,"(f)",{"$f":"Translations!$B$478","v":"Gebruikt niveau voor de activiteitsgegevens:"},null,null,null,{"$f":"IF(OR(ISBLANK(H96),H96=EUconst_NoTier),\"\",IF(S96=0,EUconst_NA,IF(ISERROR(S96),\"\",EUconst_MsgTierActivityLevel & \" \" &S96)))","v":""},null,null,null,null,null,null,null,{"$f":"EUconst_CNTR_ActivityData&H73","v":"ActivityData_"},null,{"$f":"IF(ISBLANK(H96),\"\",IF(H96=EUconst_NA,\"\",INDEX(EUwideConstants!$H:$M,MATCH(Q96,EUwideConstants!$Q:$Q,0),MATCH(H96,CNTR_TierList,0))))","v":""},null,{"$f":"U95","v":""},1,{"$f":"IF($L$6=EUconst_NotRelevant,TRUE,IF(V96>0,(V96<>U96),IF(U96=\"\",TRUE,FALSE)))","v":true}]
[null,null,null,"(g)",{"$f":"Translations!$B$479","v":"Bereikte onzekerheid:"},null,null,null,{"$f":"Translations!$B$480","v":"Opmerking:"},null,null,null,null,null,null,null,null,null,null,null,{"$f":"U96","v":""},1,{"$f":"IF($L$6=EUconst_NotRelevant,TRUE,IF(V97>0,(V97<>U97),IF(U97=\"\",TRUE,FALSE)))","v":true}]
[]
[null,null,null,{"$f":"Translations!$B$655","v":"Methode A: gemiddeld aantal anode-effectminuten per gebeurtenis"}]
[null,null,null,"(h)",{"$f":"Translations!$B$477","v":"Vereist niveau voor de activiteitsgegevens:"},null,null,{"$f":"IF(W100,\"\",H90)","v":""},{"$f":"IF(W100,\"\",I90)","v":""},null,null,null,null,null,null,null,null,null,null,null,{"$f":"U97","v":""},1,{"$f":"IF($L$6=EUconst_NotRelevant,TRUE,IF(V100>0,(V100<>U100),IF(U100=\"\",TRUE,FALSE)))","v":true}]
[null,null,null,"(i)",{"$f":"Translations!$B$478","v":"Gebruikt niveau voor de activiteitsgegevens:"},null,null,null,{"$f":"IF(OR(ISBLANK(H101),H101=EUconst_NoTier),\"\",IF(S101=0,EUconst_NA,IF(ISERROR(S101),\"\",EUconst_MsgTierActivityLevel & \" \" &S101)))","v":""},null,null,null,null,null,null,null,{"$f":"EUconst_CNTR_ActivityData&H73","v":"ActivityData_"},null,{"$f":"IF(ISBLANK(H101),\"\",IF(H101=EUconst_NA,\"\",INDEX(EUwideConstants!$H:$M,MATCH(Q101,EUwideConstants!$Q:$Q,0),MATCH(H101,CNTR_TierList,0))))","v":""},null,{"$f":"U100","v":""},1,{"$f":"IF($L$6=EUconst_NotRelevant,TRUE,IF(V101>0,(V101<>U101),IF(U101=\"\",TRUE,FALSE)))","v":true}]
[null,null,null,"(j)",{"$f":"Translations!$B$479","v":"Bereikte onzekerheid:"},null,null,null,{"$f":"Translations!$B$480","v":"Opmerking:"},null,null,null,null,null,null,null,null,null,null,null,{"$f":"U101","v":""},1,{"$f":"IF($L$6=EUconst_NotRelevant,TRUE,IF(V102>0,(V102<>U102),IF(U102=\"\",TRUE,FALSE)))","v":true}]
[]
[null,null,null,{"$f":"Translations!$B$656","v":"Methode B: anode-effectoverspanning per cel"}]
[null,null,null,"(k)",{"$f":"Translations!$B$477","v":"Vereist niveau voor de activiteitsgegevens:"},null,null,{"$f":"IF(W105,\"\",H90)","v":""},{"$f":"IF(W105,\"\",I90)","v":""},null,null,null,null,null,null,null,null,null,null,null,{"$f":"U102","v":""},2,{"$f":"IF($L$6=EUconst_NotRelevant,TRUE,IF(V105>0,(V105<>U105),IF(U105=\"\",TRUE,FALSE)))","v":true}]
[null,null,null,"(l)",{"$f":"Translations!$B$478","v":"Gebruikt niveau voor de activiteitsgegevens:"},null,null,null,{"$f":"IF(OR(ISBLANK(H106),H106=EUconst_NoTier),\"\",IF(S106=0,EUconst_NA,IF(ISERROR(S106),\"\",EUconst_MsgTierActivityLevel & \" \" &S106)))","v":""},null,null,null,null,null,null,null,{"$f":"EUconst_CNTR_ActivityData&H73","v":"ActivityData_"},null,{"$f":"IF(ISBLANK(H106),\"\",IF(H106=EUconst_NA,\"\",INDEX(EUwideConstants!$H:$M,MATCH(Q106,EUwideConstants!$Q:$Q,0),MATCH(H106,CNTR_TierList,0))))","v":""},null,{"$f":"U105","v":""},2,{"$f":"IF($L$6=EUconst_NotRelevant,TRUE,IF(V106>0,(V106<>U106),IF(U106=\"\",TRUE,FALSE)))","v":true}]
[null,null,null,"(m)",{"$f":"Translations!$B$479","v":"Bereikte onzekerheid:"},null,null,null,{"$f":"Translations!$B$480","v":"Opmerking:"},null,null,null,null,null,null,null,null,null,null,null,{"$f":"U106","v":""},2,{"$f":"IF($L$6=EUconst_NotRelevant,TRUE,IF(V107>0,(V107<>U107),IF(U107=\"\",TRUE,FALSE)))","v":true}]
[]
[null,null,null,{"$f":"Translations!$B$657","v":"Methode B: Stroomrendement"}]
[null,null,null,"(n)",{"$f":"Translations!$B$477","v":"Vereist niveau voor de activiteitsgegevens:"},null,null,{"$f":"IF(W110,\"\",H90)","v":""},{"$f":"IF(W110,\"\",I90)","v":""},null,null,null,null,null,null,null,null,null,null,null,{"$f":"U107","v":""},2,{"$f":"IF($L$6=EUconst_NotRelevant,TRUE,IF(V110>0,(V110<>U110),IF(U110=\"\",TRUE,FALSE)))","v":true}]
[null,null,null,"(o)",{"$f":"Translations!$B$478","v":"Gebruikt niveau voor de activiteitsgegevens:"},null,null,null,{"$f":"IF(OR(ISBLANK(H111),H111=EUconst_NoTier),\"\",IF(S111=0,EUconst_NA,IF(ISERROR(S111),\"\",EUconst_MsgTierActivityLevel & \" \" &S111)))","v":""},null,null,null,null,null,null,null,{"$f":"EUconst_CNTR_ActivityData&H73","v":"ActivityData_"},null,{"$f":"IF(ISBLANK(H111),\"\",IF(H111=EUconst_NA,\"\",INDEX(EUwideConstants!$H:$M,MATCH(Q111,EUwideConstants!$Q:$Q,0),MATCH(H111,CNTR_TierList,0))))","v":""},null,{"$f":"U110","v":""},2,{"$f":"IF($L$6=EUconst_NotRelevant,TRUE,IF(V111>0,(V111<>U111),IF(U111=\"\",TRUE,FALSE)))","v":true}]
[null,null,null,"(p)",{"$f":"Translations!$B$479","v":"Bereikte onzekerheid:"},null,null,null,{"$f":"Translations!$B$480","v":"Opmerking:"},null,null,null,null,null,null,null,null,null,null,null,{"$f":"U111","v":""},2,{"$f":"IF($L$6=EUconst_NotRelevant,TRUE,IF(V112>0,(V112<>U112),IF(U112=\"\",TRUE,FALSE)))","v":true}]
[]
[null,null,null,{"$f":"Translations!$B$658","v":"Berekeningsfactoren"}]
[null,null,null,"(q)",{"$f":"Translations!$B$659","v":"Toegepaste niveaus"}]
[]
[null,null,null,null,{"$f":"Translations!$B$516","v":"berekeningsfactor"},null,null,{"$f":"Translations!$B$517","v":"vereist niveau"},{"$f":"Translations!$B$518","v":"toegepast niveau"},{"$f":"Translations!$B$526","v":"volledige tekst voor het toegepast niveau"},null,null,null,null,null,null,null,null,"full text tier"]
[null,null,null,"i.",{"$f":"Translations!$B$660","v":"HEFCF4 Hellingsemissiefactor"},null,null,{"$f":"IF(H73=\"\",\"\",IF(W118=FALSE,IF(CNTR_Category=\"A\",INDEX(EUwideConstants!$G:$G,MATCH(Q118,EUwideConstants!$Q:$Q,0)),INDEX(EUwideConstants!$N:$N,MATCH(Q118,EUwideConstants!$Q:$Q,0))),\"\"))","v":""},null,{"$f":"IF(OR(ISBLANK(I118),I118=EUconst_NoTier),\"\",IF(S118=0,EUconst_NotApplicable,IF(ISERROR(S118),\"\",S118)))","v":""},null,null,null,null,null,null,{"$f":"EUconst_CNTR_EF&H73","v":"EF_"},null,{"$f":"IF(ISBLANK(I118),\"\",IF(I118=EUconst_NA,\"\",INDEX(EUwideConstants!$H:$M,MATCH(Q118,EUwideConstants!$Q:$Q,0),MATCH(I118,CNTR_TierList,0))))","v":""},null,{"$f":"U112","v":""},1,{"$f":"IF($L$6=EUconst_NotRelevant,TRUE,IF(V118>0,(V118<>U118),IF(U118=\"\",TRUE,FALSE)))","v":true}]
[null,null,null,"ii.",{"$f":"Translations!$B$661","v":"OSC (Overspanningscoëfficiënt)"},null,null,{"$f":"IF(H74=\"\",\"\",IF(W119=FALSE,IF(CNTR_Category=\"A\",INDEX(EUwideConstants!$G:$G,MATCH(Q119,EUwideConstants!$Q:$Q,0)),INDEX(EUwideConstants!$N:$N,MATCH(Q119,EUwideConstants!$Q:$Q,0))),\"\"))","v":""},null,{"$f":"IF(OR(ISBLANK(I119),I119=EUconst_NoTier),\"\",IF(S119=0,EUconst_NotApplicable,IF(ISERROR(S119),\"\",S119)))","v":""},null,null,null,null,null,null,{"$f":"EUconst_CNTR_EF&H73","v":"EF_"},null,{"$f":"IF(ISBLANK(I119),\"\",IF(I119=EUconst_NA,\"\",INDEX(EUwideConstants!$H:$M,MATCH(Q119,EUwideConstants!$Q:$Q,0),MATCH(I119,CNTR_TierList,0))))","v":""},null,{"$f":"U118","v":""},2,{"$f":"IF($L$6=EUconst_NotRelevant,TRUE,IF(V119>0,(V119<>U119),IF(U119=\"\",TRUE,FALSE)))","v":true}]
[null,null,null,"iii.",{"$f":"Translations!$B$662","v":"FCF2F6 – Massafractie van C2F6 "},null,null,{"$f":"IF(H75=\"\",\"\",IF(W120=FALSE,IF(CNTR_Category=\"A\",INDEX(EUwideConstants!$G:$G,MATCH(Q120,EUwideConstants!$Q:$Q,0)),INDEX(EUwideConstants!$N:$N,MATCH(Q120,EUwideConstants!$Q:$Q,0))),\"\"))","v":""},null,{"$f":"IF(OR(ISBLANK(I120),I120=EUconst_NoTier),\"\",IF(S120=0,EUconst_NotApplicable,IF(ISERROR(S120),\"\",S120)))","v":""},null,null,null,null,null,null,{"$f":"EUconst_CNTR_EF&H73","v":"EF_"},null,{"$f":"IF(ISBLANK(I120),\"\",IF(I120=EUconst_NA,\"\",INDEX(EUwideConstants!$H:$M,MATCH(Q120,EUwideConstants!$Q:$Q,0),MATCH(I120,CNTR_TierList,0))))","v":""},null,{"$f":"U119","v":""},0,{"$f":"IF($L$6=EUconst_NotRelevant,TRUE,IF(V120>0,(V120<>U120),IF(U120=\"\",TRUE,FALSE)))","v":true}]
[]
[null,null,null,"(r)",{"$f":"Translations!$B$663","v":"Informatie over het niveau"}]
[]
[null,null,null,null,{"$f":"Translations!$B$516","v":"berekeningsfactor"},null,null,{"$f":"I117","v":"toegepast niveau"},{"$f":"Translations!$B$664","v":"standaard- of meest recente waarde"},{"$f":"Translations!$B$536","v":"Eenheid"},{"$f":"Translations!$B$537","v":"bronreferentie"},{"$f":"Translations!$B$538","v":"analysereferentie"},{"$f":"Translations!$B$665","v":"datum van de meest recente analyse"},{"$f":"Translations!$B$540","v":"Analysefrequentie"},null,null,null,null,"default value or lab"]
[null,null,null,"i.",{"$f":"E118","v":"HEFCF4 Hellingsemissiefactor"},null,null,{"$f":"IF(OR(ISBLANK(I118),I118=EUconst_NA),\"\",I118)","v":""},null,null,null,null,null,null,null,null,{"$f":"Q118","v":"EF_"},null,{"$f":"IF(H125=\"\",\"\",IF(I118=EUconst_NA,\"\",INDEX(EUwideConstants!$AJ:$AN,MATCH(Q118,EUwideConstants!$Q:$Q,0),MATCH(I118,CNTR_TierList,0))))","v":""},null,{"$f":"U120","v":""},1,{"$f":"IF($L$6=EUconst_NotRelevant,TRUE,IF(V125>0,(V125<>U125),IF(U125=\"\",TRUE,FALSE)))","v":true}]
[null,null,null,"ii.",{"$f":"E119","v":"OSC (Overspanningscoëfficiënt)"},null,null,{"$f":"IF(OR(ISBLANK(I119),I119=EUconst_NA),\"\",I119)","v":""},null,null,null,null,null,null,null,null,{"$f":"Q119","v":"EF_"},null,{"$f":"IF(H126=\"\",\"\",IF(I119=EUconst_NA,\"\",INDEX(EUwideConstants!$AJ:$AN,MATCH(Q119,EUwideConstants!$Q:$Q,0),MATCH(I119,CNTR_TierList,0))))","v":""},null,{"$f":"U125","v":""},2,{"$f":"IF($L$6=EUconst_NotRelevant,TRUE,IF(V126>0,(V126<>U126),IF(U126=\"\",TRUE,FALSE)))","v":true}]
[null,null,null,"iii.",{"$f":"E120","v":"FCF2F6 – Massafractie van C2F6 "},null,null,{"$f":"IF(OR(ISBLANK(I120),I120=EUconst_NA),\"\",I120)","v":""},null,null,null,null,null,null,null,null,{"$f":"Q120","v":"EF_"},null,{"$f":"IF(H127=\"\",\"\",IF(I120=EUconst_NA,\"\",INDEX(EUwideConstants!$AJ:$AN,MATCH(Q120,EUwideConstants!$Q:$Q,0),MATCH(I120,CNTR_TierList,0))))","v":""},null,{"$f":"U126","v":""},0,{"$f":"IF($L$6=EUconst_NotRelevant,TRUE,IF(V127>0,(V127<>U127),IF(U127=\"\",TRUE,FALSE)))","v":true}]
[]
[null,null,null,{"$f":"Translations!$B$666","v":"Opvangrendement voor de verwerking van diffuse emissies"}]
[null,null,null,"(s)",{"$f":"Translations!$B$667","v":"Bepaling van het opvangrendement"}]
[]
[null,null,null,null,null,null,null,null,{"$f":"Translations!$B$664","v":"standaard- of meest recente waarde"},{"$f":"Translations!$B$536","v":"Eenheid"},{"$f":"Translations!$B$537","v":"bronreferentie"},{"$f":"Translations!$B$538","v":"analysereferentie"},{"$f":"Translations!$B$665","v":"datum van de meest recente analyse"},{"$f":"Translations!$B$540","v":"Analysefrequentie"}]
[null,null,null,null,{"$f":"Translations!$B$668","v":"Opvangrendement"},null,null,null,null,null,null,null,null,null,null,null,null,null,null,null,{"$f":"U127","v":""},0,{"$f":"IF($L$6=EUconst_NotRelevant,TRUE,IF(V133>0,(V133<>U133),IF(U133=\"\",TRUE,FALSE)))","v":true}]
[]
[null,null,null,{"$f":"Translations!$B$44","v":"Opmerkingen"}]
[null,null,null,"(t)",{"$f":"Translations!$B$546","v":"Opmerkingen:"}]
[null,null,null,null,{"$f":"Translations!$B$669","v":"Relevante opmerkingen kunt u hieronder kwijt. Er kan aanvullende uitleg nodig zijn over de manier waarop berekeningsfactoren worden bepaald, welke meetinstrumenten en procesbewakingsapparatuur worden gehanteerd bij het vaststellen van de activiteitsgegevens, enz."}]
[]
[null,null,null,null,null,null,null,null,null,null,null,null,null,null,null,null,null,null,null,null,{"$f":"U133","v":""},0,{"$f":"IF($L$6=EUconst_NotRelevant,TRUE,IF(V139>0,(V139<>U139),IF(U139=\"\",TRUE,FALSE)))","v":true}]
[null,null,null,null,null,null,null,null,null,null,null,null,null,null,null,null,null,null,null,null,{"$f":"U139","v":""},0,{"$f":"IF($L$6=EUconst_NotRelevant,TRUE,IF(V140>0,(V140<>U140),IF(U140=\"\",TRUE,FALSE)))","v":true}]
[null,null,null,null,null,null,null,null,null,null,null,null,null,null,null,null,null,null,null,null,{"$f":"U140","v":""},0,{"$f":"IF($L$6=EUconst_NotRelevant,TRUE,IF(V141>0,(V141<>U141),IF(U141=\"\",TRUE,FALSE)))","v":true}]
[]
[null,null,null,"(u)",{"$f":"Translations!$B$548","v":"U dient een verklaring te geven als de vereiste niveaus niet worden toegepast:"}]
[null,null,null,null,{"$f":"Translations!$B$549","v":"Hier geeft u een verklaring als de krachtens artikel 26 vereiste niveaus niet worden toegepast voor activiteitsgegevens en de toepasselijke berekeningsfactoren."}]
[null,null,null,null,{"$f":"Translations!$B$550","v":"Verbeterplannen die krachtens artikel 26 vereist zijn dienen met dit monitoringplan te worden ingediend. U dient er hieronder naar te verwijzen. Wanneer u onredelijke kosten als reden opgeeft overeenkomstig artikel 18, moet u de betreffende berekening met dit monitoringplan indienen en dient u er in onderstaande motivering naar te verwijzen."}]
[]
[null,null,null,null,null,null,null,null,null,null,null,null,null,null,null,null,null,null,null,null,{"$f":"U141","v":""},0,{"$f":"IF($L$6=EUconst_NotRelevant,TRUE,IF(V147>0,(V147<>U147),IF(U147=\"\",TRUE,FALSE)))","v":true}]
[null,null,null,null,null,null,null,null,null,null,null,null,null,null,null,null,null,null,null,null,{"$f":"U147","v":""},0,{"$f":"IF($L$6=EUconst_NotRelevant,TRUE,IF(V148>0,(V148<>U148),IF(U148=\"\",TRUE,FALSE)))","v":true}]
[null,null,null,null,null,null,null,null,null,null,null,null,null,null,null,null,null,null,null,null,{"$f":"U148","v":""},0,{"$f":"IF($L$6=EUconst_NotRelevant,TRUE,IF(V149>0,(V149<>U149),IF(U149=\"\",TRUE,FALSE)))","v":true}]
[]
[]
[null,null,{"$f":"INDEX($D$50:$D$55,Q152)","v":""},{"$f":"CONCATENATE(Euconst_SourceStream,\" \", Q152,\":\")","v":"Bronstroom 2:"},null,null,null,{"$f":"IF(INDEX($E$50:$E$55,Q152)=\"\",\"\",INDEX($E$50:$E$55,Q152))","v":""},null,null,null,null,{"$f":"IF(S152=TRUE,IF(U152=\"\",T152,U152),\"\")","v":""},null,null,null,{"$f":"Q71+1","v":2},null,{"$f":"IF(INDEX(C_InstallationDescription!$M:$M,MATCH(Q154,C_InstallationDescription!$Q:$Q,0))=\"\",FALSE,TRUE)","v":false},{"$f":"IF(S152=TRUE,INDEX(C_InstallationDescription!$M:$M,MATCH(Q154,C_InstallationDescription!$Q:$Q,0)),\"\")","v":""},{"$f":"IF(S152=TRUE,IF(ISBLANK(INDEX(C_InstallationDescription!$N:$N,MATCH(Q154,C_InstallationDescription!$Q:$Q,0))),\"\",INDEX(C_InstallationDescription!$N:$N,MATCH(Q154,C_InstallationDescription!$Q:$Q,0))),\"\")","v":""},{"$f":"IF(ISNUMBER(INDEX(CNTR_ListPFCmethods,Q152)),INDEX(CNTR_ListPFCmethods,Q152),\"\")","v":""}]
[]
[null,null,null,null,{"$f":"Translations!$B$437","v":"Type bronstroom:"},null,null,{"$f":"IF(INDEX($H$50:$H$55,Q152)=\"\",\"\",INDEX($H$50:$H$55,Q152))","v":""},null,null,null,null,null,null,null,null,{"$f":"EUconst_CNTR_SourceCategory&C152","v":"SourceCategory_"}]
[null,null,null,null,{"$f":"Translations!$B$438","v":"Te gebruiken methode volgens de MRV:"},null,null,{"$f":"IF(H154=\"\",\"\",INDEX(EUwideConstants!$F$261:$F$320,MATCH(H154,EUConst_TierActivityListNames,0)))","v":""}]
[null,null,null,null,{"$f":"Translations!$B$439","v":"Parameter waarop de onzekerheid wordt toegepast:"},null,null,{"$f":"IF(H154=\"\",\"\",INDEX(EUwideConstants!$E$261:$E$320,MATCH(H154,EUConst_TierActivityListNames,0)))","v":""}]
[]
[null,null,null,{"$f":"Translations!$B$446","v":"Automatische aanwijzingen over de toepasselijke niveaus:"}]
[]
[null,null,null,null,{"$f":"IF(H152=\"\",\"\",INDEX(EUconst_SmallEmiSouStreamMsg,MATCH(Q160,EUconst_SmallEmiSouStream,0)))","v":""},null,null,null,null,null,null,null,null,null,null,null,{"$f":"IF(ISBLANK(CNTR_SmallEmitter),IF(CNTR_SmallEmitter=TRUE,EUconst_CNTR_SmallEmitter,EUconst_CNTR_NoSmallEmitter),EUconst_CNTR_NoSmallEmitter) & IF((CNTR_Category)=\"\",\"C\",CNTR_Category) & \"_\" & IF(M152=\"\",1,MATCH(M152,SourceCategory,0))","v":"NoSmallEmitter_C_1"}]
[]
[null,null,null,{"$f":"Translations!$B$652","v":"Activiteitsgegevens"}]
[]
[null,null,null,{"$f":"Translations!$B$653","v":"Productie van primair aluminium:"},null,null,null,null,null,null,null,null,null,null,null,null,null,null,null,null,"Stream method","Relevant method","Make grey?"]
[null,null,null,"(b)",{"$f":"Translations!$B$477","v":"Vereist niveau voor de activiteitsgegevens:"},null,null,{"$f":"IF(H154=\"\",\"\",IF(CNTR_Category=\"A\",INDEX(EUwideConstants!$G:$G,MATCH(Q165,EUwideConstants!$Q:$Q,0)),INDEX(EUwideConstants!$N:$N,MATCH(Q165,EUwideConstants!$Q:$Q,0))))","v":""},{"$f":"IF(H165=\"\",\"\",IF(S165=0,EUconst_NA,IF(ISERROR(S165),\"\",EUconst_MsgTierActivityLevel & \" \" &S165)))","v":""},null,null,null,null,null,null,null,{"$f":"EUconst_CNTR_ActivityData&H154","v":"ActivityData_"},null,{"$f":"IF(H165=\"\",\"\",IF(H165=EUconst_NA,\"\",INDEX(EUwideConstants!$H:$M,MATCH(Q165,EUwideConstants!$Q:$Q,0),MATCH(H165,CNTR_TierList,0))))","v":""},null,{"$f":"V152","v":""},0,{"$f":"IF($L$6=EUconst_NotRelevant,TRUE,IF(V165>0,(V165<>U165),IF(U165=\"\",TRUE,FALSE)))","v":true}]
[null,null,null,"(c)",{"$f":"Translations!$B$478","v":"Gebruikt niveau voor de activiteitsgegevens:"},null,null,null,{"$f":"IF(OR(ISBLANK(H166),H166=EUconst_NoTier),\"\",IF(S166=0,EUconst_NA,IF(ISERROR(S166),\"\",EUconst_MsgTierActivityLevel & \" \" &S166)))","v":""},null,null,null,null,null,null,null,{"$f":"EUconst_CNTR_ActivityData&H154","v":"ActivityData_"},null,{"$f":"IF(ISBLANK(H166),\"\",IF(H166=EUconst_NA,\"\",INDEX(EUwideConstants!$H:$M,MATCH(Q166,EUwideConstants!$Q:$Q,0),MATCH(H166,CNTR_TierList,0))))","v":""},null,{"$f":"U165","v":""},0,{"$f":"IF($L$6=EUconst_NotRelevant,TRUE,IF(V166>0,(V166<>U166),IF(U166=\"\",TRUE,FALSE)))","v":true}]
[null,null,null,"(d)",{"$f":"Translations!$B$479","v":"Bereikte onzekerheid:"},null,null,null,{"$f":"Translations!$B$480","v":"Opmerking:"},null,null,null,null,null,null,null,null,null,null,null,{"$f":"U166","v":""},0,{"$f":"IF($L$6=EUconst_NotRelevant,TRUE,IF(V167>0,(V167<>U167),IF(U167=\"\",TRUE,FALSE)))","v":true}]
[]
[null,null,null,{"$f":"Translations!$B$654","v":"Methode A: Aantal anode-effecten per celdag"}]
[null,null,null,"(e)",{"$f":"Translations!$B$477","v":"Vereist niveau voor de activiteitsgegevens:"},null,null,{"$f":"IF(W170,\"\",H165)","v":""},{"$f":"IF(W170,\"\",I165)","v":""},null,null,null,null,null,null,null,null,null,null,null,{"$f":"U167","v":""},1,{"$f":"IF($L$6=EUconst_NotRelevant,TRUE,IF(V170>0,(V170<>U170),IF(U170=\"\",TRUE,FALSE)))","v":true}]
[null,null,null,"(f)",{"$f":"Translations!$B$478","v":"Gebruikt niveau voor de activiteitsgegevens:"},null,null,null,{"$f":"IF(OR(ISBLANK(H171),H171=EUconst_NoTier),\"\",IF(S171=0,EUconst_NA,IF(ISERROR(S171),\"\",EUconst_MsgTierActivityLevel & \" \" &S171)))","v":""},null,null,null,null,null,null,null,{"$f":"EUconst_CNTR_ActivityData&H154","v":"ActivityData_"},null,{"$f":"IF(ISBLANK(H171),\"\",IF(H171=EUconst_NA,\"\",INDEX(EUwideConstants!$H:$M,MATCH(Q171,EUwideConstants!$Q:$Q,0),MATCH(H171,CNTR_TierList,0))))","v":""},null,{"$f":"U170","v":""},1,{"$f":"IF($L$6=EUconst_NotRelevant,TRUE,IF(V171>0,(V171<>U171),IF(U171=\"\",TRUE,FALSE)))","v":true}]
[null,null,null,"(g)",{"$f":"Translations!$B$479","v":"Bereikte onzekerheid:"},null,null,null,{"$f":"Translations!$B$480","v":"Opmerking:"},null,null,null,null,null,null,null,null,null,null,null,{"$f":"U171","v":""},1,{"$f":"IF($L$6=EUconst_NotRelevant,TRUE,IF(V172>0,(V172<>U172),IF(U172=\"\",TRUE,FALSE)))","v":true}]
[]
[null,null,null,{"$f":"Translations!$B$655","v":"Methode A: gemiddeld aantal anode-effectminuten per gebeurtenis"}]
[null,null,null,"(h)",{"$f":"Translations!$B$477","v":"Vereist niveau voor de activiteitsgegevens:"},null,null,{"$f":"IF(W175,\"\",H165)","v":""},{"$f":"IF(W175,\"\",I165)","v":""},null,null,null,null,null,null,null,null,null,null,null,{"$f":"U172","v":""},1,{"$f":"IF($L$6=EUconst_NotRelevant,TRUE,IF(V175>0,(V175<>U175),IF(U175=\"\",TRUE,FALSE)))","v":true}]
[null,null,null,"(i)",{"$f":"Translations!$B$478","v":"Gebruikt niveau voor de activiteitsgegevens:"},null,null,null,{"$f":"IF(OR(ISBLANK(H176),H176=EUconst_NoTier),\"\",IF(S176=0,EUconst_NA,IF(ISERROR(S176),\"\",EUconst_MsgTierActivityLevel & \" \" &S176)))","v":""},null,null,null,null,null,null,null,{"$f":"EUconst_CNTR_ActivityData&H154","v":"ActivityData_"},null,{"$f":"IF(ISBLANK(H176),\"\",IF(H176=EUconst_NA,\"\",INDEX(EUwideConstants!$H:$M,MATCH(Q176,EUwideConstants!$Q:$Q,0),MATCH(H176,CNTR_TierList,0))))","v":""},null,{"$f":"U175","v":""},1,{"$f":"IF($L$6=EUconst_NotRelevant,TRUE,IF(V176>0,(V176<>U176),IF(U176=\"\",TRUE,FALSE)))","v":true}]
[null,null,null,"(j)",{"$f":"Translations!$B$479","v":"Bereikte onzekerheid:"},null,null,null,{"$f":"Translations!$B$480","v":"Opmerking:"},null,null,null,null,null,null,null,null,null,null,null,{"$f":"U176","v":""},1,{"$f":"IF($L$6=EUconst_NotRelevant,TRUE,IF(V177>0,(V177<>U177),IF(U177=\"\",TRUE,FALSE)))","v":true}]
[]
[null,null,null,{"$f":"Translations!$B$656","v":"Methode B: anode-effectoverspanning per cel"}]
[null,null,null,"(k)",{"$f":"Translations!$B$477","v":"Vereist niveau voor de activiteitsgegevens:"},null,null,{"$f":"IF(W180,\"\",H165)","v":""},{"$f":"IF(W180,\"\",I165)","v":""},null,null,null,null,null,null,null,null,null,null,null,{"$f":"U177","v":""},2,{"$f":"IF($L$6=EUconst_NotRelevant,TRUE,IF(V180>0,(V180<>U180),IF(U180=\"\",TRUE,FALSE)))","v":true}]
[null,null,null,"(l)",{"$f":"Translations!$B$478","v":"Gebruikt niveau voor de activiteitsgegevens:"},null,null,null,{"$f":"IF(OR(ISBLANK(H181),H181=EUconst_NoTier),\"\",IF(S181=0,EUconst_NA,IF(ISERROR(S181),\"\",EUconst_MsgTierActivityLevel & \" \" &S181)))","v":""},null,null,null,null,null,null,null,{"$f":"EUconst_CNTR_ActivityData&H154","v":"ActivityData_"},null,{"$f":"IF(ISBLANK(H181),\"\",IF(H181=EUconst_NA,\"\",INDEX(EUwideConstants!$H:$M,MATCH(Q181,EUwideConstants!$Q:$Q,0),MATCH(H181,CNTR_TierList,0))))","v":""},null,{"$f":"U180","v":""},2,{"$f":"IF($L$6=EUconst_NotRelevant,TRUE,IF(V181>0,(V181<>U181),IF(U181=\"\",TRUE,FALSE)))","v":true}]
[null,null,null,"(m)",{"$f":"Translations!$B$479","v":"Bereikte onzekerheid:"},null,null,null,{"$f":"Translations!$B$480","v":"Opmerking:"},null,null,null,null,null,null,null,null,null,null,null,{"$f":"U181","v":""},2,{"$f":"IF($L$6=EUconst_NotRelevant,TRUE,IF(V182>0,(V182<>U182),IF(U182=\"\",TRUE,FALSE)))","v":true}]
[]
[null,null,null,{"$f":"Translations!$B$657","v":"Methode B: Stroomrendement"}]
[null,null,null,"(n)",{"$f":"Translations!$B$477","v":"Vereist niveau voor de activiteitsgegevens:"},null,null,{"$f":"IF(W185,\"\",H165)","v":""},{"$f":"IF(W185,\"\",I165)","v":""},null,null,null,null,null,null,null,null,null,null,null,{"$f":"U182","v":""},2,{"$f":"IF($L$6=EUconst_NotRelevant,TRUE,IF(V185>0,(V185<>U185),IF(U185=\"\",TRUE,FALSE)))","v":true}]
[null,null,null,"(o)",{"$f":"Translations!$B$478","v":"Gebruikt niveau voor de activiteitsgegevens:"},null,null,null,{"$f":"IF(OR(ISBLANK(H186),H186=EUconst_NoTier),\"\",IF(S186=0,EUconst_NA,IF(ISERROR(S186),\"\",EUconst_MsgTierActivityLevel & \" \" &S186)))","v":""},null,null,null,null,null,null,null,{"$f":"EUconst_CNTR_ActivityData&H154","v":"ActivityData_"},null,{"$f":"IF(ISBLANK(H186),\"\",IF(H186=EUconst_NA,\"\",INDEX(EUwideConstants!$H:$M,MATCH(Q186,EUwideConstants!$Q:$Q,0),MATCH(H186,CNTR_TierList,0))))","v":""},null,{"$f":"U185","v":""},2,{"$f":"IF($L$6=EUconst_NotRelevant,TRUE,IF(V186>0,(V186<>U186),IF(U186=\"\",TRUE,FALSE)))","v":true}]
[null,null,null,"(p)",{"$f":"Translations!$B$479","v":"Bereikte onzekerheid:"},null,null,null,{"$f":"Translations!$B$480","v":"Opmerking:"},null,null,null,null,null,null,null,null,null,null,null,{"$f":"U186","v":""},2,{"$f":"IF($L$6=EUconst_NotRelevant,TRUE,IF(V187>0,(V187<>U187),IF(U187=\"\",TRUE,FALSE)))","v":true}]
[]
[null,null,null,{"$f":"Translations!$B$658","v":"Berekeningsfactoren"}]
[null,null,null,"(q)",{"$f":"Translations!$B$659","v":"Toegepaste niveaus"}]
[]
[null,null,null,null,{"$f":"Translations!$B$516","v":"berekeningsfactor"},null,null,{"$f":"Translations!$B$517","v":"vereist niveau"},{"$f":"Translations!$B$518","v":"toegepast niveau"},{"$f":"Translations!$B$519","v":"volledige tekst voor het toegepaste niveau"},null,null,null,null,null,null,null,null,"full text tier"]
[null,null,null,"i.",{"$f":"Translations!$B$660","v":"HEFCF4 Hellingsemissiefactor"},null,null,{"$f":"IF(H154=\"\",\"\",IF(W193=FALSE,IF(CNTR_Category=\"A\",INDEX(EUwideConstants!$G:$G,MATCH(Q193,EUwideConstants!$Q:$Q,0)),INDEX(EUwideConstants!$N:$N,MATCH(Q193,EUwideConstants!$Q:$Q,0))),\"\"))","v":""},null,{"$f":"IF(OR(ISBLANK(I193),I193=EUconst_NoTier),\"\",IF(S193=0,EUconst_NotApplicable,IF(ISERROR(S193),\"\",S193)))","v":""},null,null,null,null,null,null,{"$f":"EUconst_CNTR_EF&H154","v":"EF_"},null,{"$f":"IF(ISBLANK(I193),\"\",IF(I193=EUconst_NA,\"\",INDEX(EUwideConstants!$H:$M,MATCH(Q193,EUwideConstants!$Q:$Q,0),MATCH(I193,CNTR_TierList,0))))","v":""},null,{"$f":"U187","v":""},1,{"$f":"IF($L$6=EUconst_NotRelevant,TRUE,IF(V193>0,(V193<>U193),IF(U193=\"\",TRUE,FALSE)))","v":true}]
[null,null,null,"ii.",{"$f":"Translations!$B$661","v":"OSC (Overspanningscoëfficiënt)"},null,null,{"$f":"IF(H155=\"\",\"\",IF(W194=FALSE,IF(CNTR_Category=\"A\",INDEX(EUwideConstants!$G:$G,MATCH(Q194,EUwideConstants!$Q:$Q,0)),INDEX(EUwideConstants!$N:$N,MATCH(Q194,EUwideConstants!$Q:$Q,0))),\"\"))","v":""},null,{"$f":"IF(OR(ISBLANK(I194),I194=EUconst_NoTier),\"\",IF(S194=0,EUconst_NotApplicable,IF(ISERROR(S194),\"\",S194)))","v":""},null,null,null,null,null,null,{"$f":"EUconst_CNTR_EF&H154","v":"EF_"},null,{"$f":"IF(ISBLANK(I194),\"\",IF(I194=EUconst_NA,\"\",INDEX(EUwideConstants!$H:$M,MATCH(Q194,EUwideConstants!$Q:$Q,0),MATCH(I194,CNTR_TierList,0))))","v":""},null,{"$f":"U193","v":""},2,{"$f":"IF($L$6=EUconst_NotRelevant,TRUE,IF(V194>0,(V194<>U194),IF(U194=\"\",TRUE,FALSE)))","v":true}]
[null,null,null,"iii.",{"$f":"Translations!$B$662","v":"FCF2F6 – Massafractie van C2F6 "},null,null,{"$f":"IF(H156=\"\",\"\",IF(W195=FALSE,IF(CNTR_Category=\"A\",INDEX(EUwideConstants!$G:$G,MATCH(Q195,EUwideConstants!$Q:$Q,0)),INDEX(EUwideConstants!$N:$N,MATCH(Q195,EUwideConstants!$Q:$Q,0))),\"\"))","v":""},null,{"$f":"IF(OR(ISBLANK(I195),I195=EUconst_NoTier),\"\",IF(S195=0,EUconst_NotApplicable,IF(ISERROR(S195),\"\",S195)))","v":""},null,null,null,null,null,null,{"$f":"EUconst_CNTR_EF&H154","v":"EF_"},null,{"$f":"IF(ISBLANK(I195),\"\",IF(I195=EUconst_NA,\"\",INDEX(EUwideConstants!$H:$M,MATCH(Q195,EUwideConstants!$Q:$Q,0),MATCH(I195,CNTR_TierList,0))))","v":""},null,{"$f":"U194","v":""},0,{"$f":"IF($L$6=EUconst_NotRelevant,TRUE,IF(V195>0,(V195<>U195),IF(U195=\"\",TRUE,FALSE)))","v":true}]
[]
[null,null,null,"(r)",{"$f":"Translations!$B$663","v":"Informatie over het niveau"}]
[]
[null,null,null,null,{"$f":"Translations!$B$516","v":"berekeningsfactor"},null,null,{"$f":"I192","v":"toegepast niveau"},{"$f":"Translations!$B$664","v":"standaard- of meest recente waarde"},{"$f":"Translations!$B$536","v":"Eenheid"},{"$f":"Translations!$B$537","v":"bronreferentie"},{"$f":"Translations!$B$538","v":"analysereferentie"},{"$f":"Translations!$B$665","v":"datum van de meest recente analyse"},{"$f":"Translations!$B$540","v":"Analysefrequentie"},null,null,null,null,"default value or lab"]
[null,null,null,"i.",{"$f":"E193","v":"HEFCF4 Hellingsemissiefactor"},null,null,{"$f":"IF(OR(ISBLANK(I193),I193=EUconst_NA),\"\",I193)","v":""},null,null,null,null,null,null,null,null,{"$f":"Q193","v":"EF_"},null,{"$f":"IF(H200=\"\",\"\",IF(I193=EUconst_NA,\"\",INDEX(EUwideConstants!$AJ:$AN,MATCH(Q193,EUwideConstants!$Q:$Q,0),MATCH(I193,CNTR_TierList,0))))","v":""},null,{"$f":"U195","v":""},1,{"$f":"IF($L$6=EUconst_NotRelevant,TRUE,IF(V200>0,(V200<>U200),IF(U200=\"\",TRUE,FALSE)))","v":true}]
[null,null,null,"ii.",{"$f":"E194","v":"OSC (Overspanningscoëfficiënt)"},null,null,{"$f":"IF(OR(ISBLANK(I194),I194=EUconst_NA),\"\",I194)","v":""},null,null,null,null,null,null,null,null,{"$f":"Q194","v":"EF_"},null,{"$f":"IF(H201=\"\",\"\",IF(I194=EUconst_NA,\"\",INDEX(EUwideConstants!$AJ:$AN,MATCH(Q194,EUwideConstants!$Q:$Q,0),MATCH(I194,CNTR_TierList,0))))","v":""},null,{"$f":"U200","v":""},2,{"$f":"IF($L$6=EUconst_NotRelevant,TRUE,IF(V201>0,(V201<>U201),IF(U201=\"\",TRUE,FALSE)))","v":true}]
[null,null,null,"iii.",{"$f":"E195","v":"FCF2F6 – Massafractie van C2F6 "},null,null,{"$f":"IF(OR(ISBLANK(I195),I195=EUconst_NA),\"\",I195)","v":""},null,null,null,null,null,null,null,null,{"$f":"Q195","v":"EF_"},null,{"$f":"IF(H202=\"\",\"\",IF(I195=EUconst_NA,\"\",INDEX(EUwideConstants!$AJ:$AN,MATCH(Q195,EUwideConstants!$Q:$Q,0),MATCH(I195,CNTR_TierList,0))))","v":""},null,{"$f":"U201","v":""},0,{"$f":"IF($L$6=EUconst_NotRelevant,TRUE,IF(V202>0,(V202<>U202),IF(U202=\"\",TRUE,FALSE)))","v":true}]
[]
[null,null,null,{"$f":"Translations!$B$666","v":"Opvangrendement voor de verwerking van diffuse emissies"}]
[null,null,null,"(s)",{"$f":"Translations!$B$667","v":"Bepaling van het opvangrendement"}]
[]
[null,null,null,null,null,null,null,null,{"$f":"Translations!$B$664","v":"standaard- of meest recente waarde"},{"$f":"Translations!$B$536","v":"Eenheid"},{"$f":"Translations!$B$537","v":"bronreferentie"},{"$f":"Translations!$B$538","v":"analysereferentie"},{"$f":"Translations!$B$665","v":"datum van de meest recente analyse"},{"$f":"Translations!$B$540","v":"Analysefrequentie"}]
[null,null,null,null,{"$f":"Translations!$B$668","v":"Opvangrendement"},null,null,null,null,null,null,null,null,null,null,null,null,null,null,null,{"$f":"U202","v":""},0,{"$f":"IF($L$6=EUconst_NotRelevant,TRUE,IF(V208>0,(V208<>U208),IF(U208=\"\",TRUE,FALSE)))","v":true}]
[]
[null,null,null,{"$f":"Translations!$B$44","v":"Opmerkingen"}]
[null,null,null,"(t)",{"$f":"Translations!$B$546","v":"Opmerkingen:"}]
[]
[null,null,null,null,null,null,null,null,null,null,null,null,null,null,null,null,null,null,null,null,{"$f":"U208","v":""},0,{"$f":"IF($L$6=EUconst_NotRelevant,TRUE,IF(V213>0,(V213<>U213),IF(U213=\"\",TRUE,FALSE)))","v":true}]
[null,null,null,null,null,null,null,null,null,null,null,null,null,null,null,null,null,null,null,null,{"$f":"U213","v":""},0,{"$f":"IF($L$6=EUconst_NotRelevant,TRUE,IF(V214>0,(V214<>U214),IF(U214=\"\",TRUE,FALSE)))","v":true}]
[null,null,null,null,null,null,null,null,null,null,null,null,null,null,null,null,null,null,null,null,{"$f":"U214","v":""},0,{"$f":"IF($L$6=EUconst_NotRelevant,TRUE,IF(V215>0,(V215<>U215),IF(U215=\"\",TRUE,FALSE)))","v":true}]
[]
[null,null,null,"(u)",{"$f":"Translations!$B$548","v":"U dient een verklaring te geven als de vereiste niveaus niet worden toegepast:"}]
[]
[null,null,null,null,null,null,null,null,null,null,null,null,null,null,null,null,null,null,null,null,{"$f":"U215","v":""},0,{"$f":"IF($L$6=EUconst_NotRelevant,TRUE,IF(V219>0,(V219<>U219),IF(U219=\"\",TRUE,FALSE)))","v":true}]
[null,null,null,null,null,null,null,null,null,null,null,null,null,null,null,null,null,null,null,null,{"$f":"U219","v":""},0,{"$f":"IF($L$6=EUconst_NotRelevant,TRUE,IF(V220>0,(V220<>U220),IF(U220=\"\",TRUE,FALSE)))","v":true}]
[null,null,null,null,null,null,null,null,null,null,null,null,null,null,null,null,null,null,null,null,{"$f":"U220","v":""},0,{"$f":"IF($L$6=EUconst_NotRelevant,TRUE,IF(V221>0,(V221<>U221),IF(U221=\"\",TRUE,FALSE)))","v":true}]
[]
[]
[null,null,{"$f":"INDEX($D$50:$D$55,Q224)","v":""},{"$f":"CONCATENATE(Euconst_SourceStream,\" \", Q224,\":\")","v":"Bronstroom 3:"},null,null,null,{"$f":"IF(INDEX($E$50:$E$55,Q224)=\"\",\"\",INDEX($E$50:$E$55,Q224))","v":""},null,null,null,null,{"$f":"IF(S224=TRUE,IF(U224=\"\",T224,U224),\"\")","v":""},null,null,null,{"$f":"Q152+1","v":3},null,{"$f":"IF(INDEX(C_InstallationDescription!$M:$M,MATCH(Q226,C_InstallationDescription!$Q:$Q,0))=\"\",FALSE,TRUE)","v":false},{"$f":"IF(S224=TRUE,INDEX(C_InstallationDescription!$M:$M,MATCH(Q226,C_InstallationDescription!$Q:$Q,0)),\"\")","v":""},{"$f":"IF(S224=TRUE,IF(ISBLANK(INDEX(C_InstallationDescription!$N:$N,MATCH(Q226,C_InstallationDescription!$Q:$Q,0))),\"\",INDEX(C_InstallationDescription!$N:$N,MATCH(Q226,C_InstallationDescription!$Q:$Q,0))),\"\")","v":""},{"$f":"IF(ISNUMBER(INDEX(CNTR_ListPFCmethods,Q224)),INDEX(CNTR_ListPFCmethods,Q224),\"\")","v":""}]
[]
[null,null,null,null,{"$f":"Translations!$B$437","v":"Type bronstroom:"},null,null,{"$f":"IF(INDEX($H$50:$H$55,Q224)=\"\",\"\",INDEX($H$50:$H$55,Q224))","v":""},null,null,null,null,null,null,null,null,{"$f":"EUconst_CNTR_SourceCategory&C224","v":"SourceCategory_"}]
[null,null,null,null,{"$f":"Translations!$B$438","v":"Te gebruiken methode volgens de MRV:"},null,null,{"$f":"IF(H226=\"\",\"\",INDEX(EUwideConstants!$F$261:$F$320,MATCH(H226,EUConst_TierActivityListNames,0)))","v":""}]
[null,null,null,null,{"$f":"Translations!$B$439","v":"Parameter waarop de onzekerheid wordt toegepast:"},null,null,{"$f":"IF(H226=\"\",\"\",INDEX(EUwideConstants!$E$261:$E$320,MATCH(H226,EUConst_TierActivityListNames,0)))","v":""}]
[]
[null,null,null,{"$f":"Translations!$B$446","v":"Automatische aanwijzingen over de toepasselijke niveaus:"}]
[]
[null,null,null,null,{"$f":"IF(H224=\"\",\"\",INDEX(EUconst_SmallEmiSouStreamMsg,MATCH(Q232,EUconst_SmallEmiSouStream,0)))","v":""},null,null,null,null,null,null,null,null,null,null,null,{"$f":"IF(ISBLANK(CNTR_SmallEmitter),IF(CNTR_SmallEmitter=TRUE,EUconst_CNTR_SmallEmitter,EUconst_CNTR_NoSmallEmitter),EUconst_CNTR_NoSmallEmitter) & IF((CNTR_Category)=\"\",\"C\",CNTR_Category) & \"_\" & IF(M224=\"\",1,MATCH(M224,SourceCategory,0))","v":"NoSmallEmitter_C_1"}]
[]
[null,null,null,{"$f":"Translations!$B$652","v":"Activiteitsgegevens"}]
[]
[null,null,null,{"$f":"Translations!$B$653","v":"Productie van primair aluminium:"},null,null,null,null,null,null,null,null,null,null,null,null,null,null,null,null,"Stream method","Relevant method","Make grey?"]
[null,null,null,"(b)",{"$f":"Translations!$B$477","v":"Vereist niveau voor de activiteitsgegevens:"},null,null,{"$f":"IF(H226=\"\",\"\",IF(CNTR_Category=\"A\",INDEX(EUwideConstants!$G:$G,MATCH(Q237,EUwideConstants!$Q:$Q,0)),INDEX(EUwideConstants!$N:$N,MATCH(Q237,EUwideConstants!$Q:$Q,0))))","v":""},{"$f":"IF(H237=\"\",\"\",IF(S237=0,EUconst_NA,IF(ISERROR(S237),\"\",EUconst_MsgTierActivityLevel & \" \" &S237)))","v":""},null,null,null,null,null,null,null,{"$f":"EUconst_CNTR_ActivityData&H226","v":"ActivityData_"},null,{"$f":"IF(H237=\"\",\"\",IF(H237=EUconst_NA,\"\",INDEX(EUwideConstants!$H:$M,MATCH(Q237,EUwideConstants!$Q:$Q,0),MATCH(H237,CNTR_TierList,0))))","v":""},null,{"$f":"V224","v":""},0,{"$f":"IF($L$6=EUconst_NotRelevant,TRUE,IF(V237>0,(V237<>U237),IF(U237=\"\",TRUE,FALSE)))","v":true}]
[null,null,null,"(c)",{"$f":"Translations!$B$478","v":"Gebruikt niveau voor de activiteitsgegevens:"},null,null,null,{"$f":"IF(OR(ISBLANK(H238),H238=EUconst_NoTier),\"\",IF(S238=0,EUconst_NA,IF(ISERROR(S238),\"\",EUconst_MsgTierActivityLevel & \" \" &S238)))","v":""},null,null,null,null,null,null,null,{"$f":"EUconst_CNTR_ActivityData&H226","v":"ActivityData_"},null,{"$f":"IF(ISBLANK(H238),\"\",IF(H238=EUconst_NA,\"\",INDEX(EUwideConstants!$H:$M,MATCH(Q238,EUwideConstants!$Q:$Q,0),MATCH(H238,CNTR_TierList,0))))","v":""},null,{"$f":"U237","v":""},0,{"$f":"IF($L$6=EUconst_NotRelevant,TRUE,IF(V238>0,(V238<>U238),IF(U238=\"\",TRUE,FALSE)))","v":true}]
[null,null,null,"(d)",{"$f":"Translations!$B$479","v":"Bereikte onzekerheid:"},null,null,null,{"$f":"Translations!$B$480","v":"Opmerking:"},null,null,null,null,null,null,null,null,null,null,null,{"$f":"U238","v":""},0,{"$f":"IF($L$6=EUconst_NotRelevant,TRUE,IF(V239>0,(V239<>U239),IF(U239=\"\",TRUE,FALSE)))","v":true}]
[]
[null,null,null,{"$f":"Translations!$B$654","v":"Methode A: Aantal anode-effecten per celdag"}]
[null,null,null,"(e)",{"$f":"Translations!$B$477","v":"Vereist niveau voor de activiteitsgegevens:"},null,null,{"$f":"IF(W242,\"\",H237)","v":""},{"$f":"IF(W242,\"\",I237)","v":""},null,null,null,null,null,null,null,null,null,null,null,{"$f":"U239","v":""},1,{"$f":"IF($L$6=EUconst_NotRelevant,TRUE,IF(V242>0,(V242<>U242),IF(U242=\"\",TRUE,FALSE)))","v":true}]
[null,null,null,"(f)",{"$f":"Translations!$B$478","v":"Gebruikt niveau voor de activiteitsgegevens:"},null,null,null,{"$f":"IF(OR(ISBLANK(H243),H243=EUconst_NoTier),\"\",IF(S243=0,EUconst_NA,IF(ISERROR(S243),\"\",EUconst_MsgTierActivityLevel & \" \" &S243)))","v":""},null,null,null,null,null,null,null,{"$f":"EUconst_CNTR_ActivityData&H226","v":"ActivityData_"},null,{"$f":"IF(ISBLANK(H243),\"\",IF(H243=EUconst_NA,\"\",INDEX(EUwideConstants!$H:$M,MATCH(Q243,EUwideConstants!$Q:$Q,0),MATCH(H243,CNTR_TierList,0))))","v":""},null,{"$f":"U242","v":""},1,{"$f":"IF($L$6=EUconst_NotRelevant,TRUE,IF(V243>0,(V243<>U243),IF(U243=\"\",TRUE,FALSE)))","v":true}]
[null,null,null,"(g)",{"$f":"Translations!$B$479","v":"Bereikte onzekerheid:"},null,null,null,{"$f":"Translations!$B$480","v":"Opmerking:"},null,null,null,null,null,null,null,null,null,null,null,{"$f":"U243","v":""},1,{"$f":"IF($L$6=EUconst_NotRelevant,TRUE,IF(V244>0,(V244<>U244),IF(U244=\"\",TRUE,FALSE)))","v":true}]
[]
[null,null,null,{"$f":"Translations!$B$655","v":"Methode A: gemiddeld aantal anode-effectminuten per gebeurtenis"}]
[null,null,null,"(h)",{"$f":"Translations!$B$477","v":"Vereist niveau voor de activiteitsgegevens:"},null,null,{"$f":"IF(W247,\"\",H237)","v":""},{"$f":"IF(W247,\"\",I237)","v":""},null,null,null,null,null,null,null,null,null,null,null,{"$f":"U244","v":""},1,{"$f":"IF($L$6=EUconst_NotRelevant,TRUE,IF(V247>0,(V247<>U247),IF(U247=\"\",TRUE,FALSE)))","v":true}]
[null,null,null,"(i)",{"$f":"Translations!$B$478","v":"Gebruikt niveau voor de activiteitsgegevens:"},null,null,null,{"$f":"IF(OR(ISBLANK(H248),H248=EUconst_NoTier),\"\",IF(S248=0,EUconst_NA,IF(ISERROR(S248),\"\",EUconst_MsgTierActivityLevel & \" \" &S248)))","v":""},null,null,null,null,null,null,null,{"$f":"EUconst_CNTR_ActivityData&H226","v":"ActivityData_"},null,{"$f":"IF(ISBLANK(H248),\"\",IF(H248=EUconst_NA,\"\",INDEX(EUwideConstants!$H:$M,MATCH(Q248,EUwideConstants!$Q:$Q,0),MATCH(H248,CNTR_TierList,0))))","v":""},null,{"$f":"U247","v":""},1,{"$f":"IF($L$6=EUconst_NotRelevant,TRUE,IF(V248>0,(V248<>U248),IF(U248=\"\",TRUE,FALSE)))","v":true}]
[null,null,null,"(j)",{"$f":"Translations!$B$479","v":"Bereikte onzekerheid:"},null,null,null,{"$f":"Translations!$B$480","v":"Opmerking:"},null,null,null,null,null,null,null,null,null,null,null,{"$f":"U248","v":""},1,{"$f":"IF($L$6=EUconst_NotRelevant,TRUE,IF(V249>0,(V249<>U249),IF(U249=\"\",TRUE,FALSE)))","v":true}]
[]
[null,null,null,{"$f":"Translations!$B$656","v":"Methode B: anode-effectoverspanning per cel"}]
[null,null,null,"(k)",{"$f":"Translations!$B$477","v":"Vereist niveau voor de activiteitsgegevens:"},null,null,{"$f":"IF(W252,\"\",H237)","v":""},{"$f":"IF(W252,\"\",I237)","v":""},null,null,null,null,null,null,null,null,null,null,null,{"$f":"U249","v":""},2,{"$f":"IF($L$6=EUconst_NotRelevant,TRUE,IF(V252>0,(V252<>U252),IF(U252=\"\",TRUE,FALSE)))","v":true}]
[null,null,null,"(l)",{"$f":"Translations!$B$478","v":"Gebruikt niveau voor de activiteitsgegevens:"},null,null,null,{"$f":"IF(OR(ISBLANK(H253),H253=EUconst_NoTier),\"\",IF(S253=0,EUconst_NA,IF(ISERROR(S253),\"\",EUconst_MsgTierActivityLevel & \" \" &S253)))","v":""},null,null,null,null,null,null,null,{"$f":"EUconst_CNTR_ActivityData&H226","v":"ActivityData_"},null,{"$f":"IF(ISBLANK(H253),\"\",IF(H253=EUconst_NA,\"\",INDEX(EUwideConstants!$H:$M,MATCH(Q253,EUwideConstants!$Q:$Q,0),MATCH(H253,CNTR_TierList,0))))","v":""},null,{"$f":"U252","v":""},2,{"$f":"IF($L$6=EUconst_NotRelevant,TRUE,IF(V253>0,(V253<>U253),IF(U253=\"\",TRUE,FALSE)))","v":true}]
[null,null,null,"(m)",{"$f":"Translations!$B$479","v":"Bereikte onzekerheid:"},null,null,null,{"$f":"Translations!$B$480","v":"Opmerking:"},null,null,null,null,null,null,null,null,null,null,null,{"$f":"U253","v":""},2,{"$f":"IF($L$6=EUconst_NotRelevant,TRUE,IF(V254>0,(V254<>U254),IF(U254=\"\",TRUE,FALSE)))","v":true}]
[]
[null,null,null,{"$f":"Translations!$B$657","v":"Methode B: Stroomrendement"}]
[null,null,null,"(n)",{"$f":"Translations!$B$477","v":"Vereist niveau voor de activiteitsgegevens:"},null,null,{"$f":"IF(W257,\"\",H237)","v":""},{"$f":"IF(W257,\"\",I237)","v":""},null,null,null,null,null,null,null,null,null,null,null,{"$f":"U254","v":""},2,{"$f":"IF($L$6=EUconst_NotRelevant,TRUE,IF(V257>0,(V257<>U257),IF(U257=\"\",TRUE,FALSE)))","v":true}]
[null,null,null,"(o)",{"$f":"Translations!$B$478","v":"Gebruikt niveau voor de activiteitsgegevens:"},null,null,null,{"$f":"IF(OR(ISBLANK(H258),H258=EUconst_NoTier),\"\",IF(S258=0,EUconst_NA,IF(ISERROR(S258),\"\",EUconst_MsgTierActivityLevel & \" \" &S258)))","v":""},null,null,null,null,null,null,null,{"$f":"EUconst_CNTR_ActivityData&H226","v":"ActivityData_"},null,{"$f":"IF(ISBLANK(H258),\"\",IF(H258=EUconst_NA,\"\",INDEX(EUwideConstants!$H:$M,MATCH(Q258,EUwideConstants!$Q:$Q,0),MATCH(H258,CNTR_TierList,0))))","v":""},null,{"$f":"U257","v":""},2,{"$f":"IF($L$6=EUconst_NotRelevant,TRUE,IF(V258>0,(V258<>U258),IF(U258=\"\",TRUE,FALSE)))","v":true}]
[null,null,null,"(p)",{"$f":"Translations!$B$479","v":"Bereikte onzekerheid:"},null,null,null,{"$f":"Translations!$B$480","v":"Opmerking:"},null,null,null,null,null,null,null,null,null,null,null,{"$f":"U258","v":""},2,{"$f":"IF($L$6=EUconst_NotRelevant,TRUE,IF(V259>0,(V259<>U259),IF(U259=\"\",TRUE,FALSE)))","v":true}]
[]
[null,null,null,{"$f":"Translations!$B$658","v":"Berekeningsfactoren"}]
[null,null,null,"(q)",{"$f":"Translations!$B$659","v":"Toegepaste niveaus"}]
[]
[null,null,null,null,{"$f":"Translations!$B$516","v":"berekeningsfactor"},null,null,{"$f":"Translations!$B$517","v":"vereist niveau"},{"$f":"Translations!$B$518","v":"toegepast niveau"},{"$f":"Translations!$B$519","v":"volledige tekst voor het toegepaste niveau"},null,null,null,null,null,null,null,null,"full text tier"]
[null,null,null,"i.",{"$f":"Translations!$B$660","v":"HEFCF4 Hellingsemissiefactor"},null,null,{"$f":"IF(H226=\"\",\"\",IF(W265=FALSE,IF(CNTR_Category=\"A\",INDEX(EUwideConstants!$G:$G,MATCH(Q265,EUwideConstants!$Q:$Q,0)),INDEX(EUwideConstants!$N:$N,MATCH(Q265,EUwideConstants!$Q:$Q,0))),\"\"))","v":""},null,{"$f":"IF(OR(ISBLANK(I265),I265=EUconst_NoTier),\"\",IF(S265=0,EUconst_NotApplicable,IF(ISERROR(S265),\"\",S265)))","v":""},null,null,null,null,null,null,{"$f":"EUconst_CNTR_EF&H226","v":"EF_"},null,{"$f":"IF(ISBLANK(I265),\"\",IF(I265=EUconst_NA,\"\",INDEX(EUwideConstants!$H:$M,MATCH(Q265,EUwideConstants!$Q:$Q,0),MATCH(I265,CNTR_TierList,0))))","v":""},null,{"$f":"U259","v":""},1,{"$f":"IF($L$6=EUconst_NotRelevant,TRUE,IF(V265>0,(V265<>U265),IF(U265=\"\",TRUE,FALSE)))","v":true}]
[null,null,null,"ii.",{"$f":"Translations!$B$661","v":"OSC (Overspanningscoëfficiënt)"},null,null,{"$f":"IF(H227=\"\",\"\",IF(W266=FALSE,IF(CNTR_Category=\"A\",INDEX(EUwideConstants!$G:$G,MATCH(Q266,EUwideConstants!$Q:$Q,0)),INDEX(EUwideConstants!$N:$N,MATCH(Q266,EUwideConstants!$Q:$Q,0))),\"\"))","v":""},null,{"$f":"IF(OR(ISBLANK(I266),I266=EUconst_NoTier),\"\",IF(S266=0,EUconst_NotApplicable,IF(ISERROR(S266),\"\",S266)))","v":""},null,null,null,null,null,null,{"$f":"EUconst_CNTR_EF&H226","v":"EF_"},null,{"$f":"IF(ISBLANK(I266),\"\",IF(I266=EUconst_NA,\"\",INDEX(EUwideConstants!$H:$M,MATCH(Q266,EUwideConstants!$Q:$Q,0),MATCH(I266,CNTR_TierList,0))))","v":""},null,{"$f":"U265","v":""},2,{"$f":"IF($L$6=EUconst_NotRelevant,TRUE,IF(V266>0,(V266<>U266),IF(U266=\"\",TRUE,FALSE)))","v":true}]
[null,null,null,"iii.",{"$f":"Translations!$B$662","v":"FCF2F6 – Massafractie van C2F6 "},null,null,{"$f":"IF(H228=\"\",\"\",IF(W267=FALSE,IF(CNTR_Category=\"A\",INDEX(EUwideConstants!$G:$G,MATCH(Q267,EUwideConstants!$Q:$Q,0)),INDEX(EUwideConstants!$N:$N,MATCH(Q267,EUwideConstants!$Q:$Q,0))),\"\"))","v":""},null,{"$f":"IF(OR(ISBLANK(I267),I267=EUconst_NoTier),\"\",IF(S267=0,EUconst_NotApplicable,IF(ISERROR(S267),\"\",S267)))","v":""},null,null,null,null,null,null,{"$f":"EUconst_CNTR_EF&H226","v":"EF_"},null,{"$f":"IF(ISBLANK(I267),\"\",IF(I267=EUconst_NA,\"\",INDEX(EUwideConstants!$H:$M,MATCH(Q267,EUwideConstants!$Q:$Q,0),MATCH(I267,CNTR_TierList,0))))","v":""},null,{"$f":"U266","v":""},0,{"$f":"IF($L$6=EUconst_NotRelevant,TRUE,IF(V267>0,(V267<>U267),IF(U267=\"\",TRUE,FALSE)))","v":true}]
[]
[null,null,null,"(r)",{"$f":"Translations!$B$663","v":"Informatie over het niveau"}]
[]
[null,null,null,null,{"$f":"Translations!$B$516","v":"berekeningsfactor"},null,null,{"$f":"I264","v":"toegepast niveau"},{"$f":"Translations!$B$664","v":"standaard- of meest recente waarde"},{"$f":"Translations!$B$536","v":"Eenheid"},{"$f":"Translations!$B$537","v":"bronreferentie"},{"$f":"Translations!$B$538","v":"analysereferentie"},{"$f":"Translations!$B$665","v":"datum van de meest recente analyse"},{"$f":"Translations!$B$540","v":"Analysefrequentie"},null,null,null,null,"default value or lab"]
[null,null,null,"i.",{"$f":"E265","v":"HEFCF4 Hellingsemissiefactor"},null,null,{"$f":"IF(OR(ISBLANK(I265),I265=EUconst_NA),\"\",I265)","v":""},null,null,null,null,null,null,null,null,{"$f":"Q265","v":"EF_"},null,{"$f":"IF(H272=\"\",\"\",IF(I265=EUconst_NA,\"\",INDEX(EUwideConstants!$AJ:$AN,MATCH(Q265,EUwideConstants!$Q:$Q,0),MATCH(I265,CNTR_TierList,0))))","v":""},null,{"$f":"U267","v":""},1,{"$f":"IF($L$6=EUconst_NotRelevant,TRUE,IF(V272>0,(V272<>U272),IF(U272=\"\",TRUE,FALSE)))","v":true}]
[null,null,null,"ii.",{"$f":"E266","v":"OSC (Overspanningscoëfficiënt)"},null,null,{"$f":"IF(OR(ISBLANK(I266),I266=EUconst_NA),\"\",I266)","v":""},null,null,null,null,null,null,null,null,{"$f":"Q266","v":"EF_"},null,{"$f":"IF(H273=\"\",\"\",IF(I266=EUconst_NA,\"\",INDEX(EUwideConstants!$AJ:$AN,MATCH(Q266,EUwideConstants!$Q:$Q,0),MATCH(I266,CNTR_TierList,0))))","v":""},null,{"$f":"U272","v":""},2,{"$f":"IF($L$6=EUconst_NotRelevant,TRUE,IF(V273>0,(V273<>U273),IF(U273=\"\",TRUE,FALSE)))","v":true}]
[null,null,null,"iii.",{"$f":"E267","v":"FCF2F6 – Massafractie van C2F6 "},null,null,{"$f":"IF(OR(ISBLANK(I267),I267=EUconst_NA),\"\",I267)","v":""},null,null,null,null,null,null,null,null,{"$f":"Q267","v":"EF_"},null,{"$f":"IF(H274=\"\",\"\",IF(I267=EUconst_NA,\"\",INDEX(EUwideConstants!$AJ:$AN,MATCH(Q267,EUwideConstants!$Q:$Q,0),MATCH(I267,CNTR_TierList,0))))","v":""},null,{"$f":"U273","v":""},0,{"$f":"IF($L$6=EUconst_NotRelevant,TRUE,IF(V274>0,(V274<>U274),IF(U274=\"\",TRUE,FALSE)))","v":true}]
[]
[null,null,null,{"$f":"Translations!$B$666","v":"Opvangrendement voor de verwerking van diffuse emissies"}]
[null,null,null,"(s)",{"$f":"Translations!$B$667","v":"Bepaling van het opvangrendement"}]
[]
[null,null,null,null,null,null,null,null,{"$f":"Translations!$B$664","v":"standaard- of meest recente waarde"},{"$f":"Translations!$B$536","v":"Eenheid"},{"$f":"Translations!$B$537","v":"bronreferentie"},{"$f":"Translations!$B$538","v":"analysereferentie"},{"$f":"Translations!$B$665","v":"datum van de meest recente analyse"},{"$f":"Translations!$B$540","v":"Analysefrequentie"}]
[null,null,null,null,{"$f":"Translations!$B$668","v":"Opvangrendement"},null,null,null,null,null,null,null,null,null,null,null,null,null,null,null,{"$f":"U274","v":""},0,{"$f":"IF($L$6=EUconst_NotRelevant,TRUE,IF(V280>0,(V280<>U280),IF(U280=\"\",TRUE,FALSE)))","v":true}]
[]
[null,null,null,{"$f":"Translations!$B$44","v":"Opmerkingen"}]
[null,null,null,"(t)",{"$f":"Translations!$B$546","v":"Opmerkingen:"}]
[]
[null,null,null,null,null,null,null,null,null,null,null,null,null,null,null,null,null,null,null,null,{"$f":"U280","v":""},0,{"$f":"IF($L$6=EUconst_NotRelevant,TRUE,IF(V285>0,(V285<>U285),IF(U285=\"\",TRUE,FALSE)))","v":true}]
[null,null,null,null,null,null,null,null,null,null,null,null,null,null,null,null,null,null,null,null,{"$f":"U285","v":""},0,{"$f":"IF($L$6=EUconst_NotRelevant,TRUE,IF(V286>0,(V286<>U286),IF(U286=\"\",TRUE,FALSE)))","v":true}]
[null,null,null,null,null,null,null,null,null,null,null,null,null,null,null,null,null,null,null,null,{"$f":"U286","v":""},0,{"$f":"IF($L$6=EUconst_NotRelevant,TRUE,IF(V287>0,(V287<>U287),IF(U287=\"\",TRUE,FALSE)))","v":true}]
[]
[null,null,null,"(u)",{"$f":"Translations!$B$548","v":"U dient een verklaring te geven als de vereiste niveaus niet worden toegepast:"}]
[]
[null,null,null,null,null,null,null,null,null,null,null,null,null,null,null,null,null,null,null,null,{"$f":"U287","v":""},0,{"$f":"IF($L$6=EUconst_NotRelevant,TRUE,IF(V291>0,(V291<>U291),IF(U291=\"\",TRUE,FALSE)))","v":true}]
[null,null,null,null,null,null,null,null,null,null,null,null,null,null,null,null,null,null,null,null,{"$f":"U291","v":""},0,{"$f":"IF($L$6=EUconst_NotRelevant,TRUE,IF(V292>0,(V292<>U292),IF(U292=\"\",TRUE,FALSE)))","v":true}]
[null,null,null,null,null,null,null,null,null,null,null,null,null,null,null,null,null,null,null,null,{"$f":"U292","v":""},0,{"$f":"IF($L$6=EUconst_NotRelevant,TRUE,IF(V293>0,(V293<>U293),IF(U293=\"\",TRUE,FALSE)))","v":true}]
[]
[]
[null,null,{"$f":"INDEX($D$50:$D$55,Q296)","v":""},{"$f":"CONCATENATE(Euconst_SourceStream,\" \", Q296,\":\")","v":"Bronstroom 4:"},null,null,null,{"$f":"IF(INDEX($E$50:$E$55,Q296)=\"\",\"\",INDEX($E$50:$E$55,Q296))","v":""},null,null,null,null,{"$f":"IF(S296=TRUE,IF(U296=\"\",T296,U296),\"\")","v":""},null,null,null,{"$f":"Q224+1","v":4},null,{"$f":"IF(INDEX(C_InstallationDescription!$M:$M,MATCH(Q298,C_InstallationDescription!$Q:$Q,0))=\"\",FALSE,TRUE)","v":false},{"$f":"IF(S296=TRUE,INDEX(C_InstallationDescription!$M:$M,MATCH(Q298,C_InstallationDescription!$Q:$Q,0)),\"\")","v":""},{"$f":"IF(S296=TRUE,IF(ISBLANK(INDEX(C_InstallationDescription!$N:$N,MATCH(Q298,C_InstallationDescription!$Q:$Q,0))),\"\",INDEX(C_InstallationDescription!$N:$N,MATCH(Q298,C_InstallationDescription!$Q:$Q,0))),\"\")","v":""},{"$f":"IF(ISNUMBER(INDEX(CNTR_ListPFCmethods,Q296)),INDEX(CNTR_ListPFCmethods,Q296),\"\")","v":""}]
[]
[null,null,null,null,{"$f":"Translations!$B$437","v":"Type bronstroom:"},null,null,{"$f":"IF(INDEX($H$50:$H$55,Q296)=\"\",\"\",INDEX($H$50:$H$55,Q296))","v":""},null,null,null,null,null,null,null,null,{"$f":"EUconst_CNTR_SourceCategory&C296","v":"SourceCategory_"}]
[null,null,null,null,{"$f":"Translations!$B$438","v":"Te gebruiken methode volgens de MRV:"},null,null,{"$f":"IF(H298=\"\",\"\",INDEX(EUwideConstants!$F$261:$F$320,MATCH(H298,EUConst_TierActivityListNames,0)))","v":""}]
[null,null,null,null,{"$f":"Translations!$B$439","v":"Parameter waarop de onzekerheid wordt toegepast:"},null,null,{"$f":"IF(H298=\"\",\"\",INDEX(EUwideConstants!$E$261:$E$320,MATCH(H298,EUConst_TierActivityListNames,0)))","v":""}]
[]
[null,null,null,{"$f":"Translations!$B$446","v":"Automatische aanwijzingen over de toepasselijke niveaus:"}]
[]
[null,null,null,null,{"$f":"IF(H296=\"\",\"\",INDEX(EUconst_SmallEmiSouStreamMsg,MATCH(Q304,EUconst_SmallEmiSouStream,0)))","v":""},null,null,null,null,null,null,null,null,null,null,null,{"$f":"IF(ISBLANK(CNTR_SmallEmitter),IF(CNTR_SmallEmitter=TRUE,EUconst_CNTR_SmallEmitter,EUconst_CNTR_NoSmallEmitter),EUconst_CNTR_NoSmallEmitter) & IF((CNTR_Category)=\"\",\"C\",CNTR_Category) & \"_\" & IF(M296=\"\",1,MATCH(M296,SourceCategory,0))","v":"NoSmallEmitter_C_1"}]
[]
[null,null,null,{"$f":"Translations!$B$652","v":"Activiteitsgegevens"}]
[]
[null,null,null,{"$f":"Translations!$B$653","v":"Productie van primair aluminium:"},null,null,null,null,null,null,null,null,null,null,null,null,null,null,null,null,"Stream method","Relevant method","Make grey?"]
[null,null,null,"(b)",{"$f":"Translations!$B$477","v":"Vereist niveau voor de activiteitsgegevens:"},null,null,{"$f":"IF(H298=\"\",\"\",IF(CNTR_Category=\"A\",INDEX(EUwideConstants!$G:$G,MATCH(Q309,EUwideConstants!$Q:$Q,0)),INDEX(EUwideConstants!$N:$N,MATCH(Q309,EUwideConstants!$Q:$Q,0))))","v":""},{"$f":"IF(H309=\"\",\"\",IF(S309=0,EUconst_NA,IF(ISERROR(S309),\"\",EUconst_MsgTierActivityLevel & \" \" &S309)))","v":""},null,null,null,null,null,null,null,{"$f":"EUconst_CNTR_ActivityData&H298","v":"ActivityData_"},null,{"$f":"IF(H309=\"\",\"\",IF(H309=EUconst_NA,\"\",INDEX(EUwideConstants!$H:$M,MATCH(Q309,EUwideConstants!$Q:$Q,0),MATCH(H309,CNTR_TierList,0))))","v":""},null,{"$f":"V296","v":""},0,{"$f":"IF($L$6=EUconst_NotRelevant,TRUE,IF(V309>0,(V309<>U309),IF(U309=\"\",TRUE,FALSE)))","v":true}]
[null,null,null,"(c)",{"$f":"Translations!$B$478","v":"Gebruikt niveau voor de activiteitsgegevens:"},null,null,null,{"$f":"IF(OR(ISBLANK(H310),H310=EUconst_NoTier),\"\",IF(S310=0,EUconst_NA,IF(ISERROR(S310),\"\",EUconst_MsgTierActivityLevel & \" \" &S310)))","v":""},null,null,null,null,null,null,null,{"$f":"EUconst_CNTR_ActivityData&H298","v":"ActivityData_"},null,{"$f":"IF(ISBLANK(H310),\"\",IF(H310=EUconst_NA,\"\",INDEX(EUwideConstants!$H:$M,MATCH(Q310,EUwideConstants!$Q:$Q,0),MATCH(H310,CNTR_TierList,0))))","v":""},null,{"$f":"U309","v":""},0,{"$f":"IF($L$6=EUconst_NotRelevant,TRUE,IF(V310>0,(V310<>U310),IF(U310=\"\",TRUE,FALSE)))","v":true}]
[null,null,null,"(d)",{"$f":"Translations!$B$479","v":"Bereikte onzekerheid:"},null,null,null,{"$f":"Translations!$B$480","v":"Opmerking:"},null,null,null,null,null,null,null,null,null,null,null,{"$f":"U310","v":""},0,{"$f":"IF($L$6=EUconst_NotRelevant,TRUE,IF(V311>0,(V311<>U311),IF(U311=\"\",TRUE,FALSE)))","v":true}]
[]
[null,null,null,{"$f":"Translations!$B$654","v":"Methode A: Aantal anode-effecten per celdag"}]
[null,null,null,"(e)",{"$f":"Translations!$B$477","v":"Vereist niveau voor de activiteitsgegevens:"},null,null,{"$f":"IF(W314,\"\",H309)","v":""},{"$f":"IF(W314,\"\",I309)","v":""},null,null,null,null,null,null,null,null,null,null,null,{"$f":"U311","v":""},1,{"$f":"IF($L$6=EUconst_NotRelevant,TRUE,IF(V314>0,(V314<>U314),IF(U314=\"\",TRUE,FALSE)))","v":true}]
[null,null,null,"(f)",{"$f":"Translations!$B$478","v":"Gebruikt niveau voor de activiteitsgegevens:"},null,null,null,{"$f":"IF(OR(ISBLANK(H315),H315=EUconst_NoTier),\"\",IF(S315=0,EUconst_NA,IF(ISERROR(S315),\"\",EUconst_MsgTierActivityLevel & \" \" &S315)))","v":""},null,null,null,null,null,null,null,{"$f":"EUconst_CNTR_ActivityData&H298","v":"ActivityData_"},null,{"$f":"IF(ISBLANK(H315),\"\",IF(H315=EUconst_NA,\"\",INDEX(EUwideConstants!$H:$M,MATCH(Q315,EUwideConstants!$Q:$Q,0),MATCH(H315,CNTR_TierList,0))))","v":""},null,{"$f":"U314","v":""},1,{"$f":"IF($L$6=EUconst_NotRelevant,TRUE,IF(V315>0,(V315<>U315),IF(U315=\"\",TRUE,FALSE)))","v":true}]
[null,null,null,"(g)",{"$f":"Translations!$B$479","v":"Bereikte onzekerheid:"},null,null,null,{"$f":"Translations!$B$480","v":"Opmerking:"},null,null,null,null,null,null,null,null,null,null,null,{"$f":"U315","v":""},1,{"$f":"IF($L$6=EUconst_NotRelevant,TRUE,IF(V316>0,(V316<>U316),IF(U316=\"\",TRUE,FALSE)))","v":true}]
[]
[null,null,null,{"$f":"Translations!$B$655","v":"Methode A: gemiddeld aantal anode-effectminuten per gebeurtenis"}]
[null,null,null,"(h)",{"$f":"Translations!$B$477","v":"Vereist niveau voor de activiteitsgegevens:"},null,null,{"$f":"IF(W319,\"\",H309)","v":""},{"$f":"IF(W319,\"\",I309)","v":""},null,null,null,null,null,null,null,null,null,null,null,{"$f":"U316","v":""},1,{"$f":"IF($L$6=EUconst_NotRelevant,TRUE,IF(V319>0,(V319<>U319),IF(U319=\"\",TRUE,FALSE)))","v":true}]
[null,null,null,"(i)",{"$f":"Translations!$B$478","v":"Gebruikt niveau voor de activiteitsgegevens:"},null,null,null,{"$f":"IF(OR(ISBLANK(H320),H320=EUconst_NoTier),\"\",IF(S320=0,EUconst_NA,IF(ISERROR(S320),\"\",EUconst_MsgTierActivityLevel & \" \" &S320)))","v":""},null,null,null,null,null,null,null,{"$f":"EUconst_CNTR_ActivityData&H298","v":"ActivityData_"},null,{"$f":"IF(ISBLANK(H320),\"\",IF(H320=EUconst_NA,\"\",INDEX(EUwideConstants!$H:$M,MATCH(Q320,EUwideConstants!$Q:$Q,0),MATCH(H320,CNTR_TierList,0))))","v":""},null,{"$f":"U319","v":""},1,{"$f":"IF($L$6=EUconst_NotRelevant,TRUE,IF(V320>0,(V320<>U320),IF(U320=\"\",TRUE,FALSE)))","v":true}]
[null,null,null,"(j)",{"$f":"Translations!$B$479","v":"Bereikte onzekerheid:"},null,null,null,{"$f":"Translations!$B$480","v":"Opmerking:"},null,null,null,null,null,null,null,null,null,null,null,{"$f":"U320","v":""},1,{"$f":"IF($L$6=EUconst_NotRelevant,TRUE,IF(V321>0,(V321<>U321),IF(U321=\"\",TRUE,FALSE)))","v":true}]
[]
[null,null,null,{"$f":"Translations!$B$656","v":"Methode B: anode-effectoverspanning per cel"}]
[null,null,null,"(k)",{"$f":"Translations!$B$477","v":"Vereist niveau voor de activiteitsgegevens:"},null,null,{"$f":"IF(W324,\"\",H309)","v":""},{"$f":"IF(W324,\"\",I309)","v":""},null,null,null,null,null,null,null,null,null,null,null,{"$f":"U321","v":""},2,{"$f":"IF($L$6=EUconst_NotRelevant,TRUE,IF(V324>0,(V324<>U324),IF(U324=\"\",TRUE,FALSE)))","v":true}]
[null,null,null,"(l)",{"$f":"Translations!$B$478","v":"Gebruikt niveau voor de activiteitsgegevens:"},null,null,null,{"$f":"IF(OR(ISBLANK(H325),H325=EUconst_NoTier),\"\",IF(S325=0,EUconst_NA,IF(ISERROR(S325),\"\",EUconst_MsgTierActivityLevel & \" \" &S325)))","v":""},null,null,null,null,null,null,null,{"$f":"EUconst_CNTR_ActivityData&H298","v":"ActivityData_"},null,{"$f":"IF(ISBLANK(H325),\"\",IF(H325=EUconst_NA,\"\",INDEX(EUwideConstants!$H:$M,MATCH(Q325,EUwideConstants!$Q:$Q,0),MATCH(H325,CNTR_TierList,0))))","v":""},null,{"$f":"U324","v":""},2,{"$f":"IF($L$6=EUconst_NotRelevant,TRUE,IF(V325>0,(V325<>U325),IF(U325=\"\",TRUE,FALSE)))","v":true}]
[null,null,null,"(m)",{"$f":"Translations!$B$479","v":"Bereikte onzekerheid:"},null,null,null,{"$f":"Translations!$B$480","v":"Opmerking:"},null,null,null,null,null,null,null,null,null,null,null,{"$f":"U325","v":""},2,{"$f":"IF($L$6=EUconst_NotRelevant,TRUE,IF(V326>0,(V326<>U326),IF(U326=\"\",TRUE,FALSE)))","v":true}]
[]
[null,null,null,{"$f":"Translations!$B$657","v":"Methode B: Stroomrendement"}]
[null,null,null,"(n)",{"$f":"Translations!$B$477","v":"Vereist niveau voor de activiteitsgegevens:"},null,null,{"$f":"IF(W329,\"\",H309)","v":""},{"$f":"IF(W329,\"\",I309)","v":""},null,null,null,null,null,null,null,null,null,null,null,{"$f":"U326","v":""},2,{"$f":"IF($L$6=EUconst_NotRelevant,TRUE,IF(V329>0,(V329<>U329),IF(U329=\"\",TRUE,FALSE)))","v":true}]
[null,null,null,"(o)",{"$f":"Translations!$B$478","v":"Gebruikt niveau voor de activiteitsgegevens:"},null,null,null,{"$f":"IF(OR(ISBLANK(H330),H330=EUconst_NoTier),\"\",IF(S330=0,EUconst_NA,IF(ISERROR(S330),\"\",EUconst_MsgTierActivityLevel & \" \" &S330)))","v":""},null,null,null,null,null,null,null,{"$f":"EUconst_CNTR_ActivityData&H298","v":"ActivityData_"},null,{"$f":"IF(ISBLANK(H330),\"\",IF(H330=EUconst_NA,\"\",INDEX(EUwideConstants!$H:$M,MATCH(Q330,EUwideConstants!$Q:$Q,0),MATCH(H330,CNTR_TierList,0))))","v":""},null,{"$f":"U329","v":""},2,{"$f":"IF($L$6=EUconst_NotRelevant,TRUE,IF(V330>0,(V330<>U330),IF(U330=\"\",TRUE,FALSE)))","v":true}]
[null,null,null,"(p)",{"$f":"Translations!$B$479","v":"Bereikte onzekerheid:"},null,null,null,{"$f":"Translations!$B$480","v":"Opmerking:"},null,null,null,null,null,null,null,null,null,null,null,{"$f":"U330","v":""},2,{"$f":"IF($L$6=EUconst_NotRelevant,TRUE,IF(V331>0,(V331<>U331),IF(U331=\"\",TRUE,FALSE)))","v":true}]
[]
[null,null,null,{"$f":"Translations!$B$658","v":"Berekeningsfactoren"}]
[null,null,null,"(q)",{"$f":"Translations!$B$659","v":"Toegepaste niveaus"}]
[]
[null,null,null,null,{"$f":"Translations!$B$516","v":"berekeningsfactor"},null,null,{"$f":"Translations!$B$517","v":"vereist niveau"},{"$f":"Translations!$B$518","v":"toegepast niveau"},{"$f":"Translations!$B$519","v":"volledige tekst voor het toegepaste niveau"},null,null,null,null,null,null,null,null,"full text tier"]
[null,null,null,"i.",{"$f":"Translations!$B$660","v":"HEFCF4 Hellingsemissiefactor"},null,null,{"$f":"IF(H298=\"\",\"\",IF(W337=FALSE,IF(CNTR_Category=\"A\",INDEX(EUwideConstants!$G:$G,MATCH(Q337,EUwideConstants!$Q:$Q,0)),INDEX(EUwideConstants!$N:$N,MATCH(Q337,EUwideConstants!$Q:$Q,0))),\"\"))","v":""},null,{"$f":"IF(OR(ISBLANK(I337),I337=EUconst_NoTier),\"\",IF(S337=0,EUconst_NotApplicable,IF(ISERROR(S337),\"\",S337)))","v":""},null,null,null,null,null,null,{"$f":"EUconst_CNTR_EF&H298","v":"EF_"},null,{"$f":"IF(ISBLANK(I337),\"\",IF(I337=EUconst_NA,\"\",INDEX(EUwideConstants!$H:$M,MATCH(Q337,EUwideConstants!$Q:$Q,0),MATCH(I337,CNTR_TierList,0))))","v":""},null,{"$f":"U331","v":""},1,{"$f":"IF($L$6=EUconst_NotRelevant,TRUE,IF(V337>0,(V337<>U337),IF(U337=\"\",TRUE,FALSE)))","v":true}]
[null,null,null,"ii.",{"$f":"Translations!$B$661","v":"OSC (Overspanningscoëfficiënt)"},null,null,{"$f":"IF(H299=\"\",\"\",IF(W338=FALSE,IF(CNTR_Category=\"A\",INDEX(EUwideConstants!$G:$G,MATCH(Q338,EUwideConstants!$Q:$Q,0)),INDEX(EUwideConstants!$N:$N,MATCH(Q338,EUwideConstants!$Q:$Q,0))),\"\"))","v":""},null,{"$f":"IF(OR(ISBLANK(I338),I338=EUconst_NoTier),\"\",IF(S338=0,EUconst_NotApplicable,IF(ISERROR(S338),\"\",S338)))","v":""},null,null,null,null,null,null,{"$f":"EUconst_CNTR_EF&H298","v":"EF_"},null,{"$f":"IF(ISBLANK(I338),\"\",IF(I338=EUconst_NA,\"\",INDEX(EUwideConstants!$H:$M,MATCH(Q338,EUwideConstants!$Q:$Q,0),MATCH(I338,CNTR_TierList,0))))","v":""},null,{"$f":"U337","v":""},2,{"$f":"IF($L$6=EUconst_NotRelevant,TRUE,IF(V338>0,(V338<>U338),IF(U338=\"\",TRUE,FALSE)))","v":true}]
[null,null,null,"iii.",{"$f":"Translations!$B$662","v":"FCF2F6 – Massafractie van C2F6 "},null,null,{"$f":"IF(H300=\"\",\"\",IF(W339=FALSE,IF(CNTR_Category=\"A\",INDEX(EUwideConstants!$G:$G,MATCH(Q339,EUwideConstants!$Q:$Q,0)),INDEX(EUwideConstants!$N:$N,MATCH(Q339,EUwideConstants!$Q:$Q,0))),\"\"))","v":""},null,{"$f":"IF(OR(ISBLANK(I339),I339=EUconst_NoTier),\"\",IF(S339=0,EUconst_NotApplicable,IF(ISERROR(S339),\"\",S339)))","v":""},null,null,null,null,null,null,{"$f":"EUconst_CNTR_EF&H298","v":"EF_"},null,{"$f":"IF(ISBLANK(I339),\"\",IF(I339=EUconst_NA,\"\",INDEX(EUwideConstants!$H:$M,MATCH(Q339,EUwideConstants!$Q:$Q,0),MATCH(I339,CNTR_TierList,0))))","v":""},null,{"$f":"U338","v":""},0,{"$f":"IF($L$6=EUconst_NotRelevant,TRUE,IF(V339>0,(V339<>U339),IF(U339=\"\",TRUE,FALSE)))","v":true}]
[]
[null,null,null,"(r)",{"$f":"Translations!$B$663","v":"Informatie over het niveau"}]
[]
[null,null,null,null,{"$f":"Translations!$B$516","v":"berekeningsfactor"},null,null,{"$f":"I336","v":"toegepast niveau"},{"$f":"Translations!$B$664","v":"standaard- of meest recente waarde"},{"$f":"Translations!$B$536","v":"Eenheid"},{"$f":"Translations!$B$537","v":"bronreferentie"},{"$f":"Translations!$B$538","v":"analysereferentie"},{"$f":"Translations!$B$665","v":"datum van de meest recente analyse"},{"$f":"Translations!$B$540","v":"Analysefrequentie"},null,null,null,null,"default value or lab"]
[null,null,null,"i.",{"$f":"E337","v":"HEFCF4 Hellingsemissiefactor"},null,null,{"$f":"IF(OR(ISBLANK(I337),I337=EUconst_NA),\"\",I337)","v":""},null,null,null,null,null,null,null,null,{"$f":"Q337","v":"EF_"},null,{"$f":"IF(H344=\"\",\"\",IF(I337=EUconst_NA,\"\",INDEX(EUwideConstants!$AJ:$AN,MATCH(Q337,EUwideConstants!$Q:$Q,0),MATCH(I337,CNTR_TierList,0))))","v":""},null,{"$f":"U339","v":""},1,{"$f":"IF($L$6=EUconst_NotRelevant,TRUE,IF(V344>0,(V344<>U344),IF(U344=\"\",TRUE,FALSE)))","v":true}]
[null,null,null,"ii.",{"$f":"E338","v":"OSC (Overspanningscoëfficiënt)"},null,null,{"$f":"IF(OR(ISBLANK(I338),I338=EUconst_NA),\"\",I338)","v":""},null,null,null,null,null,null,null,null,{"$f":"Q338","v":"EF_"},null,{"$f":"IF(H345=\"\",\"\",IF(I338=EUconst_NA,\"\",INDEX(EUwideConstants!$AJ:$AN,MATCH(Q338,EUwideConstants!$Q:$Q,0),MATCH(I338,CNTR_TierList,0))))","v":""},null,{"$f":"U344","v":""},2,{"$f":"IF($L$6=EUconst_NotRelevant,TRUE,IF(V345>0,(V345<>U345),IF(U345=\"\",TRUE,FALSE)))","v":true}]
[null,null,null,"iii.",{"$f":"E339","v":"FCF2F6 – Massafractie van C2F6 "},null,null,{"$f":"IF(OR(ISBLANK(I339),I339=EUconst_NA),\"\",I339)","v":""},null,null,null,null,null,null,null,null,{"$f":"Q339","v":"EF_"},null,{"$f":"IF(H346=\"\",\"\",IF(I339=EUconst_NA,\"\",INDEX(EUwideConstants!$AJ:$AN,MATCH(Q339,EUwideConstants!$Q:$Q,0),MATCH(I339,CNTR_TierList,0))))","v":""},null,{"$f":"U345","v":""},0,{"$f":"IF($L$6=EUconst_NotRelevant,TRUE,IF(V346>0,(V346<>U346),IF(U346=\"\",TRUE,FALSE)))","v":true}]
[]
[null,null,null,{"$f":"Translations!$B$666","v":"Opvangrendement voor de verwerking van diffuse emissies"}]
[null,null,null,"(s)",{"$f":"Translations!$B$667","v":"Bepaling van het opvangrendement"}]
[]
[null,null,null,null,null,null,null,null,{"$f":"Translations!$B$664","v":"standaard- of meest recente waarde"},{"$f":"Translations!$B$536","v":"Eenheid"},{"$f":"Translations!$B$537","v":"bronreferentie"},{"$f":"Translations!$B$538","v":"analysereferentie"},{"$f":"Translations!$B$665","v":"datum van de meest recente analyse"},{"$f":"Translations!$B$540","v":"Analysefrequentie"}]
[null,null,null,null,{"$f":"Translations!$B$668","v":"Opvangrendement"},null,null,null,null,null,null,null,null,null,null,null,null,null,null,null,{"$f":"U346","v":""},0,{"$f":"IF($L$6=EUconst_NotRelevant,TRUE,IF(V352>0,(V352<>U352),IF(U352=\"\",TRUE,FALSE)))","v":true}]
[]
[null,null,null,{"$f":"Translations!$B$44","v":"Opmerkingen"}]
[null,null,null,"(t)",{"$f":"Translations!$B$546","v":"Opmerkingen:"}]
[]
[null,null,null,null,null,null,null,null,null,null,null,null,null,null,null,null,null,null,null,null,{"$f":"U352","v":""},0,{"$f":"IF($L$6=EUconst_NotRelevant,TRUE,IF(V357>0,(V357<>U357),IF(U357=\"\",TRUE,FALSE)))","v":true}]
[null,null,null,null,null,null,null,null,null,null,null,null,null,null,null,null,null,null,null,null,{"$f":"U357","v":""},0,{"$f":"IF($L$6=EUconst_NotRelevant,TRUE,IF(V358>0,(V358<>U358),IF(U358=\"\",TRUE,FALSE)))","v":true}]
[null,null,null,null,null,null,null,null,null,null,null,null,null,null,null,null,null,null,null,null,{"$f":"U358","v":""},0,{"$f":"IF($L$6=EUconst_NotRelevant,TRUE,IF(V359>0,(V359<>U359),IF(U359=\"\",TRUE,FALSE)))","v":true}]
[]
[null,null,null,"(u)",{"$f":"Translations!$B$548","v":"U dient een verklaring te geven als de vereiste niveaus niet worden toegepast:"}]
[]
[null,null,null,null,null,null,null,null,null,null,null,null,null,null,null,null,null,null,null,null,{"$f":"U359","v":""},0,{"$f":"IF($L$6=EUconst_NotRelevant,TRUE,IF(V363>0,(V363<>U363),IF(U363=\"\",TRUE,FALSE)))","v":true}]
[null,null,null,null,null,null,null,null,null,null,null,null,null,null,null,null,null,null,null,null,{"$f":"U363","v":""},0,{"$f":"IF($L$6=EUconst_NotRelevant,TRUE,IF(V364>0,(V364<>U364),IF(U364=\"\",TRUE,FALSE)))","v":true}]
[null,null,null,null,null,null,null,null,null,null,null,null,null,null,null,null,null,null,null,null,{"$f":"U364","v":""},0,{"$f":"IF($L$6=EUconst_NotRelevant,TRUE,IF(V365>0,(V365<>U365),IF(U365=\"\",TRUE,FALSE)))","v":true}]
[]
["ADD_CompleteAluSourceStream"]
[null,null,{"$f":"INDEX($D$50:$D$55,Q368)","v":""},{"$f":"CONCATENATE(Euconst_SourceStream,\" \", Q368,\":\")","v":"Bronstroom 5:"},null,null,null,{"$f":"IF(INDEX($E$50:$E$55,Q368)=\"\",\"\",INDEX($E$50:$E$55,Q368))","v":""},null,null,null,null,{"$f":"IF(S368=TRUE,IF(U368=\"\",T368,U368),\"\")","v":""},null,null,null,{"$f":"Q296+1","v":5},null,{"$f":"IF(INDEX(C_InstallationDescription!$M:$M,MATCH(Q370,C_InstallationDescription!$Q:$Q,0))=\"\",FALSE,TRUE)","v":false},{"$f":"IF(S368=TRUE,INDEX(C_InstallationDescription!$M:$M,MATCH(Q370,C_InstallationDescription!$Q:$Q,0)),\"\")","v":""},{"$f":"IF(S368=TRUE,IF(ISBLANK(INDEX(C_InstallationDescription!$N:$N,MATCH(Q370,C_InstallationDescription!$Q:$Q,0))),\"\",INDEX(C_InstallationDescription!$N:$N,MATCH(Q370,C_InstallationDescription!$Q:$Q,0))),\"\")","v":""},{"$f":"IF(ISNUMBER(INDEX(CNTR_ListPFCmethods,Q368)),INDEX(CNTR_ListPFCmethods,Q368),\"\")","v":""}]
[]
[null,null,null,null,{"$f":"Translations!$B$437","v":"Type bronstroom:"},null,null,{"$f":"IF(INDEX($H$50:$H$55,Q368)=\"\",\"\",INDEX($H$50:$H$55,Q368))","v":""},null,null,null,null,null,null,null,null,{"$f":"EUconst_CNTR_SourceCategory&C368","v":"SourceCategory_"}]
[null,null,null,null,{"$f":"Translations!$B$438","v":"Te gebruiken methode volgens de MRV:"},null,null,{"$f":"IF(H370=\"\",\"\",INDEX(EUwideConstants!$F$261:$F$320,MATCH(H370,EUConst_TierActivityListNames,0)))","v":""}]
[null,null,null,null,{"$f":"Translations!$B$439","v":"Parameter waarop de onzekerheid wordt toegepast:"},null,null,{"$f":"IF(H370=\"\",\"\",INDEX(EUwideConstants!$E$261:$E$320,MATCH(H370,EUConst_TierActivityListNames,0)))","v":""}]
[]
[null,null,null,{"$f":"Translations!$B$446","v":"Automatische aanwijzingen over de toepasselijke niveaus:"}]
[]
[null,null,null,null,{"$f":"IF(H368=\"\",\"\",INDEX(EUconst_SmallEmiSouStreamMsg,MATCH(Q376,EUconst_SmallEmiSouStream,0)))","v":""},null,null,null,null,null,null,null,null,null,null,null,{"$f":"IF(ISBLANK(CNTR_SmallEmitter),IF(CNTR_SmallEmitter=TRUE,EUconst_CNTR_SmallEmitter,EUconst_CNTR_NoSmallEmitter),EUconst_CNTR_NoSmallEmitter) & IF((CNTR_Category)=\"\",\"C\",CNTR_Category) & \"_\" & IF(M368=\"\",1,MATCH(M368,SourceCategory,0))","v":"NoSmallEmitter_C_1"}]
[]
[null,null,null,{"$f":"Translations!$B$652","v":"Activiteitsgegevens"}]
[]
[null,null,null,{"$f":"Translations!$B$653","v":"Productie van primair aluminium:"},null,null,null,null,null,null,null,null,null,null,null,null,null,null,null,null,"Stream method","Relevant method","Make grey?"]
[null,null,null,"(b)",{"$f":"Translations!$B$477","v":"Vereist niveau voor de activiteitsgegevens:"},null,null,{"$f":"IF(H370=\"\",\"\",IF(CNTR_Category=\"A\",INDEX(EUwideConstants!$G:$G,MATCH(Q381,EUwideConstants!$Q:$Q,0)),INDEX(EUwideConstants!$N:$N,MATCH(Q381,EUwideConstants!$Q:$Q,0))))","v":""},{"$f":"IF(H381=\"\",\"\",IF(S381=0,EUconst_NA,IF(ISERROR(S381),\"\",EUconst_MsgTierActivityLevel & \" \" &S381)))","v":""},null,null,null,null,null,null,null,{"$f":"EUconst_CNTR_ActivityData&H370","v":"ActivityData_"},null,{"$f":"IF(H381=\"\",\"\",IF(H381=EUconst_NA,\"\",INDEX(EUwideConstants!$H:$M,MATCH(Q381,EUwideConstants!$Q:$Q,0),MATCH(H381,CNTR_TierList,0))))","v":""},null,{"$f":"V368","v":""},0,{"$f":"IF($L$6=EUconst_NotRelevant,TRUE,IF(V381>0,(V381<>U381),IF(U381=\"\",TRUE,FALSE)))","v":true}]
[null,null,null,"(c)",{"$f":"Translations!$B$478","v":"Gebruikt niveau voor de activiteitsgegevens:"},null,null,null,{"$f":"IF(OR(ISBLANK(H382),H382=EUconst_NoTier),\"\",IF(S382=0,EUconst_NA,IF(ISERROR(S382),\"\",EUconst_MsgTierActivityLevel & \" \" &S382)))","v":""},null,null,null,null,null,null,null,{"$f":"EUconst_CNTR_ActivityData&H370","v":"ActivityData_"},null,{"$f":"IF(ISBLANK(H382),\"\",IF(H382=EUconst_NA,\"\",INDEX(EUwideConstants!$H:$M,MATCH(Q382,EUwideConstants!$Q:$Q,0),MATCH(H382,CNTR_TierList,0))))","v":""},null,{"$f":"U381","v":""},0,{"$f":"IF($L$6=EUconst_NotRelevant,TRUE,IF(V382>0,(V382<>U382),IF(U382=\"\",TRUE,FALSE)))","v":true}]
[null,null,null,"(d)",{"$f":"Translations!$B$479","v":"Bereikte onzekerheid:"},null,null,null,{"$f":"Translations!$B$480","v":"Opmerking:"},null,null,null,null,null,null,null,null,null,null,null,{"$f":"U382","v":""},0,{"$f":"IF($L$6=EUconst_NotRelevant,TRUE,IF(V383>0,(V383<>U383),IF(U383=\"\",TRUE,FALSE)))","v":true}]
[]
[null,null,null,{"$f":"Translations!$B$654","v":"Methode A: Aantal anode-effecten per celdag"}]
[null,null,null,"(e)",{"$f":"Translations!$B$477","v":"Vereist niveau voor de activiteitsgegevens:"},null,null,{"$f":"IF(W386,\"\",H381)","v":""},{"$f":"IF(W386,\"\",I381)","v":""},null,null,null,null,null,null,null,null,null,null,null,{"$f":"U383","v":""},1,{"$f":"IF($L$6=EUconst_NotRelevant,TRUE,IF(V386>0,(V386<>U386),IF(U386=\"\",TRUE,FALSE)))","v":true}]
[null,null,null,"(f)",{"$f":"Translations!$B$478","v":"Gebruikt niveau voor de activiteitsgegevens:"},null,null,null,{"$f":"IF(OR(ISBLANK(H387),H387=EUconst_NoTier),\"\",IF(S387=0,EUconst_NA,IF(ISERROR(S387),\"\",EUconst_MsgTierActivityLevel & \" \" &S387)))","v":""},null,null,null,null,null,null,null,{"$f":"EUconst_CNTR_ActivityData&H370","v":"ActivityData_"},null,{"$f":"IF(ISBLANK(H387),\"\",IF(H387=EUconst_NA,\"\",INDEX(EUwideConstants!$H:$M,MATCH(Q387,EUwideConstants!$Q:$Q,0),MATCH(H387,CNTR_TierList,0))))","v":""},null,{"$f":"U386","v":""},1,{"$f":"IF($L$6=EUconst_NotRelevant,TRUE,IF(V387>0,(V387<>U387),IF(U387=\"\",TRUE,FALSE)))","v":true}]
[null,null,null,"(g)",{"$f":"Translations!$B$479","v":"Bereikte onzekerheid:"},null,null,null,{"$f":"Translations!$B$480","v":"Opmerking:"},null,null,null,null,null,null,null,null,null,null,null,{"$f":"U387","v":""},1,{"$f":"IF($L$6=EUconst_NotRelevant,TRUE,IF(V388>0,(V388<>U388),IF(U388=\"\",TRUE,FALSE)))","v":true}]
[]
[null,null,null,{"$f":"Translations!$B$655","v":"Methode A: gemiddeld aantal anode-effectminuten per gebeurtenis"}]
[null,null,null,"(h)",{"$f":"Translations!$B$477","v":"Vereist niveau voor de activiteitsgegevens:"},null,null,{"$f":"IF(W391,\"\",H381)","v":""},{"$f":"IF(W391,\"\",I381)","v":""},null,null,null,null,null,null,null,null,null,null,null,{"$f":"U388","v":""},1,{"$f":"IF($L$6=EUconst_NotRelevant,TRUE,IF(V391>0,(V391<>U391),IF(U391=\"\",TRUE,FALSE)))","v":true}]
[null,null,null,"(i)",{"$f":"Translations!$B$478","v":"Gebruikt niveau voor de activiteitsgegevens:"},null,null,null,{"$f":"IF(OR(ISBLANK(H392),H392=EUconst_NoTier),\"\",IF(S392=0,EUconst_NA,IF(ISERROR(S392),\"\",EUconst_MsgTierActivityLevel & \" \" &S392)))","v":""},null,null,null,null,null,null,null,{"$f":"EUconst_CNTR_ActivityData&H370","v":"ActivityData_"},null,{"$f":"IF(ISBLANK(H392),\"\",IF(H392=EUconst_NA,\"\",INDEX(EUwideConstants!$H:$M,MATCH(Q392,EUwideConstants!$Q:$Q,0),MATCH(H392,CNTR_TierList,0))))","v":""},null,{"$f":"U391","v":""},1,{"$f":"IF($L$6=EUconst_NotRelevant,TRUE,IF(V392>0,(V392<>U392),IF(U392=\"\",TRUE,FALSE)))","v":true}]
[null,null,null,"(j)",{"$f":"Translations!$B$479","v":"Bereikte onzekerheid:"},null,null,null,{"$f":"Translations!$B$480","v":"Opmerking:"},null,null,null,null,null,null,null,null,null,null,null,{"$f":"U392","v":""},1,{"$f":"IF($L$6=EUconst_NotRelevant,TRUE,IF(V393>0,(V393<>U393),IF(U393=\"\",TRUE,FALSE)))","v":true}]
[]
[null,null,null,{"$f":"Translations!$B$656","v":"Methode B: anode-effectoverspanning per cel"}]
[null,null,null,"(k)",{"$f":"Translations!$B$477","v":"Vereist niveau voor de activiteitsgegevens:"},null,null,{"$f":"IF(W396,\"\",H381)","v":""},{"$f":"IF(W396,\"\",I381)","v":""},null,null,null,null,null,null,null,null,null,null,null,{"$f":"U393","v":""},2,{"$f":"IF($L$6=EUconst_NotRelevant,TRUE,IF(V396>0,(V396<>U396),IF(U396=\"\",TRUE,FALSE)))","v":true}]
[null,null,null,"(l)",{"$f":"Translations!$B$478","v":"Gebruikt niveau voor de activiteitsgegevens:"},null,null,null,{"$f":"IF(OR(ISBLANK(H397),H397=EUconst_NoTier),\"\",IF(S397=0,EUconst_NA,IF(ISERROR(S397),\"\",EUconst_MsgTierActivityLevel & \" \" &S397)))","v":""},null,null,null,null,null,null,null,{"$f":"EUconst_CNTR_ActivityData&H370","v":"ActivityData_"},null,{"$f":"IF(ISBLANK(H397),\"\",IF(H397=EUconst_NA,\"\",INDEX(EUwideConstants!$H:$M,MATCH(Q397,EUwideConstants!$Q:$Q,0),MATCH(H397,CNTR_TierList,0))))","v":""},null,{"$f":"U396","v":""},2,{"$f":"IF($L$6=EUconst_NotRelevant,TRUE,IF(V397>0,(V397<>U397),IF(U397=\"\",TRUE,FALSE)))","v":true}]
[null,null,null,"(m)",{"$f":"Translations!$B$479","v":"Bereikte onzekerheid:"},null,null,null,{"$f":"Translations!$B$480","v":"Opmerking:"},null,null,null,null,null,null,null,null,null,null,null,{"$f":"U397","v":""},2,{"$f":"IF($L$6=EUconst_NotRelevant,TRUE,IF(V398>0,(V398<>U398),IF(U398=\"\",TRUE,FALSE)))","v":true}]
[]
[null,null,null,{"$f":"Translations!$B$657","v":"Methode B: Stroomrendement"}]
[null,null,null,"(n)",{"$f":"Translations!$B$477","v":"Vereist niveau voor de activiteitsgegevens:"},null,null,{"$f":"IF(W401,\"\",H381)","v":""},{"$f":"IF(W401,\"\",I381)","v":""},null,null,null,null,null,null,null,null,null,null,null,{"$f":"U398","v":""},2,{"$f":"IF($L$6=EUconst_NotRelevant,TRUE,IF(V401>0,(V401<>U401),IF(U401=\"\",TRUE,FALSE)))","v":true}]
[null,null,null,"(o)",{"$f":"Translations!$B$478","v":"Gebruikt niveau voor de activiteitsgegevens:"},null,null,null,{"$f":"IF(OR(ISBLANK(H402),H402=EUconst_NoTier),\"\",IF(S402=0,EUconst_NA,IF(ISERROR(S402),\"\",EUconst_MsgTierActivityLevel & \" \" &S402)))","v":""},null,null,null,null,null,null,null,{"$f":"EUconst_CNTR_ActivityData&H370","v":"ActivityData_"},null,{"$f":"IF(ISBLANK(H402),\"\",IF(H402=EUconst_NA,\"\",INDEX(EUwideConstants!$H:$M,MATCH(Q402,EUwideConstants!$Q:$Q,0),MATCH(H402,CNTR_TierList,0))))","v":""},null,{"$f":"U401","v":""},2,{"$f":"IF($L$6=EUconst_NotRelevant,TRUE,IF(V402>0,(V402<>U402),IF(U402=\"\",TRUE,FALSE)))","v":true}]
[null,null,null,"(p)",{"$f":"Translations!$B$479","v":"Bereikte onzekerheid:"},null,null,null,{"$f":"Translations!$B$480","v":"Opmerking:"},null,null,null,null,null,null,null,null,null,null,null,{"$f":"U402","v":""},2,{"$f":"IF($L$6=EUconst_NotRelevant,TRUE,IF(V403>0,(V403<>U403),IF(U403=\"\",TRUE,FALSE)))","v":true}]
[]
[null,null,null,{"$f":"Translations!$B$658","v":"Berekeningsfactoren"}]
[null,null,null,"(q)",{"$f":"Translations!$B$659","v":"Toegepaste niveaus"}]
[]
[null,null,null,null,{"$f":"Translations!$B$516","v":"berekeningsfactor"},null,null,{"$f":"Translations!$B$517","v":"vereist niveau"},{"$f":"Translations!$B$518","v":"toegepast niveau"},{"$f":"Translations!$B$519","v":"volledige tekst voor het toegepaste niveau"},null,null,null,null,null,null,null,null,"full text tier"]
[null,null,null,"i.",{"$f":"Translations!$B$660","v":"HEFCF4 Hellingsemissiefactor"},null,null,{"$f":"IF(H370=\"\",\"\",IF(W409=FALSE,IF(CNTR_Category=\"A\",INDEX(EUwideConstants!$G:$G,MATCH(Q409,EUwideConstants!$Q:$Q,0)),INDEX(EUwideConstants!$N:$N,MATCH(Q409,EUwideConstants!$Q:$Q,0))),\"\"))","v":""},null,{"$f":"IF(OR(ISBLANK(I409),I409=EUconst_NoTier),\"\",IF(S409=0,EUconst_NotApplicable,IF(ISERROR(S409),\"\",S409)))","v":""},null,null,null,null,null,null,{"$f":"EUconst_CNTR_EF&H370","v":"EF_"},null,{"$f":"IF(ISBLANK(I409),\"\",IF(I409=EUconst_NA,\"\",INDEX(EUwideConstants!$H:$M,MATCH(Q409,EUwideConstants!$Q:$Q,0),MATCH(I409,CNTR_TierList,0))))","v":""},null,{"$f":"U403","v":""},1,{"$f":"IF($L$6=EUconst_NotRelevant,TRUE,IF(V409>0,(V409<>U409),IF(U409=\"\",TRUE,FALSE)))","v":true}]
[null,null,null,"ii.",{"$f":"Translations!$B$661","v":"OSC (Overspanningscoëfficiënt)"},null,null,{"$f":"IF(H371=\"\",\"\",IF(W410=FALSE,IF(CNTR_Category=\"A\",INDEX(EUwideConstants!$G:$G,MATCH(Q410,EUwideConstants!$Q:$Q,0)),INDEX(EUwideConstants!$N:$N,MATCH(Q410,EUwideConstants!$Q:$Q,0))),\"\"))","v":""},null,{"$f":"IF(OR(ISBLANK(I410),I410=EUconst_NoTier),\"\",IF(S410=0,EUconst_NotApplicable,IF(ISERROR(S410),\"\",S410)))","v":""},null,null,null,null,null,null,{"$f":"EUconst_CNTR_EF&H370","v":"EF_"},null,{"$f":"IF(ISBLANK(I410),\"\",IF(I410=EUconst_NA,\"\",INDEX(EUwideConstants!$H:$M,MATCH(Q410,EUwideConstants!$Q:$Q,0),MATCH(I410,CNTR_TierList,0))))","v":""},null,{"$f":"U409","v":""},2,{"$f":"IF($L$6=EUconst_NotRelevant,TRUE,IF(V410>0,(V410<>U410),IF(U410=\"\",TRUE,FALSE)))","v":true}]
[null,null,null,"iii.",{"$f":"Translations!$B$662","v":"FCF2F6 – Massafractie van C2F6 "},null,null,{"$f":"IF(H372=\"\",\"\",IF(W411=FALSE,IF(CNTR_Category=\"A\",INDEX(EUwideConstants!$G:$G,MATCH(Q411,EUwideConstants!$Q:$Q,0)),INDEX(EUwideConstants!$N:$N,MATCH(Q411,EUwideConstants!$Q:$Q,0))),\"\"))","v":""},null,{"$f":"IF(OR(ISBLANK(I411),I411=EUconst_NoTier),\"\",IF(S411=0,EUconst_NotApplicable,IF(ISERROR(S411),\"\",S411)))","v":""},null,null,null,null,null,null,{"$f":"EUconst_CNTR_EF&H370","v":"EF_"},null,{"$f":"IF(ISBLANK(I411),\"\",IF(I411=EUconst_NA,\"\",INDEX(EUwideConstants!$H:$M,MATCH(Q411,EUwideConstants!$Q:$Q,0),MATCH(I411,CNTR_TierList,0))))","v":""},null,{"$f":"U410","v":""},0,{"$f":"IF($L$6=EUconst_NotRelevant,TRUE,IF(V411>0,(V411<>U411),IF(U411=\"\",TRUE,FALSE)))","v":true}]
[]
[null,null,null,"(r)",{"$f":"Translations!$B$663","v":"Informatie over het niveau"}]
[]
[null,null,null,null,{"$f":"Translations!$B$516","v":"berekeningsfactor"},null,null,{"$f":"I408","v":"toegepast niveau"},{"$f":"Translations!$B$664","v":"standaard- of meest recente waarde"},{"$f":"Translations!$B$536","v":"Eenheid"},{"$f":"Translations!$B$537","v":"bronreferentie"},{"$f":"Translations!$B$538","v":"analysereferentie"},{"$f":"Translations!$B$665","v":"datum van de meest recente analyse"},{"$f":"Translations!$B$540","v":"Analysefrequentie"},null,null,null,null,"default value or lab"]
[null,null,null,"i.",{"$f":"E409","v":"HEFCF4 Hellingsemissiefactor"},null,null,{"$f":"IF(OR(ISBLANK(I409),I409=EUconst_NA),\"\",I409)","v":""},null,null,null,null,null,null,null,null,{"$f":"Q409","v":"EF_"},null,{"$f":"IF(H416=\"\",\"\",IF(I409=EUconst_NA,\"\",INDEX(EUwideConstants!$AJ:$AN,MATCH(Q409,EUwideConstants!$Q:$Q,0),MATCH(I409,CNTR_TierList,0))))","v":""},null,{"$f":"U411","v":""},1,{"$f":"IF($L$6=EUconst_NotRelevant,TRUE,IF(V416>0,(V416<>U416),IF(U416=\"\",TRUE,FALSE)))","v":true}]
[null,null,null,"ii.",{"$f":"E410","v":"OSC (Overspanningscoëfficiënt)"},null,null,{"$f":"IF(OR(ISBLANK(I410),I410=EUconst_NA),\"\",I410)","v":""},null,null,null,null,null,null,null,null,{"$f":"Q410","v":"EF_"},null,{"$f":"IF(H417=\"\",\"\",IF(I410=EUconst_NA,\"\",INDEX(EUwideConstants!$AJ:$AN,MATCH(Q410,EUwideConstants!$Q:$Q,0),MATCH(I410,CNTR_TierList,0))))","v":""},null,{"$f":"U416","v":""},2,{"$f":"IF($L$6=EUconst_NotRelevant,TRUE,IF(V417>0,(V417<>U417),IF(U417=\"\",TRUE,FALSE)))","v":true}]
[null,null,null,"iii.",{"$f":"E411","v":"FCF2F6 – Massafractie van C2F6 "},null,null,{"$f":"IF(OR(ISBLANK(I411),I411=EUconst_NA),\"\",I411)","v":""},null,null,null,null,null,null,null,null,{"$f":"Q411","v":"EF_"},null,{"$f":"IF(H418=\"\",\"\",IF(I411=EUconst_NA,\"\",INDEX(EUwideConstants!$AJ:$AN,MATCH(Q411,EUwideConstants!$Q:$Q,0),MATCH(I411,CNTR_TierList,0))))","v":""},null,{"$f":"U417","v":""},0,{"$f":"IF($L$6=EUconst_NotRelevant,TRUE,IF(V418>0,(V418<>U418),IF(U418=\"\",TRUE,FALSE)))","v":true}]
[]
[null,null,null,{"$f":"Translations!$B$666","v":"Opvangrendement voor de verwerking van diffuse emissies"}]
[null,null,null,"(s)",{"$f":"Translations!$B$667","v":"Bepaling van het opvangrendement"}]
[]
[null,null,null,null,null,null,null,null,{"$f":"Translations!$B$664","v":"standaard- of meest recente waarde"},{"$f":"Translations!$B$536","v":"Eenheid"},{"$f":"Translations!$B$537","v":"bronreferentie"},{"$f":"Translations!$B$538","v":"analysereferentie"},{"$f":"Translations!$B$665","v":"datum van de meest recente analyse"},{"$f":"Translations!$B$540","v":"Analysefrequentie"}]
[null,null,null,null,{"$f":"Translations!$B$668","v":"Opvangrendement"},null,null,null,null,null,null,null,null,null,null,null,null,null,null,null,{"$f":"U418","v":""},0,{"$f":"IF($L$6=EUconst_NotRelevant,TRUE,IF(V424>0,(V424<>U424),IF(U424=\"\",TRUE,FALSE)))","v":true}]
[]
[null,null,null,{"$f":"Translations!$B$44","v":"Opmerkingen"}]
[null,null,null,"(t)",{"$f":"Translations!$B$546","v":"Opmerkingen:"}]
[]
[null,null,null,null,null,null,null,null,null,null,null,null,null,null,null,null,null,null,null,null,{"$f":"U424","v":""},0,{"$f":"IF($L$6=EUconst_NotRelevant,TRUE,IF(V429>0,(V429<>U429),IF(U429=\"\",TRUE,FALSE)))","v":true}]
[null,null,null,null,null,null,null,null,null,null,null,null,null,null,null,null,null,null,null,null,{"$f":"U429","v":""},0,{"$f":"IF($L$6=EUconst_NotRelevant,TRUE,IF(V430>0,(V430<>U430),IF(U430=\"\",TRUE,FALSE)))","v":true}]
[null,null,null,null,null,null,null,null,null,null,null,null,null,null,null,null,null,null,null,null,{"$f":"U430","v":""},0,{"$f":"IF($L$6=EUconst_NotRelevant,TRUE,IF(V431>0,(V431<>U431),IF(U431=\"\",TRUE,FALSE)))","v":true}]
[]
[null,null,null,"(u)",{"$f":"Translations!$B$548","v":"U dient een verklaring te geven als de vereiste niveaus niet worden toegepast:"}]
[]
[null,null,null,null,null,null,null,null,null,null,null,null,null,null,null,null,null,null,null,null,{"$f":"U431","v":""},0,{"$f":"IF($L$6=EUconst_NotRelevant,TRUE,IF(V435>0,(V435<>U435),IF(U435=\"\",TRUE,FALSE)))","v":true}]
[null,null,null,null,null,null,null,null,null,null,null,null,null,null,null,null,null,null,null,null,{"$f":"U435","v":""},0,{"$f":"IF($L$6=EUconst_NotRelevant,TRUE,IF(V436>0,(V436<>U436),IF(U436=\"\",TRUE,FALSE)))","v":true}]
[null,null,null,null,null,null,null,null,null,null,null,null,null,null,null,null,null,null,null,null,{"$f":"U436","v":""},0,{"$f":"IF($L$6=EUconst_NotRelevant,TRUE,IF(V437>0,(V437<>U437),IF(U437=\"\",TRUE,FALSE)))","v":true}]
[]
["ADD_CompleteAluSourceStream"]
[]
[null,null,16,{"$f":"Translations!$B$31","v":"Beheer van en schriftelijke procedures voor PFK-monitoring"}]
[]
[null,null,null,"(a)",{"$f":"Translations!$B$670","v":"Indien een emissiefactor van niveau 2 wordt toegepast, verschaft u informatie over de schriftelijke procedure voor het bepalen van het tijdschema voor overeenkomstig bijlage IV, punt 8, bij de MRV te verrichten herhaalde metingen (emissiefactoren en opvangrendement)."}]
[]
[null,null,null,null,{"$f":"Translations!$B$405","v":"Procedurenaam"}]
[null,null,null,null,{"$f":"Translations!$B$407","v":"Verwijzing naar de procedure"}]
[null,null,null,null,{"$f":"Translations!$B$409","v":"Verwijzing naar een diagram (indien van toepassing)"}]
[null,null,null,null,{"$f":"Translations!$B$411","v":"Korte procedurebeschrijving"}]
[]
[]
[null,null,null,null,{"$f":"Translations!$B$414","v":"Functie of afdeling die verantwoordelijk is voor de procedure en voor gegenereerde gegevens"}]
[null,null,null,null,{"$f":"Translations!$B$416","v":"Plaats waar de administratie wordt bewaard"}]
[null,null,null,null,{"$f":"Translations!$B$418","v":"Naam van het gebruikte IT-systeem (indien van toepassing)."}]
[null,null,null,null,{"$f":"Translations!$B$420","v":"Een lijst van EN-normen of andere toegepaste normen, indien van toepassing."}]
[]
[null,null,null,"(b)",{"$f":"Translations!$B$671","v":"Indien een emissiefactor van niveau 2 wordt toegepast, verschaft u informatie over de schriftelijke procedure waarmee de installatiespecifieke emissiefactoren voor CF4 en C2F6 worden bepaald. "}]
[null,null,null,null,{"$f":"Translations!$B$672","v":"Opmerking: uit de procedure moet tevens blijken dat de metingen zijn en zullen worden verricht gedurende een periode die lang genoeg is opdat de gemeten waarden zouden convergeren, en ten minste gedurende 72 uur."}]
[]
[null,null,null,null,{"$f":"Translations!$B$405","v":"Procedurenaam"}]
[null,null,null,null,{"$f":"Translations!$B$407","v":"Verwijzing naar de procedure"}]
[null,null,null,null,{"$f":"Translations!$B$409","v":"Verwijzing naar een diagram (indien van toepassing)"}]
[null,null,null,null,{"$f":"Translations!$B$411","v":"Korte procedurebeschrijving"}]
[]
[]
[null,null,null,null,{"$f":"Translations!$B$414","v":"Functie of afdeling die verantwoordelijk is voor de procedure en voor gegenereerde gegevens"}]
[null,null,null,null,{"$f":"Translations!$B$416","v":"Plaats waar de administratie wordt bewaard"}]
[null,null,null,null,{"$f":"Translations!$B$418","v":"Naam van het gebruikte IT-systeem (indien van toepassing)."}]
[null,null,null,null,{"$f":"Translations!$B$420","v":"Een lijst van EN-normen of andere toegepaste normen, indien van toepassing."}]
[]
[null,null,null,"(c)",{"$f":"Translations!$B$673","v":"Verschaf informatie over de schriftelijke procedure betreffende de methode voor het bepalen van het opvangrendement voor diffuse emissies, indien van toepassing."}]
[]
[null,null,null,null,{"$f":"Translations!$B$405","v":"Procedurenaam"}]
[null,null,null,null,{"$f":"Translations!$B$407","v":"Verwijzing naar de procedure"}]
[null,null,null,null,{"$f":"Translations!$B$409","v":"Verwijzing naar een diagram (indien van toepassing)"}]
[null,null,null,null,{"$f":"Translations!$B$411","v":"Korte procedurebeschrijving"}]
[]
[]
[null,null,null,null,{"$f":"Translations!$B$414","v":"Functie of afdeling die verantwoordelijk is voor de procedure en voor gegenereerde gegevens"}]
[null,null,null,null,{"$f":"Translations!$B$416","v":"Plaats waar de administratie wordt bewaard"}]
[null,null,null,null,{"$f":"Translations!$B$418","v":"Naam van het gebruikte IT-systeem (indien van toepassing)."}]
[null,null,null,null,{"$f":"Translations!$B$420","v":"Een lijst van EN-normen of andere toegepaste normen, indien van toepassing."}]
["ausblenden"]
["ausblenden",null,null,null,{"$f":"Translations!$B$1150","v":"Bijkomende procedure toegevoegd door de exploitant"}]
["ausblenden"]
["ausblenden",null,null,null,{"$f":"Translations!$B$405","v":"Procedurenaam"}]
["ausblenden",null,null,null,{"$f":"Translations!$B$407","v":"Verwijzing naar de procedure"}]
["ausblenden",null,null,null,{"$f":"Translations!$B$409","v":"Verwijzing naar een diagram (indien van toepassing)"}]
["ausblenden",null,null,null,{"$f":"Translations!$B$411","v":"Korte procedurebeschrijving"}]
["ausblenden"]
["ausblenden"]
["ausblenden",null,null,null,{"$f":"Translations!$B$414","v":"Functie of afdeling die verantwoordelijk is voor de procedure en voor gegenereerde gegevens"}]
["ausblenden",null,null,null,{"$f":"Translations!$B$416","v":"Plaats waar de administratie wordt bewaard"}]
["ausblenden",null,null,null,{"$f":"Translations!$B$418","v":"Naam van het gebruikte IT-systeem (indien van toepassing)."}]
["ausblenden",null,null,null,{"$f":"Translations!$B$420","v":"Een lijst van EN-normen of andere toegepaste normen, indien van toepassing."}]
["ADD_Procedure"]
[null,null,null,null,null,null,{"$f":"Translations!$B$429","v":"Klik op \"+\" om meer procedures toe te voegen"}]
[]
[]
[]
[null,null,null,null,null,{"$f":"EUconst_MsgNextSheet","v":"<<< Klik hier om naar het volgende werkblad te gaan >>> "}]

{"sheet":"J_Transferred GHG","index":11,"n_rows":239,"n_cols":16,"rows_kept":239,"cut":false,"hidden":false,"merged":[[228,6,228,13],[229,4,229,5],[229,6,229,13],[234,6,236,10],[230,4,230,5],[230,6,230,13],[231,4,231,5],[231,6,231,13],[232,4,232,5],[232,6,232,13],[225,4,225,5],[225,6,225,13],[227,6,227,13],[226,4,226,5],[226,6,226,13],[221,4,221,13],[223,4,223,5],[223,6,223,13],[224,6,224,13],[224,4,224,5],[211,6,211,13],[210,6,210,13],[198,4,198,5],[198,6,198,13],[219,4,219,5],[219,6,219,13],[216,4,216,5],[216,6,216,13],[217,4,217,5],[217,6,217,13],[214,6,214,13],[205,6,205,13],[218,4,218,5],[218,6,218,13],[215,6,215,13],[212,6,212,13],[213,4,213,5],[213,6,213,13],[205,4,205,5],[206,4,206,5],[211,4,211,5],[212,4,212,5],[201,6,201,13],[202,6,202,13],[199,4,199,5],[200,6,200,13],[199,6,199,13],[200,4,200,5],[210,4,210,5],[203,4,203,5],[206,6,206,13],[204,4,204,5],[204,6,204,13],[208,4,208,13],[203,6,203,13],[178,3,178,13],[179,3,179,13],[180,3,180,13],[185,4,185,5],[197,6,197,13],[191,6,191,13],[192,4,192,5],[191,4,191,5],[190,4,190,5],[184,4,184,5],[193,4,193,5],[186,4,186,5],[190,6,190,13],[189,6,189,13],[193,6,193,13],[188,6,188,13],[187,4,187,5],[187,6,187,13],[192,6,192,13],[186,6,186,13],[185,6,185,13],[195,4,195,13],[197,4,197,5],[60,7,62,11],[81,12,81,13],[76,4,76,5],[82,4,82,13],[79,3,79,13],[67,6,67,13],[65,4,65,13],[76,6,76,13],[68,6,68,13],[69,6,69,13],[70,4,70,5],[15,4,15,13],[16,4,16,13],[17,4,17,13],[18,4,18,13],[21,4,21,13],[22,4,22,13],[47,5,47,13],[48,5,48,13],[57,5,57,6],[57,7,57,8],[57,10,57,11],[57,12,57,13],[56,12,56,13],[56,5,56,6],[56,7,56,8],[56,10,56,11],[44,5,44,13],[52,7,52,8],[19,4,19,13],[55,10,55,11],[53,10,53,11],[29,4,29,13],[30,4,30,13],[27,4,27,13],[24,4,24,13],[36,4,36,13],[40,4,40,13],[42,4,42,13],[45,5,45,13],[91,12,91,13],[74,6,74,13],[53,5,53,6],[55,5,55,6],[55,12,55,13],[54,12,54,13],[52,10,52,11],[53,7,53,8],[91,5,91,6],[88,4,88,13],[54,5,54,6],[54,7,54,8],[54,10,54,11],[31,4,31,13],[55,7,55,8],[84,10,84,13],[70,6,70,13],[73,4,73,5],[75,6,75,13],[9,3,9,13],[11,3,11,13],[12,3,12,13],[13,3,13,13],[25,4,25,13],[84,4,84,9],[26,4,26,13],[95,5,95,6],[92,12,92,13],[37,4,37,13],[46,5,46,13],[35,4,35,13],[85,4,85,13],[87,4,87,13],[91,7,91,11],[92,5,92,6],[92,7,92,11],[90,12,90,13],[53,12,53,13],[67,4,67,5],[74,4,74,5],[75,4,75,5],[68,4,68,5],[23,4,23,13],[94,5,94,6],[96,12,96,13],[28,4,28,13],[113,4,113,5],[98,7,98,11],[49,4,49,13],[38,4,38,13],[93,7,93,11],[95,7,95,11],[69,4,69,5],[90,7,90,11],[52,12,52,13],[39,4,39,13],[52,5,52,6],[32,4,32,13],[33,4,33,13],[43,4,43,13],[50,4,50,13],[34,4,34,13],[58,12,58,13],[58,10,58,11],[58,5,58,6],[58,7,58,8],[71,6,71,13],[96,5,96,6],[98,12,98,13],[119,6,119,13],[120,6,120,13],[95,12,95,13],[126,4,126,5],[110,4,110,13],[123,4,123,13],[97,12,97,13],[112,6,112,13],[113,6,113,13],[100,7,100,11],[101,12,101,13],[101,5,101,6],[143,6,143,13],[144,4,144,5],[99,12,99,13],[152,4,152,5],[172,4,172,5],[165,6,165,13],[171,6,171,13],[118,4,118,5],[118,6,118,13],[125,4,125,5],[99,5,99,6],[107,9,107,13],[99,7,99,11],[101,7,101,11],[100,5,100,6],[100,12,100,13],[141,4,141,5],[119,4,119,5],[131,4,131,5],[129,6,129,13],[133,4,133,5],[133,6,133,13],[140,4,140,5],[125,6,125,13],[145,4,145,5],[145,6,145,13],[151,6,151,13],[146,6,146,13],[149,4,149,13],[151,4,151,5],[154,4,154,5],[176,3,176,13],[184,6,184,13],[182,4,182,13],[173,6,173,13],[153,4,153,5],[158,4,158,5],[160,4,160,5],[171,4,171,5],[170,4,170,5],[172,6,172,13],[168,6,168,13],[169,6,169,13],[170,6,170,13],[173,4,173,5],[156,6,156,13],[155,6,155,13],[153,6,153,13],[164,6,164,13],[162,4,162,13],[160,6,160,13],[166,4,166,5],[157,6,157,13],[158,6,158,13],[159,6,159,13],[165,4,165,5],[164,4,164,5],[159,4,159,5],[1,6,1,7],[1,8,1,9],[5,2,5,10],[5,11,5,13],[2,4,2,5],[138,6,138,13],[139,6,139,13],[134,4,134,5],[134,6,134,13],[1,1,3,3],[3,4,3,5],[1,10,1,11],[1,12,1,13],[2,12,2,13],[1,4,1,5],[2,6,2,7],[136,4,136,13],[138,4,138,5],[139,4,139,5],[128,6,128,13],[130,6,130,13],[132,4,132,5],[132,6,132,13],[115,4,115,5],[2,8,2,9],[3,10,3,11],[3,12,3,13],[3,6,3,7],[2,10,2,11],[3,8,3,9],[127,4,127,5],[117,6,117,13],[114,6,114,13],[72,6,72,13],[115,6,115,13],[127,6,127,13],[94,7,94,11],[93,5,93,6],[116,6,116,13],[126,6,126,13],[93,12,93,13],[120,4,120,5],[121,4,121,5],[121,6,121,13],[98,5,98,6],[97,5,97,6],[96,7,96,11],[97,7,97,11],[238,5,238,11],[7,10,7,13],[107,4,107,8],[112,4,112,5],[114,4,114,5],[108,4,108,13],[103,7,105,11],[94,12,94,13],[73,6,73,13],[152,6,152,13],[142,6,142,13],[144,6,144,13],[147,4,147,5],[147,6,147,13],[146,4,146,5],[140,6,140,13],[141,6,141,13],[128,4,128,5],[131,6,131,13],[166,6,166,13],[167,4,167,5],[167,6,167,13],[157,4,157,5],[154,6,154,13]]}
["ausblenden",null,null,null,null,null,null,null,null,null,null,null,null,null,null,"ausblenden"]
[null,{"$f":"Translations!$B$674","v":"J. Transferred CO2 & CCS"},null,null,{"$f":"Translations!$B$59","v":"Navigatiezone:"},null,{"$f":"Translations!$B$60","v":"Inhoudsopgave"},null,{"$f":"Translations!$B$61","v":"Vorig werkblad"},null,{"$f":"Translations!$B$62","v":"Volgend werkblad"}]
[null,null,null,null,{"$f":"Translations!$B$63","v":"Begin werkblad"}]
[null,null,null,null,{"$f":"Translations!$B$64","v":"Einde werkblad"}]
[]
[null,null,{"$f":"Translations!$B$1204","v":"J. Bepaling van overgebracht of inherent CO2 en overgebracht N2O"},null,null,null,null,null,null,null,null,{"$f":"IF(AND(NOT(ISBLANK(CNTR_InstHasTransferredCO2)), CNTR_InstHasTransferredCO2=FALSE),EUconst_NotRelevant,EUconst_Relevant)","v":"relevant"}]
[]
[null,null,null,null,null,null,null,null,null,null,{"$f":"IF(L6=EUconst_NotRelevant,HYPERLINK(\"#JUMP_K_Top\",EUconst_MsgNextSheet),HYPERLINK(\"\",EUconst_MsgEnterThisSection))","v":"U wordt verzocht bij dit punt gegevens in te voeren"}]
[]
[null,null,17,{"$f":"Translations!$B$1205","v":"Bepaling van inherent en overgebracht CO2 en N2O"}]
[]
[null,null,null,{"$f":"Translations!$B$1206","v":"Opmerking: dit punt moet worden ingevuld wanneer de overbrenging van inherent CO2 dat deel uitmaakt van een bronstroom overeenkomstig artikel 48, MRV, of de overbrenging van CO2 of N2O, overeenkomstig respectievelijk de artikelen 49 en 50, MRV, wordt uitgevoerd."}]
[null,null,null,{"$f":"Translations!$B$676","v":"Op dit blad verschaft u voorts informatie wanneer er sprake is van activiteiten op het gebied van de afvang, het transport via pijpleidingen of de geologische opslag van CO2 die vallen onder bijlage I bij de EU-ETS-richtlijn."}]
[null,null,null,{"$f":"Translations!$B$677","v":"Informatie betreffende de meetpunten en -instrumenten vult u in op blad F_MeasurementBasedApproaches."}]
[]
[null,null,null,"(a)",{"$f":"Translations!$B$1207","v":"Geef een gedetailleerde beschrijving van de monitoringmethode die gebruikt is bij het bepalen van inherent of overgebracht CO2 of N2O."}]
[null,null,null,null,{"$f":"Translations!$B$1208","v":"Geef in onderstaand tekstvak een beknopte beschrijving van de monitoringmethode, inclusief formules, die gebruikt wordt om de jaarlijkse CO2-, N2O- of CO2(e)-emissies te bepalen."}]
[null,null,null,null,{"$f":"Translations!$B$1209","v":"U moet met name ingaan op de toe te voegen hoeveelheden CO2 en N2O die door overbrenging zijn verkregen en de af te trekken CO2(e) die uit de installatie is overgebracht, indien van toepassing. Zorg ervoor dat de berekening in overeenstemming is met de artikelen 48, 49 en 50, MRV."}]
[null,null,null,null,{"$f":"Translations!$B$680","v":"Als de beschrijving te complex is, bijvoorbeeld als er complexe formules worden gebruikt of er een diagram nodig is om de beschrijving te verduidelijken, mag u de beschrijving aanleveren in een afzonderlijk document met een door de bevoegde autoriteit geaccepteerd formaat. Noem in dat geval hier de bestandsnaam en -datum."}]
[null,null,null,null,{"$f":"Translations!$B$195","v":"Deze beschrijving dient de verbindende informatie te bevatten die nodig is om te begrijpen hoe alle informatie die elders in dit sjabloon is ingevoerd, gebruikt wordt bij de emissieberekening. De beschrijving mag zo kort zijn als het voorbeeld bij punt 7a op het werkblad D_CalculationBasedApproaches."}]
[]
[]
[]
[]
[]
[]
[]
[]
[]
[]
[]
[]
[]
[]
[]
[]
[]
[]
[]
[]
[]
[]
[null,null,null,"(b)",{"$f":"Translations!$B$681","v":"Verschaf informatie over de ontvangende en overdragende installaties"}]
[null,null,null,null,{"$f":"Translations!$B$1210","v":"Verstrek voor elke installatie (of andere eenheid) waarvan of waarnaar u inherent of overgebracht CO2(e) ontvangt of overbrengt, de volgende informatie:"}]
[null,null,null,null,{"$f":"Translations!$B$683","v":"Naam van de installatie"},{"$f":"Translations!$B$1211","v":"Geef hier de naam van de installatie of de niet-ETS-eenheid waarvan of waarnaar CO2(e) wordt overgebracht. Gebruik indien mogelijk dezelfde naam die de bevoegde autoriteit en het register gebruiken."}]
[null,null,null,null,{"$f":"Translations!$B$156","v":"Naam van de exploitant"},{"$f":"Translations!$B$685","v":"De naam van de exploitant van de installatie of de niet-ETS-eenheid."}]
[null,null,null,null,{"$f":"Translations!$B$686","v":"Uniek identificatienummer"},{"$f":"Translations!$B$687","v":"Vermeld voor EU-ETS-installaties het unieke identificatienummer dat in het register wordt gebruikt. In geval van twijfel over het identificatienummer neemt u contact op met de bevoegde autoriteit."}]
[null,null,null,null,{"$f":"Translations!$B$688","v":"Type overdracht"},{"$f":"Translations!$B$1212","v":"Geef in de vervolgkeuzelijst aan of er sprake is van overbrenging van of naar een installatie of niet-ETS-eenheid en of er sprake is van inherent CO2 (artikel 48) of overgebracht CO2 (artikel 49) of N2O (artikel 50) zoals gedefinieerd in de MRV."}]
[null,null,null,null,{"$f":"Translations!$B$690","v":"Meetmethode"},{"$f":"Translations!$B$691","v":"Overeenkomstig artikel 48, lid 3, kunt u het overgedragen of inherent CO2 bepalen via uw eigen instrumenten, middels de metingen die in de andere installatie worden verricht, of door het gemiddelde van beide gemeten waarden te nemen. Geef hier aan welke methode u hebt gebruikt."}]
[]
[null,null,null,null,{"$f":"Translations!$B$692","v":"Opmerking: Informatie over de continue meting, de meetpunten en -instrumenten voert u in op het werkblad F_MeasurementBasedApproaches."}]
[]
[null,null,null,null,{"$f":"Translations!$B$693","v":"Overdrachtsreferentie"},{"$f":"Translations!$B$694","v":"Naam van de installatie"},null,{"$f":"Translations!$B$156","v":"Naam van de exploitant"},null,{"$f":"Translations!$B$695","v":"Uniek identificatienr van de installatie"},{"$f":"Translations!$B$688","v":"Type overdracht"},null,{"$f":"Translations!$B$690","v":"Meetmethode"}]
[null,null,null,null,"TR1"]
[null,null,null,null,"TR2"]
[null,null,null,null,"TR3"]
[null,null,null,null,"TR4"]
[null,null,null,null,"TR5"]
["ausblenden"]
["ADD_TransferCO2Installations"]
[null,null,null,null,null,null,null,{"$f":"Translations!$B$696","v":"Klik op \"+\" om meer installaties toe te voegen"}]
[]
[]
[]
[]
[null,null,null,"(c)",{"$f":"Translations!$B$697","v":"Indien een deel van het overgedragen CO2 afkomstig is uit biomassa, of indien een installatie maar ten dele onder de EU-ETS-richtlijn valt, verschaft u informatie over de schriftelijke procedure voor het aftrekken van de hoeveelheid overgedragen CO2 die niet afkomstig is uit de onder de EU-ETS-richtlijn vallende fossielekoolstofactiviteiten."}]
[]
[null,null,null,null,{"$f":"Translations!$B$405","v":"Procedurenaam"}]
[null,null,null,null,{"$f":"Translations!$B$407","v":"Verwijzing naar de procedure"}]
[null,null,null,null,{"$f":"Translations!$B$409","v":"Verwijzing naar een diagram (indien van toepassing)"}]
[null,null,null,null,{"$f":"Translations!$B$411","v":"Korte procedurebeschrijving"}]
[]
[]
[null,null,null,null,{"$f":"Translations!$B$414","v":"Functie of afdeling die verantwoordelijk is voor de procedure en voor gegenereerde gegevens"}]
[null,null,null,null,{"$f":"Translations!$B$416","v":"Plaats waar de administratie wordt bewaard"}]
[null,null,null,null,{"$f":"Translations!$B$418","v":"Naam van het gebruikte IT-systeem (indien van toepassing)."}]
[null,null,null,null,{"$f":"Translations!$B$420","v":"Een lijst van EN-normen of andere toegepaste normen, indien van toepassing."}]
[]
[]
[null,null,18,{"$f":"Translations!$B$1213","v":"Informatie betreffende pijpleidingsystemen waarmee CO2 en N2O worden getransporteerd"}]
[null,null,null,null,null,null,null,null,null,null,null,null,null,null,null,"CNTR_PipelineApproach"]
[null,null,null,"(a)",{"$f":"Translations!$B$698","v":"Geef aan welke monitoringmethode is geselecteerd voor uw transportnetwerk:"},null,null,null,null,null,null,null,null,null,null,{"$f":"IF(ISBLANK(M82),\"\",MATCH(M82,EUconst_PipelineApproaches,0))","v":""}]
[null,null,null,null,{"$f":"Translations!$B$1214","v":"Overeenkomstig bijlage IV, punt 22.B, bij MRV, mag u uit beide methoden kiezen. Methode A betreft een meting van de massabalans van al het CO2 en N2O dat het netwerk binnenkomt en verlaat, terwijl methode B de bepaling betreft van diffuse en afgeblazen emissies, lekken en de emissies van de installatie."}]
[]
[null,null,null,"(b)",{"$f":"Translations!$B$700","v":"Verwijs indien van toepassing naar de onzekerheidsanalyse:"}]
[null,null,null,null,{"$f":"Translations!$B$701","v":"Als u hebt gekozen voor methode B moet u aantonen dat de totale onzekerheid voor de emissies vanuit het gehele transportnetwerk niet hoger ligt dan 7,5% en dat methode B betrouwbaardere resultaten oplevert. Indien van toepassing verwijst u hier naar het aangehechte document."}]
[]
[null,null,null,"(c)",{"$f":"Translations!$B$702","v":"Beschrijf indien van toepassing de apparatuur voor het meten van de temperatuur en de druk in het transportnetwerk."}]
[null,null,null,null,{"$f":"Translations!$B$703","v":"Geef overeenkomstig bijlage IV, punt 22, bij de MRV een overzicht van alle apparatuur waarmee u de temperatuur en druk in het transportnetwerk meet bij het vaststellen van de emissies uit lekken."}]
[]
[null,null,null,null,{"$f":"Translations!$B$704","v":"Referentie"},{"$f":"Translations!$B$705","v":"Locatie"},null,{"$f":"Translations!$B$706","v":"Type meetinstrument"},null,null,null,null,{"$f":"Translations!$B$707","v":"Instrumentreferentie"}]
[null,null,null,null,"ND1"]
[null,null,null,null,"ND2"]
[null,null,null,null,"ND3"]
[null,null,null,null,"ND4"]
[null,null,null,null,"ND5"]
[null,null,null,null,"ND6"]
[null,null,null,null,"ND7"]
[null,null,null,null,"ND8"]
[null,null,null,null,"ND9"]
[null,null,null,null,"ND10"]
["ausblenden"]
["ADD_PipelineDevice"]
[null,null,null,null,null,null,null,{"$f":"Translations!$B$708","v":"Klik op \"+\" om meer meetinstrumenten toe te voegen"}]
[]
[]
[]
[null,null,null,"(d)",{"$f":"Translations!$B$709","v":"Verwijzing naar de meer gedetailleerde beschrijving, indien van toepassing:"}]
[null,null,null,null,{"$f":"Translations!$B$710","v":"Waar nodig kunt u de lijst bij punt c en een meer gedetailleerde beschrijving opsturen in een afzonderlijk document met een door de bevoegde autoriteit geaccepteerd formaat. Noem in dat geval hier de bestandsnaam en -datum."}]
[]
[null,null,null,"(e)",{"$f":"Translations!$B$711","v":"Geef indien van toepassing informatie over de schriftelijke procedures voor de preventie, de opsporing en de kwantificatie van lekken in transportnetwerken."}]
[]
[null,null,null,null,{"$f":"Translations!$B$405","v":"Procedurenaam"}]
[null,null,null,null,{"$f":"Translations!$B$407","v":"Verwijzing naar de procedure"}]
[null,null,null,null,{"$f":"Translations!$B$409","v":"Verwijzing naar een diagram (indien van toepassing)"}]
[null,null,null,null,{"$f":"Translations!$B$411","v":"Korte procedurebeschrijving"}]
[]
[]
[null,null,null,null,{"$f":"Translations!$B$414","v":"Functie of afdeling die verantwoordelijk is voor de procedure en voor gegenereerde gegevens"}]
[null,null,null,null,{"$f":"Translations!$B$416","v":"Plaats waar de administratie wordt bewaard"}]
[null,null,null,null,{"$f":"Translations!$B$418","v":"Naam van het gebruikte IT-systeem (indien van toepassing)."}]
[null,null,null,null,{"$f":"Translations!$B$420","v":"Een lijst van EN-normen of andere toegepaste normen, indien van toepassing."}]
[]
[null,null,null,"(f)",{"$f":"Translations!$B$1215","v":"Verstrek bij transportnetwerken informatie over de schriftelijke procedures die waarborgen dat CO2(e) uitsluitend wordt overgebracht naar installaties die beschikken over een geldige broeikasgasemissievergunning, of waar CO2- of N2O-emissies daadwerkelijk worden gemonitord en in rekening worden gebracht overeenkomstig de artikelen 49 en 50."}]
[]
[null,null,null,null,{"$f":"Translations!$B$405","v":"Procedurenaam"}]
[null,null,null,null,{"$f":"Translations!$B$407","v":"Verwijzing naar de procedure"}]
[null,null,null,null,{"$f":"Translations!$B$409","v":"Verwijzing naar een diagram (indien van toepassing)"}]
[null,null,null,null,{"$f":"Translations!$B$411","v":"Korte procedurebeschrijving"}]
[]
[]
[null,null,null,null,{"$f":"Translations!$B$414","v":"Functie of afdeling die verantwoordelijk is voor de procedure en voor gegenereerde gegevens"}]
[null,null,null,null,{"$f":"Translations!$B$416","v":"Plaats waar de administratie wordt bewaard"}]
[null,null,null,null,{"$f":"Translations!$B$418","v":"Naam van het gebruikte IT-systeem (indien van toepassing)."}]
[null,null,null,null,{"$f":"Translations!$B$420","v":"Een lijst van EN-normen of andere toegepaste normen, indien van toepassing."}]
[]
[null,null,null,"(g)",{"$f":"Translations!$B$713","v":"Als u methode B toepast op pijpleidingsystemen, beschrijf dan hier de procedure die u hanteert om ten minste eenmaal per jaar de resultaten van methode B met behulp van methode A te valideren:"}]
[]
[null,null,null,null,{"$f":"Translations!$B$405","v":"Procedurenaam"}]
[null,null,null,null,{"$f":"Translations!$B$407","v":"Verwijzing naar de procedure"}]
[null,null,null,null,{"$f":"Translations!$B$409","v":"Verwijzing naar een diagram (indien van toepassing)"}]
[null,null,null,null,{"$f":"Translations!$B$411","v":"Korte procedurebeschrijving"}]
[]
[]
[null,null,null,null,{"$f":"Translations!$B$414","v":"Functie of afdeling die verantwoordelijk is voor de procedure en voor gegenereerde gegevens"}]
[null,null,null,null,{"$f":"Translations!$B$416","v":"Plaats waar de administratie wordt bewaard"}]
[null,null,null,null,{"$f":"Translations!$B$418","v":"Naam van het gebruikte IT-systeem (indien van toepassing)."}]
[null,null,null,null,{"$f":"Translations!$B$420","v":"Een lijst van EN-normen of andere toegepaste normen, indien van toepassing."}]
[]
[null,null,null,"(h)",{"$f":"Translations!$B$714","v":"Als u methode B toepast beschrijft u hier de procedure die u hanteert voor het vaststellen van diffuse emissies:"}]
[]
[null,null,null,null,{"$f":"Translations!$B$405","v":"Procedurenaam"}]
[null,null,null,null,{"$f":"Translations!$B$407","v":"Verwijzing naar de procedure"}]
[null,null,null,null,{"$f":"Translations!$B$409","v":"Verwijzing naar een diagram (indien van toepassing)"}]
[null,null,null,null,{"$f":"Translations!$B$411","v":"Korte procedurebeschrijving"}]
[]
[]
[null,null,null,null,{"$f":"Translations!$B$414","v":"Functie of afdeling die verantwoordelijk is voor de procedure en voor gegenereerde gegevens"}]
[null,null,null,null,{"$f":"Translations!$B$416","v":"Plaats waar de administratie wordt bewaard"}]
[null,null,null,null,{"$f":"Translations!$B$418","v":"Naam van het gebruikte IT-systeem (indien van toepassing)."}]
[null,null,null,null,{"$f":"Translations!$B$420","v":"Een lijst van EN-normen of andere toegepaste normen, indien van toepassing."}]
[]
[null,null,null,"(i)",{"$f":"Translations!$B$715","v":"Als u methode B toepast beschrijft u hier de procedure die u hanteert voor het vaststellen van afgeblazen emissies:"}]
[]
[null,null,null,null,{"$f":"Translations!$B$405","v":"Procedurenaam"}]
[null,null,null,null,{"$f":"Translations!$B$407","v":"Verwijzing naar de procedure"}]
[null,null,null,null,{"$f":"Translations!$B$409","v":"Verwijzing naar een diagram (indien van toepassing)"}]
[null,null,null,null,{"$f":"Translations!$B$411","v":"Korte procedurebeschrijving"}]
[]
[]
[null,null,null,null,{"$f":"Translations!$B$414","v":"Functie of afdeling die verantwoordelijk is voor de procedure en voor gegenereerde gegevens"}]
[null,null,null,null,{"$f":"Translations!$B$416","v":"Plaats waar de administratie wordt bewaard"}]
[null,null,null,null,{"$f":"Translations!$B$418","v":"Naam van het gebruikte IT-systeem (indien van toepassing)."}]
[null,null,null,null,{"$f":"Translations!$B$420","v":"Een lijst van EN-normen of andere toegepaste normen, indien van toepassing."}]
[]
[]
[null,null,19,{"$f":"Translations!$B$35","v":"Informatie betreffende installaties voor de geologische opslag van CO2"}]
[]
[null,null,null,{"$f":"Translations!$B$716","v":"Opmerking: Als er sprake is van geologische opslag van CO2 hoeven enkel wanneer er een lek is ontdekt zowel emissies uit het opslagcomplex als CO2 dat vrijkomt in de waterkolom te worden gemonitord. Als er geen lek is ontdekt hoeft het monitoringplan op dit punt geen afzonderlijke bepalingen te bevatten. "}]
[null,null,null,{"$f":"Translations!$B$717","v":"Het is daarom van groot belang dat er een procedure is om onmiddellijk te reageren als er een lek is ontdekt. In die gevallen moet het monitoringplan onverwijld worden aangepast."}]
[null,null,null,{"$f":"Translations!$B$718","v":"Geef een beschrijving van de procedure voor de regelmatige evaluatie van de geschiktheid van het monitoringplan. Hiertoe gebruikt u punt 19c op het werkblad K_ManagementControl."}]
[]
[null,null,null,"(a)",{"$f":"Translations!$B$719","v":"Indien van toepassing verschaft u informatie over de schriftelijke procedure betreffende methodieken voor de kwantificatie van emissies of in de waterkolom vrijgekomen CO2 ten gevolge van potentiële lekkage, alsmede de toegepaste en eventueel aangepaste methodieken voor de kwantificatie van feitelijke emissies of CO2 vrijgekomen in de waterkolom ten gevolge van lekkage, als gespecificeerd in bijlage IV, punt 23."}]
[]
[null,null,null,null,{"$f":"Translations!$B$405","v":"Procedurenaam"}]
[null,null,null,null,{"$f":"Translations!$B$407","v":"Verwijzing naar de procedure"}]
[null,null,null,null,{"$f":"Translations!$B$409","v":"Verwijzing naar een diagram (indien van toepassing)"}]
[null,null,null,null,{"$f":"Translations!$B$411","v":"Korte procedurebeschrijving"}]
[]
[]
[null,null,null,null,{"$f":"Translations!$B$414","v":"Functie of afdeling die verantwoordelijk is voor de procedure en voor gegenereerde gegevens"}]
[null,null,null,null,{"$f":"Translations!$B$416","v":"Plaats waar de administratie wordt bewaard"}]
[null,null,null,null,{"$f":"Translations!$B$418","v":"Naam van het gebruikte IT-systeem (indien van toepassing)."}]
[null,null,null,null,{"$f":"Translations!$B$420","v":"Een lijst van EN-normen of andere toegepaste normen, indien van toepassing."}]
[]
[null,null,null,"(b)",{"$f":"Translations!$B$720","v":"Beschrijf hier de methode en procedure die u toepast om diffuse of afgeblazen emissies te bepalen, inclusief emissies die bij de tertiaire winning van koolwaterstoffen optreden. Als u geen meetmethoden overeenkomstig de artikelen 41 tot en met 46 hanteert, dient u te motiveren dat er sprake is van onredelijke kosten."}]
[]
[null,null,null,null,{"$f":"Translations!$B$405","v":"Procedurenaam"}]
[null,null,null,null,{"$f":"Translations!$B$407","v":"Verwijzing naar de procedure"}]
[null,null,null,null,{"$f":"Translations!$B$409","v":"Verwijzing naar een diagram (indien van toepassing)"}]
[null,null,null,null,{"$f":"Translations!$B$411","v":"Korte procedurebeschrijving"}]
[]
[]
[null,null,null,null,{"$f":"Translations!$B$414","v":"Functie of afdeling die verantwoordelijk is voor de procedure en voor gegenereerde gegevens"}]
[null,null,null,null,{"$f":"Translations!$B$416","v":"Plaats waar de administratie wordt bewaard"}]
[null,null,null,null,{"$f":"Translations!$B$418","v":"Naam van het gebruikte IT-systeem (indien van toepassing)."}]
[null,null,null,null,{"$f":"Translations!$B$420","v":"Een lijst van EN-normen of andere toegepaste normen, indien van toepassing."}]
[]
[null,null,null,"(c)",{"$f":"Translations!$B$721","v":"Beschrijf hier indien van toepassing de procedure waarmee de onzekerheid van emissies uit lekken wordt bepaald teneinde de omvang van de emissies aan te passen overeenkomstig bijlage IV, punt 23, onder B.3, bij de MRV."}]
[]
[null,null,null,null,{"$f":"Translations!$B$405","v":"Procedurenaam"}]
[null,null,null,null,{"$f":"Translations!$B$407","v":"Verwijzing naar de procedure"}]
[null,null,null,null,{"$f":"Translations!$B$409","v":"Verwijzing naar een diagram (indien van toepassing)"}]
[null,null,null,null,{"$f":"Translations!$B$411","v":"Korte procedurebeschrijving"}]
[]
[]
[null,null,null,null,{"$f":"Translations!$B$414","v":"Functie of afdeling die verantwoordelijk is voor de procedure en voor gegenereerde gegevens"}]
[null,null,null,null,{"$f":"Translations!$B$416","v":"Plaats waar de administratie wordt bewaard"}]
[null,null,null,null,{"$f":"Translations!$B$418","v":"Naam van het gebruikte IT-systeem (indien van toepassing)."}]
[null,null,null,null,{"$f":"Translations!$B$420","v":"Een lijst van EN-normen of andere toegepaste normen, indien van toepassing."}]
["ausblenden"]
["ausblenden",null,null,null,{"$f":"Translations!$B$1150","v":"Bijkomende procedure toegevoegd door de exploitant"}]
["ausblenden"]
["ausblenden",null,null,null,{"$f":"Translations!$B$405","v":"Procedurenaam"}]
["ausblenden",null,null,null,{"$f":"Translations!$B$407","v":"Verwijzing naar de procedure"}]
["ausblenden",null,null,null,{"$f":"Translations!$B$409","v":"Verwijzing naar een diagram (indien van toepassing)"}]
["ausblenden",null,null,null,{"$f":"Translations!$B$411","v":"Korte procedurebeschrijving"}]
["ausblenden"]
["ausblenden"]
["ausblenden",null,null,null,{"$f":"Translations!$B$414","v":"Functie of afdeling die verantwoordelijk is voor de procedure en voor gegenereerde gegevens"}]
["ausblenden",null,null,null,{"$f":"Translations!$B$416","v":"Plaats waar de administratie wordt bewaard"}]
["ausblenden",null,null,null,{"$f":"Translations!$B$418","v":"Naam van het gebruikte IT-systeem (indien van toepassing)."}]
["ausblenden",null,null,null,{"$f":"Translations!$B$420","v":"Een lijst van EN-normen of andere toegepaste normen, indien van toepassing."}]
["ADD_Procedure"]
[null,null,null,null,null,null,{"$f":"Translations!$B$429","v":"Klik op \"+\" om meer procedures toe te voegen"}]
[]
[]
[]
[null,null,null,null,null,{"$f":"EUconst_MsgNextSheet","v":"<<< Klik hier om naar het volgende werkblad te gaan >>> "}]

{"sheet":"K_ManagementControl","index":12,"n_rows":285,"n_cols":17,"rows_kept":285,"cut":false,"hidden":false,"merged":[[278,4,278,5],[278,6,278,13],[280,6,282,10],[5,11,5,13],[7,10,7,13],[7,2,7,9],[267,4,267,13],[276,4,276,5],[276,6,276,13],[277,4,277,5],[272,4,272,5],[272,6,272,13],[277,6,277,13],[273,6,273,13],[274,6,274,13],[275,4,275,5],[275,6,275,13],[269,6,269,13],[261,6,261,13],[262,6,262,13],[262,4,262,5],[271,4,271,5],[271,6,271,13],[261,4,261,5],[270,4,270,5],[270,6,270,13],[259,4,259,5],[259,6,259,13],[264,3,264,13],[269,4,269,5],[221,4,221,13],[244,6,244,13],[252,4,252,5],[249,4,249,13],[241,6,241,13],[250,4,250,13],[239,6,239,13],[238,4,238,5],[239,4,239,5],[260,6,260,13],[258,4,258,5],[242,6,242,13],[260,4,260,5],[254,4,254,5],[254,6,254,13],[257,4,257,5],[257,6,257,13],[256,4,256,5],[232,4,232,13],[227,4,227,13],[234,4,234,5],[234,6,234,13],[246,3,246,13],[248,4,248,13],[256,6,256,13],[203,4,203,5],[237,4,237,5],[222,4,222,8],[224,4,224,13],[240,4,240,5],[240,6,240,13],[204,6,204,13],[241,4,241,5],[204,4,204,5],[230,3,230,13],[220,4,220,13],[212,4,214,5],[212,6,212,13],[213,6,213,13],[214,6,214,13],[218,4,218,5],[218,6,218,13],[209,4,209,5],[209,6,209,13],[210,4,210,5],[210,6,210,13],[211,4,211,5],[211,6,211,13],[258,6,258,13],[225,4,225,8],[243,4,243,5],[244,4,244,5],[243,6,243,13],[252,6,252,13],[253,4,253,5],[255,6,255,13],[238,6,238,13],[237,6,237,13],[235,6,235,13],[255,4,255,5],[253,6,253,13],[235,4,235,5],[236,4,236,5],[242,4,242,5],[236,6,236,13],[228,4,228,8],[192,4,192,13],[189,4,189,5],[189,6,189,13],[181,6,181,13],[191,4,191,13],[188,4,188,5],[182,4,182,5],[183,4,185,5],[185,6,185,13],[186,4,186,5],[186,6,186,13],[188,6,188,13],[187,6,187,13],[177,4,177,13],[178,4,178,13],[180,4,180,5],[187,4,187,5],[183,6,183,13],[184,6,184,13],[182,6,182,13],[180,6,180,13],[175,4,175,5],[181,4,181,5],[171,6,171,13],[172,4,172,5],[172,6,172,13],[173,4,173,5],[173,6,173,13],[174,6,174,13],[175,6,175,13],[174,4,174,5],[168,4,168,5],[168,6,168,13],[169,4,171,5],[169,6,169,13],[170,6,170,13],[167,4,167,5],[164,4,164,13],[155,4,157,5],[155,6,155,13],[156,6,156,13],[157,6,157,13],[167,6,167,13],[160,6,160,13],[161,4,161,5],[166,4,166,5],[166,6,166,13],[149,4,149,13],[150,4,150,13],[154,6,154,13],[152,4,152,5],[152,6,152,13],[154,4,154,5],[153,4,153,5],[153,6,153,13],[163,4,163,13],[158,6,158,13],[159,4,159,5],[158,4,158,5],[160,4,160,5],[159,6,159,13],[161,6,161,13],[147,6,147,13],[145,4,145,5],[145,6,145,13],[146,6,146,13],[147,4,147,5],[139,4,139,5],[139,6,139,13],[138,4,138,5],[138,6,138,13],[140,4,140,5],[140,6,140,13],[144,4,144,5],[144,6,144,13],[142,6,142,13],[143,6,143,13],[141,4,143,5],[141,6,141,13],[146,4,146,5],[135,4,135,13],[136,4,136,13],[131,4,131,5],[125,4,125,5],[131,6,131,13],[127,4,129,5],[132,4,132,5],[132,6,132,13],[127,6,127,13],[128,6,128,13],[130,6,130,13],[130,4,130,5],[121,4,121,13],[122,4,122,13],[126,4,126,5],[129,6,129,13],[124,6,124,13],[126,6,126,13],[124,4,124,5],[125,6,125,13],[133,4,133,5],[133,6,133,13],[118,4,118,5],[119,4,119,5],[116,6,116,13],[113,6,113,13],[114,6,114,13],[118,6,118,13],[113,4,115,5],[117,6,117,13],[119,6,119,13],[117,4,117,5],[110,4,110,5],[96,6,96,13],[103,6,103,13],[107,4,107,13],[100,4,103,5],[102,6,102,13],[100,6,100,13],[101,6,101,13],[115,6,115,13],[112,4,112,5],[111,6,111,13],[111,4,111,5],[108,4,108,13],[105,3,105,13],[112,6,112,13],[5,2,5,10],[40,4,40,5],[42,6,42,13],[20,7,20,13],[13,4,13,13],[17,4,17,6],[11,4,11,13],[14,4,14,13],[30,4,30,5],[30,6,30,13],[18,4,18,6],[15,4,15,6],[15,7,15,13],[19,4,19,6],[31,4,31,5],[31,6,31,13],[16,4,16,6],[18,7,18,13],[20,4,20,6],[17,7,17,13],[28,4,28,13],[27,4,27,13],[16,7,16,13],[19,7,19,13],[49,6,49,13],[48,6,48,13],[47,6,47,13],[3,12,3,13],[3,10,3,11],[12,4,12,13],[48,4,48,5],[49,4,49,5],[47,4,47,5],[9,3,9,13],[3,8,3,9],[1,1,3,3],[1,4,1,5],[1,6,1,7],[3,4,3,5],[3,6,3,7],[1,12,1,13],[2,4,2,5],[2,6,2,7],[2,8,2,9],[2,10,2,11],[1,10,1,11],[2,12,2,13],[1,8,1,9],[46,6,46,13],[44,6,44,13],[41,6,41,13],[46,4,46,5],[43,4,45,5],[43,6,43,13],[45,6,45,13],[42,4,42,5],[41,4,41,5],[58,4,58,5],[51,4,51,13],[57,4,57,5],[53,4,53,13],[58,6,58,13],[57,6,57,13],[54,4,54,13],[32,6,32,13],[33,4,35,5],[33,6,33,13],[35,6,35,13],[32,4,32,5],[40,6,40,13],[34,6,34,13],[55,4,55,13],[52,4,52,13],[36,6,36,13],[36,4,36,5],[37,4,37,5],[38,4,38,5],[39,4,39,5],[38,6,38,13],[37,6,37,13],[39,6,39,13],[95,4,95,5],[92,4,94,5],[66,6,66,13],[116,4,116,5],[99,4,99,5],[59,4,59,5],[59,6,59,13],[64,4,64,5],[63,6,63,13],[63,4,63,5],[60,6,60,13],[61,6,61,13],[65,6,65,13],[65,4,65,5],[87,4,87,13],[60,4,62,5],[62,6,62,13],[64,6,64,13],[97,6,97,13],[96,4,96,5],[97,4,97,5],[98,4,98,5],[99,6,99,13],[110,6,110,13],[75,4,75,13],[284,5,284,11],[91,4,91,5],[66,4,66,5],[98,6,98,13],[95,6,95,13],[92,6,92,13],[90,6,90,13],[89,6,89,13],[94,6,94,13],[91,6,91,13],[83,3,83,13],[85,4,85,13],[93,6,93,13],[86,4,86,13],[89,4,89,5],[68,4,68,13],[71,4,71,13],[76,4,76,13],[77,4,77,13],[90,4,90,5],[70,4,70,10],[72,4,72,13],[74,4,74,13],[193,4,193,13],[215,4,215,5],[215,6,215,13],[216,4,216,5],[216,6,216,13],[217,4,217,5],[217,6,217,13],[206,4,206,13],[195,4,195,5],[197,4,197,5],[195,6,195,13],[196,4,196,5],[196,6,196,13],[197,6,197,13],[200,6,200,13],[202,6,202,13],[203,6,203,13],[201,4,201,5],[201,6,201,13],[202,4,202,5],[198,4,200,5],[198,6,198,13],[199,6,199,13],[207,4,207,13],[21,4,21,6],[21,7,21,13],[22,4,22,6],[22,7,22,13],[23,4,23,6],[23,7,23,13],[24,4,24,6],[24,7,24,13],[25,4,25,6],[25,7,25,13]]}
["ausblenden",null,null,null,null,null,null,null,null,null,null,null,null,null,null,"ausblenden","ausblenden"]
[null,{"$f":"Translations!$B$722","v":"K.\nManagement Control"},null,null,{"$f":"Translations!$B$59","v":"Navigatiezone:"},null,{"$f":"Translations!$B$60","v":"Inhoudsopgave"},null,{"$f":"Translations!$B$61","v":"Vorig werkblad"},null,{"$f":"Translations!$B$62","v":"Volgend werkblad"}]
[null,null,null,null,{"$f":"Translations!$B$63","v":"Begin werkblad"},null,{"$f":"Translations!$B$37","v":"Beheer "},null,{"$f":"Translations!$B$38","v":"Dataflow-activiteiten"},null,{"$f":"Translations!$B$39","v":"Controleactiviteiten"}]
[null,null,null,null,{"$f":"Translations!$B$64","v":"Einde werkblad"},null,{"$f":"Translations!$B$723","v":"Definities en afkortingen"},null,{"$f":"Translations!$B$41","v":"Aanvullende informatie"},null,{"$f":"Translations!$B$1152","v":"Verdere procedures"}]
[]
[null,null,{"$f":"Translations!$B$36","v":"K. Beheer en controle"},null,null,null,null,null,null,null,null,{"$f":"EUconst_Relevant","v":"relevant"}]
[]
[null,null,{"$f":"Translations!$B$724","v":"Dit werkblad is relevant voor alle soorten installaties"},null,null,null,null,null,null,null,{"$f":"IF(L6=EUconst_NotRelevant,HYPERLINK(\"#JUMP_L_Top\",EUconst_MsgNextSheet),HYPERLINK(\"\",EUconst_MsgEnterThisSection))","v":"U wordt verzocht bij dit punt gegevens in te voeren"}]
[]
[null,null,20,{"$f":"Translations!$B$37","v":"Beheer "}]
[]
[null,null,null,"(a)",{"$f":"Translations!$B$1216","v":"Geef, overeenkomstig artikel 62, MRV, aan wie in deze installatie verantwoordelijk is voor de monitoring en de rapportage van emissies."}]
["\n",null,null,null,{"$f":"Translations!$B$726","v":"Vermeld de functie/positie van de verantwoordelijke personen en geef een beknopt overzicht van hun rol in de monitoring en de rapportage. Voer hieronder alleen eindverantwoordelijken en personen met een belangrijke taak op (vermeld geen gedelegeerde verantwoordelijkheden)."}]
[null,null,null,null,{"$f":"Translations!$B$727","v":"Deze kunnen worden opgenomen in een boomdiagram of organogram dat u meezendt"}]
[null,null,null,null,{"$f":"Translations!$B$728","v":"Als de gegevensstroom en het controlespoor zijn afgerond, dienen alle verantwoordelijken te worden genoemd in de procedureomschrijvingen. U hoeft geen verdere personen toe te voegen."}]
[null,null,null,null,{"$f":"Translations!$B$729","v":"Functie/positie"},null,null,{"$f":"Translations!$B$730","v":"Verantwoordelijkheden"}]
[null,null,null,null,null,null,null,"Bevoegde voor ondertekening monitoringplan"]
[null,null,null,null,null,null,null,"Bevoegde voor ondertekening emissiejaarrapport"]
[null,null,null,null,null,null,null,"Bevoegde voor opstellen monitoringplan en emissiejaarrapport"]
[]
[]
[]
[]
[]
[]
[]
[]
["\n\n",null,null,"(b)",{"$f":"Translations!$B$1217","v":"Beschrijf, overeenkomstig artikel 59, lid 3, punt c), MRV, de procedure voor het toewijzen van verantwoordelijkheden voor monitoring en rapportage binnen de installatie en voor het beheer van de competenties van verantwoordelijk personeel."}]
[null,null,null,null,{"$f":"Translations!$B$732","v":"Uit deze procedure moet duidelijk worden hoe de verantwoordelijkheden voor monitoring en rapportage worden toegewezen aan de bovenstaande personen, op welke wijze er scholing en evaluatie plaatsvindt en hoe de taken zo gescheiden worden dat alle relevante gegevens worden bevestigd door een persoon die niet betrokken is bij de gegevensregistratie en -verzameling "}]
[]
["HIDE_Example",null,null,null,{"$f":"Translations!$B$405","v":"Procedurenaam"},null,{"$f":"Translations!$B$733","v":"ETS-personeelsbeheer"}]
["HIDE_Example",null,null,null,{"$f":"Translations!$B$407","v":"Verwijzing naar de procedure"}]
["HIDE_Example",null,null,null,{"$f":"Translations!$B$409","v":"Verwijzing naar een diagram (indien van toepassing)"}]
["HIDE_Example",null,null,null,{"$f":"Translations!$B$411","v":"Korte procedurebeschrijving"},null,{"$f":"Translations!$B$734","v":"• De verantwoordelijke persoon houdt een lijst bij van personeel dat bij het ETS-gegevensbeheer betrokken is"}]
["HIDE_Example",null,null,null,null,null,{"$f":"Translations!$B$735","v":"• De verantwoordelijke persoon vergadert jaarlijks ten minste een keer met alle betrokkenen en ten minste vier keer met de belangrijkste betrokkenen, zoals is vastgelegd in de bijlage van de procedure; Doel: Vaststellen van scholingsbehoeften "}]
["HIDE_Example",null,null,null,null,null,{"$f":"Translations!$B$736","v":"• De verantwoordelijke persoon regelt interne en externe scholing op basis van de behoeften."}]
["HIDE_Example",null,null,null,{"$f":"Translations!$B$414","v":"Functie of afdeling die verantwoordelijk is voor de procedure en voor gegenereerde gegevens"},null,{"$f":"Translations!$B$737","v":"Plaatsvervangend hoofd van de afdeling HSEQ"}]
["HIDE_Example",null,null,null,{"$f":"Translations!$B$416","v":"Plaats waar de administratie wordt bewaard"},null,{"$f":"Translations!$B$738","v":"Per post: HSEQ-kantoor, plank 27/9, map \"ETS 01-P\". Elektronisch: \"P:\\ETS_MRV\\manag\\ETS_01-P.xls\""}]
["HIDE_Example",null,null,null,{"$f":"Translations!$B$418","v":"Naam van het gebruikte IT-systeem (indien van toepassing)."},null,{"$f":"Translations!$B$739","v":"N.V.T. (Normale netwerkstations)"}]
["HIDE_Example",null,null,null,{"$f":"Translations!$B$420","v":"Een lijst van EN-normen of andere toegepaste normen, indien van toepassing."},null,{"$f":"Translations!$B$410","v":"N.V.T."}]
[null,null,null,null,{"$f":"Translations!$B$405","v":"Procedurenaam"}]
[null,null,null,null,{"$f":"Translations!$B$407","v":"Verwijzing naar de procedure"}]
[null,null,null,null,{"$f":"Translations!$B$409","v":"Verwijzing naar een diagram (indien van toepassing)"}]
[null,null,null,null,{"$f":"Translations!$B$411","v":"Korte procedurebeschrijving"}]
[]
[]
[null,null,null,null,{"$f":"Translations!$B$414","v":"Functie of afdeling die verantwoordelijk is voor de procedure en voor gegenereerde gegevens"}]
[null,null,null,null,{"$f":"Translations!$B$416","v":"Plaats waar de administratie wordt bewaard"}]
[null,null,null,null,{"$f":"Translations!$B$418","v":"Naam van het gebruikte IT-systeem (indien van toepassing)."}]
[null,null,null,null,{"$f":"Translations!$B$420","v":"Een lijst van EN-normen of andere toegepaste normen, indien van toepassing."}]
[]
[null,null,null,"(c) ",{"$f":"Translations!$B$740","v":"Beschrijf de procedure voor de regelmatige evaluatie van de geschiktheid van het monitoringplan, met name wat betreft mogelijke maatregelen ter verbetering van de monitoringmethodiek."}]
[null,null,null,null,{"$f":"Translations!$B$741","v":"Onderstaande procedure bestaat uit de volgende elementen:"}]
[null,null,null,null,{"$f":"Translations!$B$742","v":"i – controle van de lijst van emissiebronnen en bronstromen en nagaan of de emissies en bronstromen volledig zijn en dat alle relevante wijzigingen in de aard en werking van de installatie worden opgenomen in het monitoringplan;"}]
[null,null,null,null,{"$f":"Translations!$B$743","v":"ii – beoordeling van de naleving van de onzekerheidsdrempels voor activiteitsgegevens en andere parameters (indien van toepassing) voor de toegepaste niveaus voor elke bronstroom en emissiebron; en"}]
[null,null,null,null,{"$f":"Translations!$B$744","v":"iii – beoordeling van potentiële maatregelen ter verbetering van de toegepaste monitoringmethodiek."}]
[]
[null,null,null,null,{"$f":"Translations!$B$405","v":"Procedurenaam"}]
[null,null,null,null,{"$f":"Translations!$B$407","v":"Verwijzing naar de procedure"}]
[null,null,null,null,{"$f":"Translations!$B$409","v":"Verwijzing naar een diagram (indien van toepassing)"}]
[null,null,null,null,{"$f":"Translations!$B$411","v":"Korte procedurebeschrijving"}]
[]
[]
[null,null,null,null,{"$f":"Translations!$B$414","v":"Functie of afdeling die verantwoordelijk is voor de procedure en voor gegenereerde gegevens"}]
[null,null,null,null,{"$f":"Translations!$B$416","v":"Plaats waar de administratie wordt bewaard"}]
[null,null,null,null,{"$f":"Translations!$B$418","v":"Naam van het gebruikte IT-systeem (indien van toepassing)."}]
[null,null,null,null,{"$f":"Translations!$B$420","v":"Een lijst van EN-normen of andere toegepaste normen, indien van toepassing."}]
[]
[null,null,null,"(d) ",{"$f":"Translations!$B$1218","v":"Verbeteringsverslagen overeenkomstig artikel 69, lid 1, MRV"}]
[]
[null,null,null,"i.",{"$f":"Translations!$B$1219","v":"Is er niet aan een vereist niveau voldaan of is de “fall-backmethode” toegepast?"}]
[null,null,null,null,{"$f":"Translations!$B$1220","v":"Selecteer “WAAR” indien voor een parameter van een grote of kleine bronstroom of emissiebronnen ofwel niet aan de vereiste niveaus is voldaan, ofwel een “fall-backmethode” (artikel 22) wordt toegepast. Als dit het geval is, moet de exploitant, overeenkomstig artikel 69, lid 1, regelmatig verbeteringsverslagen indienen."}]
[null,null,null,null,{"$f":"Translations!$B$1221","v":"Dit punt ontslaat exploitanten niet van de verplichting om een verbeteringsverslag in te dienen overeenkomstig artikel 69, lid 4."}]
[]
[null,null,null,"ii.",{"$f":"Translations!$B$1222","v":"Termijn voor het volgende verbeteringsverslag overeenkomstig artikel 69, lid 1, indien van toepassing"}]
[null,null,null,null,{"$f":"Translations!$B$1223","v":"Dit punt is alleen van toepassing als de exploitant in het bovenstaande punt i) “WAAR” heeft geselecteerd."}]
[null,null,null,null,{"$f":"Translations!$B$1224","v":"De termijn voor verbeteringsverslagen is elk jaar voor installaties van categorie C, elke twee jaar voor installaties van categorie B en elke vier jaar voor installaties van categorie A."}]
[null,null,null,null,{"$f":"Translations!$B$1225","v":"De bevoegde autoriteit kan die periode echter verlengen tot respectievelijk drie, vier en vijf jaar als de exploitant aan de bevoegde autoriteit kan aantonen dat de redenen voor onredelijke kosten of voor de technische onhaalbaarheid van verbeteringsmaatregelen gedurende langere tijd zullen aanhouden."}]
[]
[null,null,null,null,2021,2022,2023,2024,2025,2026,2027,2028,2029,2030]
[]
[null,null,null,null,{"$f":"IF(OR(E81=\"\",E81=EUconst_NA),\"\",DATE(E80,MATCH(E81,EUconst_IRMonth,0)+5,1)-1)","v":""},"","","","","","","","",""]
[]
[null,null,21,{"$f":"Translations!$B$38","v":"Dataflow-activiteiten"}]
[]
[null,null,null,"(a)",{"$f":"Translations!$B$1226","v":"Verstrek, overeenkomstig artikel 58, MRV, informatie over de procedures voor het beheer van gegevensstroomactiviteiten."}]
[null,null,null,null,{"$f":"Translations!$B$746","v":"Als u meerdere procedures toepast, beschrijft u een overkoepelende procedure die de belangrijkste gegevensstroomactiviteiten bestrijkt en verstrekt u een diagram waaruit duidelijk wordt hoe de gegevensbeheerprocedures met elkaar verbonden zijn (verwijs hieronder naar het diagram en zend het met het monitoringplan mee).  U kunt desgewenst op een afzonderlijk werkblad informatie verstrekken over aanvullende relevante procedures."}]
[null,null,null,null,{"$f":"Translations!$B$747","v":"Beschrijf onder \"Beschrijving van de relevante processtappen\" alle stappen in de gegevensstroom, van primaire gegevens tot jaarlijkse emissies, die de volgorde van en de interactie tussen de gegevensstroomactiviteiten weergeven. Noem hier ook de formules en gegevens waarmee de emissies uit de primaire gegevens zijn bepaald.  Ga in op de desbetreffende elektronische systemen voor gegevensverwerking en -opslag en andere, al dan niet manuele inputs en geef aan hoe de outputs van gegevensstroomactiviteiten worden geregistreerd."}]
[]
[null,null,null,null,{"$f":"Translations!$B$405","v":"Procedurenaam"}]
[null,null,null,null,{"$f":"Translations!$B$407","v":"Verwijzing naar de procedure"}]
[null,null,null,null,{"$f":"Translations!$B$409","v":"Verwijzing naar een diagram (indien van toepassing)"}]
[null,null,null,null,{"$f":"Translations!$B$411","v":"Korte procedurebeschrijving"}]
[]
[]
[null,null,null,null,{"$f":"Translations!$B$414","v":"Functie of afdeling die verantwoordelijk is voor de procedure en voor gegenereerde gegevens"}]
[null,null,null,null,{"$f":"Translations!$B$416","v":"Plaats waar de administratie wordt bewaard"}]
[null,null,null,null,{"$f":"Translations!$B$418","v":"Naam van het gebruikte IT-systeem (indien van toepassing)."}]
[null,null,null,null,{"$f":"Translations!$B$420","v":"Een lijst van EN-normen of andere toegepaste normen, indien van toepassing."}]
[null,null,null,null,{"$f":"Translations!$B$748","v":"Lijst van primaire gegevensbronnen"}]
[null,null,null,null,{"$f":"Translations!$B$749","v":"Beschrijving van de desbetreffende processtappen per dataflow-activiteit "}]
[]
[]
[]
[]
[null,null,22,{"$f":"Translations!$B$39","v":"Controleactiviteiten"}]
[]
[null,null,null,"(a)",{"$f":"Translations!$B$1227","v":"Verstrek, overeenkomstig artikel 59, MRV, informatie over de procedures waarmee de intrinsieke en controlerisico’s worden beoordeeld."}]
[null,null,null,null,{"$f":"Translations!$B$751","v":"Uit de korte beschrijving moet blijken hoe de intrinsieke en controlerisico's worden beoordeeld bij het opzetten van een doeltreffend controlesysteem."}]
[]
[null,null,null,null,{"$f":"Translations!$B$405","v":"Procedurenaam"}]
[null,null,null,null,{"$f":"Translations!$B$407","v":"Verwijzing naar de procedure"}]
[null,null,null,null,{"$f":"Translations!$B$409","v":"Verwijzing naar een diagram (indien van toepassing)"}]
[null,null,null,null,{"$f":"Translations!$B$411","v":"Korte procedurebeschrijving"}]
[]
[]
[null,null,null,null,{"$f":"Translations!$B$414","v":"Functie of afdeling die verantwoordelijk is voor de procedure en voor gegenereerde gegevens"}]
[null,null,null,null,{"$f":"Translations!$B$416","v":"Plaats waar de administratie wordt bewaard"}]
[null,null,null,null,{"$f":"Translations!$B$418","v":"Naam van het gebruikte IT-systeem (indien van toepassing)."}]
[null,null,null,null,{"$f":"Translations!$B$420","v":"Een lijst van EN-normen of andere toegepaste normen, indien van toepassing."}]
[]
[null,null,null,"(b)",{"$f":"Translations!$B$1228","v":"Verstrek, overeenkomstig de artikelen 59 en 60, MRV, informatie over de procedures voor de kwaliteitsbewaking van meetinstrumenten."}]
[null,null,null,null,{"$f":"Translations!$B$753","v":"Uit de korte beschrijving moet, indien van toepassing, blijken hoe alle relevante meetinstrumenten regelmatig gekalibreerd en gecontroleerd worden en wat er gedaan wordt als de vereiste prestaties niet gehaald worden."}]
[]
[null,null,null,null,{"$f":"Translations!$B$405","v":"Procedurenaam"}]
[null,null,null,null,{"$f":"Translations!$B$407","v":"Verwijzing naar de procedure"}]
[null,null,null,null,{"$f":"Translations!$B$409","v":"Verwijzing naar een diagram (indien van toepassing)"}]
[null,null,null,null,{"$f":"Translations!$B$411","v":"Korte procedurebeschrijving"}]
[]
[]
[null,null,null,null,{"$f":"Translations!$B$414","v":"Functie of afdeling die verantwoordelijk is voor de procedure en voor gegenereerde gegevens"}]
[null,null,null,null,{"$f":"Translations!$B$416","v":"Plaats waar de administratie wordt bewaard"}]
[null,null,null,null,{"$f":"Translations!$B$418","v":"Naam van het gebruikte IT-systeem (indien van toepassing)."}]
[null,null,null,null,{"$f":"Translations!$B$420","v":"Een lijst van EN-normen of andere toegepaste normen, indien van toepassing."}]
[]
[null,null,null,"(c)",{"$f":"Translations!$B$1229","v":"Verstrek, overeenkomstig de artikelen 59 en 61, MRV, informatie over de procedures voor de kwaliteitsbewaking van de informatietechnologie die gebruikt wordt bij dataflowactiviteiten."}]
[null,null,null,null,{"$f":"Translations!$B$755","v":"Uit de korte beschrijving moet blijken hoe de informatietechnologie getest en gecontroleerd wordt. Ga daarbij in op toegangscontrole, back-ups, herstel en beveiliging."}]
[]
[null,null,null,null,{"$f":"Translations!$B$405","v":"Procedurenaam"}]
[null,null,null,null,{"$f":"Translations!$B$407","v":"Verwijzing naar de procedure"}]
[null,null,null,null,{"$f":"Translations!$B$409","v":"Verwijzing naar een diagram (indien van toepassing)"}]
[null,null,null,null,{"$f":"Translations!$B$411","v":"Korte procedurebeschrijving"}]
[]
[]
[null,null,null,null,{"$f":"Translations!$B$414","v":"Functie of afdeling die verantwoordelijk is voor de procedure en voor gegenereerde gegevens"}]
[null,null,null,null,{"$f":"Translations!$B$416","v":"Plaats waar de administratie wordt bewaard"}]
[null,null,null,null,{"$f":"Translations!$B$418","v":"Naam van het gebruikte IT-systeem (indien van toepassing)."}]
[null,null,null,null,{"$f":"Translations!$B$420","v":"Een lijst van EN-normen of andere toegepaste normen, indien van toepassing."}]
[]
[null,null,null,"(d)",{"$f":"Translations!$B$1230","v":"Verstrek, overeenkomstig de artikelen 59 en 63, MRV, informatie over de procedures voor regelmatige interne toetsing en gegevensvalidatie."}]
[null,null,null,null,{"$f":"Translations!$B$757","v":"Uit de korte beschrijving moet blijken dat via de evaluatie- en validatieprocedure wordt gecontroleerd of de gegevens volledig zijn, dat vergelijkingen worden getrokken met gegevens uit voorgaande jaren, dat het opgevoerde brandstofverbruik wordt vergeleken met aankoopbewijzen en factoren die zijn verkregen voor brandstofleveranciers met internationale referentiewaarden, indien van toepassing, en dat er criteria voor het verwerpen van gegevens zijn vastgesteld."}]
[]
[null,null,null,null,{"$f":"Translations!$B$405","v":"Procedurenaam"}]
[null,null,null,null,{"$f":"Translations!$B$407","v":"Verwijzing naar de procedure"}]
[null,null,null,null,{"$f":"Translations!$B$409","v":"Verwijzing naar een diagram (indien van toepassing)"}]
[null,null,null,null,{"$f":"Translations!$B$411","v":"Korte procedurebeschrijving"}]
[]
[]
[null,null,null,null,{"$f":"Translations!$B$414","v":"Functie of afdeling die verantwoordelijk is voor de procedure en voor gegenereerde gegevens"}]
[null,null,null,null,{"$f":"Translations!$B$416","v":"Plaats waar de administratie wordt bewaard"}]
[null,null,null,null,{"$f":"Translations!$B$418","v":"Naam van het gebruikte IT-systeem (indien van toepassing)."}]
[null,null,null,null,{"$f":"Translations!$B$420","v":"Een lijst van EN-normen of andere toegepaste normen, indien van toepassing."}]
[]
[null,null,null,"(e)",{"$f":"Translations!$B$1231","v":"Verstrek, overeenkomstig de artikelen 59 en 64, MRV, informatie over de procedures voor correcties en correctieve maatregelen."}]
[null,null,null,null,{"$f":"Translations!$B$759","v":"Uit de korte beschrijving moet blijken welke passende maatregelen worden getroffen wanneer gegevensstroom- en controleactiviteiten niet doeltreffend blijken te zijn. De procedure moet beschrijven hoe de geldigheid van de outputs wordt beoordeeld en hoe de oorzaak van de fout wordt vastgesteld en deze wordt verbeterd."}]
[]
[null,null,null,null,{"$f":"Translations!$B$405","v":"Procedurenaam"}]
[null,null,null,null,{"$f":"Translations!$B$407","v":"Verwijzing naar de procedure"}]
[null,null,null,null,{"$f":"Translations!$B$409","v":"Verwijzing naar een diagram (indien van toepassing)"}]
[null,null,null,null,{"$f":"Translations!$B$411","v":"Korte procedurebeschrijving"}]
[]
[]
[null,null,null,null,{"$f":"Translations!$B$414","v":"Functie of afdeling die verantwoordelijk is voor de procedure en voor gegenereerde gegevens"}]
[null,null,null,null,{"$f":"Translations!$B$416","v":"Plaats waar de administratie wordt bewaard"}]
[null,null,null,null,{"$f":"Translations!$B$418","v":"Naam van het gebruikte IT-systeem (indien van toepassing)."}]
[null,null,null,null,{"$f":"Translations!$B$420","v":"Een lijst van EN-normen of andere toegepaste normen, indien van toepassing."}]
[]
[null,null,null,"(f)",{"$f":"Translations!$B$1232","v":"Verstrek, overeenkomstig de artikelen 59 en 65, MRV, informatie over de procedures voor het beheer van uitbestede processen."}]
[null,null,null,null,{"$f":"Translations!$B$761","v":"Uit de korte beschrijving moet blijken hoe gegevensstroom- en controleactiviteiten met betrekking tot uitbestede processen worden gecontroleerd en hoe de kwaliteit van de betreffende gegevens wordt gecontroleerd."}]
[]
[null,null,null,null,{"$f":"Translations!$B$405","v":"Procedurenaam"}]
[null,null,null,null,{"$f":"Translations!$B$407","v":"Verwijzing naar de procedure"}]
[null,null,null,null,{"$f":"Translations!$B$409","v":"Verwijzing naar een diagram (indien van toepassing)"}]
[null,null,null,null,{"$f":"Translations!$B$411","v":"Korte procedurebeschrijving"}]
[]
[]
[null,null,null,null,{"$f":"Translations!$B$414","v":"Functie of afdeling die verantwoordelijk is voor de procedure en voor gegenereerde gegevens"}]
[null,null,null,null,{"$f":"Translations!$B$416","v":"Plaats waar de administratie wordt bewaard"}]
[null,null,null,null,{"$f":"Translations!$B$418","v":"Naam van het gebruikte IT-systeem (indien van toepassing)."}]
[null,null,null,null,{"$f":"Translations!$B$420","v":"Een lijst van EN-normen of andere toegepaste normen, indien van toepassing."}]
[]
[null,null,null,"(g)",{"$f":"Translations!$B$1233","v":"Verstrek, overeenkomstig artikel 66, MRV, informatie over de procedures die worden gebruikt om eventuele ontbrekende gegevens aan te vullen."}]
[null,null,null,null,{"$f":"Translations!$B$1234","v":"In de korte beschrijving moet worden aangegeven hoe ontbrekende gegevens zullen worden aangevuld met behulp van een passende schattingsmethode voor het bepalen van conservatieve vervangende gegevens voor de betreffende periode en ontbrekende parameter."}]
[null,null,null,null,{"$f":"Translations!$B$1235","v":"Deze procedure is alleen verplicht wanneer relevante gegevens ontbreken, maar het wordt aanbevolen om in elk geval een dergelijke procedure vast te stellen om naleving te waarborgen, zelfs wanneer er gegevens ontbreken."}]
[]
[null,null,null,null,{"$f":"Translations!$B$405","v":"Procedurenaam"}]
[null,null,null,null,{"$f":"Translations!$B$407","v":"Verwijzing naar de procedure"}]
[null,null,null,null,{"$f":"Translations!$B$409","v":"Verwijzing naar een diagram (indien van toepassing)"}]
[null,null,null,null,{"$f":"Translations!$B$411","v":"Korte procedurebeschrijving"}]
[]
[]
[null,null,null,null,{"$f":"Translations!$B$414","v":"Functie of afdeling die verantwoordelijk is voor de procedure en voor gegenereerde gegevens"}]
[null,null,null,null,{"$f":"Translations!$B$416","v":"Plaats waar de administratie wordt bewaard"}]
[null,null,null,null,{"$f":"Translations!$B$418","v":"Naam van het gebruikte IT-systeem (indien van toepassing)."}]
[null,null,null,null,{"$f":"Translations!$B$420","v":"Een lijst van EN-normen of andere toegepaste normen, indien van toepassing."}]
[]
[null,null,null,"(h)",{"$f":"Translations!$B$1272","v":"Verstrek informatie over de procedures voor gegevensregistratie- en documentatiebeheer in overeenstemming met de artikelen 59 en 67, MRV."}]
[null,null,null,null,{"$f":"Translations!$B$763","v":"Uit de korte beschrijving moet blijken hoe de documenten bewaard worden, met name wat betreft de gegevens die zijn vastgelegd in bijlage IX bij de MRV, en hoe ervoor wordt gezorgd dat de gegevens direct beschikbaar zijn als de bevoegde autoriteit of controleur daarom vraagt."}]
[]
[null,null,null,null,{"$f":"Translations!$B$405","v":"Procedurenaam"}]
[null,null,null,null,{"$f":"Translations!$B$407","v":"Verwijzing naar de procedure"}]
[null,null,null,null,{"$f":"Translations!$B$409","v":"Verwijzing naar een diagram (indien van toepassing)"}]
[null,null,null,null,{"$f":"Translations!$B$411","v":"Korte procedurebeschrijving"}]
[]
[]
[null,null,null,null,{"$f":"Translations!$B$414","v":"Functie of afdeling die verantwoordelijk is voor de procedure en voor gegenereerde gegevens"}]
[null,null,null,null,{"$f":"Translations!$B$416","v":"Plaats waar de administratie wordt bewaard"}]
[null,null,null,null,{"$f":"Translations!$B$418","v":"Naam van het gebruikte IT-systeem (indien van toepassing)."}]
[null,null,null,null,{"$f":"Translations!$B$420","v":"Een lijst van EN-normen of andere toegepaste normen, indien van toepassing."}]
[]
[null,null,null,"(i)",{"$f":"Translations!$B$764","v":"Verwijs naar de gedocumenteerde resultaten van de risicobeoordeling waaruit blijkt dat de controleactiviteiten en -procedures in verhouding staan met de risico's overeenkomstig artikel 12, lid 1, onder b), van de MRV.  (Opmerking: De vereiste om een risicobeoordeling in te dienen bij de bevoegde autoriteit geldt niet voor installaties met een geringe emissie overeenkomstig artikel 47, lid 3, van de MRV)"}]
[null,null,null,null,{"$f":"Translations!$B$1236","v":"Verwijs in onderstaand vak naar het bestand/document dat de risicobeoordeling bevat."}]
[]
[]
["\n",null,null,"(j)",{"$f":"Translations!$B$766","v":"Beschikt uw organisatie over een gedocumenteerd milieubeheersysteem?"}]
[]
[]
["\n",null,null,"(k)",{"$f":"Translations!$B$767","v":"Als het milieubeheersysteem door een geaccrediteerde organisatie is gecertificeerd, vermeld dan aan welke norm is voldaan (ISO14001, EMAS, enz.)"}]
[]
[]
[null,null,23,{"$f":"Translations!$B$40","v":"Lijst van gebruikte definities en afkortingen"}]
[]
[null,null,null,"(a)",{"$f":"Translations!$B$768","v":"Geef een opsomming van de afkortingen, acroniemen of definities die u in dit monitoringplan hebt gebruikt."}]
[]
[null,null,null,null,{"$f":"Translations!$B$769","v":"Afkorting"},null,{"$f":"Translations!$B$770","v":"Definitie"}]
[]
[]
[]
[]
[]
[]
[]
[]
[]
[]
[]
[null,null,24,{"$f":"Translations!$B$41","v":"Aanvullende informatie"}]
[]
[null,null,null,"(a)",{"$f":"Translations!$B$771","v":"Verwijs hier naar eventuele andere gegevens waarvan u wilt dat wij ze meenemen bij de beoordeling van uw plan. Lever deze informatie waar mogelijk elektronisch aan. U kunt informatie aanleveren in Microsoft Word-, Excel- en Adobe Acrobatformaat."}]
[null,null,null,null,{"$f":"Translations!$B$772","v":"U wordt verzocht niet-relevante informatie achterwege te laten, omdat deze informatie de goedkeuring kan vertragen. U moet duidelijk verwijzen naar aanvullende documenten en de bestandsnaam en -referentie hieronder vermelden. Neem indien nodig contact op met uw bevoegde autoriteit"}]
[null,null,null,null,{"$f":"Translations!$B$773","v":"Vul hieronder een of meer bestandsnamen (bij digitale documenten) of referentienummers in (bij papieren documenten):"}]
[]
[null,null,null,null,{"$f":"Translations!$B$774","v":"Bestandsnaam/referentie"},null,{"$f":"Translations!$B$775","v":"Omschrijving van het document"}]
[]
[]
[]
[]
[]
[]
[]
[]
[]
[]
[]
[null,null,25,{"$f":"Translations!$B$1152","v":"Verdere procedures"}]
[]
["ausblenden"]
["ausblenden",null,null,null,{"$f":"Translations!$B$1150","v":"Bijkomende procedure toegevoegd door de exploitant"}]
["ausblenden"]
["ausblenden",null,null,null,{"$f":"Translations!$B$405","v":"Procedurenaam"}]
["ausblenden",null,null,null,{"$f":"Translations!$B$407","v":"Verwijzing naar de procedure"}]
["ausblenden",null,null,null,{"$f":"Translations!$B$409","v":"Verwijzing naar een diagram (indien van toepassing)"}]
["ausblenden",null,null,null,{"$f":"Translations!$B$411","v":"Korte procedurebeschrijving"}]
["ausblenden"]
["ausblenden"]
["ausblenden",null,null,null,{"$f":"Translations!$B$414","v":"Functie of afdeling die verantwoordelijk is voor de procedure en voor gegenereerde gegevens"}]
["ausblenden",null,null,null,{"$f":"Translations!$B$416","v":"Plaats waar de administratie wordt bewaard"}]
["ausblenden",null,null,null,{"$f":"Translations!$B$418","v":"Naam van het gebruikte IT-systeem (indien van toepassing)."}]
["ausblenden",null,null,null,{"$f":"Translations!$B$420","v":"Een lijst van EN-normen of andere toegepaste normen, indien van toepassing."}]
["ADD_Procedure"]
[null,null,null,null,null,null,{"$f":"Translations!$B$429","v":"Klik op \"+\" om meer procedures toe te voegen"}]
[]
[]
[]
[null,null,null,null,null,{"$f":"EUconst_MsgNextSheet","v":"<<< Klik hier om naar het volgende werkblad te gaan >>> "}]

{"sheet":"L_MS specific content","index":13,"n_rows":9,"n_cols":8,"rows_kept":9,"cut":false,"hidden":false,"merged":[[8,1,8,12],[9,1,34,12],[2,3,2,4],[2,5,2,6],[2,7,2,8],[2,9,2,10],[0,0,2,2],[0,3,0,4],[0,5,0,6],[0,7,0,8],[0,9,0,10],[1,3,1,4],[1,5,1,6],[1,7,1,8],[1,9,1,10],[4,1,4,9],[6,2,6,12]]}
[{"$f":"Translations!$B$781","v":"L. Member State specific content"},null,null,{"$f":"Translations!$B$59","v":"Navigatiezone:"},null,{"$f":"Translations!$B$60","v":"Inhoudsopgave"},null,{"$f":"Translations!$B$61","v":"Vorig werkblad"}]
[null,null,null,{"$f":"Translations!$B$63","v":"Begin werkblad"}]
[]
[]
[null,{"$f":"Translations!$B$43","v":"L. Lidstaatspecifieke aanvullende informatie"}]
[]
[null,26,{"$f":"Translations!$B$44","v":"Opmerkingen"}]
[]
[null,{"$f":"Translations!$B$782","v":"Ruimte voor verdere opmerkingen:"}]

{"sheet":"M_Accounting","index":14,"n_rows":135,"n_cols":156,"rows_kept":135,"cut":false,"hidden":false,"merged":[[108,40,108,47],[108,48,108,53],[8,47,8,54],[8,55,8,62],[8,63,8,70],[8,39,8,46],[88,8,88,12],[108,9,108,11],[108,12,108,14],[108,15,108,17],[108,18,108,20],[108,21,108,23],[108,24,108,31],[2,25,2,30],[8,14,8,18],[8,23,8,30],[8,31,8,38],[108,32,108,39],[2,13,2,19]]}
[null,null,null,null,null,null,null,null,null,null,null,null,null,null,null,null,null,null,null,null,null,null,null,null,null,null,null,null,null,null,null,null,null,null,null,null,null,null,null,null,null,null,null,null,null,null,null,null,null,null,null,null,null,null,null,null,null,null,null,null,null,null,null,null,null,null,null,null,null,null,null,null,null,null,null,null,null,null,null,null,null,null,null,null,null,null,null,"ausblenden","ausblenden","ausblenden","ausblenden","ausblenden","ausblenden","ausblenden","ausblenden","ausblenden","ausblenden","ausblenden","ausblenden","ausblenden","ausblenden","ausblenden","ausblenden","ausblenden","ausblenden","ausblenden","ausblenden","ausblenden","ausblenden","ausblenden","ausblenden","ausblenden","ausblenden","ausblenden","ausblenden","ausblenden","ausblenden","ausblenden","ausblenden","ausblenden","ausblenden","ausblenden","ausblenden","ausblenden","ausblenden","ausblenden","ausblenden","ausblenden","ausblenden","ausblenden","ausblenden","ausblenden","ausblenden","ausblenden","ausblenden","ausblenden","ausblenden","ausblenden","ausblenden","ausblenden","ausblenden","ausblenden","ausblenden","ausblenden","ausblenden","ausblenden","ausblenden","ausblenden","ausblenden","ausblenden","ausblenden","ausblenden","ausblenden","ausblenden","ausblenden","ausblenden"]
[null,{"$f":"Translations!$B$1237","v":"Algemene informatie"}]
[null,null,null,null,null,null,null,null,null,null,null,null,null,{"$f":"C_InstallationDescription!$E$42","v":"Lijst van activiteiten die conform bijlage I bij de EU-ETS-richtlijn worden uitgevoerd in deze installatie:"},null,null,null,null,null,null,null,null,null,null,null,{"$f":"C_InstallationDescription!$E$89","v":"Voorgestelde monitoringmethoden:"}]
[null,{"$f":"'B_Operator&Inst.ID'!$E$24","v":"Unieke ID van de installatie (zoals bij de NIMs):"},{"$f":"Translations!$B$156","v":"Naam van de exploitant"},{"$f":"Translations!$B$47","v":"Naam van de installatie:"},{"$f":"Translations!$B$152","v":"Bevoegde autoriteit"},{"$f":"'B_Operator&Inst.ID'!G46","v":"Titel:"},{"$f":"'B_Operator&Inst.ID'!G47","v":"Voornaam:"},{"$f":"'B_Operator&Inst.ID'!G48","v":"Achternaam:"},{"$f":"'B_Operator&Inst.ID'!G49","v":"Functie:"},{"$f":"'B_Operator&Inst.ID'!G50","v":"Naam van de organisatie (indien verschillend van de exploitant):"},{"$f":"'B_Operator&Inst.ID'!G52","v":"Telefoonnummer:"},{"$f":"'B_Operator&Inst.ID'!G53","v":"E-mailadres:"},{"$f":"C_InstallationDescription!$E$38","v":"Bronstroomdiagram – documenttitel en referentie:"},1,2,3,4,5,6,7,{"$f":"C_InstallationDescription!$E$69","v":"Geschatte jaarlijkse emissies"},{"$f":"C_InstallationDescription!$E$70","v":"Installatiecategorie overeenkomstig artikel 19"},{"$f":"C_InstallationDescription!$E$72","v":"Installatie met geringe emissies?"},{"$f":"C_InstallationDescription!$E$81","v":"Geschatte emissies in punt d) of e) gebaseerd op conservatieve schattingen?"},{"$f":"C_InstallationDescription!$E$81","v":"Geschatte emissies in punt d) of e) gebaseerd op conservatieve schattingen?"},{"$f":"C_InstallationDescription!E95","v":"Rekenmethode voor CO2:"},{"$f":"C_InstallationDescription!E96","v":"Meetmethode voor CO2:"},{"$f":"C_InstallationDescription!E97","v":"\"Fall-back\"-methode (artikel 22):"},{"$f":"C_InstallationDescription!E98","v":"Monitoring van N2O-emissies:"},{"$f":"C_InstallationDescription!E99","v":"Monitoring van PFK-emissies:"},{"$f":"C_InstallationDescription!E100","v":"Monitoring van overgedragen of inherent CO2 en CCS:"}]
[null,{"$f":"'B_Operator&Inst.ID'!$I$24","v":0},{"$f":"'B_Operator&Inst.ID'!$I$16","v":0},{"$f":"'B_Operator&Inst.ID'!$I$22","v":0},{"$f":"'B_Operator&Inst.ID'!$I$10","v":"Vlaams Energie- en Klimaatagentschap"},{"$f":"'B_Operator&Inst.ID'!I46","v":0},{"$f":"'B_Operator&Inst.ID'!I47","v":0},{"$f":"'B_Operator&Inst.ID'!I48","v":0},{"$f":"'B_Operator&Inst.ID'!I49","v":0},{"$f":"'B_Operator&Inst.ID'!I50","v":0},{"$f":"'B_Operator&Inst.ID'!I52","v":0},{"$f":"'B_Operator&Inst.ID'!I53","v":0},{"$f":"C_InstallationDescription!$K$38","v":0},{"$f":"IF(INDEX(C_InstallationDescription!$F$56:$F$62,N4)=\"\",\"\",INDEX(C_InstallationDescription!$F$56:$F$62,N4))","v":""},{"$f":"IF(INDEX(C_InstallationDescription!$F$56:$F$62,O4)=\"\",\"\",INDEX(C_InstallationDescription!$F$56:$F$62,O4))","v":""},{"$f":"IF(INDEX(C_InstallationDescription!$F$56:$F$62,P4)=\"\",\"\",INDEX(C_InstallationDescription!$F$56:$F$62,P4))","v":""},{"$f":"IF(INDEX(C_InstallationDescription!$F$56:$F$62,Q4)=\"\",\"\",INDEX(C_InstallationDescription!$F$56:$F$62,Q4))","v":""},{"$f":"IF(INDEX(C_InstallationDescription!$F$56:$F$62,R4)=\"\",\"\",INDEX(C_InstallationDescription!$F$56:$F$62,R4))","v":""},{"$f":"IF(INDEX(C_InstallationDescription!$F$56:$F$62,S4)=\"\",\"\",INDEX(C_InstallationDescription!$F$56:$F$62,S4))","v":""},{"$f":"IF(INDEX(C_InstallationDescription!$F$56:$F$62,T4)=\"\",\"\",INDEX(C_InstallationDescription!$F$56:$F$62,T4))","v":""},{"$f":"C_InstallationDescription!$I$69","v":0},{"$f":"C_InstallationDescription!$I$70","v":""},{"$f":"IF(C_InstallationDescription!$I$72=\"\",\"\",C_InstallationDescription!$I$72)","v":""},{"$f":"IF(C_InstallationDescription!L81=\"\",\"\",C_InstallationDescription!L81)","v":""},{"$f":"IF(C_InstallationDescription!E83=\"\",\"\",C_InstallationDescription!E83)","v":""},{"$f":"IF(C_InstallationDescription!I95=\"\",\"\",C_InstallationDescription!I95)","v":""},{"$f":"IF(C_InstallationDescription!I96=\"\",\"\",C_InstallationDescription!I96)","v":""},{"$f":"IF(C_InstallationDescription!I97=\"\",\"\",C_InstallationDescription!I97)","v":""},{"$f":"IF(C_InstallationDescription!I98=\"\",\"\",C_InstallationDescription!I98)","v":""},{"$f":"IF(C_InstallationDescription!I99=\"\",\"\",C_InstallationDescription!I99)","v":""},{"$f":"IF(C_InstallationDescription!I100=\"\",\"\",C_InstallationDescription!I100)","v":""}]
[]
["ausblenden",null,null,null,null,null,null,null,8,11,8,12,12,12,8,9,10,11,12,5,8,8,8,8,8,9,10,11,12,13,14,8,8,9,10,11,12,13,14,8,8,9,10,11,12,13,14,8,8,9,10,11,12,13,14,8,8,9,10,11,12,13,14,8,8,9,10,11,12,13,14,5]
[null,{"$f":"Translations!$B$1238","v":"Bronstromen (behalve PFK)"}]
[null,null,null,null,null,null,null,null,null,null,null,null,null,null,{"$f":"Translations!$B$472","v":"Toegepaste meetinstrumenten:"},null,null,null,null,null,null,null,null,{"$f":"Translations!$B$520","v":"Calorische onderwaarde (NCV)"},null,null,null,null,null,null,null,{"$f":"Translations!$B$521","v":"Voorlopige emissiefactor"},null,null,null,null,null,null,null,{"$f":"Translations!$B$522","v":"Oxidatiefactor"},null,null,null,null,null,null,null,{"$f":"Translations!$B$523","v":"Omrekeningsfactor"},null,null,null,null,null,null,null,{"$f":"Translations!$B$524","v":"Koolstofgehalte"},null,null,null,null,null,null,null,{"$f":"Translations!$B$525","v":"Biomassafractie (indien van toepassing)"}]
[null,{"$f":"Translations!$B$287","v":"Bronstroom ref. F1, F2, ..."},{"$f":"Translations!$B$288","v":"Bronstroomnaam"},{"$f":"Translations!$B$289","v":"Type bronstroom"},{"$f":"Translations!$B$310","v":"Volledige naam van de bronstroom (naam en type)"},{"$f":"Translations!$B$276","v":"Geschatte emissies in t CO2(e) per jaar"},{"$f":"Translations!$B$277","v":"Mogelijke categorie"},{"$f":"Translations!$B$311","v":"Geselecteerde categorie"},{"$f":"Translations!$B$456","v":"Bepalingsmethode:"},{"$f":"Translations!$B$459","v":"Verwijzing naar de procedure voor het bepalen van de voorraden aan het einde van het jaar:"},{"$f":"Translations!$B$462","v":"Het instrument wordt beheerd door:"},{"$f":"Translations!$B$465","v":"Bevestig dat is voldaan aan de voorwaarden van artikel 29, lid 1:"},{"$f":"Translations!$B$468","v":"Bepaalt u de hoeveelheid brandstof of materiaal aan de hand van facturen?"},{"$f":"Translations!$B$469","v":"Bevestig dat de handelspartner en de exploitant onafhankelijk zijn:"},1,2,3,4,5,{"$f":"Translations!$B$475","v":"Commentaar op / beschrijving van de methode, indien meerdere instrumenten zijn gebruikt:"},{"$f":"Translations!$B$477","v":"Vereist niveau voor de activiteitsgegevens:"},{"$f":"Translations!$B$478","v":"Gebruikt niveau voor de activiteitsgegevens:"},{"$f":"Translations!$B$479","v":"Bereikte onzekerheid:"},{"$f":"Translations!$B$517","v":"vereist niveau"},{"$f":"Translations!$B$518","v":"toegepast niveau"},{"$f":"Translations!$B$535","v":"standaardwaarde"},{"$f":"Translations!$B$536","v":"Eenheid"},{"$f":"Translations!$B$537","v":"bronreferentie"},{"$f":"Translations!$B$538","v":"analysereferentie"},{"$f":"Translations!$B$539","v":"steekproefreferentie"},{"$f":"Translations!$B$540","v":"Analysefrequentie"},{"$f":"Translations!$B$517","v":"vereist niveau"},{"$f":"Translations!$B$518","v":"toegepast niveau"},{"$f":"Translations!$B$535","v":"standaardwaarde"},{"$f":"Translations!$B$536","v":"Eenheid"},{"$f":"Translations!$B$537","v":"bronreferentie"},{"$f":"Translations!$B$538","v":"analysereferentie"},{"$f":"Translations!$B$539","v":"steekproefreferentie"},{"$f":"Translations!$B$540","v":"Analysefrequentie"},{"$f":"Translations!$B$517","v":"vereist niveau"},{"$f":"Translations!$B$518","v":"toegepast niveau"},{"$f":"Translations!$B$535","v":"standaardwaarde"},{"$f":"Translations!$B$536","v":"Eenheid"},{"$f":"Translations!$B$537","v":"bronreferentie"},{"$f":"Translations!$B$538","v":"analysereferentie"},{"$f":"Translations!$B$539","v":"steekproefreferentie"},{"$f":"Translations!$B$540","v":"Analysefrequentie"},{"$f":"Translations!$B$517","v":"vereist niveau"},{"$f":"Translations!$B$518","v":"toegepast niveau"},{"$f":"Translations!$B$535","v":"standaardwaarde"},{"$f":"Translations!$B$536","v":"Eenheid"},{"$f":"Translations!$B$537","v":"bronreferentie"},{"$f":"Translations!$B$538","v":"analysereferentie"},{"$f":"Translations!$B$539","v":"steekproefreferentie"},{"$f":"Translations!$B$540","v":"Analysefrequentie"},{"$f":"Translations!$B$517","v":"vereist niveau"},{"$f":"Translations!$B$518","v":"toegepast niveau"},{"$f":"Translations!$B$535","v":"standaardwaarde"},{"$f":"Translations!$B$536","v":"Eenheid"},{"$f":"Translations!$B$537","v":"bronreferentie"},{"$f":"Translations!$B$538","v":"analysereferentie"},{"$f":"Translations!$B$539","v":"steekproefreferentie"},{"$f":"Translations!$B$540","v":"Analysefrequentie"},{"$f":"Translations!$B$517","v":"vereist niveau"},{"$f":"Translations!$B$518","v":"toegepast niveau"},{"$f":"Translations!$B$535","v":"standaardwaarde"},{"$f":"Translations!$B$536","v":"Eenheid"},{"$f":"Translations!$B$537","v":"bronreferentie"},{"$f":"Translations!$B$538","v":"analysereferentie"},{"$f":"Translations!$B$539","v":"steekproefreferentie"},{"$f":"Translations!$B$540","v":"Analysefrequentie"},{"$f":"Translations!$B$1198","v":"Geef een toelichting en verklaring als de vereiste niveaus niet worden toegepast:"}]
[null,{"$f":"IF(COUNTIF($CK$10:CK11,TRUE)>0,\"\",INDEX(C_InstallationDescription!$E$223:$E$239,ROWS($A$11:A11)))","v":""},{"$f":"IF($E11=\"\",\"\",INDEX(C_InstallationDescription!G:G,MATCH($B11,C_InstallationDescription!$E:$E,0)))","v":""},{"$f":"IF($E11=\"\",\"\",INDEX(C_InstallationDescription!I:I,MATCH($B11,C_InstallationDescription!$E:$E,0)))","v":""},{"$f":"IF($B11=\"\",\"\",INDEX(C_InstallationDescription!F:F,MATCH($CJ11,C_InstallationDescription!$Q:$Q,0)))","v":""},{"$f":"IF($E11=\"\",\"\",INDEX(C_InstallationDescription!L:L,MATCH($CJ11,C_InstallationDescription!$Q:$Q,0)))","v":""},{"$f":"IF($E11=\"\",\"\",INDEX(C_InstallationDescription!M:M,MATCH($CJ11,C_InstallationDescription!$Q:$Q,0)))","v":""},{"$f":"IF($E11=\"\",\"\",INDEX(C_InstallationDescription!N:N,MATCH($CJ11,C_InstallationDescription!$Q:$Q,0)))","v":""},{"$f":"IF($E11=\"\",\"\",IF(INDEX(E_SourceStreams!$A:$N,CN11,I$7)=\"\",\"\",INDEX(E_SourceStreams!$A:$N,CN11,I$7)))","v":""},{"$f":"IF($E11=\"\",\"\",IF(INDEX(E_SourceStreams!$A:$N,CO11,J$7)=\"\",\"\",INDEX(E_SourceStreams!$A:$N,CO11,J$7)))","v":""},{"$f":"IF($E11=\"\",\"\",IF(INDEX(E_SourceStreams!$A:$N,CP11,K$7)=\"\",\"\",INDEX(E_SourceStreams!$A:$N,CP11,K$7)))","v":""},{"$f":"IF($E11=\"\",\"\",IF(INDEX(E_SourceStreams!$A:$N,CQ11,L$7)=\"\",\"\",INDEX(E_SourceStreams!$A:$N,CQ11,L$7)))","v":""},{"$f":"IF($E11=\"\",\"\",IF(INDEX(E_SourceStreams!$A:$N,CR11,M$7)=\"\",\"\",INDEX(E_SourceStreams!$A:$N,CR11,M$7)))","v":""},{"$f":"IF($E11=\"\",\"\",IF(INDEX(E_SourceStreams!$A:$N,CS11,N$7)=\"\",\"\",INDEX(E_SourceStreams!$A:$N,CS11,N$7)))","v":""},{"$f":"IF($E11=\"\",\"\",IF(INDEX(E_SourceStreams!$A:$N,CT11,O$7)=\"\",\"\",INDEX(E_SourceStreams!$A:$N,CT11,O$7)))","v":""},{"$f":"IF($E11=\"\",\"\",IF(INDEX(E_SourceStreams!$A:$N,CU11,P$7)=\"\",\"\",INDEX(E_SourceStreams!$A:$N,CU11,P$7)))","v":""},{"$f":"IF($E11=\"\",\"\",IF(INDEX(E_SourceStreams!$A:$N,CV11,Q$7)=\"\",\"\",INDEX(E_SourceStreams!$A:$N,CV11,Q$7)))","v":""},{"$f":"IF($E11=\"\",\"\",IF(INDEX(E_SourceStreams!$A:$N,CW11,R$7)=\"\",\"\",INDEX(E_SourceStreams!$A:$N,CW11,R$7)))","v":""},{"$f":"IF($E11=\"\",\"\",IF(INDEX(E_SourceStreams!$A:$N,CX11,S$7)=\"\",\"\",INDEX(E_SourceStreams!$A:$N,CX11,S$7)))","v":""},{"$f":"IF($E11=\"\",\"\",IF(INDEX(E_SourceStreams!$A:$N,CY11,T$7)=\"\",\"\",INDEX(E_SourceStreams!$A:$N,CY11,T$7)))","v":""},{"$f":"IF($E11=\"\",\"\",IF(INDEX(E_SourceStreams!$A:$N,CZ11,U$7)=\"\",\"\",INDEX(E_SourceStreams!$A:$N,CZ11,U$7)))","v":""},{"$f":"IF($E11=\"\",\"\",IF(INDEX(E_SourceStreams!$A:$N,DA11,V$7)=\"\",\"\",INDEX(E_SourceStreams!$A:$N,DA11,V$7)))","v":""},{"$f":"IF($E11=\"\",\"\",IF(INDEX(E_SourceStreams!$A:$N,DB11,W$7)=\"\",\"\",INDEX(E_SourceStreams!$A:$N,DB11,W$7)))","v":""},{"$f":"IF($E11=\"\",\"\",IF(INDEX(E_SourceStreams!$A:$N,DC11,X$7)=\"\",\"\",INDEX(E_SourceStreams!$A:$N,DC11,X$7)))","v":""},{"$f":"IF($E11=\"\",\"\",IF(INDEX(E_SourceStreams!$A:$N,DD11,Y$7)=\"\",\"\",INDEX(E_SourceStreams!$A:$N,DD11,Y$7)))","v":""},{"$f":"IF($E11=\"\",\"\",IF(INDEX(E_SourceStreams!$A:$N,DE11,Z$7)=\"\",\"\",INDEX(E_SourceStreams!$A:$N,DE11,Z$7)))","v":""},{"$f":"IF($E11=\"\",\"\",IF(INDEX(E_SourceStreams!$A:$N,DF11,AA$7)=\"\",\"\",INDEX(E_SourceStreams!$A:$N,DF11,AA$7)))","v":""},{"$f":"IF($E11=\"\",\"\",IF(INDEX(E_SourceStreams!$A:$N,DG11,AB$7)=\"\",\"\",INDEX(E_SourceStreams!$A:$N,DG11,AB$7)))","v":""},{"$f":"IF($E11=\"\",\"\",IF(INDEX(E_SourceStreams!$A:$N,DH11,AC$7)=\"\",\"\",INDEX(E_SourceStreams!$A:$N,DH11,AC$7)))","v":""},{"$f":"IF($E11=\"\",\"\",IF(INDEX(E_SourceStreams!$A:$N,DI11,AD$7)=\"\",\"\",INDEX(E_SourceStreams!$A:$N,DI11,AD$7)))","v":""},{"$f":"IF($E11=\"\",\"\",IF(INDEX(E_SourceStreams!$A:$N,DJ11,AE$7)=\"\",\"\",INDEX(E_SourceStreams!$A:$N,DJ11,AE$7)))","v":""},{"$f":"IF($E11=\"\",\"\",IF(INDEX(E_SourceStreams!$A:$N,DK11,AF$7)=\"\",\"\",INDEX(E_SourceStreams!$A:$N,DK11,AF$7)))","v":""},{"$f":"IF($E11=\"\",\"\",IF(INDEX(E_SourceStreams!$A:$N,DL11,AG$7)=\"\",\"\",INDEX(E_SourceStreams!$A:$N,DL11,AG$7)))","v":""},{"$f":"IF($E11=\"\",\"\",IF(INDEX(E_SourceStreams!$A:$N,DM11,AH$7)=\"\",\"\",INDEX(E_SourceStreams!$A:$N,DM11,AH$7)))","v":""},{"$f":"IF($E11=\"\",\"\",IF(INDEX(E_SourceStreams!$A:$N,DN11,AI$7)=\"\",\"\",INDEX(E_SourceStreams!$A:$N,DN11,AI$7)))","v":""},{"$f":"IF($E11=\"\",\"\",IF(INDEX(E_SourceStreams!$A:$N,DO11,AJ$7)=\"\",\"\",INDEX(E_SourceStreams!$A:$N,DO11,AJ$7)))","v":""},{"$f":"IF($E11=\"\",\"\",IF(INDEX(E_SourceStreams!$A:$N,DP11,AK$7)=\"\",\"\",INDEX(E_SourceStreams!$A:$N,DP11,AK$7)))","v":""},{"$f":"IF($E11=\"\",\"\",IF(INDEX(E_SourceStreams!$A:$N,DQ11,AL$7)=\"\",\"\",INDEX(E_SourceStreams!$A:$N,DQ11,AL$7)))","v":""},{"$f":"IF($E11=\"\",\"\",IF(INDEX(E_SourceStreams!$A:$N,DR11,AM$7)=\"\",\"\",INDEX(E_SourceStreams!$A:$N,DR11,AM$7)))","v":""},{"$f":"IF($E11=\"\",\"\",IF(INDEX(E_SourceStreams!$A:$N,DS11,AN$7)=\"\",\"\",INDEX(E_SourceStreams!$A:$N,DS11,AN$7)))","v":""},{"$f":"IF($E11=\"\",\"\",IF(INDEX(E_SourceStreams!$A:$N,DT11,AO$7)=\"\",\"\",INDEX(E_SourceStreams!$A:$N,DT11,AO$7)))","v":""},{"$f":"IF($E11=\"\",\"\",IF(INDEX(E_SourceStreams!$A:$N,DU11,AP$7)=\"\",\"\",INDEX(E_SourceStreams!$A:$N,DU11,AP$7)))","v":""},{"$f":"IF($E11=\"\",\"\",IF(INDEX(E_SourceStreams!$A:$N,DV11,AQ$7)=\"\",\"\",INDEX(E_SourceStreams!$A:$N,DV11,AQ$7)))","v":""},{"$f":"IF($E11=\"\",\"\",IF(INDEX(E_SourceStreams!$A:$N,DW11,AR$7)=\"\",\"\",INDEX(E_SourceStreams!$A:$N,DW11,AR$7)))","v":""},{"$f":"IF($E11=\"\",\"\",IF(INDEX(E_SourceStreams!$A:$N,DX11,AS$7)=\"\",\"\",INDEX(E_SourceStreams!$A:$N,DX11,AS$7)))","v":""},{"$f":"IF($E11=\"\",\"\",IF(INDEX(E_SourceStreams!$A:$N,DY11,AT$7)=\"\",\"\",INDEX(E_SourceStreams!$A:$N,DY11,AT$7)))","v":""},{"$f":"IF($E11=\"\",\"\",IF(INDEX(E_SourceStreams!$A:$N,DZ11,AU$7)=\"\",\"\",INDEX(E_SourceStreams!$A:$N,DZ11,AU$7)))","v":""},{"$f":"IF($E11=\"\",\"\",IF(INDEX(E_SourceStreams!$A:$N,EA11,AV$7)=\"\",\"\",INDEX(E_SourceStreams!$A:$N,EA11,AV$7)))","v":""},{"$f":"IF($E11=\"\",\"\",IF(INDEX(E_SourceStreams!$A:$N,EB11,AW$7)=\"\",\"\",INDEX(E_SourceStreams!$A:$N,EB11,AW$7)))","v":""},{"$f":"IF($E11=\"\",\"\",IF(INDEX(E_SourceStreams!$A:$N,EC11,AX$7)=\"\",\"\",INDEX(E_SourceStreams!$A:$N,EC11,AX$7)))","v":""},{"$f":"IF($E11=\"\",\"\",IF(INDEX(E_SourceStreams!$A:$N,ED11,AY$7)=\"\",\"\",INDEX(E_SourceStreams!$A:$N,ED11,AY$7)))","v":""},{"$f":"IF($E11=\"\",\"\",IF(INDEX(E_SourceStreams!$A:$N,EE11,AZ$7)=\"\",\"\",INDEX(E_SourceStreams!$A:$N,EE11,AZ$7)))","v":""},{"$f":"IF($E11=\"\",\"\",IF(INDEX(E_SourceStreams!$A:$N,EF11,BA$7)=\"\",\"\",INDEX(E_SourceStreams!$A:$N,EF11,BA$7)))","v":""},{"$f":"IF($E11=\"\",\"\",IF(INDEX(E_SourceStreams!$A:$N,EG11,BB$7)=\"\",\"\",INDEX(E_SourceStreams!$A:$N,EG11,BB$7)))","v":""},{"$f":"IF($E11=\"\",\"\",IF(INDEX(E_SourceStreams!$A:$N,EH11,BC$7)=\"\",\"\",INDEX(E_SourceStreams!$A:$N,EH11,BC$7)))","v":""},{"$f":"IF($E11=\"\",\"\",IF(INDEX(E_SourceStreams!$A:$N,EI11,BD$7)=\"\",\"\",INDEX(E_SourceStreams!$A:$N,EI11,BD$7)))","v":""},{"$f":"IF($E11=\"\",\"\",IF(INDEX(E_SourceStreams!$A:$N,EJ11,BE$7)=\"\",\"\",INDEX(E_SourceStreams!$A:$N,EJ11,BE$7)))","v":""},{"$f":"IF($E11=\"\",\"\",IF(INDEX(E_SourceStreams!$A:$N,EK11,BF$7)=\"\",\"\",INDEX(E_SourceStreams!$A:$N,EK11,BF$7)))","v":""},{"$f":"IF($E11=\"\",\"\",IF(INDEX(E_SourceStreams!$A:$N,EL11,BG$7)=\"\",\"\",INDEX(E_SourceStreams!$A:$N,EL11,BG$7)))","v":""},{"$f":"IF($E11=\"\",\"\",IF(INDEX(E_SourceStreams!$A:$N,EM11,BH$7)=\"\",\"\",INDEX(E_SourceStreams!$A:$N,EM11,BH$7)))","v":""},{"$f":"IF($E11=\"\",\"\",IF(INDEX(E_SourceStreams!$A:$N,EN11,BI$7)=\"\",\"\",INDEX(E_SourceStreams!$A:$N,EN11,BI$7)))","v":""},{"$f":"IF($E11=\"\",\"\",IF(INDEX(E_SourceStreams!$A:$N,EO11,BJ$7)=\"\",\"\",INDEX(E_SourceStreams!$A:$N,EO11,BJ$7)))","v":""},{"$f":"IF($E11=\"\",\"\",IF(INDEX(E_SourceStreams!$A:$N,EP11,BK$7)=\"\",\"\",INDEX(E_SourceStreams!$A:$N,EP11,BK$7)))","v":""},{"$f":"IF($E11=\"\",\"\",IF(INDEX(E_SourceStreams!$A:$N,EQ11,BL$7)=\"\",\"\",INDEX(E_SourceStreams!$A:$N,EQ11,BL$7)))","v":""},{"$f":"IF($E11=\"\",\"\",IF(INDEX(E_SourceStreams!$A:$N,ER11,BM$7)=\"\",\"\",INDEX(E_SourceStreams!$A:$N,ER11,BM$7)))","v":""},{"$f":"IF($E11=\"\",\"\",IF(INDEX(E_SourceStreams!$A:$N,ES11,BN$7)=\"\",\"\",INDEX(E_SourceStreams!$A:$N,ES11,BN$7)))","v":""},{"$f":"IF($E11=\"\",\"\",IF(INDEX(E_SourceStreams!$A:$N,ET11,BO$7)=\"\",\"\",INDEX(E_SourceStreams!$A:$N,ET11,BO$7)))","v":""},{"$f":"IF($E11=\"\",\"\",IF(INDEX(E_SourceStreams!$A:$N,EU11,BP$7)=\"\",\"\",INDEX(E_SourceStreams!$A:$N,EU11,BP$7)))","v":""},{"$f":"IF($E11=\"\",\"\",IF(INDEX(E_SourceStreams!$A:$N,EV11,BQ$7)=\"\",\"\",INDEX(E_SourceStreams!$A:$N,EV11,BQ$7)))","v":""},{"$f":"IF($E11=\"\",\"\",IF(INDEX(E_SourceStreams!$A:$N,EW11,BR$7)=\"\",\"\",INDEX(E_SourceStreams!$A:$N,EW11,BR$7)))","v":""},{"$f":"IF($E11=\"\",\"\",IF(INDEX(E_SourceStreams!$A:$N,EX11,BS$7)=\"\",\"\",INDEX(E_SourceStreams!$A:$N,EX11,BS$7)))","v":""},{"$f":"IF($E11=\"\",\"\",IF(INDEX(E_SourceStreams!$A:$N,EY11,BT$7)=\"\",\"\",INDEX(E_SourceStreams!$A:$N,EY11,BT$7)))","v":""},null,null,null,null,null,null,null,null,null,null,null,null,null,null,null,{"$f":"EUconst_CNTR_SourceCategory&B11","v":"SourceCategory_"},{"$f":"INDEX(C_InstallationDescription!$A$223:$A$328,ROWS($CI$11:CI11))=\"ausblenden\"","v":false},{"$f":"EUconst_CNTR_SourceStreamName&B11","v":"SourceStreamName_"},null,52,56,61,66,71,75,80,80,80,80,80,87,91,92,93,139,161,161,161,161,161,161,161,150,162,162,162,162,162,162,162,151,163,163,163,163,163,163,163,152,164,164,164,164,164,164,164,153,165,165,165,165,165,165,165,154,166,166,166,166,166,166,166,183]
[null,{"$f":"IF(COUNTIF($CK$10:CK12,TRUE)>0,\"\",INDEX(C_InstallationDescription!$E$223:$E$239,ROWS($A$11:A12)))","v":""},{"$f":"IF($E12=\"\",\"\",INDEX(C_InstallationDescription!G:G,MATCH($B12,C_InstallationDescription!$E:$E,0)))","v":""},{"$f":"IF($E12=\"\",\"\",INDEX(C_InstallationDescription!I:I,MATCH($B12,C_InstallationDescription!$E:$E,0)))","v":""},{"$f":"IF($B12=\"\",\"\",INDEX(C_InstallationDescription!F:F,MATCH($CJ12,C_InstallationDescription!$Q:$Q,0)))","v":""},{"$f":"IF($E12=\"\",\"\",INDEX(C_InstallationDescription!L:L,MATCH($CJ12,C_InstallationDescription!$Q:$Q,0)))","v":""},{"$f":"IF($E12=\"\",\"\",INDEX(C_InstallationDescription!M:M,MATCH($CJ12,C_InstallationDescription!$Q:$Q,0)))","v":""},{"$f":"IF($E12=\"\",\"\",INDEX(C_InstallationDescription!N:N,MATCH($CJ12,C_InstallationDescription!$Q:$Q,0)))","v":""},{"$f":"IF($E12=\"\",\"\",IF(INDEX(E_SourceStreams!$A:$N,CN12,I$7)=\"\",\"\",INDEX(E_SourceStreams!$A:$N,CN12,I$7)))","v":""},{"$f":"IF($E12=\"\",\"\",IF(INDEX(E_SourceStreams!$A:$N,CO12,J$7)=\"\",\"\",INDEX(E_SourceStreams!$A:$N,CO12,J$7)))","v":""},{"$f":"IF($E12=\"\",\"\",IF(INDEX(E_SourceStreams!$A:$N,CP12,K$7)=\"\",\"\",INDEX(E_SourceStreams!$A:$N,CP12,K$7)))","v":""},{"$f":"IF($E12=\"\",\"\",IF(INDEX(E_SourceStreams!$A:$N,CQ12,L$7)=\"\",\"\",INDEX(E_SourceStreams!$A:$N,CQ12,L$7)))","v":""},{"$f":"IF($E12=\"\",\"\",IF(INDEX(E_SourceStreams!$A:$N,CR12,M$7)=\"\",\"\",INDEX(E_SourceStreams!$A:$N,CR12,M$7)))","v":""},{"$f":"IF($E12=\"\",\"\",IF(INDEX(E_SourceStreams!$A:$N,CS12,N$7)=\"\",\"\",INDEX(E_SourceStreams!$A:$N,CS12,N$7)))","v":""},{"$f":"IF($E12=\"\",\"\",IF(INDEX(E_SourceStreams!$A:$N,CT12,O$7)=\"\",\"\",INDEX(E_SourceStreams!$A:$N,CT12,O$7)))","v":""},{"$f":"IF($E12=\"\",\"\",IF(INDEX(E_SourceStreams!$A:$N,CU12,P$7)=\"\",\"\",INDEX(E_SourceStreams!$A:$N,CU12,P$7)))","v":""},{"$f":"IF($E12=\"\",\"\",IF(INDEX(E_SourceStreams!$A:$N,CV12,Q$7)=\"\",\"\",INDEX(E_SourceStreams!$A:$N,CV12,Q$7)))","v":""},{"$f":"IF($E12=\"\",\"\",IF(INDEX(E_SourceStreams!$A:$N,CW12,R$7)=\"\",\"\",INDEX(E_SourceStreams!$A:$N,CW12,R$7)))","v":""},{"$f":"IF($E12=\"\",\"\",IF(INDEX(E_SourceStreams!$A:$N,CX12,S$7)=\"\",\"\",INDEX(E_SourceStreams!$A:$N,CX12,S$7)))","v":""},{"$f":"IF($E12=\"\",\"\",IF(INDEX(E_SourceStreams!$A:$N,CY12,T$7)=\"\",\"\",INDEX(E_SourceStreams!$A:$N,CY12,T$7)))","v":""},{"$f":"IF($E12=\"\",\"\",IF(INDEX(E_SourceStreams!$A:$N,CZ12,U$7)=\"\",\"\",INDEX(E_SourceStreams!$A:$N,CZ12,U$7)))","v":""},{"$f":"IF($E12=\"\",\"\",IF(INDEX(E_SourceStreams!$A:$N,DA12,V$7)=\"\",\"\",INDEX(E_SourceStreams!$A:$N,DA12,V$7)))","v":""},{"$f":"IF($E12=\"\",\"\",IF(INDEX(E_SourceStreams!$A:$N,DB12,W$7)=\"\",\"\",INDEX(E_SourceStreams!$A:$N,DB12,W$7)))","v":""},{"$f":"IF($E12=\"\",\"\",IF(INDEX(E_SourceStreams!$A:$N,DC12,X$7)=\"\",\"\",INDEX(E_SourceStreams!$A:$N,DC12,X$7)))","v":""},{"$f":"IF($E12=\"\",\"\",IF(INDEX(E_SourceStreams!$A:$N,DD12,Y$7)=\"\",\"\",INDEX(E_SourceStreams!$A:$N,DD12,Y$7)))","v":""},{"$f":"IF($E12=\"\",\"\",IF(INDEX(E_SourceStreams!$A:$N,DE12,Z$7)=\"\",\"\",INDEX(E_SourceStreams!$A:$N,DE12,Z$7)))","v":""},{"$f":"IF($E12=\"\",\"\",IF(INDEX(E_SourceStreams!$A:$N,DF12,AA$7)=\"\",\"\",INDEX(E_SourceStreams!$A:$N,DF12,AA$7)))","v":""},{"$f":"IF($E12=\"\",\"\",IF(INDEX(E_SourceStreams!$A:$N,DG12,AB$7)=\"\",\"\",INDEX(E_SourceStreams!$A:$N,DG12,AB$7)))","v":""},{"$f":"IF($E12=\"\",\"\",IF(INDEX(E_SourceStreams!$A:$N,DH12,AC$7)=\"\",\"\",INDEX(E_SourceStreams!$A:$N,DH12,AC$7)))","v":""},{"$f":"IF($E12=\"\",\"\",IF(INDEX(E_SourceStreams!$A:$N,DI12,AD$7)=\"\",\"\",INDEX(E_SourceStreams!$A:$N,DI12,AD$7)))","v":""},{"$f":"IF($E12=\"\",\"\",IF(INDEX(E_SourceStreams!$A:$N,DJ12,AE$7)=\"\",\"\",INDEX(E_SourceStreams!$A:$N,DJ12,AE$7)))","v":""},{"$f":"IF($E12=\"\",\"\",IF(INDEX(E_SourceStreams!$A:$N,DK12,AF$7)=\"\",\"\",INDEX(E_SourceStreams!$A:$N,DK12,AF$7)))","v":""},{"$f":"IF($E12=\"\",\"\",IF(INDEX(E_SourceStreams!$A:$N,DL12,AG$7)=\"\",\"\",INDEX(E_SourceStreams!$A:$N,DL12,AG$7)))","v":""},{"$f":"IF($E12=\"\",\"\",IF(INDEX(E_SourceStreams!$A:$N,DM12,AH$7)=\"\",\"\",INDEX(E_SourceStreams!$A:$N,DM12,AH$7)))","v":""},{"$f":"IF($E12=\"\",\"\",IF(INDEX(E_SourceStreams!$A:$N,DN12,AI$7)=\"\",\"\",INDEX(E_SourceStreams!$A:$N,DN12,AI$7)))","v":""},{"$f":"IF($E12=\"\",\"\",IF(INDEX(E_SourceStreams!$A:$N,DO12,AJ$7)=\"\",\"\",INDEX(E_SourceStreams!$A:$N,DO12,AJ$7)))","v":""},{"$f":"IF($E12=\"\",\"\",IF(INDEX(E_SourceStreams!$A:$N,DP12,AK$7)=\"\",\"\",INDEX(E_SourceStreams!$A:$N,DP12,AK$7)))","v":""},{"$f":"IF($E12=\"\",\"\",IF(INDEX(E_SourceStreams!$A:$N,DQ12,AL$7)=\"\",\"\",INDEX(E_SourceStreams!$A:$N,DQ12,AL$7)))","v":""},{"$f":"IF($E12=\"\",\"\",IF(INDEX(E_SourceStreams!$A:$N,DR12,AM$7)=\"\",\"\",INDEX(E_SourceStreams!$A:$N,DR12,AM$7)))","v":""},{"$f":"IF($E12=\"\",\"\",IF(INDEX(E_SourceStreams!$A:$N,DS12,AN$7)=\"\",\"\",INDEX(E_SourceStreams!$A:$N,DS12,AN$7)))","v":""},{"$f":"IF($E12=\"\",\"\",IF(INDEX(E_SourceStreams!$A:$N,DT12,AO$7)=\"\",\"\",INDEX(E_SourceStreams!$A:$N,DT12,AO$7)))","v":""},{"$f":"IF($E12=\"\",\"\",IF(INDEX(E_SourceStreams!$A:$N,DU12,AP$7)=\"\",\"\",INDEX(E_SourceStreams!$A:$N,DU12,AP$7)))","v":""},{"$f":"IF($E12=\"\",\"\",IF(INDEX(E_SourceStreams!$A:$N,DV12,AQ$7)=\"\",\"\",INDEX(E_SourceStreams!$A:$N,DV12,AQ$7)))","v":""},{"$f":"IF($E12=\"\",\"\",IF(INDEX(E_SourceStreams!$A:$N,DW12,AR$7)=\"\",\"\",INDEX(E_SourceStreams!$A:$N,DW12,AR$7)))","v":""},{"$f":"IF($E12=\"\",\"\",IF(INDEX(E_SourceStreams!$A:$N,DX12,AS$7)=\"\",\"\",INDEX(E_SourceStreams!$A:$N,DX12,AS$7)))","v":""},{"$f":"IF($E12=\"\",\"\",IF(INDEX(E_SourceStreams!$A:$N,DY12,AT$7)=\"\",\"\",INDEX(E_SourceStreams!$A:$N,DY12,AT$7)))","v":""},{"$f":"IF($E12=\"\",\"\",IF(INDEX(E_SourceStreams!$A:$N,DZ12,AU$7)=\"\",\"\",INDEX(E_SourceStreams!$A:$N,DZ12,AU$7)))","v":""},{"$f":"IF($E12=\"\",\"\",IF(INDEX(E_SourceStreams!$A:$N,EA12,AV$7)=\"\",\"\",INDEX(E_SourceStreams!$A:$N,EA12,AV$7)))","v":""},{"$f":"IF($E12=\"\",\"\",IF(INDEX(E_SourceStreams!$A:$N,EB12,AW$7)=\"\",\"\",INDEX(E_SourceStreams!$A:$N,EB12,AW$7)))","v":""},{"$f":"IF($E12=\"\",\"\",IF(INDEX(E_SourceStreams!$A:$N,EC12,AX$7)=\"\",\"\",INDEX(E_SourceStreams!$A:$N,EC12,AX$7)))","v":""},{"$f":"IF($E12=\"\",\"\",IF(INDEX(E_SourceStreams!$A:$N,ED12,AY$7)=\"\",\"\",INDEX(E_SourceStreams!$A:$N,ED12,AY$7)))","v":""},{"$f":"IF($E12=\"\",\"\",IF(INDEX(E_SourceStreams!$A:$N,EE12,AZ$7)=\"\",\"\",INDEX(E_SourceStreams!$A:$N,EE12,AZ$7)))","v":""},{"$f":"IF($E12=\"\",\"\",IF(INDEX(E_SourceStreams!$A:$N,EF12,BA$7)=\"\",\"\",INDEX(E_SourceStreams!$A:$N,EF12,BA$7)))","v":""},{"$f":"IF($E12=\"\",\"\",IF(INDEX(E_SourceStreams!$A:$N,EG12,BB$7)=\"\",\"\",INDEX(E_SourceStreams!$A:$N,EG12,BB$7)))","v":""},{"$f":"IF($E12=\"\",\"\",IF(INDEX(E_SourceStreams!$A:$N,EH12,BC$7)=\"\",\"\",INDEX(E_SourceStreams!$A:$N,EH12,BC$7)))","v":""},{"$f":"IF($E12=\"\",\"\",IF(INDEX(E_SourceStreams!$A:$N,EI12,BD$7)=\"\",\"\",INDEX(E_SourceStreams!$A:$N,EI12,BD$7)))","v":""},{"$f":"IF($E12=\"\",\"\",IF(INDEX(E_SourceStreams!$A:$N,EJ12,BE$7)=\"\",\"\",INDEX(E_SourceStreams!$A:$N,EJ12,BE$7)))","v":""},{"$f":"IF($E12=\"\",\"\",IF(INDEX(E_SourceStreams!$A:$N,EK12,BF$7)=\"\",\"\",INDEX(E_SourceStreams!$A:$N,EK12,BF$7)))","v":""},{"$f":"IF($E12=\"\",\"\",IF(INDEX(E_SourceStreams!$A:$N,EL12,BG$7)=\"\",\"\",INDEX(E_SourceStreams!$A:$N,EL12,BG$7)))","v":""},{"$f":"IF($E12=\"\",\"\",IF(INDEX(E_SourceStreams!$A:$N,EM12,BH$7)=\"\",\"\",INDEX(E_SourceStreams!$A:$N,EM12,BH$7)))","v":""},{"$f":"IF($E12=\"\",\"\",IF(INDEX(E_SourceStreams!$A:$N,EN12,BI$7)=\"\",\"\",INDEX(E_SourceStreams!$A:$N,EN12,BI$7)))","v":""},{"$f":"IF($E12=\"\",\"\",IF(INDEX(E_SourceStreams!$A:$N,EO12,BJ$7)=\"\",\"\",INDEX(E_SourceStreams!$A:$N,EO12,BJ$7)))","v":""},{"$f":"IF($E12=\"\",\"\",IF(INDEX(E_SourceStreams!$A:$N,EP12,BK$7)=\"\",\"\",INDEX(E_SourceStreams!$A:$N,EP12,BK$7)))","v":""},{"$f":"IF($E12=\"\",\"\",IF(INDEX(E_SourceStreams!$A:$N,EQ12,BL$7)=\"\",\"\",INDEX(E_SourceStreams!$A:$N,EQ12,BL$7)))","v":""},{"$f":"IF($E12=\"\",\"\",IF(INDEX(E_SourceStreams!$A:$N,ER12,BM$7)=\"\",\"\",INDEX(E_SourceStreams!$A:$N,ER12,BM$7)))","v":""},{"$f":"IF($E12=\"\",\"\",IF(INDEX(E_SourceStreams!$A:$N,ES12,BN$7)=\"\",\"\",INDEX(E_SourceStreams!$A:$N,ES12,BN$7)))","v":""},{"$f":"IF($E12=\"\",\"\",IF(INDEX(E_SourceStreams!$A:$N,ET12,BO$7)=\"\",\"\",INDEX(E_SourceStreams!$A:$N,ET12,BO$7)))","v":""},{"$f":"IF($E12=\"\",\"\",IF(INDEX(E_SourceStreams!$A:$N,EU12,BP$7)=\"\",\"\",INDEX(E_SourceStreams!$A:$N,EU12,BP$7)))","v":""},{"$f":"IF($E12=\"\",\"\",IF(INDEX(E_SourceStreams!$A:$N,EV12,BQ$7)=\"\",\"\",INDEX(E_SourceStreams!$A:$N,EV12,BQ$7)))","v":""},{"$f":"IF($E12=\"\",\"\",IF(INDEX(E_SourceStreams!$A:$N,EW12,BR$7)=\"\",\"\",INDEX(E_SourceStreams!$A:$N,EW12,BR$7)))","v":""},{"$f":"IF($E12=\"\",\"\",IF(INDEX(E_SourceStreams!$A:$N,EX12,BS$7)=\"\",\"\",INDEX(E_SourceStreams!$A:$N,EX12,BS$7)))","v":""},{"$f":"IF($E12=\"\",\"\",IF(INDEX(E_SourceStreams!$A:$N,EY12,BT$7)=\"\",\"\",INDEX(E_SourceStreams!$A:$N,EY12,BT$7)))","v":""},null,null,null,null,null,null,null,null,null,null,null,null,null,null,null,"SourceCategory_",{"$f":"INDEX(C_InstallationDescription!$A$223:$A$328,ROWS($CI$11:CI12))=\"ausblenden\"","v":false},"SourceStreamName_",null,200,202,204,206,208,210,212,212,212,212,212,215,219,220,221,228,238,{"$f":"DD12","v":238},238,238,238,238,238,{"$f":"DC12+1","v":229},239,239,239,239,239,239,239,230,240,240,240,240,240,240,240,231,241,241,241,241,241,241,241,232,242,242,242,242,242,242,242,233,243,243,243,243,243,243,243,249]
[null,{"$f":"IF(COUNTIF($CK$10:CK13,TRUE)>0,\"\",INDEX(C_InstallationDescription!$E$223:$E$239,ROWS($A$11:A13)))","v":""},{"$f":"IF($E13=\"\",\"\",INDEX(C_InstallationDescription!G:G,MATCH($B13,C_InstallationDescription!$E:$E,0)))","v":""},{"$f":"IF($E13=\"\",\"\",INDEX(C_InstallationDescription!I:I,MATCH($B13,C_InstallationDescription!$E:$E,0)))","v":""},{"$f":"IF($B13=\"\",\"\",INDEX(C_InstallationDescription!F:F,MATCH($CJ13,C_InstallationDescription!$Q:$Q,0)))","v":""},{"$f":"IF($E13=\"\",\"\",INDEX(C_InstallationDescription!L:L,MATCH($CJ13,C_InstallationDescription!$Q:$Q,0)))","v":""},{"$f":"IF($E13=\"\",\"\",INDEX(C_InstallationDescription!M:M,MATCH($CJ13,C_InstallationDescription!$Q:$Q,0)))","v":""},{"$f":"IF($E13=\"\",\"\",INDEX(C_InstallationDescription!N:N,MATCH($CJ13,C_InstallationDescription!$Q:$Q,0)))","v":""},{"$f":"IF($E13=\"\",\"\",IF(INDEX(E_SourceStreams!$A:$N,CN13,I$7)=\"\",\"\",INDEX(E_SourceStreams!$A:$N,CN13,I$7)))","v":""},{"$f":"IF($E13=\"\",\"\",IF(INDEX(E_SourceStreams!$A:$N,CO13,J$7)=\"\",\"\",INDEX(E_SourceStreams!$A:$N,CO13,J$7)))","v":""},{"$f":"IF($E13=\"\",\"\",IF(INDEX(E_SourceStreams!$A:$N,CP13,K$7)=\"\",\"\",INDEX(E_SourceStreams!$A:$N,CP13,K$7)))","v":""},{"$f":"IF($E13=\"\",\"\",IF(INDEX(E_SourceStreams!$A:$N,CQ13,L$7)=\"\",\"\",INDEX(E_SourceStreams!$A:$N,CQ13,L$7)))","v":""},{"$f":"IF($E13=\"\",\"\",IF(INDEX(E_SourceStreams!$A:$N,CR13,M$7)=\"\",\"\",INDEX(E_SourceStreams!$A:$N,CR13,M$7)))","v":""},{"$f":"IF($E13=\"\",\"\",IF(INDEX(E_SourceStreams!$A:$N,CS13,N$7)=\"\",\"\",INDEX(E_SourceStreams!$A:$N,CS13,N$7)))","v":""},{"$f":"IF($E13=\"\",\"\",IF(INDEX(E_SourceStreams!$A:$N,CT13,O$7)=\"\",\"\",INDEX(E_SourceStreams!$A:$N,CT13,O$7)))","v":""},{"$f":"IF($E13=\"\",\"\",IF(INDEX(E_SourceStreams!$A:$N,CU13,P$7)=\"\",\"\",INDEX(E_SourceStreams!$A:$N,CU13,P$7)))","v":""},{"$f":"IF($E13=\"\",\"\",IF(INDEX(E_SourceStreams!$A:$N,CV13,Q$7)=\"\",\"\",INDEX(E_SourceStreams!$A:$N,CV13,Q$7)))","v":""},{"$f":"IF($E13=\"\",\"\",IF(INDEX(E_SourceStreams!$A:$N,CW13,R$7)=\"\",\"\",INDEX(E_SourceStreams!$A:$N,CW13,R$7)))","v":""},{"$f":"IF($E13=\"\",\"\",IF(INDEX(E_SourceStreams!$A:$N,CX13,S$7)=\"\",\"\",INDEX(E_SourceStreams!$A:$N,CX13,S$7)))","v":""},{"$f":"IF($E13=\"\",\"\",IF(INDEX(E_SourceStreams!$A:$N,CY13,T$7)=\"\",\"\",INDEX(E_SourceStreams!$A:$N,CY13,T$7)))","v":""},{"$f":"IF($E13=\"\",\"\",IF(INDEX(E_SourceStreams!$A:$N,CZ13,U$7)=\"\",\"\",INDEX(E_SourceStreams!$A:$N,CZ13,U$7)))","v":""},{"$f":"IF($E13=\"\",\"\",IF(INDEX(E_SourceStreams!$A:$N,DA13,V$7)=\"\",\"\",INDEX(E_SourceStreams!$A:$N,DA13,V$7)))","v":""},{"$f":"IF($E13=\"\",\"\",IF(INDEX(E_SourceStreams!$A:$N,DB13,W$7)=\"\",\"\",INDEX(E_SourceStreams!$A:$N,DB13,W$7)))","v":""},{"$f":"IF($E13=\"\",\"\",IF(INDEX(E_SourceStreams!$A:$N,DC13,X$7)=\"\",\"\",INDEX(E_SourceStreams!$A:$N,DC13,X$7)))","v":""},{"$f":"IF($E13=\"\",\"\",IF(INDEX(E_SourceStreams!$A:$N,DD13,Y$7)=\"\",\"\",INDEX(E_SourceStreams!$A:$N,DD13,Y$7)))","v":""},{"$f":"IF($E13=\"\",\"\",IF(INDEX(E_SourceStreams!$A:$N,DE13,Z$7)=\"\",\"\",INDEX(E_SourceStreams!$A:$N,DE13,Z$7)))","v":""},{"$f":"IF($E13=\"\",\"\",IF(INDEX(E_SourceStreams!$A:$N,DF13,AA$7)=\"\",\"\",INDEX(E_SourceStreams!$A:$N,DF13,AA$7)))","v":""},{"$f":"IF($E13=\"\",\"\",IF(INDEX(E_SourceStreams!$A:$N,DG13,AB$7)=\"\",\"\",INDEX(E_SourceStreams!$A:$N,DG13,AB$7)))","v":""},{"$f":"IF($E13=\"\",\"\",IF(INDEX(E_SourceStreams!$A:$N,DH13,AC$7)=\"\",\"\",INDEX(E_SourceStreams!$A:$N,DH13,AC$7)))","v":""},{"$f":"IF($E13=\"\",\"\",IF(INDEX(E_SourceStreams!$A:$N,DI13,AD$7)=\"\",\"\",INDEX(E_SourceStreams!$A:$N,DI13,AD$7)))","v":""},{"$f":"IF($E13=\"\",\"\",IF(INDEX(E_SourceStreams!$A:$N,DJ13,AE$7)=\"\",\"\",INDEX(E_SourceStreams!$A:$N,DJ13,AE$7)))","v":""},{"$f":"IF($E13=\"\",\"\",IF(INDEX(E_SourceStreams!$A:$N,DK13,AF$7)=\"\",\"\",INDEX(E_SourceStreams!$A:$N,DK13,AF$7)))","v":""},{"$f":"IF($E13=\"\",\"\",IF(INDEX(E_SourceStreams!$A:$N,DL13,AG$7)=\"\",\"\",INDEX(E_SourceStreams!$A:$N,DL13,AG$7)))","v":""},{"$f":"IF($E13=\"\",\"\",IF(INDEX(E_SourceStreams!$A:$N,DM13,AH$7)=\"\",\"\",INDEX(E_SourceStreams!$A:$N,DM13,AH$7)))","v":""},{"$f":"IF($E13=\"\",\"\",IF(INDEX(E_SourceStreams!$A:$N,DN13,AI$7)=\"\",\"\",INDEX(E_SourceStreams!$A:$N,DN13,AI$7)))","v":""},{"$f":"IF($E13=\"\",\"\",IF(INDEX(E_SourceStreams!$A:$N,DO13,AJ$7)=\"\",\"\",INDEX(E_SourceStreams!$A:$N,DO13,AJ$7)))","v":""},{"$f":"IF($E13=\"\",\"\",IF(INDEX(E_SourceStreams!$A:$N,DP13,AK$7)=\"\",\"\",INDEX(E_SourceStreams!$A:$N,DP13,AK$7)))","v":""},{"$f":"IF($E13=\"\",\"\",IF(INDEX(E_SourceStreams!$A:$N,DQ13,AL$7)=\"\",\"\",INDEX(E_SourceStreams!$A:$N,DQ13,AL$7)))","v":""},{"$f":"IF($E13=\"\",\"\",IF(INDEX(E_SourceStreams!$A:$N,DR13,AM$7)=\"\",\"\",INDEX(E_SourceStreams!$A:$N,DR13,AM$7)))","v":""},{"$f":"IF($E13=\"\",\"\",IF(INDEX(E_SourceStreams!$A:$N,DS13,AN$7)=\"\",\"\",INDEX(E_SourceStreams!$A:$N,DS13,AN$7)))","v":""},{"$f":"IF($E13=\"\",\"\",IF(INDEX(E_SourceStreams!$A:$N,DT13,AO$7)=\"\",\"\",INDEX(E_SourceStreams!$A:$N,DT13,AO$7)))","v":""},{"$f":"IF($E13=\"\",\"\",IF(INDEX(E_SourceStreams!$A:$N,DU13,AP$7)=\"\",\"\",INDEX(E_SourceStreams!$A:$N,DU13,AP$7)))","v":""},{"$f":"IF($E13=\"\",\"\",IF(INDEX(E_SourceStreams!$A:$N,DV13,AQ$7)=\"\",\"\",INDEX(E_SourceStreams!$A:$N,DV13,AQ$7)))","v":""},{"$f":"IF($E13=\"\",\"\",IF(INDEX(E_SourceStreams!$A:$N,DW13,AR$7)=\"\",\"\",INDEX(E_SourceStreams!$A:$N,DW13,AR$7)))","v":""},{"$f":"IF($E13=\"\",\"\",IF(INDEX(E_SourceStreams!$A:$N,DX13,AS$7)=\"\",\"\",INDEX(E_SourceStreams!$A:$N,DX13,AS$7)))","v":""},{"$f":"IF($E13=\"\",\"\",IF(INDEX(E_SourceStreams!$A:$N,DY13,AT$7)=\"\",\"\",INDEX(E_SourceStreams!$A:$N,DY13,AT$7)))","v":""},{"$f":"IF($E13=\"\",\"\",IF(INDEX(E_SourceStreams!$A:$N,DZ13,AU$7)=\"\",\"\",INDEX(E_SourceStreams!$A:$N,DZ13,AU$7)))","v":""},{"$f":"IF($E13=\"\",\"\",IF(INDEX(E_SourceStreams!$A:$N,EA13,AV$7)=\"\",\"\",INDEX(E_SourceStreams!$A:$N,EA13,AV$7)))","v":""},{"$f":"IF($E13=\"\",\"\",IF(INDEX(E_SourceStreams!$A:$N,EB13,AW$7)=\"\",\"\",INDEX(E_SourceStreams!$A:$N,EB13,AW$7)))","v":""},{"$f":"IF($E13=\"\",\"\",IF(INDEX(E_SourceStreams!$A:$N,EC13,AX$7)=\"\",\"\",INDEX(E_SourceStreams!$A:$N,EC13,AX$7)))","v":""},{"$f":"IF($E13=\"\",\"\",IF(INDEX(E_SourceStreams!$A:$N,ED13,AY$7)=\"\",\"\",INDEX(E_SourceStreams!$A:$N,ED13,AY$7)))","v":""},{"$f":"IF($E13=\"\",\"\",IF(INDEX(E_SourceStreams!$A:$N,EE13,AZ$7)=\"\",\"\",INDEX(E_SourceStreams!$A:$N,EE13,AZ$7)))","v":""},{"$f":"IF($E13=\"\",\"\",IF(INDEX(E_SourceStreams!$A:$N,EF13,BA$7)=\"\",\"\",INDEX(E_SourceStreams!$A:$N,EF13,BA$7)))","v":""},{"$f":"IF($E13=\"\",\"\",IF(INDEX(E_SourceStreams!$A:$N,EG13,BB$7)=\"\",\"\",INDEX(E_SourceStreams!$A:$N,EG13,BB$7)))","v":""},{"$f":"IF($E13=\"\",\"\",IF(INDEX(E_SourceStreams!$A:$N,EH13,BC$7)=\"\",\"\",INDEX(E_SourceStreams!$A:$N,EH13,BC$7)))","v":""},{"$f":"IF($E13=\"\",\"\",IF(INDEX(E_SourceStreams!$A:$N,EI13,BD$7)=\"\",\"\",INDEX(E_SourceStreams!$A:$N,EI13,BD$7)))","v":""},{"$f":"IF($E13=\"\",\"\",IF(INDEX(E_SourceStreams!$A:$N,EJ13,BE$7)=\"\",\"\",INDEX(E_SourceStreams!$A:$N,EJ13,BE$7)))","v":""},{"$f":"IF($E13=\"\",\"\",IF(INDEX(E_SourceStreams!$A:$N,EK13,BF$7)=\"\",\"\",INDEX(E_SourceStreams!$A:$N,EK13,BF$7)))","v":""},{"$f":"IF($E13=\"\",\"\",IF(INDEX(E_SourceStreams!$A:$N,EL13,BG$7)=\"\",\"\",INDEX(E_SourceStreams!$A:$N,EL13,BG$7)))","v":""},{"$f":"IF($E13=\"\",\"\",IF(INDEX(E_SourceStreams!$A:$N,EM13,BH$7)=\"\",\"\",INDEX(E_SourceStreams!$A:$N,EM13,BH$7)))","v":""},{"$f":"IF($E13=\"\",\"\",IF(INDEX(E_SourceStreams!$A:$N,EN13,BI$7)=\"\",\"\",INDEX(E_SourceStreams!$A:$N,EN13,BI$7)))","v":""},{"$f":"IF($E13=\"\",\"\",IF(INDEX(E_SourceStreams!$A:$N,EO13,BJ$7)=\"\",\"\",INDEX(E_SourceStreams!$A:$N,EO13,BJ$7)))","v":""},{"$f":"IF($E13=\"\",\"\",IF(INDEX(E_SourceStreams!$A:$N,EP13,BK$7)=\"\",\"\",INDEX(E_SourceStreams!$A:$N,EP13,BK$7)))","v":""},{"$f":"IF($E13=\"\",\"\",IF(INDEX(E_SourceStreams!$A:$N,EQ13,BL$7)=\"\",\"\",INDEX(E_SourceStreams!$A:$N,EQ13,BL$7)))","v":""},{"$f":"IF($E13=\"\",\"\",IF(INDEX(E_SourceStreams!$A:$N,ER13,BM$7)=\"\",\"\",INDEX(E_SourceStreams!$A:$N,ER13,BM$7)))","v":""},{"$f":"IF($E13=\"\",\"\",IF(INDEX(E_SourceStreams!$A:$N,ES13,BN$7)=\"\",\"\",INDEX(E_SourceStreams!$A:$N,ES13,BN$7)))","v":""},{"$f":"IF($E13=\"\",\"\",IF(INDEX(E_SourceStreams!$A:$N,ET13,BO$7)=\"\",\"\",INDEX(E_SourceStreams!$A:$N,ET13,BO$7)))","v":""},{"$f":"IF($E13=\"\",\"\",IF(INDEX(E_SourceStreams!$A:$N,EU13,BP$7)=\"\",\"\",INDEX(E_SourceStreams!$A:$N,EU13,BP$7)))","v":""},{"$f":"IF($E13=\"\",\"\",IF(INDEX(E_SourceStreams!$A:$N,EV13,BQ$7)=\"\",\"\",INDEX(E_SourceStreams!$A:$N,EV13,BQ$7)))","v":""},{"$f":"IF($E13=\"\",\"\",IF(INDEX(E_SourceStreams!$A:$N,EW13,BR$7)=\"\",\"\",INDEX(E_SourceStreams!$A:$N,EW13,BR$7)))","v":""},{"$f":"IF($E13=\"\",\"\",IF(INDEX(E_SourceStreams!$A:$N,EX13,BS$7)=\"\",\"\",INDEX(E_SourceStreams!$A:$N,EX13,BS$7)))","v":""},{"$f":"IF($E13=\"\",\"\",IF(INDEX(E_SourceStreams!$A:$N,EY13,BT$7)=\"\",\"\",INDEX(E_SourceStreams!$A:$N,EY13,BT$7)))","v":""},null,null,null,null,null,null,null,null,null,null,null,null,null,null,null,"SourceCategory_",{"$f":"INDEX(C_InstallationDescription!$A$223:$A$328,ROWS($CI$11:CI13))=\"ausblenden\"","v":false},"SourceStreamName_",null,{"$f":"CN12+66","v":266},{"$f":"CO12+66","v":268},{"$f":"CP12+66","v":270},{"$f":"CQ12+66","v":272},{"$f":"CR12+66","v":274},{"$f":"CS12+66","v":276},{"$f":"CT12+66","v":278},{"$f":"CU12+66","v":278},{"$f":"CV12+66","v":278},{"$f":"CW12+66","v":278},{"$f":"CX12+66","v":278},{"$f":"CY12+66","v":281},{"$f":"CZ12+66","v":285},{"$f":"DA12+66","v":286},{"$f":"DB12+66","v":287},{"$f":"DC12+66","v":294},{"$f":"DD12+66","v":304},{"$f":"DE12+66","v":304},{"$f":"DF12+66","v":304},{"$f":"DG12+66","v":304},{"$f":"DH12+66","v":304},{"$f":"DI12+66","v":304},{"$f":"DJ12+66","v":304},{"$f":"DK12+66","v":295},{"$f":"DL12+66","v":305},{"$f":"DM12+66","v":305},{"$f":"DN12+66","v":305},{"$f":"DO12+66","v":305},{"$f":"DP12+66","v":305},{"$f":"DQ12+66","v":305},{"$f":"DR12+66","v":305},{"$f":"DS12+66","v":296},{"$f":"DT12+66","v":306},{"$f":"DU12+66","v":306},{"$f":"DV12+66","v":306},{"$f":"DW12+66","v":306},{"$f":"DX12+66","v":306},{"$f":"DY12+66","v":306},{"$f":"DZ12+66","v":306},{"$f":"EA12+66","v":297},{"$f":"EB12+66","v":307},{"$f":"EC12+66","v":307},{"$f":"ED12+66","v":307},{"$f":"EE12+66","v":307},{"$f":"EF12+66","v":307},{"$f":"EG12+66","v":307},{"$f":"EH12+66","v":307},{"$f":"EI12+66","v":298},{"$f":"EJ12+66","v":308},{"$f":"EK12+66","v":308},{"$f":"EL12+66","v":308},{"$f":"EM12+66","v":308},{"$f":"EN12+66","v":308},{"$f":"EO12+66","v":308},{"$f":"EP12+66","v":308},{"$f":"EQ12+66","v":299},{"$f":"ER12+66","v":309},{"$f":"ES12+66","v":309},{"$f":"ET12+66","v":309},{"$f":"EU12+66","v":309},{"$f":"EV12+66","v":309},{"$f":"EW12+66","v":309},{"$f":"EX12+66","v":309},{"$f":"EY12+66","v":315}]
[null,{"$f":"IF(COUNTIF($CK$10:CK14,TRUE)>0,\"\",INDEX(C_InstallationDescription!$E$223:$E$239,ROWS($A$11:A14)))","v":""},{"$f":"IF($E14=\"\",\"\",INDEX(C_InstallationDescription!G:G,MATCH($B14,C_InstallationDescription!$E:$E,0)))","v":""},{"$f":"IF($E14=\"\",\"\",INDEX(C_InstallationDescription!I:I,MATCH($B14,C_InstallationDescription!$E:$E,0)))","v":""},{"$f":"IF($B14=\"\",\"\",INDEX(C_InstallationDescription!F:F,MATCH($CJ14,C_InstallationDescription!$Q:$Q,0)))","v":""},{"$f":"IF($E14=\"\",\"\",INDEX(C_InstallationDescription!L:L,MATCH($CJ14,C_InstallationDescription!$Q:$Q,0)))","v":""},{"$f":"IF($E14=\"\",\"\",INDEX(C_InstallationDescription!M:M,MATCH($CJ14,C_InstallationDescription!$Q:$Q,0)))","v":""},{"$f":"IF($E14=\"\",\"\",INDEX(C_InstallationDescription!N:N,MATCH($CJ14,C_InstallationDescription!$Q:$Q,0)))","v":""},{"$f":"IF($E14=\"\",\"\",IF(INDEX(E_SourceStreams!$A:$N,CN14,I$7)=\"\",\"\",INDEX(E_SourceStreams!$A:$N,CN14,I$7)))","v":""},{"$f":"IF($E14=\"\",\"\",IF(INDEX(E_SourceStreams!$A:$N,CO14,J$7)=\"\",\"\",INDEX(E_SourceStreams!$A:$N,CO14,J$7)))","v":""},{"$f":"IF($E14=\"\",\"\",IF(INDEX(E_SourceStreams!$A:$N,CP14,K$7)=\"\",\"\",INDEX(E_SourceStreams!$A:$N,CP14,K$7)))","v":""},{"$f":"IF($E14=\"\",\"\",IF(INDEX(E_SourceStreams!$A:$N,CQ14,L$7)=\"\",\"\",INDEX(E_SourceStreams!$A:$N,CQ14,L$7)))","v":""},{"$f":"IF($E14=\"\",\"\",IF(INDEX(E_SourceStreams!$A:$N,CR14,M$7)=\"\",\"\",INDEX(E_SourceStreams!$A:$N,CR14,M$7)))","v":""},{"$f":"IF($E14=\"\",\"\",IF(INDEX(E_SourceStreams!$A:$N,CS14,N$7)=\"\",\"\",INDEX(E_SourceStreams!$A:$N,CS14,N$7)))","v":""},{"$f":"IF($E14=\"\",\"\",IF(INDEX(E_SourceStreams!$A:$N,CT14,O$7)=\"\",\"\",INDEX(E_SourceStreams!$A:$N,CT14,O$7)))","v":""},{"$f":"IF($E14=\"\",\"\",IF(INDEX(E_SourceStreams!$A:$N,CU14,P$7)=\"\",\"\",INDEX(E_SourceStreams!$A:$N,CU14,P$7)))","v":""},{"$f":"IF($E14=\"\",\"\",IF(INDEX(E_SourceStreams!$A:$N,CV14,Q$7)=\"\",\"\",INDEX(E_SourceStreams!$A:$N,CV14,Q$7)))","v":""},{"$f":"IF($E14=\"\",\"\",IF(INDEX(E_SourceStreams!$A:$N,CW14,R$7)=\"\",\"\",INDEX(E_SourceStreams!$A:$N,CW14,R$7)))","v":""},{"$f":"IF($E14=\"\",\"\",IF(INDEX(E_SourceStreams!$A:$N,CX14,S$7)=\"\",\"\",INDEX(E_SourceStreams!$A:$N,CX14,S$7)))","v":""},{"$f":"IF($E14=\"\",\"\",IF(INDEX(E_SourceStreams!$A:$N,CY14,T$7)=\"\",\"\",INDEX(E_SourceStreams!$A:$N,CY14,T$7)))","v":""},{"$f":"IF($E14=\"\",\"\",IF(INDEX(E_SourceStreams!$A:$N,CZ14,U$7)=\"\",\"\",INDEX(E_SourceStreams!$A:$N,CZ14,U$7)))","v":""},{"$f":"IF($E14=\"\",\"\",IF(INDEX(E_SourceStreams!$A:$N,DA14,V$7)=\"\",\"\",INDEX(E_SourceStreams!$A:$N,DA14,V$7)))","v":""},{"$f":"IF($E14=\"\",\"\",IF(INDEX(E_SourceStreams!$A:$N,DB14,W$7)=\"\",\"\",INDEX(E_SourceStreams!$A:$N,DB14,W$7)))","v":""},{"$f":"IF($E14=\"\",\"\",IF(INDEX(E_SourceStreams!$A:$N,DC14,X$7)=\"\",\"\",INDEX(E_SourceStreams!$A:$N,DC14,X$7)))","v":""},{"$f":"IF($E14=\"\",\"\",IF(INDEX(E_SourceStreams!$A:$N,DD14,Y$7)=\"\",\"\",INDEX(E_SourceStreams!$A:$N,DD14,Y$7)))","v":""},{"$f":"IF($E14=\"\",\"\",IF(INDEX(E_SourceStreams!$A:$N,DE14,Z$7)=\"\",\"\",INDEX(E_SourceStreams!$A:$N,DE14,Z$7)))","v":""},{"$f":"IF($E14=\"\",\"\",IF(INDEX(E_SourceStreams!$A:$N,DF14,AA$7)=\"\",\"\",INDEX(E_SourceStreams!$A:$N,DF14,AA$7)))","v":""},{"$f":"IF($E14=\"\",\"\",IF(INDEX(E_SourceStreams!$A:$N,DG14,AB$7)=\"\",\"\",INDEX(E_SourceStreams!$A:$N,DG14,AB$7)))","v":""},{"$f":"IF($E14=\"\",\"\",IF(INDEX(E_SourceStreams!$A:$N,DH14,AC$7)=\"\",\"\",INDEX(E_SourceStreams!$A:$N,DH14,AC$7)))","v":""},{"$f":"IF($E14=\"\",\"\",IF(INDEX(E_SourceStreams!$A:$N,DI14,AD$7)=\"\",\"\",INDEX(E_SourceStreams!$A:$N,DI14,AD$7)))","v":""},{"$f":"IF($E14=\"\",\"\",IF(INDEX(E_SourceStreams!$A:$N,DJ14,AE$7)=\"\",\"\",INDEX(E_SourceStreams!$A:$N,DJ14,AE$7)))","v":""},{"$f":"IF($E14=\"\",\"\",IF(INDEX(E_SourceStreams!$A:$N,DK14,AF$7)=\"\",\"\",INDEX(E_SourceStreams!$A:$N,DK14,AF$7)))","v":""},{"$f":"IF($E14=\"\",\"\",IF(INDEX(E_SourceStreams!$A:$N,DL14,AG$7)=\"\",\"\",INDEX(E_SourceStreams!$A:$N,DL14,AG$7)))","v":""},{"$f":"IF($E14=\"\",\"\",IF(INDEX(E_SourceStreams!$A:$N,DM14,AH$7)=\"\",\"\",INDEX(E_SourceStreams!$A:$N,DM14,AH$7)))","v":""},{"$f":"IF($E14=\"\",\"\",IF(INDEX(E_SourceStreams!$A:$N,DN14,AI$7)=\"\",\"\",INDEX(E_SourceStreams!$A:$N,DN14,AI$7)))","v":""},{"$f":"IF($E14=\"\",\"\",IF(INDEX(E_SourceStreams!$A:$N,DO14,AJ$7)=\"\",\"\",INDEX(E_SourceStreams!$A:$N,DO14,AJ$7)))","v":""},{"$f":"IF($E14=\"\",\"\",IF(INDEX(E_SourceStreams!$A:$N,DP14,AK$7)=\"\",\"\",INDEX(E_SourceStreams!$A:$N,DP14,AK$7)))","v":""},{"$f":"IF($E14=\"\",\"\",IF(INDEX(E_SourceStreams!$A:$N,DQ14,AL$7)=\"\",\"\",INDEX(E_SourceStreams!$A:$N,DQ14,AL$7)))","v":""},{"$f":"IF($E14=\"\",\"\",IF(INDEX(E_SourceStreams!$A:$N,DR14,AM$7)=\"\",\"\",INDEX(E_SourceStreams!$A:$N,DR14,AM$7)))","v":""},{"$f":"IF($E14=\"\",\"\",IF(INDEX(E_SourceStreams!$A:$N,DS14,AN$7)=\"\",\"\",INDEX(E_SourceStreams!$A:$N,DS14,AN$7)))","v":""},{"$f":"IF($E14=\"\",\"\",IF(INDEX(E_SourceStreams!$A:$N,DT14,AO$7)=\"\",\"\",INDEX(E_SourceStreams!$A:$N,DT14,AO$7)))","v":""},{"$f":"IF($E14=\"\",\"\",IF(INDEX(E_SourceStreams!$A:$N,DU14,AP$7)=\"\",\"\",INDEX(E_SourceStreams!$A:$N,DU14,AP$7)))","v":""},{"$f":"IF($E14=\"\",\"\",IF(INDEX(E_SourceStreams!$A:$N,DV14,AQ$7)=\"\",\"\",INDEX(E_SourceStreams!$A:$N,DV14,AQ$7)))","v":""},{"$f":"IF($E14=\"\",\"\",IF(INDEX(E_SourceStreams!$A:$N,DW14,AR$7)=\"\",\"\",INDEX(E_SourceStreams!$A:$N,DW14,AR$7)))","v":""},{"$f":"IF($E14=\"\",\"\",IF(INDEX(E_SourceStreams!$A:$N,DX14,AS$7)=\"\",\"\",INDEX(E_SourceStreams!$A:$N,DX14,AS$7)))","v":""},{"$f":"IF($E14=\"\",\"\",IF(INDEX(E_SourceStreams!$A:$N,DY14,AT$7)=\"\",\"\",INDEX(E_SourceStreams!$A:$N,DY14,AT$7)))","v":""},{"$f":"IF($E14=\"\",\"\",IF(INDEX(E_SourceStreams!$A:$N,DZ14,AU$7)=\"\",\"\",INDEX(E_SourceStreams!$A:$N,DZ14,AU$7)))","v":""},{"$f":"IF($E14=\"\",\"\",IF(INDEX(E_SourceStreams!$A:$N,EA14,AV$7)=\"\",\"\",INDEX(E_SourceStreams!$A:$N,EA14,AV$7)))","v":""},{"$f":"IF($E14=\"\",\"\",IF(INDEX(E_SourceStreams!$A:$N,EB14,AW$7)=\"\",\"\",INDEX(E_SourceStreams!$A:$N,EB14,AW$7)))","v":""},{"$f":"IF($E14=\"\",\"\",IF(INDEX(E_SourceStreams!$A:$N,EC14,AX$7)=\"\",\"\",INDEX(E_SourceStreams!$A:$N,EC14,AX$7)))","v":""},{"$f":"IF($E14=\"\",\"\",IF(INDEX(E_SourceStreams!$A:$N,ED14,AY$7)=\"\",\"\",INDEX(E_SourceStreams!$A:$N,ED14,AY$7)))","v":""},{"$f":"IF($E14=\"\",\"\",IF(INDEX(E_SourceStreams!$A:$N,EE14,AZ$7)=\"\",\"\",INDEX(E_SourceStreams!$A:$N,EE14,AZ$7)))","v":""},{"$f":"IF($E14=\"\",\"\",IF(INDEX(E_SourceStreams!$A:$N,EF14,BA$7)=\"\",\"\",INDEX(E_SourceStreams!$A:$N,EF14,BA$7)))","v":""},{"$f":"IF($E14=\"\",\"\",IF(INDEX(E_SourceStreams!$A:$N,EG14,BB$7)=\"\",\"\",INDEX(E_SourceStreams!$A:$N,EG14,BB$7)))","v":""},{"$f":"IF($E14=\"\",\"\",IF(INDEX(E_SourceStreams!$A:$N,EH14,BC$7)=\"\",\"\",INDEX(E_SourceStreams!$A:$N,EH14,BC$7)))","v":""},{"$f":"IF($E14=\"\",\"\",IF(INDEX(E_SourceStreams!$A:$N,EI14,BD$7)=\"\",\"\",INDEX(E_SourceStreams!$A:$N,EI14,BD$7)))","v":""},{"$f":"IF($E14=\"\",\"\",IF(INDEX(E_SourceStreams!$A:$N,EJ14,BE$7)=\"\",\"\",INDEX(E_SourceStreams!$A:$N,EJ14,BE$7)))","v":""},{"$f":"IF($E14=\"\",\"\",IF(INDEX(E_SourceStreams!$A:$N,EK14,BF$7)=\"\",\"\",INDEX(E_SourceStreams!$A:$N,EK14,BF$7)))","v":""},{"$f":"IF($E14=\"\",\"\",IF(INDEX(E_SourceStreams!$A:$N,EL14,BG$7)=\"\",\"\",INDEX(E_SourceStreams!$A:$N,EL14,BG$7)))","v":""},{"$f":"IF($E14=\"\",\"\",IF(INDEX(E_SourceStreams!$A:$N,EM14,BH$7)=\"\",\"\",INDEX(E_SourceStreams!$A:$N,EM14,BH$7)))","v":""},{"$f":"IF($E14=\"\",\"\",IF(INDEX(E_SourceStreams!$A:$N,EN14,BI$7)=\"\",\"\",INDEX(E_SourceStreams!$A:$N,EN14,BI$7)))","v":""},{"$f":"IF($E14=\"\",\"\",IF(INDEX(E_SourceStreams!$A:$N,EO14,BJ$7)=\"\",\"\",INDEX(E_SourceStreams!$A:$N,EO14,BJ$7)))","v":""},{"$f":"IF($E14=\"\",\"\",IF(INDEX(E_SourceStreams!$A:$N,EP14,BK$7)=\"\",\"\",INDEX(E_SourceStreams!$A:$N,EP14,BK$7)))","v":""},{"$f":"IF($E14=\"\",\"\",IF(INDEX(E_SourceStreams!$A:$N,EQ14,BL$7)=\"\",\"\",INDEX(E_SourceStreams!$A:$N,EQ14,BL$7)))","v":""},{"$f":"IF($E14=\"\",\"\",IF(INDEX(E_SourceStreams!$A:$N,ER14,BM$7)=\"\",\"\",INDEX(E_SourceStreams!$A:$N,ER14,BM$7)))","v":""},{"$f":"IF($E14=\"\",\"\",IF(INDEX(E_SourceStreams!$A:$N,ES14,BN$7)=\"\",\"\",INDEX(E_SourceStreams!$A:$N,ES14,BN$7)))","v":""},{"$f":"IF($E14=\"\",\"\",IF(INDEX(E_SourceStreams!$A:$N,ET14,BO$7)=\"\",\"\",INDEX(E_SourceStreams!$A:$N,ET14,BO$7)))","v":""},{"$f":"IF($E14=\"\",\"\",IF(INDEX(E_SourceStreams!$A:$N,EU14,BP$7)=\"\",\"\",INDEX(E_SourceStreams!$A:$N,EU14,BP$7)))","v":""},{"$f":"IF($E14=\"\",\"\",IF(INDEX(E_SourceStreams!$A:$N,EV14,BQ$7)=\"\",\"\",INDEX(E_SourceStreams!$A:$N,EV14,BQ$7)))","v":""},{"$f":"IF($E14=\"\",\"\",IF(INDEX(E_SourceStreams!$A:$N,EW14,BR$7)=\"\",\"\",INDEX(E_SourceStreams!$A:$N,EW14,BR$7)))","v":""},{"$f":"IF($E14=\"\",\"\",IF(INDEX(E_SourceStreams!$A:$N,EX14,BS$7)=\"\",\"\",INDEX(E_SourceStreams!$A:$N,EX14,BS$7)))","v":""},{"$f":"IF($E14=\"\",\"\",IF(INDEX(E_SourceStreams!$A:$N,EY14,BT$7)=\"\",\"\",INDEX(E_SourceStreams!$A:$N,EY14,BT$7)))","v":""},null,null,null,null,null,null,null,null,null,null,null,null,null,null,null,"SourceCategory_",{"$f":"INDEX(C_InstallationDescription!$A$223:$A$328,ROWS($CI$11:CI14))=\"ausblenden\"","v":false},"SourceStreamName_",null,{"$f":"CN13+66","v":332},334,336,338,340,342,344,344,344,344,344,347,351,352,353,360,370,370,370,370,370,370,370,361,371,371,371,371,371,371,371,362,372,372,372,372,372,372,372,363,373,373,373,373,373,373,373,364,374,374,374,374,374,374,374,365,375,375,375,375,375,375,375,381]
[null,{"$f":"IF(COUNTIF($CK$10:CK15,TRUE)>0,\"\",INDEX(C_InstallationDescription!$E$223:$E$239,ROWS($A$11:A15)))","v":""},{"$f":"IF($E15=\"\",\"\",INDEX(C_InstallationDescription!G:G,MATCH($B15,C_InstallationDescription!$E:$E,0)))","v":""},{"$f":"IF($E15=\"\",\"\",INDEX(C_InstallationDescription!I:I,MATCH($B15,C_InstallationDescription!$E:$E,0)))","v":""},{"$f":"IF($B15=\"\",\"\",INDEX(C_InstallationDescription!F:F,MATCH($CJ15,C_InstallationDescription!$Q:$Q,0)))","v":""},{"$f":"IF($E15=\"\",\"\",INDEX(C_InstallationDescription!L:L,MATCH($CJ15,C_InstallationDescription!$Q:$Q,0)))","v":""},{"$f":"IF($E15=\"\",\"\",INDEX(C_InstallationDescription!M:M,MATCH($CJ15,C_InstallationDescription!$Q:$Q,0)))","v":""},{"$f":"IF($E15=\"\",\"\",INDEX(C_InstallationDescription!N:N,MATCH($CJ15,C_InstallationDescription!$Q:$Q,0)))","v":""},{"$f":"IF($E15=\"\",\"\",IF(INDEX(E_SourceStreams!$A:$N,CN15,I$7)=\"\",\"\",INDEX(E_SourceStreams!$A:$N,CN15,I$7)))","v":""},{"$f":"IF($E15=\"\",\"\",IF(INDEX(E_SourceStreams!$A:$N,CO15,J$7)=\"\",\"\",INDEX(E_SourceStreams!$A:$N,CO15,J$7)))","v":""},{"$f":"IF($E15=\"\",\"\",IF(INDEX(E_SourceStreams!$A:$N,CP15,K$7)=\"\",\"\",INDEX(E_SourceStreams!$A:$N,CP15,K$7)))","v":""},{"$f":"IF($E15=\"\",\"\",IF(INDEX(E_SourceStreams!$A:$N,CQ15,L$7)=\"\",\"\",INDEX(E_SourceStreams!$A:$N,CQ15,L$7)))","v":""},{"$f":"IF($E15=\"\",\"\",IF(INDEX(E_SourceStreams!$A:$N,CR15,M$7)=\"\",\"\",INDEX(E_SourceStreams!$A:$N,CR15,M$7)))","v":""},{"$f":"IF($E15=\"\",\"\",IF(INDEX(E_SourceStreams!$A:$N,CS15,N$7)=\"\",\"\",INDEX(E_SourceStreams!$A:$N,CS15,N$7)))","v":""},{"$f":"IF($E15=\"\",\"\",IF(INDEX(E_SourceStreams!$A:$N,CT15,O$7)=\"\",\"\",INDEX(E_SourceStreams!$A:$N,CT15,O$7)))","v":""},{"$f":"IF($E15=\"\",\"\",IF(INDEX(E_SourceStreams!$A:$N,CU15,P$7)=\"\",\"\",INDEX(E_SourceStreams!$A:$N,CU15,P$7)))","v":""},{"$f":"IF($E15=\"\",\"\",IF(INDEX(E_SourceStreams!$A:$N,CV15,Q$7)=\"\",\"\",INDEX(E_SourceStreams!$A:$N,CV15,Q$7)))","v":""},{"$f":"IF($E15=\"\",\"\",IF(INDEX(E_SourceStreams!$A:$N,CW15,R$7)=\"\",\"\",INDEX(E_SourceStreams!$A:$N,CW15,R$7)))","v":""},{"$f":"IF($E15=\"\",\"\",IF(INDEX(E_SourceStreams!$A:$N,CX15,S$7)=\"\",\"\",INDEX(E_SourceStreams!$A:$N,CX15,S$7)))","v":""},{"$f":"IF($E15=\"\",\"\",IF(INDEX(E_SourceStreams!$A:$N,CY15,T$7)=\"\",\"\",INDEX(E_SourceStreams!$A:$N,CY15,T$7)))","v":""},{"$f":"IF($E15=\"\",\"\",IF(INDEX(E_SourceStreams!$A:$N,CZ15,U$7)=\"\",\"\",INDEX(E_SourceStreams!$A:$N,CZ15,U$7)))","v":""},{"$f":"IF($E15=\"\",\"\",IF(INDEX(E_SourceStreams!$A:$N,DA15,V$7)=\"\",\"\",INDEX(E_SourceStreams!$A:$N,DA15,V$7)))","v":""},{"$f":"IF($E15=\"\",\"\",IF(INDEX(E_SourceStreams!$A:$N,DB15,W$7)=\"\",\"\",INDEX(E_SourceStreams!$A:$N,DB15,W$7)))","v":""},{"$f":"IF($E15=\"\",\"\",IF(INDEX(E_SourceStreams!$A:$N,DC15,X$7)=\"\",\"\",INDEX(E_SourceStreams!$A:$N,DC15,X$7)))","v":""},{"$f":"IF($E15=\"\",\"\",IF(INDEX(E_SourceStreams!$A:$N,DD15,Y$7)=\"\",\"\",INDEX(E_SourceStreams!$A:$N,DD15,Y$7)))","v":""},{"$f":"IF($E15=\"\",\"\",IF(INDEX(E_SourceStreams!$A:$N,DE15,Z$7)=\"\",\"\",INDEX(E_SourceStreams!$A:$N,DE15,Z$7)))","v":""},{"$f":"IF($E15=\"\",\"\",IF(INDEX(E_SourceStreams!$A:$N,DF15,AA$7)=\"\",\"\",INDEX(E_SourceStreams!$A:$N,DF15,AA$7)))","v":""},{"$f":"IF($E15=\"\",\"\",IF(INDEX(E_SourceStreams!$A:$N,DG15,AB$7)=\"\",\"\",INDEX(E_SourceStreams!$A:$N,DG15,AB$7)))","v":""},{"$f":"IF($E15=\"\",\"\",IF(INDEX(E_SourceStreams!$A:$N,DH15,AC$7)=\"\",\"\",INDEX(E_SourceStreams!$A:$N,DH15,AC$7)))","v":""},{"$f":"IF($E15=\"\",\"\",IF(INDEX(E_SourceStreams!$A:$N,DI15,AD$7)=\"\",\"\",INDEX(E_SourceStreams!$A:$N,DI15,AD$7)))","v":""},{"$f":"IF($E15=\"\",\"\",IF(INDEX(E_SourceStreams!$A:$N,DJ15,AE$7)=\"\",\"\",INDEX(E_SourceStreams!$A:$N,DJ15,AE$7)))","v":""},{"$f":"IF($E15=\"\",\"\",IF(INDEX(E_SourceStreams!$A:$N,DK15,AF$7)=\"\",\"\",INDEX(E_SourceStreams!$A:$N,DK15,AF$7)))","v":""},{"$f":"IF($E15=\"\",\"\",IF(INDEX(E_SourceStreams!$A:$N,DL15,AG$7)=\"\",\"\",INDEX(E_SourceStreams!$A:$N,DL15,AG$7)))","v":""},{"$f":"IF($E15=\"\",\"\",IF(INDEX(E_SourceStreams!$A:$N,DM15,AH$7)=\"\",\"\",INDEX(E_SourceStreams!$A:$N,DM15,AH$7)))","v":""},{"$f":"IF($E15=\"\",\"\",IF(INDEX(E_SourceStreams!$A:$N,DN15,AI$7)=\"\",\"\",INDEX(E_SourceStreams!$A:$N,DN15,AI$7)))","v":""},{"$f":"IF($E15=\"\",\"\",IF(INDEX(E_SourceStreams!$A:$N,DO15,AJ$7)=\"\",\"\",INDEX(E_SourceStreams!$A:$N,DO15,AJ$7)))","v":""},{"$f":"IF($E15=\"\",\"\",IF(INDEX(E_SourceStreams!$A:$N,DP15,AK$7)=\"\",\"\",INDEX(E_SourceStreams!$A:$N,DP15,AK$7)))","v":""},{"$f":"IF($E15=\"\",\"\",IF(INDEX(E_SourceStreams!$A:$N,DQ15,AL$7)=\"\",\"\",INDEX(E_SourceStreams!$A:$N,DQ15,AL$7)))","v":""},{"$f":"IF($E15=\"\",\"\",IF(INDEX(E_SourceStreams!$A:$N,DR15,AM$7)=\"\",\"\",INDEX(E_SourceStreams!$A:$N,DR15,AM$7)))","v":""},{"$f":"IF($E15=\"\",\"\",IF(INDEX(E_SourceStreams!$A:$N,DS15,AN$7)=\"\",\"\",INDEX(E_SourceStreams!$A:$N,DS15,AN$7)))","v":""},{"$f":"IF($E15=\"\",\"\",IF(INDEX(E_SourceStreams!$A:$N,DT15,AO$7)=\"\",\"\",INDEX(E_SourceStreams!$A:$N,DT15,AO$7)))","v":""},{"$f":"IF($E15=\"\",\"\",IF(INDEX(E_SourceStreams!$A:$N,DU15,AP$7)=\"\",\"\",INDEX(E_SourceStreams!$A:$N,DU15,AP$7)))","v":""},{"$f":"IF($E15=\"\",\"\",IF(INDEX(E_SourceStreams!$A:$N,DV15,AQ$7)=\"\",\"\",INDEX(E_SourceStreams!$A:$N,DV15,AQ$7)))","v":""},{"$f":"IF($E15=\"\",\"\",IF(INDEX(E_SourceStreams!$A:$N,DW15,AR$7)=\"\",\"\",INDEX(E_SourceStreams!$A:$N,DW15,AR$7)))","v":""},{"$f":"IF($E15=\"\",\"\",IF(INDEX(E_SourceStreams!$A:$N,DX15,AS$7)=\"\",\"\",INDEX(E_SourceStreams!$A:$N,DX15,AS$7)))","v":""},{"$f":"IF($E15=\"\",\"\",IF(INDEX(E_SourceStreams!$A:$N,DY15,AT$7)=\"\",\"\",INDEX(E_SourceStreams!$A:$N,DY15,AT$7)))","v":""},{"$f":"IF($E15=\"\",\"\",IF(INDEX(E_SourceStreams!$A:$N,DZ15,AU$7)=\"\",\"\",INDEX(E_SourceStreams!$A:$N,DZ15,AU$7)))","v":""},{"$f":"IF($E15=\"\",\"\",IF(INDEX(E_SourceStreams!$A:$N,EA15,AV$7)=\"\",\"\",INDEX(E_SourceStreams!$A:$N,EA15,AV$7)))","v":""},{"$f":"IF($E15=\"\",\"\",IF(INDEX(E_SourceStreams!$A:$N,EB15,AW$7)=\"\",\"\",INDEX(E_SourceStreams!$A:$N,EB15,AW$7)))","v":""},{"$f":"IF($E15=\"\",\"\",IF(INDEX(E_SourceStreams!$A:$N,EC15,AX$7)=\"\",\"\",INDEX(E_SourceStreams!$A:$N,EC15,AX$7)))","v":""},{"$f":"IF($E15=\"\",\"\",IF(INDEX(E_SourceStreams!$A:$N,ED15,AY$7)=\"\",\"\",INDEX(E_SourceStreams!$A:$N,ED15,AY$7)))","v":""},{"$f":"IF($E15=\"\",\"\",IF(INDEX(E_SourceStreams!$A:$N,EE15,AZ$7)=\"\",\"\",INDEX(E_SourceStreams!$A:$N,EE15,AZ$7)))","v":""},{"$f":"IF($E15=\"\",\"\",IF(INDEX(E_SourceStreams!$A:$N,EF15,BA$7)=\"\",\"\",INDEX(E_SourceStreams!$A:$N,EF15,BA$7)))","v":""},{"$f":"IF($E15=\"\",\"\",IF(INDEX(E_SourceStreams!$A:$N,EG15,BB$7)=\"\",\"\",INDEX(E_SourceStreams!$A:$N,EG15,BB$7)))","v":""},{"$f":"IF($E15=\"\",\"\",IF(INDEX(E_SourceStreams!$A:$N,EH15,BC$7)=\"\",\"\",INDEX(E_SourceStreams!$A:$N,EH15,BC$7)))","v":""},{"$f":"IF($E15=\"\",\"\",IF(INDEX(E_SourceStreams!$A:$N,EI15,BD$7)=\"\",\"\",INDEX(E_SourceStreams!$A:$N,EI15,BD$7)))","v":""},{"$f":"IF($E15=\"\",\"\",IF(INDEX(E_SourceStreams!$A:$N,EJ15,BE$7)=\"\",\"\",INDEX(E_SourceStreams!$A:$N,EJ15,BE$7)))","v":""},{"$f":"IF($E15=\"\",\"\",IF(INDEX(E_SourceStreams!$A:$N,EK15,BF$7)=\"\",\"\",INDEX(E_SourceStreams!$A:$N,EK15,BF$7)))","v":""},{"$f":"IF($E15=\"\",\"\",IF(INDEX(E_SourceStreams!$A:$N,EL15,BG$7)=\"\",\"\",INDEX(E_SourceStreams!$A:$N,EL15,BG$7)))","v":""},{"$f":"IF($E15=\"\",\"\",IF(INDEX(E_SourceStreams!$A:$N,EM15,BH$7)=\"\",\"\",INDEX(E_SourceStreams!$A:$N,EM15,BH$7)))","v":""},{"$f":"IF($E15=\"\",\"\",IF(INDEX(E_SourceStreams!$A:$N,EN15,BI$7)=\"\",\"\",INDEX(E_SourceStreams!$A:$N,EN15,BI$7)))","v":""},{"$f":"IF($E15=\"\",\"\",IF(INDEX(E_SourceStreams!$A:$N,EO15,BJ$7)=\"\",\"\",INDEX(E_SourceStreams!$A:$N,EO15,BJ$7)))","v":""},{"$f":"IF($E15=\"\",\"\",IF(INDEX(E_SourceStreams!$A:$N,EP15,BK$7)=\"\",\"\",INDEX(E_SourceStreams!$A:$N,EP15,BK$7)))","v":""},{"$f":"IF($E15=\"\",\"\",IF(INDEX(E_SourceStreams!$A:$N,EQ15,BL$7)=\"\",\"\",INDEX(E_SourceStreams!$A:$N,EQ15,BL$7)))","v":""},{"$f":"IF($E15=\"\",\"\",IF(INDEX(E_SourceStreams!$A:$N,ER15,BM$7)=\"\",\"\",INDEX(E_SourceStreams!$A:$N,ER15,BM$7)))","v":""},{"$f":"IF($E15=\"\",\"\",IF(INDEX(E_SourceStreams!$A:$N,ES15,BN$7)=\"\",\"\",INDEX(E_SourceStreams!$A:$N,ES15,BN$7)))","v":""},{"$f":"IF($E15=\"\",\"\",IF(INDEX(E_SourceStreams!$A:$N,ET15,BO$7)=\"\",\"\",INDEX(E_SourceStreams!$A:$N,ET15,BO$7)))","v":""},{"$f":"IF($E15=\"\",\"\",IF(INDEX(E_SourceStreams!$A:$N,EU15,BP$7)=\"\",\"\",INDEX(E_SourceStreams!$A:$N,EU15,BP$7)))","v":""},{"$f":"IF($E15=\"\",\"\",IF(INDEX(E_SourceStreams!$A:$N,EV15,BQ$7)=\"\",\"\",INDEX(E_SourceStreams!$A:$N,EV15,BQ$7)))","v":""},{"$f":"IF($E15=\"\",\"\",IF(INDEX(E_SourceStreams!$A:$N,EW15,BR$7)=\"\",\"\",INDEX(E_SourceStreams!$A:$N,EW15,BR$7)))","v":""},{"$f":"IF($E15=\"\",\"\",IF(INDEX(E_SourceStreams!$A:$N,EX15,BS$7)=\"\",\"\",INDEX(E_SourceStreams!$A:$N,EX15,BS$7)))","v":""},{"$f":"IF($E15=\"\",\"\",IF(INDEX(E_SourceStreams!$A:$N,EY15,BT$7)=\"\",\"\",INDEX(E_SourceStreams!$A:$N,EY15,BT$7)))","v":""},null,null,null,null,null,null,null,null,null,null,null,null,null,null,null,"SourceCategory_",{"$f":"INDEX(C_InstallationDescription!$A$223:$A$328,ROWS($CI$11:CI15))=\"ausblenden\"","v":false},"SourceStreamName_",null,398,400,402,404,406,408,410,410,410,410,410,413,417,418,419,426,436,436,436,436,436,436,436,427,437,437,437,437,437,437,437,428,438,438,438,438,438,438,438,429,439,439,439,439,439,439,439,430,440,440,440,440,440,440,440,431,441,441,441,441,441,441,441,447]
[null,{"$f":"IF(COUNTIF($CK$10:CK16,TRUE)>0,\"\",INDEX(C_InstallationDescription!$E$223:$E$239,ROWS($A$11:A16)))","v":""},{"$f":"IF($E16=\"\",\"\",INDEX(C_InstallationDescription!G:G,MATCH($B16,C_InstallationDescription!$E:$E,0)))","v":""},{"$f":"IF($E16=\"\",\"\",INDEX(C_InstallationDescription!I:I,MATCH($B16,C_InstallationDescription!$E:$E,0)))","v":""},{"$f":"IF($B16=\"\",\"\",INDEX(C_InstallationDescription!F:F,MATCH($CJ16,C_InstallationDescription!$Q:$Q,0)))","v":""},{"$f":"IF($E16=\"\",\"\",INDEX(C_InstallationDescription!L:L,MATCH($CJ16,C_InstallationDescription!$Q:$Q,0)))","v":""},{"$f":"IF($E16=\"\",\"\",INDEX(C_InstallationDescription!M:M,MATCH($CJ16,C_InstallationDescription!$Q:$Q,0)))","v":""},{"$f":"IF($E16=\"\",\"\",INDEX(C_InstallationDescription!N:N,MATCH($CJ16,C_InstallationDescription!$Q:$Q,0)))","v":""},{"$f":"IF($E16=\"\",\"\",IF(INDEX(E_SourceStreams!$A:$N,CN16,I$7)=\"\",\"\",INDEX(E_SourceStreams!$A:$N,CN16,I$7)))","v":""},{"$f":"IF($E16=\"\",\"\",IF(INDEX(E_SourceStreams!$A:$N,CO16,J$7)=\"\",\"\",INDEX(E_SourceStreams!$A:$N,CO16,J$7)))","v":""},{"$f":"IF($E16=\"\",\"\",IF(INDEX(E_SourceStreams!$A:$N,CP16,K$7)=\"\",\"\",INDEX(E_SourceStreams!$A:$N,CP16,K$7)))","v":""},{"$f":"IF($E16=\"\",\"\",IF(INDEX(E_SourceStreams!$A:$N,CQ16,L$7)=\"\",\"\",INDEX(E_SourceStreams!$A:$N,CQ16,L$7)))","v":""},{"$f":"IF($E16=\"\",\"\",IF(INDEX(E_SourceStreams!$A:$N,CR16,M$7)=\"\",\"\",INDEX(E_SourceStreams!$A:$N,CR16,M$7)))","v":""},{"$f":"IF($E16=\"\",\"\",IF(INDEX(E_SourceStreams!$A:$N,CS16,N$7)=\"\",\"\",INDEX(E_SourceStreams!$A:$N,CS16,N$7)))","v":""},{"$f":"IF($E16=\"\",\"\",IF(INDEX(E_SourceStreams!$A:$N,CT16,O$7)=\"\",\"\",INDEX(E_SourceStreams!$A:$N,CT16,O$7)))","v":""},{"$f":"IF($E16=\"\",\"\",IF(INDEX(E_SourceStreams!$A:$N,CU16,P$7)=\"\",\"\",INDEX(E_SourceStreams!$A:$N,CU16,P$7)))","v":""},{"$f":"IF($E16=\"\",\"\",IF(INDEX(E_SourceStreams!$A:$N,CV16,Q$7)=\"\",\"\",INDEX(E_SourceStreams!$A:$N,CV16,Q$7)))","v":""},{"$f":"IF($E16=\"\",\"\",IF(INDEX(E_SourceStreams!$A:$N,CW16,R$7)=\"\",\"\",INDEX(E_SourceStreams!$A:$N,CW16,R$7)))","v":""},{"$f":"IF($E16=\"\",\"\",IF(INDEX(E_SourceStreams!$A:$N,CX16,S$7)=\"\",\"\",INDEX(E_SourceStreams!$A:$N,CX16,S$7)))","v":""},{"$f":"IF($E16=\"\",\"\",IF(INDEX(E_SourceStreams!$A:$N,CY16,T$7)=\"\",\"\",INDEX(E_SourceStreams!$A:$N,CY16,T$7)))","v":""},{"$f":"IF($E16=\"\",\"\",IF(INDEX(E_SourceStreams!$A:$N,CZ16,U$7)=\"\",\"\",INDEX(E_SourceStreams!$A:$N,CZ16,U$7)))","v":""},{"$f":"IF($E16=\"\",\"\",IF(INDEX(E_SourceStreams!$A:$N,DA16,V$7)=\"\",\"\",INDEX(E_SourceStreams!$A:$N,DA16,V$7)))","v":""},{"$f":"IF($E16=\"\",\"\",IF(INDEX(E_SourceStreams!$A:$N,DB16,W$7)=\"\",\"\",INDEX(E_SourceStreams!$A:$N,DB16,W$7)))","v":""},{"$f":"IF($E16=\"\",\"\",IF(INDEX(E_SourceStreams!$A:$N,DC16,X$7)=\"\",\"\",INDEX(E_SourceStreams!$A:$N,DC16,X$7)))","v":""},{"$f":"IF($E16=\"\",\"\",IF(INDEX(E_SourceStreams!$A:$N,DD16,Y$7)=\"\",\"\",INDEX(E_SourceStreams!$A:$N,DD16,Y$7)))","v":""},{"$f":"IF($E16=\"\",\"\",IF(INDEX(E_SourceStreams!$A:$N,DE16,Z$7)=\"\",\"\",INDEX(E_SourceStreams!$A:$N,DE16,Z$7)))","v":""},{"$f":"IF($E16=\"\",\"\",IF(INDEX(E_SourceStreams!$A:$N,DF16,AA$7)=\"\",\"\",INDEX(E_SourceStreams!$A:$N,DF16,AA$7)))","v":""},{"$f":"IF($E16=\"\",\"\",IF(INDEX(E_SourceStreams!$A:$N,DG16,AB$7)=\"\",\"\",INDEX(E_SourceStreams!$A:$N,DG16,AB$7)))","v":""},{"$f":"IF($E16=\"\",\"\",IF(INDEX(E_SourceStreams!$A:$N,DH16,AC$7)=\"\",\"\",INDEX(E_SourceStreams!$A:$N,DH16,AC$7)))","v":""},{"$f":"IF($E16=\"\",\"\",IF(INDEX(E_SourceStreams!$A:$N,DI16,AD$7)=\"\",\"\",INDEX(E_SourceStreams!$A:$N,DI16,AD$7)))","v":""},{"$f":"IF($E16=\"\",\"\",IF(INDEX(E_SourceStreams!$A:$N,DJ16,AE$7)=\"\",\"\",INDEX(E_SourceStreams!$A:$N,DJ16,AE$7)))","v":""},{"$f":"IF($E16=\"\",\"\",IF(INDEX(E_SourceStreams!$A:$N,DK16,AF$7)=\"\",\"\",INDEX(E_SourceStreams!$A:$N,DK16,AF$7)))","v":""},{"$f":"IF($E16=\"\",\"\",IF(INDEX(E_SourceStreams!$A:$N,DL16,AG$7)=\"\",\"\",INDEX(E_SourceStreams!$A:$N,DL16,AG$7)))","v":""},{"$f":"IF($E16=\"\",\"\",IF(INDEX(E_SourceStreams!$A:$N,DM16,AH$7)=\"\",\"\",INDEX(E_SourceStreams!$A:$N,DM16,AH$7)))","v":""},{"$f":"IF($E16=\"\",\"\",IF(INDEX(E_SourceStreams!$A:$N,DN16,AI$7)=\"\",\"\",INDEX(E_SourceStreams!$A:$N,DN16,AI$7)))","v":""},{"$f":"IF($E16=\"\",\"\",IF(INDEX(E_SourceStreams!$A:$N,DO16,AJ$7)=\"\",\"\",INDEX(E_SourceStreams!$A:$N,DO16,AJ$7)))","v":""},{"$f":"IF($E16=\"\",\"\",IF(INDEX(E_SourceStreams!$A:$N,DP16,AK$7)=\"\",\"\",INDEX(E_SourceStreams!$A:$N,DP16,AK$7)))","v":""},{"$f":"IF($E16=\"\",\"\",IF(INDEX(E_SourceStreams!$A:$N,DQ16,AL$7)=\"\",\"\",INDEX(E_SourceStreams!$A:$N,DQ16,AL$7)))","v":""},{"$f":"IF($E16=\"\",\"\",IF(INDEX(E_SourceStreams!$A:$N,DR16,AM$7)=\"\",\"\",INDEX(E_SourceStreams!$A:$N,DR16,AM$7)))","v":""},{"$f":"IF($E16=\"\",\"\",IF(INDEX(E_SourceStreams!$A:$N,DS16,AN$7)=\"\",\"\",INDEX(E_SourceStreams!$A:$N,DS16,AN$7)))","v":""},{"$f":"IF($E16=\"\",\"\",IF(INDEX(E_SourceStreams!$A:$N,DT16,AO$7)=\"\",\"\",INDEX(E_SourceStreams!$A:$N,DT16,AO$7)))","v":""},{"$f":"IF($E16=\"\",\"\",IF(INDEX(E_SourceStreams!$A:$N,DU16,AP$7)=\"\",\"\",INDEX(E_SourceStreams!$A:$N,DU16,AP$7)))","v":""},{"$f":"IF($E16=\"\",\"\",IF(INDEX(E_SourceStreams!$A:$N,DV16,AQ$7)=\"\",\"\",INDEX(E_SourceStreams!$A:$N,DV16,AQ$7)))","v":""},{"$f":"IF($E16=\"\",\"\",IF(INDEX(E_SourceStreams!$A:$N,DW16,AR$7)=\"\",\"\",INDEX(E_SourceStreams!$A:$N,DW16,AR$7)))","v":""},{"$f":"IF($E16=\"\",\"\",IF(INDEX(E_SourceStreams!$A:$N,DX16,AS$7)=\"\",\"\",INDEX(E_SourceStreams!$A:$N,DX16,AS$7)))","v":""},{"$f":"IF($E16=\"\",\"\",IF(INDEX(E_SourceStreams!$A:$N,DY16,AT$7)=\"\",\"\",INDEX(E_SourceStreams!$A:$N,DY16,AT$7)))","v":""},{"$f":"IF($E16=\"\",\"\",IF(INDEX(E_SourceStreams!$A:$N,DZ16,AU$7)=\"\",\"\",INDEX(E_SourceStreams!$A:$N,DZ16,AU$7)))","v":""},{"$f":"IF($E16=\"\",\"\",IF(INDEX(E_SourceStreams!$A:$N,EA16,AV$7)=\"\",\"\",INDEX(E_SourceStreams!$A:$N,EA16,AV$7)))","v":""},{"$f":"IF($E16=\"\",\"\",IF(INDEX(E_SourceStreams!$A:$N,EB16,AW$7)=\"\",\"\",INDEX(E_SourceStreams!$A:$N,EB16,AW$7)))","v":""},{"$f":"IF($E16=\"\",\"\",IF(INDEX(E_SourceStreams!$A:$N,EC16,AX$7)=\"\",\"\",INDEX(E_SourceStreams!$A:$N,EC16,AX$7)))","v":""},{"$f":"IF($E16=\"\",\"\",IF(INDEX(E_SourceStreams!$A:$N,ED16,AY$7)=\"\",\"\",INDEX(E_SourceStreams!$A:$N,ED16,AY$7)))","v":""},{"$f":"IF($E16=\"\",\"\",IF(INDEX(E_SourceStreams!$A:$N,EE16,AZ$7)=\"\",\"\",INDEX(E_SourceStreams!$A:$N,EE16,AZ$7)))","v":""},{"$f":"IF($E16=\"\",\"\",IF(INDEX(E_SourceStreams!$A:$N,EF16,BA$7)=\"\",\"\",INDEX(E_SourceStreams!$A:$N,EF16,BA$7)))","v":""},{"$f":"IF($E16=\"\",\"\",IF(INDEX(E_SourceStreams!$A:$N,EG16,BB$7)=\"\",\"\",INDEX(E_SourceStreams!$A:$N,EG16,BB$7)))","v":""},{"$f":"IF($E16=\"\",\"\",IF(INDEX(E_SourceStreams!$A:$N,EH16,BC$7)=\"\",\"\",INDEX(E_SourceStreams!$A:$N,EH16,BC$7)))","v":""},{"$f":"IF($E16=\"\",\"\",IF(INDEX(E_SourceStreams!$A:$N,EI16,BD$7)=\"\",\"\",INDEX(E_SourceStreams!$A:$N,EI16,BD$7)))","v":""},{"$f":"IF($E16=\"\",\"\",IF(INDEX(E_SourceStreams!$A:$N,EJ16,BE$7)=\"\",\"\",INDEX(E_SourceStreams!$A:$N,EJ16,BE$7)))","v":""},{"$f":"IF($E16=\"\",\"\",IF(INDEX(E_SourceStreams!$A:$N,EK16,BF$7)=\"\",\"\",INDEX(E_SourceStreams!$A:$N,EK16,BF$7)))","v":""},{"$f":"IF($E16=\"\",\"\",IF(INDEX(E_SourceStreams!$A:$N,EL16,BG$7)=\"\",\"\",INDEX(E_SourceStreams!$A:$N,EL16,BG$7)))","v":""},{"$f":"IF($E16=\"\",\"\",IF(INDEX(E_SourceStreams!$A:$N,EM16,BH$7)=\"\",\"\",INDEX(E_SourceStreams!$A:$N,EM16,BH$7)))","v":""},{"$f":"IF($E16=\"\",\"\",IF(INDEX(E_SourceStreams!$A:$N,EN16,BI$7)=\"\",\"\",INDEX(E_SourceStreams!$A:$N,EN16,BI$7)))","v":""},{"$f":"IF($E16=\"\",\"\",IF(INDEX(E_SourceStreams!$A:$N,EO16,BJ$7)=\"\",\"\",INDEX(E_SourceStreams!$A:$N,EO16,BJ$7)))","v":""},{"$f":"IF($E16=\"\",\"\",IF(INDEX(E_SourceStreams!$A:$N,EP16,BK$7)=\"\",\"\",INDEX(E_SourceStreams!$A:$N,EP16,BK$7)))","v":""},{"$f":"IF($E16=\"\",\"\",IF(INDEX(E_SourceStreams!$A:$N,EQ16,BL$7)=\"\",\"\",INDEX(E_SourceStreams!$A:$N,EQ16,BL$7)))","v":""},{"$f":"IF($E16=\"\",\"\",IF(INDEX(E_SourceStreams!$A:$N,ER16,BM$7)=\"\",\"\",INDEX(E_SourceStreams!$A:$N,ER16,BM$7)))","v":""},{"$f":"IF($E16=\"\",\"\",IF(INDEX(E_SourceStreams!$A:$N,ES16,BN$7)=\"\",\"\",INDEX(E_SourceStreams!$A:$N,ES16,BN$7)))","v":""},{"$f":"IF($E16=\"\",\"\",IF(INDEX(E_SourceStreams!$A:$N,ET16,BO$7)=\"\",\"\",INDEX(E_SourceStreams!$A:$N,ET16,BO$7)))","v":""},{"$f":"IF($E16=\"\",\"\",IF(INDEX(E_SourceStreams!$A:$N,EU16,BP$7)=\"\",\"\",INDEX(E_SourceStreams!$A:$N,EU16,BP$7)))","v":""},{"$f":"IF($E16=\"\",\"\",IF(INDEX(E_SourceStreams!$A:$N,EV16,BQ$7)=\"\",\"\",INDEX(E_SourceStreams!$A:$N,EV16,BQ$7)))","v":""},{"$f":"IF($E16=\"\",\"\",IF(INDEX(E_SourceStreams!$A:$N,EW16,BR$7)=\"\",\"\",INDEX(E_SourceStreams!$A:$N,EW16,BR$7)))","v":""},{"$f":"IF($E16=\"\",\"\",IF(INDEX(E_SourceStreams!$A:$N,EX16,BS$7)=\"\",\"\",INDEX(E_SourceStreams!$A:$N,EX16,BS$7)))","v":""},{"$f":"IF($E16=\"\",\"\",IF(INDEX(E_SourceStreams!$A:$N,EY16,BT$7)=\"\",\"\",INDEX(E_SourceStreams!$A:$N,EY16,BT$7)))","v":""},null,null,null,null,null,null,null,null,null,null,null,null,null,null,null,"SourceCategory_",{"$f":"INDEX(C_InstallationDescription!$A$223:$A$328,ROWS($CI$11:CI16))=\"ausblenden\"","v":false},"SourceStreamName_",null,464,466,468,470,472,474,476,476,476,476,476,479,483,484,485,492,502,502,502,502,502,502,502,493,503,503,503,503,503,503,503,494,504,504,504,504,504,504,504,495,505,505,505,505,505,505,505,496,506,506,506,506,506,506,506,497,507,507,507,507,507,507,507,513]
[null,{"$f":"IF(COUNTIF($CK$10:CK17,TRUE)>0,\"\",INDEX(C_InstallationDescription!$E$223:$E$239,ROWS($A$11:A17)))","v":""},{"$f":"IF($E17=\"\",\"\",INDEX(C_InstallationDescription!G:G,MATCH($B17,C_InstallationDescription!$E:$E,0)))","v":""},{"$f":"IF($E17=\"\",\"\",INDEX(C_InstallationDescription!I:I,MATCH($B17,C_InstallationDescription!$E:$E,0)))","v":""},{"$f":"IF($B17=\"\",\"\",INDEX(C_InstallationDescription!F:F,MATCH($CJ17,C_InstallationDescription!$Q:$Q,0)))","v":""},{"$f":"IF($E17=\"\",\"\",INDEX(C_InstallationDescription!L:L,MATCH($CJ17,C_InstallationDescription!$Q:$Q,0)))","v":""},{"$f":"IF($E17=\"\",\"\",INDEX(C_InstallationDescription!M:M,MATCH($CJ17,C_InstallationDescription!$Q:$Q,0)))","v":""},{"$f":"IF($E17=\"\",\"\",INDEX(C_InstallationDescription!N:N,MATCH($CJ17,C_InstallationDescription!$Q:$Q,0)))","v":""},{"$f":"IF($E17=\"\",\"\",IF(INDEX(E_SourceStreams!$A:$N,CN17,I$7)=\"\",\"\",INDEX(E_SourceStreams!$A:$N,CN17,I$7)))","v":""},{"$f":"IF($E17=\"\",\"\",IF(INDEX(E_SourceStreams!$A:$N,CO17,J$7)=\"\",\"\",INDEX(E_SourceStreams!$A:$N,CO17,J$7)))","v":""},{"$f":"IF($E17=\"\",\"\",IF(INDEX(E_SourceStreams!$A:$N,CP17,K$7)=\"\",\"\",INDEX(E_SourceStreams!$A:$N,CP17,K$7)))","v":""},{"$f":"IF($E17=\"\",\"\",IF(INDEX(E_SourceStreams!$A:$N,CQ17,L$7)=\"\",\"\",INDEX(E_SourceStreams!$A:$N,CQ17,L$7)))","v":""},{"$f":"IF($E17=\"\",\"\",IF(INDEX(E_SourceStreams!$A:$N,CR17,M$7)=\"\",\"\",INDEX(E_SourceStreams!$A:$N,CR17,M$7)))","v":""},{"$f":"IF($E17=\"\",\"\",IF(INDEX(E_SourceStreams!$A:$N,CS17,N$7)=\"\",\"\",INDEX(E_SourceStreams!$A:$N,CS17,N$7)))","v":""},{"$f":"IF($E17=\"\",\"\",IF(INDEX(E_SourceStreams!$A:$N,CT17,O$7)=\"\",\"\",INDEX(E_SourceStreams!$A:$N,CT17,O$7)))","v":""},{"$f":"IF($E17=\"\",\"\",IF(INDEX(E_SourceStreams!$A:$N,CU17,P$7)=\"\",\"\",INDEX(E_SourceStreams!$A:$N,CU17,P$7)))","v":""},{"$f":"IF($E17=\"\",\"\",IF(INDEX(E_SourceStreams!$A:$N,CV17,Q$7)=\"\",\"\",INDEX(E_SourceStreams!$A:$N,CV17,Q$7)))","v":""},{"$f":"IF($E17=\"\",\"\",IF(INDEX(E_SourceStreams!$A:$N,CW17,R$7)=\"\",\"\",INDEX(E_SourceStreams!$A:$N,CW17,R$7)))","v":""},{"$f":"IF($E17=\"\",\"\",IF(INDEX(E_SourceStreams!$A:$N,CX17,S$7)=\"\",\"\",INDEX(E_SourceStreams!$A:$N,CX17,S$7)))","v":""},{"$f":"IF($E17=\"\",\"\",IF(INDEX(E_SourceStreams!$A:$N,CY17,T$7)=\"\",\"\",INDEX(E_SourceStreams!$A:$N,CY17,T$7)))","v":""},{"$f":"IF($E17=\"\",\"\",IF(INDEX(E_SourceStreams!$A:$N,CZ17,U$7)=\"\",\"\",INDEX(E_SourceStreams!$A:$N,CZ17,U$7)))","v":""},{"$f":"IF($E17=\"\",\"\",IF(INDEX(E_SourceStreams!$A:$N,DA17,V$7)=\"\",\"\",INDEX(E_SourceStreams!$A:$N,DA17,V$7)))","v":""},{"$f":"IF($E17=\"\",\"\",IF(INDEX(E_SourceStreams!$A:$N,DB17,W$7)=\"\",\"\",INDEX(E_SourceStreams!$A:$N,DB17,W$7)))","v":""},{"$f":"IF($E17=\"\",\"\",IF(INDEX(E_SourceStreams!$A:$N,DC17,X$7)=\"\",\"\",INDEX(E_SourceStreams!$A:$N,DC17,X$7)))","v":""},{"$f":"IF($E17=\"\",\"\",IF(INDEX(E_SourceStreams!$A:$N,DD17,Y$7)=\"\",\"\",INDEX(E_SourceStreams!$A:$N,DD17,Y$7)))","v":""},{"$f":"IF($E17=\"\",\"\",IF(INDEX(E_SourceStreams!$A:$N,DE17,Z$7)=\"\",\"\",INDEX(E_SourceStreams!$A:$N,DE17,Z$7)))","v":""},{"$f":"IF($E17=\"\",\"\",IF(INDEX(E_SourceStreams!$A:$N,DF17,AA$7)=\"\",\"\",INDEX(E_SourceStreams!$A:$N,DF17,AA$7)))","v":""},{"$f":"IF($E17=\"\",\"\",IF(INDEX(E_SourceStreams!$A:$N,DG17,AB$7)=\"\",\"\",INDEX(E_SourceStreams!$A:$N,DG17,AB$7)))","v":""},{"$f":"IF($E17=\"\",\"\",IF(INDEX(E_SourceStreams!$A:$N,DH17,AC$7)=\"\",\"\",INDEX(E_SourceStreams!$A:$N,DH17,AC$7)))","v":""},{"$f":"IF($E17=\"\",\"\",IF(INDEX(E_SourceStreams!$A:$N,DI17,AD$7)=\"\",\"\",INDEX(E_SourceStreams!$A:$N,DI17,AD$7)))","v":""},{"$f":"IF($E17=\"\",\"\",IF(INDEX(E_SourceStreams!$A:$N,DJ17,AE$7)=\"\",\"\",INDEX(E_SourceStreams!$A:$N,DJ17,AE$7)))","v":""},{"$f":"IF($E17=\"\",\"\",IF(INDEX(E_SourceStreams!$A:$N,DK17,AF$7)=\"\",\"\",INDEX(E_SourceStreams!$A:$N,DK17,AF$7)))","v":""},{"$f":"IF($E17=\"\",\"\",IF(INDEX(E_SourceStreams!$A:$N,DL17,AG$7)=\"\",\"\",INDEX(E_SourceStreams!$A:$N,DL17,AG$7)))","v":""},{"$f":"IF($E17=\"\",\"\",IF(INDEX(E_SourceStreams!$A:$N,DM17,AH$7)=\"\",\"\",INDEX(E_SourceStreams!$A:$N,DM17,AH$7)))","v":""},{"$f":"IF($E17=\"\",\"\",IF(INDEX(E_SourceStreams!$A:$N,DN17,AI$7)=\"\",\"\",INDEX(E_SourceStreams!$A:$N,DN17,AI$7)))","v":""},{"$f":"IF($E17=\"\",\"\",IF(INDEX(E_SourceStreams!$A:$N,DO17,AJ$7)=\"\",\"\",INDEX(E_SourceStreams!$A:$N,DO17,AJ$7)))","v":""},{"$f":"IF($E17=\"\",\"\",IF(INDEX(E_SourceStreams!$A:$N,DP17,AK$7)=\"\",\"\",INDEX(E_SourceStreams!$A:$N,DP17,AK$7)))","v":""},{"$f":"IF($E17=\"\",\"\",IF(INDEX(E_SourceStreams!$A:$N,DQ17,AL$7)=\"\",\"\",INDEX(E_SourceStreams!$A:$N,DQ17,AL$7)))","v":""},{"$f":"IF($E17=\"\",\"\",IF(INDEX(E_SourceStreams!$A:$N,DR17,AM$7)=\"\",\"\",INDEX(E_SourceStreams!$A:$N,DR17,AM$7)))","v":""},{"$f":"IF($E17=\"\",\"\",IF(INDEX(E_SourceStreams!$A:$N,DS17,AN$7)=\"\",\"\",INDEX(E_SourceStreams!$A:$N,DS17,AN$7)))","v":""},{"$f":"IF($E17=\"\",\"\",IF(INDEX(E_SourceStreams!$A:$N,DT17,AO$7)=\"\",\"\",INDEX(E_SourceStreams!$A:$N,DT17,AO$7)))","v":""},{"$f":"IF($E17=\"\",\"\",IF(INDEX(E_SourceStreams!$A:$N,DU17,AP$7)=\"\",\"\",INDEX(E_SourceStreams!$A:$N,DU17,AP$7)))","v":""},{"$f":"IF($E17=\"\",\"\",IF(INDEX(E_SourceStreams!$A:$N,DV17,AQ$7)=\"\",\"\",INDEX(E_SourceStreams!$A:$N,DV17,AQ$7)))","v":""},{"$f":"IF($E17=\"\",\"\",IF(INDEX(E_SourceStreams!$A:$N,DW17,AR$7)=\"\",\"\",INDEX(E_SourceStreams!$A:$N,DW17,AR$7)))","v":""},{"$f":"IF($E17=\"\",\"\",IF(INDEX(E_SourceStreams!$A:$N,DX17,AS$7)=\"\",\"\",INDEX(E_SourceStreams!$A:$N,DX17,AS$7)))","v":""},{"$f":"IF($E17=\"\",\"\",IF(INDEX(E_SourceStreams!$A:$N,DY17,AT$7)=\"\",\"\",INDEX(E_SourceStreams!$A:$N,DY17,AT$7)))","v":""},{"$f":"IF($E17=\"\",\"\",IF(INDEX(E_SourceStreams!$A:$N,DZ17,AU$7)=\"\",\"\",INDEX(E_SourceStreams!$A:$N,DZ17,AU$7)))","v":""},{"$f":"IF($E17=\"\",\"\",IF(INDEX(E_SourceStreams!$A:$N,EA17,AV$7)=\"\",\"\",INDEX(E_SourceStreams!$A:$N,EA17,AV$7)))","v":""},{"$f":"IF($E17=\"\",\"\",IF(INDEX(E_SourceStreams!$A:$N,EB17,AW$7)=\"\",\"\",INDEX(E_SourceStreams!$A:$N,EB17,AW$7)))","v":""},{"$f":"IF($E17=\"\",\"\",IF(INDEX(E_SourceStreams!$A:$N,EC17,AX$7)=\"\",\"\",INDEX(E_SourceStreams!$A:$N,EC17,AX$7)))","v":""},{"$f":"IF($E17=\"\",\"\",IF(INDEX(E_SourceStreams!$A:$N,ED17,AY$7)=\"\",\"\",INDEX(E_SourceStreams!$A:$N,ED17,AY$7)))","v":""},{"$f":"IF($E17=\"\",\"\",IF(INDEX(E_SourceStreams!$A:$N,EE17,AZ$7)=\"\",\"\",INDEX(E_SourceStreams!$A:$N,EE17,AZ$7)))","v":""},{"$f":"IF($E17=\"\",\"\",IF(INDEX(E_SourceStreams!$A:$N,EF17,BA$7)=\"\",\"\",INDEX(E_SourceStreams!$A:$N,EF17,BA$7)))","v":""},{"$f":"IF($E17=\"\",\"\",IF(INDEX(E_SourceStreams!$A:$N,EG17,BB$7)=\"\",\"\",INDEX(E_SourceStreams!$A:$N,EG17,BB$7)))","v":""},{"$f":"IF($E17=\"\",\"\",IF(INDEX(E_SourceStreams!$A:$N,EH17,BC$7)=\"\",\"\",INDEX(E_SourceStreams!$A:$N,EH17,BC$7)))","v":""},{"$f":"IF($E17=\"\",\"\",IF(INDEX(E_SourceStreams!$A:$N,EI17,BD$7)=\"\",\"\",INDEX(E_SourceStreams!$A:$N,EI17,BD$7)))","v":""},{"$f":"IF($E17=\"\",\"\",IF(INDEX(E_SourceStreams!$A:$N,EJ17,BE$7)=\"\",\"\",INDEX(E_SourceStreams!$A:$N,EJ17,BE$7)))","v":""},{"$f":"IF($E17=\"\",\"\",IF(INDEX(E_SourceStreams!$A:$N,EK17,BF$7)=\"\",\"\",INDEX(E_SourceStreams!$A:$N,EK17,BF$7)))","v":""},{"$f":"IF($E17=\"\",\"\",IF(INDEX(E_SourceStreams!$A:$N,EL17,BG$7)=\"\",\"\",INDEX(E_SourceStreams!$A:$N,EL17,BG$7)))","v":""},{"$f":"IF($E17=\"\",\"\",IF(INDEX(E_SourceStreams!$A:$N,EM17,BH$7)=\"\",\"\",INDEX(E_SourceStreams!$A:$N,EM17,BH$7)))","v":""},{"$f":"IF($E17=\"\",\"\",IF(INDEX(E_SourceStreams!$A:$N,EN17,BI$7)=\"\",\"\",INDEX(E_SourceStreams!$A:$N,EN17,BI$7)))","v":""},{"$f":"IF($E17=\"\",\"\",IF(INDEX(E_SourceStreams!$A:$N,EO17,BJ$7)=\"\",\"\",INDEX(E_SourceStreams!$A:$N,EO17,BJ$7)))","v":""},{"$f":"IF($E17=\"\",\"\",IF(INDEX(E_SourceStreams!$A:$N,EP17,BK$7)=\"\",\"\",INDEX(E_SourceStreams!$A:$N,EP17,BK$7)))","v":""},{"$f":"IF($E17=\"\",\"\",IF(INDEX(E_SourceStreams!$A:$N,EQ17,BL$7)=\"\",\"\",INDEX(E_SourceStreams!$A:$N,EQ17,BL$7)))","v":""},{"$f":"IF($E17=\"\",\"\",IF(INDEX(E_SourceStreams!$A:$N,ER17,BM$7)=\"\",\"\",INDEX(E_SourceStreams!$A:$N,ER17,BM$7)))","v":""},{"$f":"IF($E17=\"\",\"\",IF(INDEX(E_SourceStreams!$A:$N,ES17,BN$7)=\"\",\"\",INDEX(E_SourceStreams!$A:$N,ES17,BN$7)))","v":""},{"$f":"IF($E17=\"\",\"\",IF(INDEX(E_SourceStreams!$A:$N,ET17,BO$7)=\"\",\"\",INDEX(E_SourceStreams!$A:$N,ET17,BO$7)))","v":""},{"$f":"IF($E17=\"\",\"\",IF(INDEX(E_SourceStreams!$A:$N,EU17,BP$7)=\"\",\"\",INDEX(E_SourceStreams!$A:$N,EU17,BP$7)))","v":""},{"$f":"IF($E17=\"\",\"\",IF(INDEX(E_SourceStreams!$A:$N,EV17,BQ$7)=\"\",\"\",INDEX(E_SourceStreams!$A:$N,EV17,BQ$7)))","v":""},{"$f":"IF($E17=\"\",\"\",IF(INDEX(E_SourceStreams!$A:$N,EW17,BR$7)=\"\",\"\",INDEX(E_SourceStreams!$A:$N,EW17,BR$7)))","v":""},{"$f":"IF($E17=\"\",\"\",IF(INDEX(E_SourceStreams!$A:$N,EX17,BS$7)=\"\",\"\",INDEX(E_SourceStreams!$A:$N,EX17,BS$7)))","v":""},{"$f":"IF($E17=\"\",\"\",IF(INDEX(E_SourceStreams!$A:$N,EY17,BT$7)=\"\",\"\",INDEX(E_SourceStreams!$A:$N,EY17,BT$7)))","v":""},null,null,null,null,null,null,null,null,null,null,null,null,null,null,null,"SourceCategory_",{"$f":"INDEX(C_InstallationDescription!$A$223:$A$328,ROWS($CI$11:CI17))=\"ausblenden\"","v":false},"SourceStreamName_",null,530,532,534,536,538,540,542,542,542,542,542,545,549,550,551,558,568,568,568,568,568,568,568,559,569,569,569,569,569,569,569,560,570,570,570,570,570,570,570,561,571,571,571,571,571,571,571,562,572,572,572,572,572,572,572,563,573,573,573,573,573,573,573,579]
[null,{"$f":"IF(COUNTIF($CK$10:CK18,TRUE)>0,\"\",INDEX(C_InstallationDescription!$E$223:$E$239,ROWS($A$11:A18)))","v":""},{"$f":"IF($E18=\"\",\"\",INDEX(C_InstallationDescription!G:G,MATCH($B18,C_InstallationDescription!$E:$E,0)))","v":""},{"$f":"IF($E18=\"\",\"\",INDEX(C_InstallationDescription!I:I,MATCH($B18,C_InstallationDescription!$E:$E,0)))","v":""},{"$f":"IF($B18=\"\",\"\",INDEX(C_InstallationDescription!F:F,MATCH($CJ18,C_InstallationDescription!$Q:$Q,0)))","v":""},{"$f":"IF($E18=\"\",\"\",INDEX(C_InstallationDescription!L:L,MATCH($CJ18,C_InstallationDescription!$Q:$Q,0)))","v":""},{"$f":"IF($E18=\"\",\"\",INDEX(C_InstallationDescription!M:M,MATCH($CJ18,C_InstallationDescription!$Q:$Q,0)))","v":""},{"$f":"IF($E18=\"\",\"\",INDEX(C_InstallationDescription!N:N,MATCH($CJ18,C_InstallationDescription!$Q:$Q,0)))","v":""},{"$f":"IF($E18=\"\",\"\",IF(INDEX(E_SourceStreams!$A:$N,CN18,I$7)=\"\",\"\",INDEX(E_SourceStreams!$A:$N,CN18,I$7)))","v":""},{"$f":"IF($E18=\"\",\"\",IF(INDEX(E_SourceStreams!$A:$N,CO18,J$7)=\"\",\"\",INDEX(E_SourceStreams!$A:$N,CO18,J$7)))","v":""},{"$f":"IF($E18=\"\",\"\",IF(INDEX(E_SourceStreams!$A:$N,CP18,K$7)=\"\",\"\",INDEX(E_SourceStreams!$A:$N,CP18,K$7)))","v":""},{"$f":"IF($E18=\"\",\"\",IF(INDEX(E_SourceStreams!$A:$N,CQ18,L$7)=\"\",\"\",INDEX(E_SourceStreams!$A:$N,CQ18,L$7)))","v":""},{"$f":"IF($E18=\"\",\"\",IF(INDEX(E_SourceStreams!$A:$N,CR18,M$7)=\"\",\"\",INDEX(E_SourceStreams!$A:$N,CR18,M$7)))","v":""},{"$f":"IF($E18=\"\",\"\",IF(INDEX(E_SourceStreams!$A:$N,CS18,N$7)=\"\",\"\",INDEX(E_SourceStreams!$A:$N,CS18,N$7)))","v":""},{"$f":"IF($E18=\"\",\"\",IF(INDEX(E_SourceStreams!$A:$N,CT18,O$7)=\"\",\"\",INDEX(E_SourceStreams!$A:$N,CT18,O$7)))","v":""},{"$f":"IF($E18=\"\",\"\",IF(INDEX(E_SourceStreams!$A:$N,CU18,P$7)=\"\",\"\",INDEX(E_SourceStreams!$A:$N,CU18,P$7)))","v":""},{"$f":"IF($E18=\"\",\"\",IF(INDEX(E_SourceStreams!$A:$N,CV18,Q$7)=\"\",\"\",INDEX(E_SourceStreams!$A:$N,CV18,Q$7)))","v":""},{"$f":"IF($E18=\"\",\"\",IF(INDEX(E_SourceStreams!$A:$N,CW18,R$7)=\"\",\"\",INDEX(E_SourceStreams!$A:$N,CW18,R$7)))","v":""},{"$f":"IF($E18=\"\",\"\",IF(INDEX(E_SourceStreams!$A:$N,CX18,S$7)=\"\",\"\",INDEX(E_SourceStreams!$A:$N,CX18,S$7)))","v":""},{"$f":"IF($E18=\"\",\"\",IF(INDEX(E_SourceStreams!$A:$N,CY18,T$7)=\"\",\"\",INDEX(E_SourceStreams!$A:$N,CY18,T$7)))","v":""},{"$f":"IF($E18=\"\",\"\",IF(INDEX(E_SourceStreams!$A:$N,CZ18,U$7)=\"\",\"\",INDEX(E_SourceStreams!$A:$N,CZ18,U$7)))","v":""},{"$f":"IF($E18=\"\",\"\",IF(INDEX(E_SourceStreams!$A:$N,DA18,V$7)=\"\",\"\",INDEX(E_SourceStreams!$A:$N,DA18,V$7)))","v":""},{"$f":"IF($E18=\"\",\"\",IF(INDEX(E_SourceStreams!$A:$N,DB18,W$7)=\"\",\"\",INDEX(E_SourceStreams!$A:$N,DB18,W$7)))","v":""},{"$f":"IF($E18=\"\",\"\",IF(INDEX(E_SourceStreams!$A:$N,DC18,X$7)=\"\",\"\",INDEX(E_SourceStreams!$A:$N,DC18,X$7)))","v":""},{"$f":"IF($E18=\"\",\"\",IF(INDEX(E_SourceStreams!$A:$N,DD18,Y$7)=\"\",\"\",INDEX(E_SourceStreams!$A:$N,DD18,Y$7)))","v":""},{"$f":"IF($E18=\"\",\"\",IF(INDEX(E_SourceStreams!$A:$N,DE18,Z$7)=\"\",\"\",INDEX(E_SourceStreams!$A:$N,DE18,Z$7)))","v":""},{"$f":"IF($E18=\"\",\"\",IF(INDEX(E_SourceStreams!$A:$N,DF18,AA$7)=\"\",\"\",INDEX(E_SourceStreams!$A:$N,DF18,AA$7)))","v":""},{"$f":"IF($E18=\"\",\"\",IF(INDEX(E_SourceStreams!$A:$N,DG18,AB$7)=\"\",\"\",INDEX(E_SourceStreams!$A:$N,DG18,AB$7)))","v":""},{"$f":"IF($E18=\"\",\"\",IF(INDEX(E_SourceStreams!$A:$N,DH18,AC$7)=\"\",\"\",INDEX(E_SourceStreams!$A:$N,DH18,AC$7)))","v":""},{"$f":"IF($E18=\"\",\"\",IF(INDEX(E_SourceStreams!$A:$N,DI18,AD$7)=\"\",\"\",INDEX(E_SourceStreams!$A:$N,DI18,AD$7)))","v":""},{"$f":"IF($E18=\"\",\"\",IF(INDEX(E_SourceStreams!$A:$N,DJ18,AE$7)=\"\",\"\",INDEX(E_SourceStreams!$A:$N,DJ18,AE$7)))","v":""},{"$f":"IF($E18=\"\",\"\",IF(INDEX(E_SourceStreams!$A:$N,DK18,AF$7)=\"\",\"\",INDEX(E_SourceStreams!$A:$N,DK18,AF$7)))","v":""},{"$f":"IF($E18=\"\",\"\",IF(INDEX(E_SourceStreams!$A:$N,DL18,AG$7)=\"\",\"\",INDEX(E_SourceStreams!$A:$N,DL18,AG$7)))","v":""},{"$f":"IF($E18=\"\",\"\",IF(INDEX(E_SourceStreams!$A:$N,DM18,AH$7)=\"\",\"\",INDEX(E_SourceStreams!$A:$N,DM18,AH$7)))","v":""},{"$f":"IF($E18=\"\",\"\",IF(INDEX(E_SourceStreams!$A:$N,DN18,AI$7)=\"\",\"\",INDEX(E_SourceStreams!$A:$N,DN18,AI$7)))","v":""},{"$f":"IF($E18=\"\",\"\",IF(INDEX(E_SourceStreams!$A:$N,DO18,AJ$7)=\"\",\"\",INDEX(E_SourceStreams!$A:$N,DO18,AJ$7)))","v":""},{"$f":"IF($E18=\"\",\"\",IF(INDEX(E_SourceStreams!$A:$N,DP18,AK$7)=\"\",\"\",INDEX(E_SourceStreams!$A:$N,DP18,AK$7)))","v":""},{"$f":"IF($E18=\"\",\"\",IF(INDEX(E_SourceStreams!$A:$N,DQ18,AL$7)=\"\",\"\",INDEX(E_SourceStreams!$A:$N,DQ18,AL$7)))","v":""},{"$f":"IF($E18=\"\",\"\",IF(INDEX(E_SourceStreams!$A:$N,DR18,AM$7)=\"\",\"\",INDEX(E_SourceStreams!$A:$N,DR18,AM$7)))","v":""},{"$f":"IF($E18=\"\",\"\",IF(INDEX(E_SourceStreams!$A:$N,DS18,AN$7)=\"\",\"\",INDEX(E_SourceStreams!$A:$N,DS18,AN$7)))","v":""},{"$f":"IF($E18=\"\",\"\",IF(INDEX(E_SourceStreams!$A:$N,DT18,AO$7)=\"\",\"\",INDEX(E_SourceStreams!$A:$N,DT18,AO$7)))","v":""},{"$f":"IF($E18=\"\",\"\",IF(INDEX(E_SourceStreams!$A:$N,DU18,AP$7)=\"\",\"\",INDEX(E_SourceStreams!$A:$N,DU18,AP$7)))","v":""},{"$f":"IF($E18=\"\",\"\",IF(INDEX(E_SourceStreams!$A:$N,DV18,AQ$7)=\"\",\"\",INDEX(E_SourceStreams!$A:$N,DV18,AQ$7)))","v":""},{"$f":"IF($E18=\"\",\"\",IF(INDEX(E_SourceStreams!$A:$N,DW18,AR$7)=\"\",\"\",INDEX(E_SourceStreams!$A:$N,DW18,AR$7)))","v":""},{"$f":"IF($E18=\"\",\"\",IF(INDEX(E_SourceStreams!$A:$N,DX18,AS$7)=\"\",\"\",INDEX(E_SourceStreams!$A:$N,DX18,AS$7)))","v":""},{"$f":"IF($E18=\"\",\"\",IF(INDEX(E_SourceStreams!$A:$N,DY18,AT$7)=\"\",\"\",INDEX(E_SourceStreams!$A:$N,DY18,AT$7)))","v":""},{"$f":"IF($E18=\"\",\"\",IF(INDEX(E_SourceStreams!$A:$N,DZ18,AU$7)=\"\",\"\",INDEX(E_SourceStreams!$A:$N,DZ18,AU$7)))","v":""},{"$f":"IF($E18=\"\",\"\",IF(INDEX(E_SourceStreams!$A:$N,EA18,AV$7)=\"\",\"\",INDEX(E_SourceStreams!$A:$N,EA18,AV$7)))","v":""},{"$f":"IF($E18=\"\",\"\",IF(INDEX(E_SourceStreams!$A:$N,EB18,AW$7)=\"\",\"\",INDEX(E_SourceStreams!$A:$N,EB18,AW$7)))","v":""},{"$f":"IF($E18=\"\",\"\",IF(INDEX(E_SourceStreams!$A:$N,EC18,AX$7)=\"\",\"\",INDEX(E_SourceStreams!$A:$N,EC18,AX$7)))","v":""},{"$f":"IF($E18=\"\",\"\",IF(INDEX(E_SourceStreams!$A:$N,ED18,AY$7)=\"\",\"\",INDEX(E_SourceStreams!$A:$N,ED18,AY$7)))","v":""},{"$f":"IF($E18=\"\",\"\",IF(INDEX(E_SourceStreams!$A:$N,EE18,AZ$7)=\"\",\"\",INDEX(E_SourceStreams!$A:$N,EE18,AZ$7)))","v":""},{"$f":"IF($E18=\"\",\"\",IF(INDEX(E_SourceStreams!$A:$N,EF18,BA$7)=\"\",\"\",INDEX(E_SourceStreams!$A:$N,EF18,BA$7)))","v":""},{"$f":"IF($E18=\"\",\"\",IF(INDEX(E_SourceStreams!$A:$N,EG18,BB$7)=\"\",\"\",INDEX(E_SourceStreams!$A:$N,EG18,BB$7)))","v":""},{"$f":"IF($E18=\"\",\"\",IF(INDEX(E_SourceStreams!$A:$N,EH18,BC$7)=\"\",\"\",INDEX(E_SourceStreams!$A:$N,EH18,BC$7)))","v":""},{"$f":"IF($E18=\"\",\"\",IF(INDEX(E_SourceStreams!$A:$N,EI18,BD$7)=\"\",\"\",INDEX(E_SourceStreams!$A:$N,EI18,BD$7)))","v":""},{"$f":"IF($E18=\"\",\"\",IF(INDEX(E_SourceStreams!$A:$N,EJ18,BE$7)=\"\",\"\",INDEX(E_SourceStreams!$A:$N,EJ18,BE$7)))","v":""},{"$f":"IF($E18=\"\",\"\",IF(INDEX(E_SourceStreams!$A:$N,EK18,BF$7)=\"\",\"\",INDEX(E_SourceStreams!$A:$N,EK18,BF$7)))","v":""},{"$f":"IF($E18=\"\",\"\",IF(INDEX(E_SourceStreams!$A:$N,EL18,BG$7)=\"\",\"\",INDEX(E_SourceStreams!$A:$N,EL18,BG$7)))","v":""},{"$f":"IF($E18=\"\",\"\",IF(INDEX(E_SourceStreams!$A:$N,EM18,BH$7)=\"\",\"\",INDEX(E_SourceStreams!$A:$N,EM18,BH$7)))","v":""},{"$f":"IF($E18=\"\",\"\",IF(INDEX(E_SourceStreams!$A:$N,EN18,BI$7)=\"\",\"\",INDEX(E_SourceStreams!$A:$N,EN18,BI$7)))","v":""},{"$f":"IF($E18=\"\",\"\",IF(INDEX(E_SourceStreams!$A:$N,EO18,BJ$7)=\"\",\"\",INDEX(E_SourceStreams!$A:$N,EO18,BJ$7)))","v":""},{"$f":"IF($E18=\"\",\"\",IF(INDEX(E_SourceStreams!$A:$N,EP18,BK$7)=\"\",\"\",INDEX(E_SourceStreams!$A:$N,EP18,BK$7)))","v":""},{"$f":"IF($E18=\"\",\"\",IF(INDEX(E_SourceStreams!$A:$N,EQ18,BL$7)=\"\",\"\",INDEX(E_SourceStreams!$A:$N,EQ18,BL$7)))","v":""},{"$f":"IF($E18=\"\",\"\",IF(INDEX(E_SourceStreams!$A:$N,ER18,BM$7)=\"\",\"\",INDEX(E_SourceStreams!$A:$N,ER18,BM$7)))","v":""},{"$f":"IF($E18=\"\",\"\",IF(INDEX(E_SourceStreams!$A:$N,ES18,BN$7)=\"\",\"\",INDEX(E_SourceStreams!$A:$N,ES18,BN$7)))","v":""},{"$f":"IF($E18=\"\",\"\",IF(INDEX(E_SourceStreams!$A:$N,ET18,BO$7)=\"\",\"\",INDEX(E_SourceStreams!$A:$N,ET18,BO$7)))","v":""},{"$f":"IF($E18=\"\",\"\",IF(INDEX(E_SourceStreams!$A:$N,EU18,BP$7)=\"\",\"\",INDEX(E_SourceStreams!$A:$N,EU18,BP$7)))","v":""},{"$f":"IF($E18=\"\",\"\",IF(INDEX(E_SourceStreams!$A:$N,EV18,BQ$7)=\"\",\"\",INDEX(E_SourceStreams!$A:$N,EV18,BQ$7)))","v":""},{"$f":"IF($E18=\"\",\"\",IF(INDEX(E_SourceStreams!$A:$N,EW18,BR$7)=\"\",\"\",INDEX(E_SourceStreams!$A:$N,EW18,BR$7)))","v":""},{"$f":"IF($E18=\"\",\"\",IF(INDEX(E_SourceStreams!$A:$N,EX18,BS$7)=\"\",\"\",INDEX(E_SourceStreams!$A:$N,EX18,BS$7)))","v":""},{"$f":"IF($E18=\"\",\"\",IF(INDEX(E_SourceStreams!$A:$N,EY18,BT$7)=\"\",\"\",INDEX(E_SourceStreams!$A:$N,EY18,BT$7)))","v":""},null,null,null,null,null,null,null,null,null,null,null,null,null,null,null,"SourceCategory_",{"$f":"INDEX(C_InstallationDescription!$A$223:$A$328,ROWS($CI$11:CI18))=\"ausblenden\"","v":false},"SourceStreamName_",null,596,598,600,602,604,606,608,608,608,608,608,611,615,616,617,624,634,634,634,634,634,634,634,625,635,635,635,635,635,635,635,626,636,636,636,636,636,636,636,627,637,637,637,637,637,637,637,628,638,638,638,638,638,638,638,629,639,639,639,639,639,639,639,645]
[null,{"$f":"IF(COUNTIF($CK$10:CK19,TRUE)>0,\"\",INDEX(C_InstallationDescription!$E$223:$E$239,ROWS($A$11:A19)))","v":""},{"$f":"IF($E19=\"\",\"\",INDEX(C_InstallationDescription!G:G,MATCH($B19,C_InstallationDescription!$E:$E,0)))","v":""},{"$f":"IF($E19=\"\",\"\",INDEX(C_InstallationDescription!I:I,MATCH($B19,C_InstallationDescription!$E:$E,0)))","v":""},{"$f":"IF($B19=\"\",\"\",INDEX(C_InstallationDescription!F:F,MATCH($CJ19,C_InstallationDescription!$Q:$Q,0)))","v":""},{"$f":"IF($E19=\"\",\"\",INDEX(C_InstallationDescription!L:L,MATCH($CJ19,C_InstallationDescription!$Q:$Q,0)))","v":""},{"$f":"IF($E19=\"\",\"\",INDEX(C_InstallationDescription!M:M,MATCH($CJ19,C_InstallationDescription!$Q:$Q,0)))","v":""},{"$f":"IF($E19=\"\",\"\",INDEX(C_InstallationDescription!N:N,MATCH($CJ19,C_InstallationDescription!$Q:$Q,0)))","v":""},{"$f":"IF($E19=\"\",\"\",IF(INDEX(E_SourceStreams!$A:$N,CN19,I$7)=\"\",\"\",INDEX(E_SourceStreams!$A:$N,CN19,I$7)))","v":""},{"$f":"IF($E19=\"\",\"\",IF(INDEX(E_SourceStreams!$A:$N,CO19,J$7)=\"\",\"\",INDEX(E_SourceStreams!$A:$N,CO19,J$7)))","v":""},{"$f":"IF($E19=\"\",\"\",IF(INDEX(E_SourceStreams!$A:$N,CP19,K$7)=\"\",\"\",INDEX(E_SourceStreams!$A:$N,CP19,K$7)))","v":""},{"$f":"IF($E19=\"\",\"\",IF(INDEX(E_SourceStreams!$A:$N,CQ19,L$7)=\"\",\"\",INDEX(E_SourceStreams!$A:$N,CQ19,L$7)))","v":""},{"$f":"IF($E19=\"\",\"\",IF(INDEX(E_SourceStreams!$A:$N,CR19,M$7)=\"\",\"\",INDEX(E_SourceStreams!$A:$N,CR19,M$7)))","v":""},{"$f":"IF($E19=\"\",\"\",IF(INDEX(E_SourceStreams!$A:$N,CS19,N$7)=\"\",\"\",INDEX(E_SourceStreams!$A:$N,CS19,N$7)))","v":""},{"$f":"IF($E19=\"\",\"\",IF(INDEX(E_SourceStreams!$A:$N,CT19,O$7)=\"\",\"\",INDEX(E_SourceStreams!$A:$N,CT19,O$7)))","v":""},{"$f":"IF($E19=\"\",\"\",IF(INDEX(E_SourceStreams!$A:$N,CU19,P$7)=\"\",\"\",INDEX(E_SourceStreams!$A:$N,CU19,P$7)))","v":""},{"$f":"IF($E19=\"\",\"\",IF(INDEX(E_SourceStreams!$A:$N,CV19,Q$7)=\"\",\"\",INDEX(E_SourceStreams!$A:$N,CV19,Q$7)))","v":""},{"$f":"IF($E19=\"\",\"\",IF(INDEX(E_SourceStreams!$A:$N,CW19,R$7)=\"\",\"\",INDEX(E_SourceStreams!$A:$N,CW19,R$7)))","v":""},{"$f":"IF($E19=\"\",\"\",IF(INDEX(E_SourceStreams!$A:$N,CX19,S$7)=\"\",\"\",INDEX(E_SourceStreams!$A:$N,CX19,S$7)))","v":""},{"$f":"IF($E19=\"\",\"\",IF(INDEX(E_SourceStreams!$A:$N,CY19,T$7)=\"\",\"\",INDEX(E_SourceStreams!$A:$N,CY19,T$7)))","v":""},{"$f":"IF($E19=\"\",\"\",IF(INDEX(E_SourceStreams!$A:$N,CZ19,U$7)=\"\",\"\",INDEX(E_SourceStreams!$A:$N,CZ19,U$7)))","v":""},{"$f":"IF($E19=\"\",\"\",IF(INDEX(E_SourceStreams!$A:$N,DA19,V$7)=\"\",\"\",INDEX(E_SourceStreams!$A:$N,DA19,V$7)))","v":""},{"$f":"IF($E19=\"\",\"\",IF(INDEX(E_SourceStreams!$A:$N,DB19,W$7)=\"\",\"\",INDEX(E_SourceStreams!$A:$N,DB19,W$7)))","v":""},{"$f":"IF($E19=\"\",\"\",IF(INDEX(E_SourceStreams!$A:$N,DC19,X$7)=\"\",\"\",INDEX(E_SourceStreams!$A:$N,DC19,X$7)))","v":""},{"$f":"IF($E19=\"\",\"\",IF(INDEX(E_SourceStreams!$A:$N,DD19,Y$7)=\"\",\"\",INDEX(E_SourceStreams!$A:$N,DD19,Y$7)))","v":""},{"$f":"IF($E19=\"\",\"\",IF(INDEX(E_SourceStreams!$A:$N,DE19,Z$7)=\"\",\"\",INDEX(E_SourceStreams!$A:$N,DE19,Z$7)))","v":""},{"$f":"IF($E19=\"\",\"\",IF(INDEX(E_SourceStreams!$A:$N,DF19,AA$7)=\"\",\"\",INDEX(E_SourceStreams!$A:$N,DF19,AA$7)))","v":""},{"$f":"IF($E19=\"\",\"\",IF(INDEX(E_SourceStreams!$A:$N,DG19,AB$7)=\"\",\"\",INDEX(E_SourceStreams!$A:$N,DG19,AB$7)))","v":""},{"$f":"IF($E19=\"\",\"\",IF(INDEX(E_SourceStreams!$A:$N,DH19,AC$7)=\"\",\"\",INDEX(E_SourceStreams!$A:$N,DH19,AC$7)))","v":""},{"$f":"IF($E19=\"\",\"\",IF(INDEX(E_SourceStreams!$A:$N,DI19,AD$7)=\"\",\"\",INDEX(E_SourceStreams!$A:$N,DI19,AD$7)))","v":""},{"$f":"IF($E19=\"\",\"\",IF(INDEX(E_SourceStreams!$A:$N,DJ19,AE$7)=\"\",\"\",INDEX(E_SourceStreams!$A:$N,DJ19,AE$7)))","v":""},{"$f":"IF($E19=\"\",\"\",IF(INDEX(E_SourceStreams!$A:$N,DK19,AF$7)=\"\",\"\",INDEX(E_SourceStreams!$A:$N,DK19,AF$7)))","v":""},{"$f":"IF($E19=\"\",\"\",IF(INDEX(E_SourceStreams!$A:$N,DL19,AG$7)=\"\",\"\",INDEX(E_SourceStreams!$A:$N,DL19,AG$7)))","v":""},{"$f":"IF($E19=\"\",\"\",IF(INDEX(E_SourceStreams!$A:$N,DM19,AH$7)=\"\",\"\",INDEX(E_SourceStreams!$A:$N,DM19,AH$7)))","v":""},{"$f":"IF($E19=\"\",\"\",IF(INDEX(E_SourceStreams!$A:$N,DN19,AI$7)=\"\",\"\",INDEX(E_SourceStreams!$A:$N,DN19,AI$7)))","v":""},{"$f":"IF($E19=\"\",\"\",IF(INDEX(E_SourceStreams!$A:$N,DO19,AJ$7)=\"\",\"\",INDEX(E_SourceStreams!$A:$N,DO19,AJ$7)))","v":""},{"$f":"IF($E19=\"\",\"\",IF(INDEX(E_SourceStreams!$A:$N,DP19,AK$7)=\"\",\"\",INDEX(E_SourceStreams!$A:$N,DP19,AK$7)))","v":""},{"$f":"IF($E19=\"\",\"\",IF(INDEX(E_SourceStreams!$A:$N,DQ19,AL$7)=\"\",\"\",INDEX(E_SourceStreams!$A:$N,DQ19,AL$7)))","v":""},{"$f":"IF($E19=\"\",\"\",IF(INDEX(E_SourceStreams!$A:$N,DR19,AM$7)=\"\",\"\",INDEX(E_SourceStreams!$A:$N,DR19,AM$7)))","v":""},{"$f":"IF($E19=\"\",\"\",IF(INDEX(E_SourceStreams!$A:$N,DS19,AN$7)=\"\",\"\",INDEX(E_SourceStreams!$A:$N,DS19,AN$7)))","v":""},{"$f":"IF($E19=\"\",\"\",IF(INDEX(E_SourceStreams!$A:$N,DT19,AO$7)=\"\",\"\",INDEX(E_SourceStreams!$A:$N,DT19,AO$7)))","v":""},{"$f":"IF($E19=\"\",\"\",IF(INDEX(E_SourceStreams!$A:$N,DU19,AP$7)=\"\",\"\",INDEX(E_SourceStreams!$A:$N,DU19,AP$7)))","v":""},{"$f":"IF($E19=\"\",\"\",IF(INDEX(E_SourceStreams!$A:$N,DV19,AQ$7)=\"\",\"\",INDEX(E_SourceStreams!$A:$N,DV19,AQ$7)))","v":""},{"$f":"IF($E19=\"\",\"\",IF(INDEX(E_SourceStreams!$A:$N,DW19,AR$7)=\"\",\"\",INDEX(E_SourceStreams!$A:$N,DW19,AR$7)))","v":""},{"$f":"IF($E19=\"\",\"\",IF(INDEX(E_SourceStreams!$A:$N,DX19,AS$7)=\"\",\"\",INDEX(E_SourceStreams!$A:$N,DX19,AS$7)))","v":""},{"$f":"IF($E19=\"\",\"\",IF(INDEX(E_SourceStreams!$A:$N,DY19,AT$7)=\"\",\"\",INDEX(E_SourceStreams!$A:$N,DY19,AT$7)))","v":""},{"$f":"IF($E19=\"\",\"\",IF(INDEX(E_SourceStreams!$A:$N,DZ19,AU$7)=\"\",\"\",INDEX(E_SourceStreams!$A:$N,DZ19,AU$7)))","v":""},{"$f":"IF($E19=\"\",\"\",IF(INDEX(E_SourceStreams!$A:$N,EA19,AV$7)=\"\",\"\",INDEX(E_SourceStreams!$A:$N,EA19,AV$7)))","v":""},{"$f":"IF($E19=\"\",\"\",IF(INDEX(E_SourceStreams!$A:$N,EB19,AW$7)=\"\",\"\",INDEX(E_SourceStreams!$A:$N,EB19,AW$7)))","v":""},{"$f":"IF($E19=\"\",\"\",IF(INDEX(E_SourceStreams!$A:$N,EC19,AX$7)=\"\",\"\",INDEX(E_SourceStreams!$A:$N,EC19,AX$7)))","v":""},{"$f":"IF($E19=\"\",\"\",IF(INDEX(E_SourceStreams!$A:$N,ED19,AY$7)=\"\",\"\",INDEX(E_SourceStreams!$A:$N,ED19,AY$7)))","v":""},{"$f":"IF($E19=\"\",\"\",IF(INDEX(E_SourceStreams!$A:$N,EE19,AZ$7)=\"\",\"\",INDEX(E_SourceStreams!$A:$N,EE19,AZ$7)))","v":""},{"$f":"IF($E19=\"\",\"\",IF(INDEX(E_SourceStreams!$A:$N,EF19,BA$7)=\"\",\"\",INDEX(E_SourceStreams!$A:$N,EF19,BA$7)))","v":""},{"$f":"IF($E19=\"\",\"\",IF(INDEX(E_SourceStreams!$A:$N,EG19,BB$7)=\"\",\"\",INDEX(E_SourceStreams!$A:$N,EG19,BB$7)))","v":""},{"$f":"IF($E19=\"\",\"\",IF(INDEX(E_SourceStreams!$A:$N,EH19,BC$7)=\"\",\"\",INDEX(E_SourceStreams!$A:$N,EH19,BC$7)))","v":""},{"$f":"IF($E19=\"\",\"\",IF(INDEX(E_SourceStreams!$A:$N,EI19,BD$7)=\"\",\"\",INDEX(E_SourceStreams!$A:$N,EI19,BD$7)))","v":""},{"$f":"IF($E19=\"\",\"\",IF(INDEX(E_SourceStreams!$A:$N,EJ19,BE$7)=\"\",\"\",INDEX(E_SourceStreams!$A:$N,EJ19,BE$7)))","v":""},{"$f":"IF($E19=\"\",\"\",IF(INDEX(E_SourceStreams!$A:$N,EK19,BF$7)=\"\",\"\",INDEX(E_SourceStreams!$A:$N,EK19,BF$7)))","v":""},{"$f":"IF($E19=\"\",\"\",IF(INDEX(E_SourceStreams!$A:$N,EL19,BG$7)=\"\",\"\",INDEX(E_SourceStreams!$A:$N,EL19,BG$7)))","v":""},{"$f":"IF($E19=\"\",\"\",IF(INDEX(E_SourceStreams!$A:$N,EM19,BH$7)=\"\",\"\",INDEX(E_SourceStreams!$A:$N,EM19,BH$7)))","v":""},{"$f":"IF($E19=\"\",\"\",IF(INDEX(E_SourceStreams!$A:$N,EN19,BI$7)=\"\",\"\",INDEX(E_SourceStreams!$A:$N,EN19,BI$7)))","v":""},{"$f":"IF($E19=\"\",\"\",IF(INDEX(E_SourceStreams!$A:$N,EO19,BJ$7)=\"\",\"\",INDEX(E_SourceStreams!$A:$N,EO19,BJ$7)))","v":""},{"$f":"IF($E19=\"\",\"\",IF(INDEX(E_SourceStreams!$A:$N,EP19,BK$7)=\"\",\"\",INDEX(E_SourceStreams!$A:$N,EP19,BK$7)))","v":""},{"$f":"IF($E19=\"\",\"\",IF(INDEX(E_SourceStreams!$A:$N,EQ19,BL$7)=\"\",\"\",INDEX(E_SourceStreams!$A:$N,EQ19,BL$7)))","v":""},{"$f":"IF($E19=\"\",\"\",IF(INDEX(E_SourceStreams!$A:$N,ER19,BM$7)=\"\",\"\",INDEX(E_SourceStreams!$A:$N,ER19,BM$7)))","v":""},{"$f":"IF($E19=\"\",\"\",IF(INDEX(E_SourceStreams!$A:$N,ES19,BN$7)=\"\",\"\",INDEX(E_SourceStreams!$A:$N,ES19,BN$7)))","v":""},{"$f":"IF($E19=\"\",\"\",IF(INDEX(E_SourceStreams!$A:$N,ET19,BO$7)=\"\",\"\",INDEX(E_SourceStreams!$A:$N,ET19,BO$7)))","v":""},{"$f":"IF($E19=\"\",\"\",IF(INDEX(E_SourceStreams!$A:$N,EU19,BP$7)=\"\",\"\",INDEX(E_SourceStreams!$A:$N,EU19,BP$7)))","v":""},{"$f":"IF($E19=\"\",\"\",IF(INDEX(E_SourceStreams!$A:$N,EV19,BQ$7)=\"\",\"\",INDEX(E_SourceStreams!$A:$N,EV19,BQ$7)))","v":""},{"$f":"IF($E19=\"\",\"\",IF(INDEX(E_SourceStreams!$A:$N,EW19,BR$7)=\"\",\"\",INDEX(E_SourceStreams!$A:$N,EW19,BR$7)))","v":""},{"$f":"IF($E19=\"\",\"\",IF(INDEX(E_SourceStreams!$A:$N,EX19,BS$7)=\"\",\"\",INDEX(E_SourceStreams!$A:$N,EX19,BS$7)))","v":""},{"$f":"IF($E19=\"\",\"\",IF(INDEX(E_SourceStreams!$A:$N,EY19,BT$7)=\"\",\"\",INDEX(E_SourceStreams!$A:$N,EY19,BT$7)))","v":""},null,null,null,null,null,null,null,null,null,null,null,null,null,null,null,"SourceCategory_",{"$f":"INDEX(C_InstallationDescription!$A$223:$A$328,ROWS($CI$11:CI19))=\"ausblenden\"","v":false},"SourceStreamName_",null,662,664,666,668,670,672,674,674,674,674,674,677,681,682,683,690,700,700,700,700,700,700,700,691,701,701,701,701,701,701,701,692,702,702,702,702,702,702,702,693,703,703,703,703,703,703,703,694,704,704,704,704,704,704,704,695,705,705,705,705,705,705,705,711]
[null,{"$f":"IF(COUNTIF($CK$10:CK20,TRUE)>0,\"\",INDEX(C_InstallationDescription!$E$223:$E$239,ROWS($A$11:A20)))","v":""},{"$f":"IF($E20=\"\",\"\",INDEX(C_InstallationDescription!G:G,MATCH($B20,C_InstallationDescription!$E:$E,0)))","v":""},{"$f":"IF($E20=\"\",\"\",INDEX(C_InstallationDescription!I:I,MATCH($B20,C_InstallationDescription!$E:$E,0)))","v":""},{"$f":"IF($B20=\"\",\"\",INDEX(C_InstallationDescription!F:F,MATCH($CJ20,C_InstallationDescription!$Q:$Q,0)))","v":""},{"$f":"IF($E20=\"\",\"\",INDEX(C_InstallationDescription!L:L,MATCH($CJ20,C_InstallationDescription!$Q:$Q,0)))","v":""},{"$f":"IF($E20=\"\",\"\",INDEX(C_InstallationDescription!M:M,MATCH($CJ20,C_InstallationDescription!$Q:$Q,0)))","v":""},{"$f":"IF($E20=\"\",\"\",INDEX(C_InstallationDescription!N:N,MATCH($CJ20,C_InstallationDescription!$Q:$Q,0)))","v":""},{"$f":"IF($E20=\"\",\"\",IF(INDEX(E_SourceStreams!$A:$N,CN20,I$7)=\"\",\"\",INDEX(E_SourceStreams!$A:$N,CN20,I$7)))","v":""},{"$f":"IF($E20=\"\",\"\",IF(INDEX(E_SourceStreams!$A:$N,CO20,J$7)=\"\",\"\",INDEX(E_SourceStreams!$A:$N,CO20,J$7)))","v":""},{"$f":"IF($E20=\"\",\"\",IF(INDEX(E_SourceStreams!$A:$N,CP20,K$7)=\"\",\"\",INDEX(E_SourceStreams!$A:$N,CP20,K$7)))","v":""},{"$f":"IF($E20=\"\",\"\",IF(INDEX(E_SourceStreams!$A:$N,CQ20,L$7)=\"\",\"\",INDEX(E_SourceStreams!$A:$N,CQ20,L$7)))","v":""},{"$f":"IF($E20=\"\",\"\",IF(INDEX(E_SourceStreams!$A:$N,CR20,M$7)=\"\",\"\",INDEX(E_SourceStreams!$A:$N,CR20,M$7)))","v":""},{"$f":"IF($E20=\"\",\"\",IF(INDEX(E_SourceStreams!$A:$N,CS20,N$7)=\"\",\"\",INDEX(E_SourceStreams!$A:$N,CS20,N$7)))","v":""},{"$f":"IF($E20=\"\",\"\",IF(INDEX(E_SourceStreams!$A:$N,CT20,O$7)=\"\",\"\",INDEX(E_SourceStreams!$A:$N,CT20,O$7)))","v":""},{"$f":"IF($E20=\"\",\"\",IF(INDEX(E_SourceStreams!$A:$N,CU20,P$7)=\"\",\"\",INDEX(E_SourceStreams!$A:$N,CU20,P$7)))","v":""},{"$f":"IF($E20=\"\",\"\",IF(INDEX(E_SourceStreams!$A:$N,CV20,Q$7)=\"\",\"\",INDEX(E_SourceStreams!$A:$N,CV20,Q$7)))","v":""},{"$f":"IF($E20=\"\",\"\",IF(INDEX(E_SourceStreams!$A:$N,CW20,R$7)=\"\",\"\",INDEX(E_SourceStreams!$A:$N,CW20,R$7)))","v":""},{"$f":"IF($E20=\"\",\"\",IF(INDEX(E_SourceStreams!$A:$N,CX20,S$7)=\"\",\"\",INDEX(E_SourceStreams!$A:$N,CX20,S$7)))","v":""},{"$f":"IF($E20=\"\",\"\",IF(INDEX(E_SourceStreams!$A:$N,CY20,T$7)=\"\",\"\",INDEX(E_SourceStreams!$A:$N,CY20,T$7)))","v":""},{"$f":"IF($E20=\"\",\"\",IF(INDEX(E_SourceStreams!$A:$N,CZ20,U$7)=\"\",\"\",INDEX(E_SourceStreams!$A:$N,CZ20,U$7)))","v":""},{"$f":"IF($E20=\"\",\"\",IF(INDEX(E_SourceStreams!$A:$N,DA20,V$7)=\"\",\"\",INDEX(E_SourceStreams!$A:$N,DA20,V$7)))","v":""},{"$f":"IF($E20=\"\",\"\",IF(INDEX(E_SourceStreams!$A:$N,DB20,W$7)=\"\",\"\",INDEX(E_SourceStreams!$A:$N,DB20,W$7)))","v":""},{"$f":"IF($E20=\"\",\"\",IF(INDEX(E_SourceStreams!$A:$N,DC20,X$7)=\"\",\"\",INDEX(E_SourceStreams!$A:$N,DC20,X$7)))","v":""},{"$f":"IF($E20=\"\",\"\",IF(INDEX(E_SourceStreams!$A:$N,DD20,Y$7)=\"\",\"\",INDEX(E_SourceStreams!$A:$N,DD20,Y$7)))","v":""},{"$f":"IF($E20=\"\",\"\",IF(INDEX(E_SourceStreams!$A:$N,DE20,Z$7)=\"\",\"\",INDEX(E_SourceStreams!$A:$N,DE20,Z$7)))","v":""},{"$f":"IF($E20=\"\",\"\",IF(INDEX(E_SourceStreams!$A:$N,DF20,AA$7)=\"\",\"\",INDEX(E_SourceStreams!$A:$N,DF20,AA$7)))","v":""},{"$f":"IF($E20=\"\",\"\",IF(INDEX(E_SourceStreams!$A:$N,DG20,AB$7)=\"\",\"\",INDEX(E_SourceStreams!$A:$N,DG20,AB$7)))","v":""},{"$f":"IF($E20=\"\",\"\",IF(INDEX(E_SourceStreams!$A:$N,DH20,AC$7)=\"\",\"\",INDEX(E_SourceStreams!$A:$N,DH20,AC$7)))","v":""},{"$f":"IF($E20=\"\",\"\",IF(INDEX(E_SourceStreams!$A:$N,DI20,AD$7)=\"\",\"\",INDEX(E_SourceStreams!$A:$N,DI20,AD$7)))","v":""},{"$f":"IF($E20=\"\",\"\",IF(INDEX(E_SourceStreams!$A:$N,DJ20,AE$7)=\"\",\"\",INDEX(E_SourceStreams!$A:$N,DJ20,AE$7)))","v":""},{"$f":"IF($E20=\"\",\"\",IF(INDEX(E_SourceStreams!$A:$N,DK20,AF$7)=\"\",\"\",INDEX(E_SourceStreams!$A:$N,DK20,AF$7)))","v":""},{"$f":"IF($E20=\"\",\"\",IF(INDEX(E_SourceStreams!$A:$N,DL20,AG$7)=\"\",\"\",INDEX(E_SourceStreams!$A:$N,DL20,AG$7)))","v":""},{"$f":"IF($E20=\"\",\"\",IF(INDEX(E_SourceStreams!$A:$N,DM20,AH$7)=\"\",\"\",INDEX(E_SourceStreams!$A:$N,DM20,AH$7)))","v":""},{"$f":"IF($E20=\"\",\"\",IF(INDEX(E_SourceStreams!$A:$N,DN20,AI$7)=\"\",\"\",INDEX(E_SourceStreams!$A:$N,DN20,AI$7)))","v":""},{"$f":"IF($E20=\"\",\"\",IF(INDEX(E_SourceStreams!$A:$N,DO20,AJ$7)=\"\",\"\",INDEX(E_SourceStreams!$A:$N,DO20,AJ$7)))","v":""},{"$f":"IF($E20=\"\",\"\",IF(INDEX(E_SourceStreams!$A:$N,DP20,AK$7)=\"\",\"\",INDEX(E_SourceStreams!$A:$N,DP20,AK$7)))","v":""},{"$f":"IF($E20=\"\",\"\",IF(INDEX(E_SourceStreams!$A:$N,DQ20,AL$7)=\"\",\"\",INDEX(E_SourceStreams!$A:$N,DQ20,AL$7)))","v":""},{"$f":"IF($E20=\"\",\"\",IF(INDEX(E_SourceStreams!$A:$N,DR20,AM$7)=\"\",\"\",INDEX(E_SourceStreams!$A:$N,DR20,AM$7)))","v":""},{"$f":"IF($E20=\"\",\"\",IF(INDEX(E_SourceStreams!$A:$N,DS20,AN$7)=\"\",\"\",INDEX(E_SourceStreams!$A:$N,DS20,AN$7)))","v":""},{"$f":"IF($E20=\"\",\"\",IF(INDEX(E_SourceStreams!$A:$N,DT20,AO$7)=\"\",\"\",INDEX(E_SourceStreams!$A:$N,DT20,AO$7)))","v":""},{"$f":"IF($E20=\"\",\"\",IF(INDEX(E_SourceStreams!$A:$N,DU20,AP$7)=\"\",\"\",INDEX(E_SourceStreams!$A:$N,DU20,AP$7)))","v":""},{"$f":"IF($E20=\"\",\"\",IF(INDEX(E_SourceStreams!$A:$N,DV20,AQ$7)=\"\",\"\",INDEX(E_SourceStreams!$A:$N,DV20,AQ$7)))","v":""},{"$f":"IF($E20=\"\",\"\",IF(INDEX(E_SourceStreams!$A:$N,DW20,AR$7)=\"\",\"\",INDEX(E_SourceStreams!$A:$N,DW20,AR$7)))","v":""},{"$f":"IF($E20=\"\",\"\",IF(INDEX(E_SourceStreams!$A:$N,DX20,AS$7)=\"\",\"\",INDEX(E_SourceStreams!$A:$N,DX20,AS$7)))","v":""},{"$f":"IF($E20=\"\",\"\",IF(INDEX(E_SourceStreams!$A:$N,DY20,AT$7)=\"\",\"\",INDEX(E_SourceStreams!$A:$N,DY20,AT$7)))","v":""},{"$f":"IF($E20=\"\",\"\",IF(INDEX(E_SourceStreams!$A:$N,DZ20,AU$7)=\"\",\"\",INDEX(E_SourceStreams!$A:$N,DZ20,AU$7)))","v":""},{"$f":"IF($E20=\"\",\"\",IF(INDEX(E_SourceStreams!$A:$N,EA20,AV$7)=\"\",\"\",INDEX(E_SourceStreams!$A:$N,EA20,AV$7)))","v":""},{"$f":"IF($E20=\"\",\"\",IF(INDEX(E_SourceStreams!$A:$N,EB20,AW$7)=\"\",\"\",INDEX(E_SourceStreams!$A:$N,EB20,AW$7)))","v":""},{"$f":"IF($E20=\"\",\"\",IF(INDEX(E_SourceStreams!$A:$N,EC20,AX$7)=\"\",\"\",INDEX(E_SourceStreams!$A:$N,EC20,AX$7)))","v":""},{"$f":"IF($E20=\"\",\"\",IF(INDEX(E_SourceStreams!$A:$N,ED20,AY$7)=\"\",\"\",INDEX(E_SourceStreams!$A:$N,ED20,AY$7)))","v":""},{"$f":"IF($E20=\"\",\"\",IF(INDEX(E_SourceStreams!$A:$N,EE20,AZ$7)=\"\",\"\",INDEX(E_SourceStreams!$A:$N,EE20,AZ$7)))","v":""},{"$f":"IF($E20=\"\",\"\",IF(INDEX(E_SourceStreams!$A:$N,EF20,BA$7)=\"\",\"\",INDEX(E_SourceStreams!$A:$N,EF20,BA$7)))","v":""},{"$f":"IF($E20=\"\",\"\",IF(INDEX(E_SourceStreams!$A:$N,EG20,BB$7)=\"\",\"\",INDEX(E_SourceStreams!$A:$N,EG20,BB$7)))","v":""},{"$f":"IF($E20=\"\",\"\",IF(INDEX(E_SourceStreams!$A:$N,EH20,BC$7)=\"\",\"\",INDEX(E_SourceStreams!$A:$N,EH20,BC$7)))","v":""},{"$f":"IF($E20=\"\",\"\",IF(INDEX(E_SourceStreams!$A:$N,EI20,BD$7)=\"\",\"\",INDEX(E_SourceStreams!$A:$N,EI20,BD$7)))","v":""},{"$f":"IF($E20=\"\",\"\",IF(INDEX(E_SourceStreams!$A:$N,EJ20,BE$7)=\"\",\"\",INDEX(E_SourceStreams!$A:$N,EJ20,BE$7)))","v":""},{"$f":"IF($E20=\"\",\"\",IF(INDEX(E_SourceStreams!$A:$N,EK20,BF$7)=\"\",\"\",INDEX(E_SourceStreams!$A:$N,EK20,BF$7)))","v":""},{"$f":"IF($E20=\"\",\"\",IF(INDEX(E_SourceStreams!$A:$N,EL20,BG$7)=\"\",\"\",INDEX(E_SourceStreams!$A:$N,EL20,BG$7)))","v":""},{"$f":"IF($E20=\"\",\"\",IF(INDEX(E_SourceStreams!$A:$N,EM20,BH$7)=\"\",\"\",INDEX(E_SourceStreams!$A:$N,EM20,BH$7)))","v":""},{"$f":"IF($E20=\"\",\"\",IF(INDEX(E_SourceStreams!$A:$N,EN20,BI$7)=\"\",\"\",INDEX(E_SourceStreams!$A:$N,EN20,BI$7)))","v":""},{"$f":"IF($E20=\"\",\"\",IF(INDEX(E_SourceStreams!$A:$N,EO20,BJ$7)=\"\",\"\",INDEX(E_SourceStreams!$A:$N,EO20,BJ$7)))","v":""},{"$f":"IF($E20=\"\",\"\",IF(INDEX(E_SourceStreams!$A:$N,EP20,BK$7)=\"\",\"\",INDEX(E_SourceStreams!$A:$N,EP20,BK$7)))","v":""},{"$f":"IF($E20=\"\",\"\",IF(INDEX(E_SourceStreams!$A:$N,EQ20,BL$7)=\"\",\"\",INDEX(E_SourceStreams!$A:$N,EQ20,BL$7)))","v":""},{"$f":"IF($E20=\"\",\"\",IF(INDEX(E_SourceStreams!$A:$N,ER20,BM$7)=\"\",\"\",INDEX(E_SourceStreams!$A:$N,ER20,BM$7)))","v":""},{"$f":"IF($E20=\"\",\"\",IF(INDEX(E_SourceStreams!$A:$N,ES20,BN$7)=\"\",\"\",INDEX(E_SourceStreams!$A:$N,ES20,BN$7)))","v":""},{"$f":"IF($E20=\"\",\"\",IF(INDEX(E_SourceStreams!$A:$N,ET20,BO$7)=\"\",\"\",INDEX(E_SourceStreams!$A:$N,ET20,BO$7)))","v":""},{"$f":"IF($E20=\"\",\"\",IF(INDEX(E_SourceStreams!$A:$N,EU20,BP$7)=\"\",\"\",INDEX(E_SourceStreams!$A:$N,EU20,BP$7)))","v":""},{"$f":"IF($E20=\"\",\"\",IF(INDEX(E_SourceStreams!$A:$N,EV20,BQ$7)=\"\",\"\",INDEX(E_SourceStreams!$A:$N,EV20,BQ$7)))","v":""},{"$f":"IF($E20=\"\",\"\",IF(INDEX(E_SourceStreams!$A:$N,EW20,BR$7)=\"\",\"\",INDEX(E_SourceStreams!$A:$N,EW20,BR$7)))","v":""},{"$f":"IF($E20=\"\",\"\",IF(INDEX(E_SourceStreams!$A:$N,EX20,BS$7)=\"\",\"\",INDEX(E_SourceStreams!$A:$N,EX20,BS$7)))","v":""},{"$f":"IF($E20=\"\",\"\",IF(INDEX(E_SourceStreams!$A:$N,EY20,BT$7)=\"\",\"\",INDEX(E_SourceStreams!$A:$N,EY20,BT$7)))","v":""},null,null,null,null,null,null,null,null,null,null,null,null,null,null,null,"SourceCategory_",{"$f":"INDEX(C_InstallationDescription!$A$223:$A$328,ROWS($CI$11:CI20))=\"ausblenden\"","v":false},"SourceStreamName_",null,728,730,732,734,736,738,740,740,740,740,740,743,747,748,749,756,766,766,766,766,766,766,766,757,767,767,767,767,767,767,767,758,768,768,768,768,768,768,768,759,769,769,769,769,769,769,769,760,770,770,770,770,770,770,770,761,771,771,771,771,771,771,771,777]
[null,{"$f":"IF(COUNTIF($CK$10:CK21,TRUE)>0,\"\",INDEX(C_InstallationDescription!$E$223:$E$239,ROWS($A$11:A21)))","v":""},{"$f":"IF($E21=\"\",\"\",INDEX(C_InstallationDescription!G:G,MATCH($B21,C_InstallationDescription!$E:$E,0)))","v":""},{"$f":"IF($E21=\"\",\"\",INDEX(C_InstallationDescription!I:I,MATCH($B21,C_InstallationDescription!$E:$E,0)))","v":""},{"$f":"IF($B21=\"\",\"\",INDEX(C_InstallationDescription!F:F,MATCH($CJ21,C_InstallationDescription!$Q:$Q,0)))","v":""},{"$f":"IF($E21=\"\",\"\",INDEX(C_InstallationDescription!L:L,MATCH($CJ21,C_InstallationDescription!$Q:$Q,0)))","v":""},{"$f":"IF($E21=\"\",\"\",INDEX(C_InstallationDescription!M:M,MATCH($CJ21,C_InstallationDescription!$Q:$Q,0)))","v":""},{"$f":"IF($E21=\"\",\"\",INDEX(C_InstallationDescription!N:N,MATCH($CJ21,C_InstallationDescription!$Q:$Q,0)))","v":""},{"$f":"IF($E21=\"\",\"\",IF(INDEX(E_SourceStreams!$A:$N,CN21,I$7)=\"\",\"\",INDEX(E_SourceStreams!$A:$N,CN21,I$7)))","v":""},{"$f":"IF($E21=\"\",\"\",IF(INDEX(E_SourceStreams!$A:$N,CO21,J$7)=\"\",\"\",INDEX(E_SourceStreams!$A:$N,CO21,J$7)))","v":""},{"$f":"IF($E21=\"\",\"\",IF(INDEX(E_SourceStreams!$A:$N,CP21,K$7)=\"\",\"\",INDEX(E_SourceStreams!$A:$N,CP21,K$7)))","v":""},{"$f":"IF($E21=\"\",\"\",IF(INDEX(E_SourceStreams!$A:$N,CQ21,L$7)=\"\",\"\",INDEX(E_SourceStreams!$A:$N,CQ21,L$7)))","v":""},{"$f":"IF($E21=\"\",\"\",IF(INDEX(E_SourceStreams!$A:$N,CR21,M$7)=\"\",\"\",INDEX(E_SourceStreams!$A:$N,CR21,M$7)))","v":""},{"$f":"IF($E21=\"\",\"\",IF(INDEX(E_SourceStreams!$A:$N,CS21,N$7)=\"\",\"\",INDEX(E_SourceStreams!$A:$N,CS21,N$7)))","v":""},{"$f":"IF($E21=\"\",\"\",IF(INDEX(E_SourceStreams!$A:$N,CT21,O$7)=\"\",\"\",INDEX(E_SourceStreams!$A:$N,CT21,O$7)))","v":""},{"$f":"IF($E21=\"\",\"\",IF(INDEX(E_SourceStreams!$A:$N,CU21,P$7)=\"\",\"\",INDEX(E_SourceStreams!$A:$N,CU21,P$7)))","v":""},{"$f":"IF($E21=\"\",\"\",IF(INDEX(E_SourceStreams!$A:$N,CV21,Q$7)=\"\",\"\",INDEX(E_SourceStreams!$A:$N,CV21,Q$7)))","v":""},{"$f":"IF($E21=\"\",\"\",IF(INDEX(E_SourceStreams!$A:$N,CW21,R$7)=\"\",\"\",INDEX(E_SourceStreams!$A:$N,CW21,R$7)))","v":""},{"$f":"IF($E21=\"\",\"\",IF(INDEX(E_SourceStreams!$A:$N,CX21,S$7)=\"\",\"\",INDEX(E_SourceStreams!$A:$N,CX21,S$7)))","v":""},{"$f":"IF($E21=\"\",\"\",IF(INDEX(E_SourceStreams!$A:$N,CY21,T$7)=\"\",\"\",INDEX(E_SourceStreams!$A:$N,CY21,T$7)))","v":""},{"$f":"IF($E21=\"\",\"\",IF(INDEX(E_SourceStreams!$A:$N,CZ21,U$7)=\"\",\"\",INDEX(E_SourceStreams!$A:$N,CZ21,U$7)))","v":""},{"$f":"IF($E21=\"\",\"\",IF(INDEX(E_SourceStreams!$A:$N,DA21,V$7)=\"\",\"\",INDEX(E_SourceStreams!$A:$N,DA21,V$7)))","v":""},{"$f":"IF($E21=\"\",\"\",IF(INDEX(E_SourceStreams!$A:$N,DB21,W$7)=\"\",\"\",INDEX(E_SourceStreams!$A:$N,DB21,W$7)))","v":""},{"$f":"IF($E21=\"\",\"\",IF(INDEX(E_SourceStreams!$A:$N,DC21,X$7)=\"\",\"\",INDEX(E_SourceStreams!$A:$N,DC21,X$7)))","v":""},{"$f":"IF($E21=\"\",\"\",IF(INDEX(E_SourceStreams!$A:$N,DD21,Y$7)=\"\",\"\",INDEX(E_SourceStreams!$A:$N,DD21,Y$7)))","v":""},{"$f":"IF($E21=\"\",\"\",IF(INDEX(E_SourceStreams!$A:$N,DE21,Z$7)=\"\",\"\",INDEX(E_SourceStreams!$A:$N,DE21,Z$7)))","v":""},{"$f":"IF($E21=\"\",\"\",IF(INDEX(E_SourceStreams!$A:$N,DF21,AA$7)=\"\",\"\",INDEX(E_SourceStreams!$A:$N,DF21,AA$7)))","v":""},{"$f":"IF($E21=\"\",\"\",IF(INDEX(E_SourceStreams!$A:$N,DG21,AB$7)=\"\",\"\",INDEX(E_SourceStreams!$A:$N,DG21,AB$7)))","v":""},{"$f":"IF($E21=\"\",\"\",IF(INDEX(E_SourceStreams!$A:$N,DH21,AC$7)=\"\",\"\",INDEX(E_SourceStreams!$A:$N,DH21,AC$7)))","v":""},{"$f":"IF($E21=\"\",\"\",IF(INDEX(E_SourceStreams!$A:$N,DI21,AD$7)=\"\",\"\",INDEX(E_SourceStreams!$A:$N,DI21,AD$7)))","v":""},{"$f":"IF($E21=\"\",\"\",IF(INDEX(E_SourceStreams!$A:$N,DJ21,AE$7)=\"\",\"\",INDEX(E_SourceStreams!$A:$N,DJ21,AE$7)))","v":""},{"$f":"IF($E21=\"\",\"\",IF(INDEX(E_SourceStreams!$A:$N,DK21,AF$7)=\"\",\"\",INDEX(E_SourceStreams!$A:$N,DK21,AF$7)))","v":""},{"$f":"IF($E21=\"\",\"\",IF(INDEX(E_SourceStreams!$A:$N,DL21,AG$7)=\"\",\"\",INDEX(E_SourceStreams!$A:$N,DL21,AG$7)))","v":""},{"$f":"IF($E21=\"\",\"\",IF(INDEX(E_SourceStreams!$A:$N,DM21,AH$7)=\"\",\"\",INDEX(E_SourceStreams!$A:$N,DM21,AH$7)))","v":""},{"$f":"IF($E21=\"\",\"\",IF(INDEX(E_SourceStreams!$A:$N,DN21,AI$7)=\"\",\"\",INDEX(E_SourceStreams!$A:$N,DN21,AI$7)))","v":""},{"$f":"IF($E21=\"\",\"\",IF(INDEX(E_SourceStreams!$A:$N,DO21,AJ$7)=\"\",\"\",INDEX(E_SourceStreams!$A:$N,DO21,AJ$7)))","v":""},{"$f":"IF($E21=\"\",\"\",IF(INDEX(E_SourceStreams!$A:$N,DP21,AK$7)=\"\",\"\",INDEX(E_SourceStreams!$A:$N,DP21,AK$7)))","v":""},{"$f":"IF($E21=\"\",\"\",IF(INDEX(E_SourceStreams!$A:$N,DQ21,AL$7)=\"\",\"\",INDEX(E_SourceStreams!$A:$N,DQ21,AL$7)))","v":""},{"$f":"IF($E21=\"\",\"\",IF(INDEX(E_SourceStreams!$A:$N,DR21,AM$7)=\"\",\"\",INDEX(E_SourceStreams!$A:$N,DR21,AM$7)))","v":""},{"$f":"IF($E21=\"\",\"\",IF(INDEX(E_SourceStreams!$A:$N,DS21,AN$7)=\"\",\"\",INDEX(E_SourceStreams!$A:$N,DS21,AN$7)))","v":""},{"$f":"IF($E21=\"\",\"\",IF(INDEX(E_SourceStreams!$A:$N,DT21,AO$7)=\"\",\"\",INDEX(E_SourceStreams!$A:$N,DT21,AO$7)))","v":""},{"$f":"IF($E21=\"\",\"\",IF(INDEX(E_SourceStreams!$A:$N,DU21,AP$7)=\"\",\"\",INDEX(E_SourceStreams!$A:$N,DU21,AP$7)))","v":""},{"$f":"IF($E21=\"\",\"\",IF(INDEX(E_SourceStreams!$A:$N,DV21,AQ$7)=\"\",\"\",INDEX(E_SourceStreams!$A:$N,DV21,AQ$7)))","v":""},{"$f":"IF($E21=\"\",\"\",IF(INDEX(E_SourceStreams!$A:$N,DW21,AR$7)=\"\",\"\",INDEX(E_SourceStreams!$A:$N,DW21,AR$7)))","v":""},{"$f":"IF($E21=\"\",\"\",IF(INDEX(E_SourceStreams!$A:$N,DX21,AS$7)=\"\",\"\",INDEX(E_SourceStreams!$A:$N,DX21,AS$7)))","v":""},{"$f":"IF($E21=\"\",\"\",IF(INDEX(E_SourceStreams!$A:$N,DY21,AT$7)=\"\",\"\",INDEX(E_SourceStreams!$A:$N,DY21,AT$7)))","v":""},{"$f":"IF($E21=\"\",\"\",IF(INDEX(E_SourceStreams!$A:$N,DZ21,AU$7)=\"\",\"\",INDEX(E_SourceStreams!$A:$N,DZ21,AU$7)))","v":""},{"$f":"IF($E21=\"\",\"\",IF(INDEX(E_SourceStreams!$A:$N,EA21,AV$7)=\"\",\"\",INDEX(E_SourceStreams!$A:$N,EA21,AV$7)))","v":""},{"$f":"IF($E21=\"\",\"\",IF(INDEX(E_SourceStreams!$A:$N,EB21,AW$7)=\"\",\"\",INDEX(E_SourceStreams!$A:$N,EB21,AW$7)))","v":""},{"$f":"IF($E21=\"\",\"\",IF(INDEX(E_SourceStreams!$A:$N,EC21,AX$7)=\"\",\"\",INDEX(E_SourceStreams!$A:$N,EC21,AX$7)))","v":""},{"$f":"IF($E21=\"\",\"\",IF(INDEX(E_SourceStreams!$A:$N,ED21,AY$7)=\"\",\"\",INDEX(E_SourceStreams!$A:$N,ED21,AY$7)))","v":""},{"$f":"IF($E21=\"\",\"\",IF(INDEX(E_SourceStreams!$A:$N,EE21,AZ$7)=\"\",\"\",INDEX(E_SourceStreams!$A:$N,EE21,AZ$7)))","v":""},{"$f":"IF($E21=\"\",\"\",IF(INDEX(E_SourceStreams!$A:$N,EF21,BA$7)=\"\",\"\",INDEX(E_SourceStreams!$A:$N,EF21,BA$7)))","v":""},{"$f":"IF($E21=\"\",\"\",IF(INDEX(E_SourceStreams!$A:$N,EG21,BB$7)=\"\",\"\",INDEX(E_SourceStreams!$A:$N,EG21,BB$7)))","v":""},{"$f":"IF($E21=\"\",\"\",IF(INDEX(E_SourceStreams!$A:$N,EH21,BC$7)=\"\",\"\",INDEX(E_SourceStreams!$A:$N,EH21,BC$7)))","v":""},{"$f":"IF($E21=\"\",\"\",IF(INDEX(E_SourceStreams!$A:$N,EI21,BD$7)=\"\",\"\",INDEX(E_SourceStreams!$A:$N,EI21,BD$7)))","v":""},{"$f":"IF($E21=\"\",\"\",IF(INDEX(E_SourceStreams!$A:$N,EJ21,BE$7)=\"\",\"\",INDEX(E_SourceStreams!$A:$N,EJ21,BE$7)))","v":""},{"$f":"IF($E21=\"\",\"\",IF(INDEX(E_SourceStreams!$A:$N,EK21,BF$7)=\"\",\"\",INDEX(E_SourceStreams!$A:$N,EK21,BF$7)))","v":""},{"$f":"IF($E21=\"\",\"\",IF(INDEX(E_SourceStreams!$A:$N,EL21,BG$7)=\"\",\"\",INDEX(E_SourceStreams!$A:$N,EL21,BG$7)))","v":""},{"$f":"IF($E21=\"\",\"\",IF(INDEX(E_SourceStreams!$A:$N,EM21,BH$7)=\"\",\"\",INDEX(E_SourceStreams!$A:$N,EM21,BH$7)))","v":""},{"$f":"IF($E21=\"\",\"\",IF(INDEX(E_SourceStreams!$A:$N,EN21,BI$7)=\"\",\"\",INDEX(E_SourceStreams!$A:$N,EN21,BI$7)))","v":""},{"$f":"IF($E21=\"\",\"\",IF(INDEX(E_SourceStreams!$A:$N,EO21,BJ$7)=\"\",\"\",INDEX(E_SourceStreams!$A:$N,EO21,BJ$7)))","v":""},{"$f":"IF($E21=\"\",\"\",IF(INDEX(E_SourceStreams!$A:$N,EP21,BK$7)=\"\",\"\",INDEX(E_SourceStreams!$A:$N,EP21,BK$7)))","v":""},{"$f":"IF($E21=\"\",\"\",IF(INDEX(E_SourceStreams!$A:$N,EQ21,BL$7)=\"\",\"\",INDEX(E_SourceStreams!$A:$N,EQ21,BL$7)))","v":""},{"$f":"IF($E21=\"\",\"\",IF(INDEX(E_SourceStreams!$A:$N,ER21,BM$7)=\"\",\"\",INDEX(E_SourceStreams!$A:$N,ER21,BM$7)))","v":""},{"$f":"IF($E21=\"\",\"\",IF(INDEX(E_SourceStreams!$A:$N,ES21,BN$7)=\"\",\"\",INDEX(E_SourceStreams!$A:$N,ES21,BN$7)))","v":""},{"$f":"IF($E21=\"\",\"\",IF(INDEX(E_SourceStreams!$A:$N,ET21,BO$7)=\"\",\"\",INDEX(E_SourceStreams!$A:$N,ET21,BO$7)))","v":""},{"$f":"IF($E21=\"\",\"\",IF(INDEX(E_SourceStreams!$A:$N,EU21,BP$7)=\"\",\"\",INDEX(E_SourceStreams!$A:$N,EU21,BP$7)))","v":""},{"$f":"IF($E21=\"\",\"\",IF(INDEX(E_SourceStreams!$A:$N,EV21,BQ$7)=\"\",\"\",INDEX(E_SourceStreams!$A:$N,EV21,BQ$7)))","v":""},{"$f":"IF($E21=\"\",\"\",IF(INDEX(E_SourceStreams!$A:$N,EW21,BR$7)=\"\",\"\",INDEX(E_SourceStreams!$A:$N,EW21,BR$7)))","v":""},{"$f":"IF($E21=\"\",\"\",IF(INDEX(E_SourceStreams!$A:$N,EX21,BS$7)=\"\",\"\",INDEX(E_SourceStreams!$A:$N,EX21,BS$7)))","v":""},{"$f":"IF($E21=\"\",\"\",IF(INDEX(E_SourceStreams!$A:$N,EY21,BT$7)=\"\",\"\",INDEX(E_SourceStreams!$A:$N,EY21,BT$7)))","v":""},null,null,null,null,null,null,null,null,null,null,null,null,null,null,null,"SourceCategory_",{"$f":"INDEX(C_InstallationDescription!$A$223:$A$328,ROWS($CI$11:CI21))=\"ausblenden\"","v":true},"SourceStreamName_",null,794,796,798,800,802,804,806,806,806,806,806,809,813,814,815,822,832,832,832,832,832,832,832,823,833,833,833,833,833,833,833,824,834,834,834,834,834,834,834,825,835,835,835,835,835,835,835,826,836,836,836,836,836,836,836,827,837,837,837,837,837,837,837,843]
[null,{"$f":"IF(COUNTIF($CK$10:CK22,TRUE)>0,\"\",INDEX(C_InstallationDescription!$E$223:$E$239,ROWS($A$11:A22)))","v":""},{"$f":"IF($E22=\"\",\"\",INDEX(C_InstallationDescription!G:G,MATCH($B22,C_InstallationDescription!$E:$E,0)))","v":""},{"$f":"IF($E22=\"\",\"\",INDEX(C_InstallationDescription!I:I,MATCH($B22,C_InstallationDescription!$E:$E,0)))","v":""},{"$f":"IF($B22=\"\",\"\",INDEX(C_InstallationDescription!F:F,MATCH($CJ22,C_InstallationDescription!$Q:$Q,0)))","v":""},{"$f":"IF($E22=\"\",\"\",INDEX(C_InstallationDescription!L:L,MATCH($CJ22,C_InstallationDescription!$Q:$Q,0)))","v":""},{"$f":"IF($E22=\"\",\"\",INDEX(C_InstallationDescription!M:M,MATCH($CJ22,C_InstallationDescription!$Q:$Q,0)))","v":""},{"$f":"IF($E22=\"\",\"\",INDEX(C_InstallationDescription!N:N,MATCH($CJ22,C_InstallationDescription!$Q:$Q,0)))","v":""},{"$f":"IF($E22=\"\",\"\",IF(INDEX(E_SourceStreams!$A:$N,CN22,I$7)=\"\",\"\",INDEX(E_SourceStreams!$A:$N,CN22,I$7)))","v":""},{"$f":"IF($E22=\"\",\"\",IF(INDEX(E_SourceStreams!$A:$N,CO22,J$7)=\"\",\"\",INDEX(E_SourceStreams!$A:$N,CO22,J$7)))","v":""},{"$f":"IF($E22=\"\",\"\",IF(INDEX(E_SourceStreams!$A:$N,CP22,K$7)=\"\",\"\",INDEX(E_SourceStreams!$A:$N,CP22,K$7)))","v":""},{"$f":"IF($E22=\"\",\"\",IF(INDEX(E_SourceStreams!$A:$N,CQ22,L$7)=\"\",\"\",INDEX(E_SourceStreams!$A:$N,CQ22,L$7)))","v":""},{"$f":"IF($E22=\"\",\"\",IF(INDEX(E_SourceStreams!$A:$N,CR22,M$7)=\"\",\"\",INDEX(E_SourceStreams!$A:$N,CR22,M$7)))","v":""},{"$f":"IF($E22=\"\",\"\",IF(INDEX(E_SourceStreams!$A:$N,CS22,N$7)=\"\",\"\",INDEX(E_SourceStreams!$A:$N,CS22,N$7)))","v":""},{"$f":"IF($E22=\"\",\"\",IF(INDEX(E_SourceStreams!$A:$N,CT22,O$7)=\"\",\"\",INDEX(E_SourceStreams!$A:$N,CT22,O$7)))","v":""},{"$f":"IF($E22=\"\",\"\",IF(INDEX(E_SourceStreams!$A:$N,CU22,P$7)=\"\",\"\",INDEX(E_SourceStreams!$A:$N,CU22,P$7)))","v":""},{"$f":"IF($E22=\"\",\"\",IF(INDEX(E_SourceStreams!$A:$N,CV22,Q$7)=\"\",\"\",INDEX(E_SourceStreams!$A:$N,CV22,Q$7)))","v":""},{"$f":"IF($E22=\"\",\"\",IF(INDEX(E_SourceStreams!$A:$N,CW22,R$7)=\"\",\"\",INDEX(E_SourceStreams!$A:$N,CW22,R$7)))","v":""},{"$f":"IF($E22=\"\",\"\",IF(INDEX(E_SourceStreams!$A:$N,CX22,S$7)=\"\",\"\",INDEX(E_SourceStreams!$A:$N,CX22,S$7)))","v":""},{"$f":"IF($E22=\"\",\"\",IF(INDEX(E_SourceStreams!$A:$N,CY22,T$7)=\"\",\"\",INDEX(E_SourceStreams!$A:$N,CY22,T$7)))","v":""},{"$f":"IF($E22=\"\",\"\",IF(INDEX(E_SourceStreams!$A:$N,CZ22,U$7)=\"\",\"\",INDEX(E_SourceStreams!$A:$N,CZ22,U$7)))","v":""},{"$f":"IF($E22=\"\",\"\",IF(INDEX(E_SourceStreams!$A:$N,DA22,V$7)=\"\",\"\",INDEX(E_SourceStreams!$A:$N,DA22,V$7)))","v":""},{"$f":"IF($E22=\"\",\"\",IF(INDEX(E_SourceStreams!$A:$N,DB22,W$7)=\"\",\"\",INDEX(E_SourceStreams!$A:$N,DB22,W$7)))","v":""},{"$f":"IF($E22=\"\",\"\",IF(INDEX(E_SourceStreams!$A:$N,DC22,X$7)=\"\",\"\",INDEX(E_SourceStreams!$A:$N,DC22,X$7)))","v":""},{"$f":"IF($E22=\"\",\"\",IF(INDEX(E_SourceStreams!$A:$N,DD22,Y$7)=\"\",\"\",INDEX(E_SourceStreams!$A:$N,DD22,Y$7)))","v":""},{"$f":"IF($E22=\"\",\"\",IF(INDEX(E_SourceStreams!$A:$N,DE22,Z$7)=\"\",\"\",INDEX(E_SourceStreams!$A:$N,DE22,Z$7)))","v":""},{"$f":"IF($E22=\"\",\"\",IF(INDEX(E_SourceStreams!$A:$N,DF22,AA$7)=\"\",\"\",INDEX(E_SourceStreams!$A:$N,DF22,AA$7)))","v":""},{"$f":"IF($E22=\"\",\"\",IF(INDEX(E_SourceStreams!$A:$N,DG22,AB$7)=\"\",\"\",INDEX(E_SourceStreams!$A:$N,DG22,AB$7)))","v":""},{"$f":"IF($E22=\"\",\"\",IF(INDEX(E_SourceStreams!$A:$N,DH22,AC$7)=\"\",\"\",INDEX(E_SourceStreams!$A:$N,DH22,AC$7)))","v":""},{"$f":"IF($E22=\"\",\"\",IF(INDEX(E_SourceStreams!$A:$N,DI22,AD$7)=\"\",\"\",INDEX(E_SourceStreams!$A:$N,DI22,AD$7)))","v":""},{"$f":"IF($E22=\"\",\"\",IF(INDEX(E_SourceStreams!$A:$N,DJ22,AE$7)=\"\",\"\",INDEX(E_SourceStreams!$A:$N,DJ22,AE$7)))","v":""},{"$f":"IF($E22=\"\",\"\",IF(INDEX(E_SourceStreams!$A:$N,DK22,AF$7)=\"\",\"\",INDEX(E_SourceStreams!$A:$N,DK22,AF$7)))","v":""},{"$f":"IF($E22=\"\",\"\",IF(INDEX(E_SourceStreams!$A:$N,DL22,AG$7)=\"\",\"\",INDEX(E_SourceStreams!$A:$N,DL22,AG$7)))","v":""},{"$f":"IF($E22=\"\",\"\",IF(INDEX(E_SourceStreams!$A:$N,DM22,AH$7)=\"\",\"\",INDEX(E_SourceStreams!$A:$N,DM22,AH$7)))","v":""},{"$f":"IF($E22=\"\",\"\",IF(INDEX(E_SourceStreams!$A:$N,DN22,AI$7)=\"\",\"\",INDEX(E_SourceStreams!$A:$N,DN22,AI$7)))","v":""},{"$f":"IF($E22=\"\",\"\",IF(INDEX(E_SourceStreams!$A:$N,DO22,AJ$7)=\"\",\"\",INDEX(E_SourceStreams!$A:$N,DO22,AJ$7)))","v":""},{"$f":"IF($E22=\"\",\"\",IF(INDEX(E_SourceStreams!$A:$N,DP22,AK$7)=\"\",\"\",INDEX(E_SourceStreams!$A:$N,DP22,AK$7)))","v":""},{"$f":"IF($E22=\"\",\"\",IF(INDEX(E_SourceStreams!$A:$N,DQ22,AL$7)=\"\",\"\",INDEX(E_SourceStreams!$A:$N,DQ22,AL$7)))","v":""},{"$f":"IF($E22=\"\",\"\",IF(INDEX(E_SourceStreams!$A:$N,DR22,AM$7)=\"\",\"\",INDEX(E_SourceStreams!$A:$N,DR22,AM$7)))","v":""},{"$f":"IF($E22=\"\",\"\",IF(INDEX(E_SourceStreams!$A:$N,DS22,AN$7)=\"\",\"\",INDEX(E_SourceStreams!$A:$N,DS22,AN$7)))","v":""},{"$f":"IF($E22=\"\",\"\",IF(INDEX(E_SourceStreams!$A:$N,DT22,AO$7)=\"\",\"\",INDEX(E_SourceStreams!$A:$N,DT22,AO$7)))","v":""},{"$f":"IF($E22=\"\",\"\",IF(INDEX(E_SourceStreams!$A:$N,DU22,AP$7)=\"\",\"\",INDEX(E_SourceStreams!$A:$N,DU22,AP$7)))","v":""},{"$f":"IF($E22=\"\",\"\",IF(INDEX(E_SourceStreams!$A:$N,DV22,AQ$7)=\"\",\"\",INDEX(E_SourceStreams!$A:$N,DV22,AQ$7)))","v":""},{"$f":"IF($E22=\"\",\"\",IF(INDEX(E_SourceStreams!$A:$N,DW22,AR$7)=\"\",\"\",INDEX(E_SourceStreams!$A:$N,DW22,AR$7)))","v":""},{"$f":"IF($E22=\"\",\"\",IF(INDEX(E_SourceStreams!$A:$N,DX22,AS$7)=\"\",\"\",INDEX(E_SourceStreams!$A:$N,DX22,AS$7)))","v":""},{"$f":"IF($E22=\"\",\"\",IF(INDEX(E_SourceStreams!$A:$N,DY22,AT$7)=\"\",\"\",INDEX(E_SourceStreams!$A:$N,DY22,AT$7)))","v":""},{"$f":"IF($E22=\"\",\"\",IF(INDEX(E_SourceStreams!$A:$N,DZ22,AU$7)=\"\",\"\",INDEX(E_SourceStreams!$A:$N,DZ22,AU$7)))","v":""},{"$f":"IF($E22=\"\",\"\",IF(INDEX(E_SourceStreams!$A:$N,EA22,AV$7)=\"\",\"\",INDEX(E_SourceStreams!$A:$N,EA22,AV$7)))","v":""},{"$f":"IF($E22=\"\",\"\",IF(INDEX(E_SourceStreams!$A:$N,EB22,AW$7)=\"\",\"\",INDEX(E_SourceStreams!$A:$N,EB22,AW$7)))","v":""},{"$f":"IF($E22=\"\",\"\",IF(INDEX(E_SourceStreams!$A:$N,EC22,AX$7)=\"\",\"\",INDEX(E_SourceStreams!$A:$N,EC22,AX$7)))","v":""},{"$f":"IF($E22=\"\",\"\",IF(INDEX(E_SourceStreams!$A:$N,ED22,AY$7)=\"\",\"\",INDEX(E_SourceStreams!$A:$N,ED22,AY$7)))","v":""},{"$f":"IF($E22=\"\",\"\",IF(INDEX(E_SourceStreams!$A:$N,EE22,AZ$7)=\"\",\"\",INDEX(E_SourceStreams!$A:$N,EE22,AZ$7)))","v":""},{"$f":"IF($E22=\"\",\"\",IF(INDEX(E_SourceStreams!$A:$N,EF22,BA$7)=\"\",\"\",INDEX(E_SourceStreams!$A:$N,EF22,BA$7)))","v":""},{"$f":"IF($E22=\"\",\"\",IF(INDEX(E_SourceStreams!$A:$N,EG22,BB$7)=\"\",\"\",INDEX(E_SourceStreams!$A:$N,EG22,BB$7)))","v":""},{"$f":"IF($E22=\"\",\"\",IF(INDEX(E_SourceStreams!$A:$N,EH22,BC$7)=\"\",\"\",INDEX(E_SourceStreams!$A:$N,EH22,BC$7)))","v":""},{"$f":"IF($E22=\"\",\"\",IF(INDEX(E_SourceStreams!$A:$N,EI22,BD$7)=\"\",\"\",INDEX(E_SourceStreams!$A:$N,EI22,BD$7)))","v":""},{"$f":"IF($E22=\"\",\"\",IF(INDEX(E_SourceStreams!$A:$N,EJ22,BE$7)=\"\",\"\",INDEX(E_SourceStreams!$A:$N,EJ22,BE$7)))","v":""},{"$f":"IF($E22=\"\",\"\",IF(INDEX(E_SourceStreams!$A:$N,EK22,BF$7)=\"\",\"\",INDEX(E_SourceStreams!$A:$N,EK22,BF$7)))","v":""},{"$f":"IF($E22=\"\",\"\",IF(INDEX(E_SourceStreams!$A:$N,EL22,BG$7)=\"\",\"\",INDEX(E_SourceStreams!$A:$N,EL22,BG$7)))","v":""},{"$f":"IF($E22=\"\",\"\",IF(INDEX(E_SourceStreams!$A:$N,EM22,BH$7)=\"\",\"\",INDEX(E_SourceStreams!$A:$N,EM22,BH$7)))","v":""},{"$f":"IF($E22=\"\",\"\",IF(INDEX(E_SourceStreams!$A:$N,EN22,BI$7)=\"\",\"\",INDEX(E_SourceStreams!$A:$N,EN22,BI$7)))","v":""},{"$f":"IF($E22=\"\",\"\",IF(INDEX(E_SourceStreams!$A:$N,EO22,BJ$7)=\"\",\"\",INDEX(E_SourceStreams!$A:$N,EO22,BJ$7)))","v":""},{"$f":"IF($E22=\"\",\"\",IF(INDEX(E_SourceStreams!$A:$N,EP22,BK$7)=\"\",\"\",INDEX(E_SourceStreams!$A:$N,EP22,BK$7)))","v":""},{"$f":"IF($E22=\"\",\"\",IF(INDEX(E_SourceStreams!$A:$N,EQ22,BL$7)=\"\",\"\",INDEX(E_SourceStreams!$A:$N,EQ22,BL$7)))","v":""},{"$f":"IF($E22=\"\",\"\",IF(INDEX(E_SourceStreams!$A:$N,ER22,BM$7)=\"\",\"\",INDEX(E_SourceStreams!$A:$N,ER22,BM$7)))","v":""},{"$f":"IF($E22=\"\",\"\",IF(INDEX(E_SourceStreams!$A:$N,ES22,BN$7)=\"\",\"\",INDEX(E_SourceStreams!$A:$N,ES22,BN$7)))","v":""},{"$f":"IF($E22=\"\",\"\",IF(INDEX(E_SourceStreams!$A:$N,ET22,BO$7)=\"\",\"\",INDEX(E_SourceStreams!$A:$N,ET22,BO$7)))","v":""},{"$f":"IF($E22=\"\",\"\",IF(INDEX(E_SourceStreams!$A:$N,EU22,BP$7)=\"\",\"\",INDEX(E_SourceStreams!$A:$N,EU22,BP$7)))","v":""},{"$f":"IF($E22=\"\",\"\",IF(INDEX(E_SourceStreams!$A:$N,EV22,BQ$7)=\"\",\"\",INDEX(E_SourceStreams!$A:$N,EV22,BQ$7)))","v":""},{"$f":"IF($E22=\"\",\"\",IF(INDEX(E_SourceStreams!$A:$N,EW22,BR$7)=\"\",\"\",INDEX(E_SourceStreams!$A:$N,EW22,BR$7)))","v":""},{"$f":"IF($E22=\"\",\"\",IF(INDEX(E_SourceStreams!$A:$N,EX22,BS$7)=\"\",\"\",INDEX(E_SourceStreams!$A:$N,EX22,BS$7)))","v":""},{"$f":"IF($E22=\"\",\"\",IF(INDEX(E_SourceStreams!$A:$N,EY22,BT$7)=\"\",\"\",INDEX(E_SourceStreams!$A:$N,EY22,BT$7)))","v":""},null,null,null,null,null,null,null,null,null,null,null,null,null,null,null,"SourceCategory_",{"$f":"INDEX(C_InstallationDescription!$A$223:$A$328,ROWS($CI$11:CI22))=\"ausblenden\"","v":false},"SourceStreamName_",null,860,862,864,866,868,870,872,872,872,872,872,875,879,880,881,888,898,898,898,898,898,898,898,889,899,899,899,899,899,899,899,890,900,900,900,900,900,900,900,891,901,901,901,901,901,901,901,892,902,902,902,902,902,902,902,893,903,903,903,903,903,903,903,909]
[null,{"$f":"IF(COUNTIF($CK$10:CK23,TRUE)>0,\"\",INDEX(C_InstallationDescription!$E$223:$E$239,ROWS($A$11:A23)))","v":""},{"$f":"IF($E23=\"\",\"\",INDEX(C_InstallationDescription!G:G,MATCH($B23,C_InstallationDescription!$E:$E,0)))","v":""},{"$f":"IF($E23=\"\",\"\",INDEX(C_InstallationDescription!I:I,MATCH($B23,C_InstallationDescription!$E:$E,0)))","v":""},{"$f":"IF($B23=\"\",\"\",INDEX(C_InstallationDescription!F:F,MATCH($CJ23,C_InstallationDescription!$Q:$Q,0)))","v":""},{"$f":"IF($E23=\"\",\"\",INDEX(C_InstallationDescription!L:L,MATCH($CJ23,C_InstallationDescription!$Q:$Q,0)))","v":""},{"$f":"IF($E23=\"\",\"\",INDEX(C_InstallationDescription!M:M,MATCH($CJ23,C_InstallationDescription!$Q:$Q,0)))","v":""},{"$f":"IF($E23=\"\",\"\",INDEX(C_InstallationDescription!N:N,MATCH($CJ23,C_InstallationDescription!$Q:$Q,0)))","v":""},{"$f":"IF($E23=\"\",\"\",IF(INDEX(E_SourceStreams!$A:$N,CN23,I$7)=\"\",\"\",INDEX(E_SourceStreams!$A:$N,CN23,I$7)))","v":""},{"$f":"IF($E23=\"\",\"\",IF(INDEX(E_SourceStreams!$A:$N,CO23,J$7)=\"\",\"\",INDEX(E_SourceStreams!$A:$N,CO23,J$7)))","v":""},{"$f":"IF($E23=\"\",\"\",IF(INDEX(E_SourceStreams!$A:$N,CP23,K$7)=\"\",\"\",INDEX(E_SourceStreams!$A:$N,CP23,K$7)))","v":""},{"$f":"IF($E23=\"\",\"\",IF(INDEX(E_SourceStreams!$A:$N,CQ23,L$7)=\"\",\"\",INDEX(E_SourceStreams!$A:$N,CQ23,L$7)))","v":""},{"$f":"IF($E23=\"\",\"\",IF(INDEX(E_SourceStreams!$A:$N,CR23,M$7)=\"\",\"\",INDEX(E_SourceStreams!$A:$N,CR23,M$7)))","v":""},{"$f":"IF($E23=\"\",\"\",IF(INDEX(E_SourceStreams!$A:$N,CS23,N$7)=\"\",\"\",INDEX(E_SourceStreams!$A:$N,CS23,N$7)))","v":""},{"$f":"IF($E23=\"\",\"\",IF(INDEX(E_SourceStreams!$A:$N,CT23,O$7)=\"\",\"\",INDEX(E_SourceStreams!$A:$N,CT23,O$7)))","v":""},{"$f":"IF($E23=\"\",\"\",IF(INDEX(E_SourceStreams!$A:$N,CU23,P$7)=\"\",\"\",INDEX(E_SourceStreams!$A:$N,CU23,P$7)))","v":""},{"$f":"IF($E23=\"\",\"\",IF(INDEX(E_SourceStreams!$A:$N,CV23,Q$7)=\"\",\"\",INDEX(E_SourceStreams!$A:$N,CV23,Q$7)))","v":""},{"$f":"IF($E23=\"\",\"\",IF(INDEX(E_SourceStreams!$A:$N,CW23,R$7)=\"\",\"\",INDEX(E_SourceStreams!$A:$N,CW23,R$7)))","v":""},{"$f":"IF($E23=\"\",\"\",IF(INDEX(E_SourceStreams!$A:$N,CX23,S$7)=\"\",\"\",INDEX(E_SourceStreams!$A:$N,CX23,S$7)))","v":""},{"$f":"IF($E23=\"\",\"\",IF(INDEX(E_SourceStreams!$A:$N,CY23,T$7)=\"\",\"\",INDEX(E_SourceStreams!$A:$N,CY23,T$7)))","v":""},{"$f":"IF($E23=\"\",\"\",IF(INDEX(E_SourceStreams!$A:$N,CZ23,U$7)=\"\",\"\",INDEX(E_SourceStreams!$A:$N,CZ23,U$7)))","v":""},{"$f":"IF($E23=\"\",\"\",IF(INDEX(E_SourceStreams!$A:$N,DA23,V$7)=\"\",\"\",INDEX(E_SourceStreams!$A:$N,DA23,V$7)))","v":""},{"$f":"IF($E23=\"\",\"\",IF(INDEX(E_SourceStreams!$A:$N,DB23,W$7)=\"\",\"\",INDEX(E_SourceStreams!$A:$N,DB23,W$7)))","v":""},{"$f":"IF($E23=\"\",\"\",IF(INDEX(E_SourceStreams!$A:$N,DC23,X$7)=\"\",\"\",INDEX(E_SourceStreams!$A:$N,DC23,X$7)))","v":""},{"$f":"IF($E23=\"\",\"\",IF(INDEX(E_SourceStreams!$A:$N,DD23,Y$7)=\"\",\"\",INDEX(E_SourceStreams!$A:$N,DD23,Y$7)))","v":""},{"$f":"IF($E23=\"\",\"\",IF(INDEX(E_SourceStreams!$A:$N,DE23,Z$7)=\"\",\"\",INDEX(E_SourceStreams!$A:$N,DE23,Z$7)))","v":""},{"$f":"IF($E23=\"\",\"\",IF(INDEX(E_SourceStreams!$A:$N,DF23,AA$7)=\"\",\"\",INDEX(E_SourceStreams!$A:$N,DF23,AA$7)))","v":""},{"$f":"IF($E23=\"\",\"\",IF(INDEX(E_SourceStreams!$A:$N,DG23,AB$7)=\"\",\"\",INDEX(E_SourceStreams!$A:$N,DG23,AB$7)))","v":""},{"$f":"IF($E23=\"\",\"\",IF(INDEX(E_SourceStreams!$A:$N,DH23,AC$7)=\"\",\"\",INDEX(E_SourceStreams!$A:$N,DH23,AC$7)))","v":""},{"$f":"IF($E23=\"\",\"\",IF(INDEX(E_SourceStreams!$A:$N,DI23,AD$7)=\"\",\"\",INDEX(E_SourceStreams!$A:$N,DI23,AD$7)))","v":""},{"$f":"IF($E23=\"\",\"\",IF(INDEX(E_SourceStreams!$A:$N,DJ23,AE$7)=\"\",\"\",INDEX(E_SourceStreams!$A:$N,DJ23,AE$7)))","v":""},{"$f":"IF($E23=\"\",\"\",IF(INDEX(E_SourceStreams!$A:$N,DK23,AF$7)=\"\",\"\",INDEX(E_SourceStreams!$A:$N,DK23,AF$7)))","v":""},{"$f":"IF($E23=\"\",\"\",IF(INDEX(E_SourceStreams!$A:$N,DL23,AG$7)=\"\",\"\",INDEX(E_SourceStreams!$A:$N,DL23,AG$7)))","v":""},{"$f":"IF($E23=\"\",\"\",IF(INDEX(E_SourceStreams!$A:$N,DM23,AH$7)=\"\",\"\",INDEX(E_SourceStreams!$A:$N,DM23,AH$7)))","v":""},{"$f":"IF($E23=\"\",\"\",IF(INDEX(E_SourceStreams!$A:$N,DN23,AI$7)=\"\",\"\",INDEX(E_SourceStreams!$A:$N,DN23,AI$7)))","v":""},{"$f":"IF($E23=\"\",\"\",IF(INDEX(E_SourceStreams!$A:$N,DO23,AJ$7)=\"\",\"\",INDEX(E_SourceStreams!$A:$N,DO23,AJ$7)))","v":""},{"$f":"IF($E23=\"\",\"\",IF(INDEX(E_SourceStreams!$A:$N,DP23,AK$7)=\"\",\"\",INDEX(E_SourceStreams!$A:$N,DP23,AK$7)))","v":""},{"$f":"IF($E23=\"\",\"\",IF(INDEX(E_SourceStreams!$A:$N,DQ23,AL$7)=\"\",\"\",INDEX(E_SourceStreams!$A:$N,DQ23,AL$7)))","v":""},{"$f":"IF($E23=\"\",\"\",IF(INDEX(E_SourceStreams!$A:$N,DR23,AM$7)=\"\",\"\",INDEX(E_SourceStreams!$A:$N,DR23,AM$7)))","v":""},{"$f":"IF($E23=\"\",\"\",IF(INDEX(E_SourceStreams!$A:$N,DS23,AN$7)=\"\",\"\",INDEX(E_SourceStreams!$A:$N,DS23,AN$7)))","v":""},{"$f":"IF($E23=\"\",\"\",IF(INDEX(E_SourceStreams!$A:$N,DT23,AO$7)=\"\",\"\",INDEX(E_SourceStreams!$A:$N,DT23,AO$7)))","v":""},{"$f":"IF($E23=\"\",\"\",IF(INDEX(E_SourceStreams!$A:$N,DU23,AP$7)=\"\",\"\",INDEX(E_SourceStreams!$A:$N,DU23,AP$7)))","v":""},{"$f":"IF($E23=\"\",\"\",IF(INDEX(E_SourceStreams!$A:$N,DV23,AQ$7)=\"\",\"\",INDEX(E_SourceStreams!$A:$N,DV23,AQ$7)))","v":""},{"$f":"IF($E23=\"\",\"\",IF(INDEX(E_SourceStreams!$A:$N,DW23,AR$7)=\"\",\"\",INDEX(E_SourceStreams!$A:$N,DW23,AR$7)))","v":""},{"$f":"IF($E23=\"\",\"\",IF(INDEX(E_SourceStreams!$A:$N,DX23,AS$7)=\"\",\"\",INDEX(E_SourceStreams!$A:$N,DX23,AS$7)))","v":""},{"$f":"IF($E23=\"\",\"\",IF(INDEX(E_SourceStreams!$A:$N,DY23,AT$7)=\"\",\"\",INDEX(E_SourceStreams!$A:$N,DY23,AT$7)))","v":""},{"$f":"IF($E23=\"\",\"\",IF(INDEX(E_SourceStreams!$A:$N,DZ23,AU$7)=\"\",\"\",INDEX(E_SourceStreams!$A:$N,DZ23,AU$7)))","v":""},{"$f":"IF($E23=\"\",\"\",IF(INDEX(E_SourceStreams!$A:$N,EA23,AV$7)=\"\",\"\",INDEX(E_SourceStreams!$A:$N,EA23,AV$7)))","v":""},{"$f":"IF($E23=\"\",\"\",IF(INDEX(E_SourceStreams!$A:$N,EB23,AW$7)=\"\",\"\",INDEX(E_SourceStreams!$A:$N,EB23,AW$7)))","v":""},{"$f":"IF($E23=\"\",\"\",IF(INDEX(E_SourceStreams!$A:$N,EC23,AX$7)=\"\",\"\",INDEX(E_SourceStreams!$A:$N,EC23,AX$7)))","v":""},{"$f":"IF($E23=\"\",\"\",IF(INDEX(E_SourceStreams!$A:$N,ED23,AY$7)=\"\",\"\",INDEX(E_SourceStreams!$A:$N,ED23,AY$7)))","v":""},{"$f":"IF($E23=\"\",\"\",IF(INDEX(E_SourceStreams!$A:$N,EE23,AZ$7)=\"\",\"\",INDEX(E_SourceStreams!$A:$N,EE23,AZ$7)))","v":""},{"$f":"IF($E23=\"\",\"\",IF(INDEX(E_SourceStreams!$A:$N,EF23,BA$7)=\"\",\"\",INDEX(E_SourceStreams!$A:$N,EF23,BA$7)))","v":""},{"$f":"IF($E23=\"\",\"\",IF(INDEX(E_SourceStreams!$A:$N,EG23,BB$7)=\"\",\"\",INDEX(E_SourceStreams!$A:$N,EG23,BB$7)))","v":""},{"$f":"IF($E23=\"\",\"\",IF(INDEX(E_SourceStreams!$A:$N,EH23,BC$7)=\"\",\"\",INDEX(E_SourceStreams!$A:$N,EH23,BC$7)))","v":""},{"$f":"IF($E23=\"\",\"\",IF(INDEX(E_SourceStreams!$A:$N,EI23,BD$7)=\"\",\"\",INDEX(E_SourceStreams!$A:$N,EI23,BD$7)))","v":""},{"$f":"IF($E23=\"\",\"\",IF(INDEX(E_SourceStreams!$A:$N,EJ23,BE$7)=\"\",\"\",INDEX(E_SourceStreams!$A:$N,EJ23,BE$7)))","v":""},{"$f":"IF($E23=\"\",\"\",IF(INDEX(E_SourceStreams!$A:$N,EK23,BF$7)=\"\",\"\",INDEX(E_SourceStreams!$A:$N,EK23,BF$7)))","v":""},{"$f":"IF($E23=\"\",\"\",IF(INDEX(E_SourceStreams!$A:$N,EL23,BG$7)=\"\",\"\",INDEX(E_SourceStreams!$A:$N,EL23,BG$7)))","v":""},{"$f":"IF($E23=\"\",\"\",IF(INDEX(E_SourceStreams!$A:$N,EM23,BH$7)=\"\",\"\",INDEX(E_SourceStreams!$A:$N,EM23,BH$7)))","v":""},{"$f":"IF($E23=\"\",\"\",IF(INDEX(E_SourceStreams!$A:$N,EN23,BI$7)=\"\",\"\",INDEX(E_SourceStreams!$A:$N,EN23,BI$7)))","v":""},{"$f":"IF($E23=\"\",\"\",IF(INDEX(E_SourceStreams!$A:$N,EO23,BJ$7)=\"\",\"\",INDEX(E_SourceStreams!$A:$N,EO23,BJ$7)))","v":""},{"$f":"IF($E23=\"\",\"\",IF(INDEX(E_SourceStreams!$A:$N,EP23,BK$7)=\"\",\"\",INDEX(E_SourceStreams!$A:$N,EP23,BK$7)))","v":""},{"$f":"IF($E23=\"\",\"\",IF(INDEX(E_SourceStreams!$A:$N,EQ23,BL$7)=\"\",\"\",INDEX(E_SourceStreams!$A:$N,EQ23,BL$7)))","v":""},{"$f":"IF($E23=\"\",\"\",IF(INDEX(E_SourceStreams!$A:$N,ER23,BM$7)=\"\",\"\",INDEX(E_SourceStreams!$A:$N,ER23,BM$7)))","v":""},{"$f":"IF($E23=\"\",\"\",IF(INDEX(E_SourceStreams!$A:$N,ES23,BN$7)=\"\",\"\",INDEX(E_SourceStreams!$A:$N,ES23,BN$7)))","v":""},{"$f":"IF($E23=\"\",\"\",IF(INDEX(E_SourceStreams!$A:$N,ET23,BO$7)=\"\",\"\",INDEX(E_SourceStreams!$A:$N,ET23,BO$7)))","v":""},{"$f":"IF($E23=\"\",\"\",IF(INDEX(E_SourceStreams!$A:$N,EU23,BP$7)=\"\",\"\",INDEX(E_SourceStreams!$A:$N,EU23,BP$7)))","v":""},{"$f":"IF($E23=\"\",\"\",IF(INDEX(E_SourceStreams!$A:$N,EV23,BQ$7)=\"\",\"\",INDEX(E_SourceStreams!$A:$N,EV23,BQ$7)))","v":""},{"$f":"IF($E23=\"\",\"\",IF(INDEX(E_SourceStreams!$A:$N,EW23,BR$7)=\"\",\"\",INDEX(E_SourceStreams!$A:$N,EW23,BR$7)))","v":""},{"$f":"IF($E23=\"\",\"\",IF(INDEX(E_SourceStreams!$A:$N,EX23,BS$7)=\"\",\"\",INDEX(E_SourceStreams!$A:$N,EX23,BS$7)))","v":""},{"$f":"IF($E23=\"\",\"\",IF(INDEX(E_SourceStreams!$A:$N,EY23,BT$7)=\"\",\"\",INDEX(E_SourceStreams!$A:$N,EY23,BT$7)))","v":""},null,null,null,null,null,null,null,null,null,null,null,null,null,null,null,"SourceCategory_",{"$f":"INDEX(C_InstallationDescription!$A$223:$A$328,ROWS($CI$11:CI23))=\"ausblenden\"","v":false},"SourceStreamName_",null,926,928,930,932,934,936,938,938,938,938,938,941,945,946,947,954,964,964,964,964,964,964,964,955,965,965,965,965,965,965,965,956,966,966,966,966,966,966,966,957,967,967,967,967,967,967,967,958,968,968,968,968,968,968,968,959,969,969,969,969,969,969,969,975]
[null,{"$f":"IF(COUNTIF($CK$10:CK24,TRUE)>0,\"\",INDEX(C_InstallationDescription!$E$223:$E$239,ROWS($A$11:A24)))","v":""},{"$f":"IF($E24=\"\",\"\",INDEX(C_InstallationDescription!G:G,MATCH($B24,C_InstallationDescription!$E:$E,0)))","v":""},{"$f":"IF($E24=\"\",\"\",INDEX(C_InstallationDescription!I:I,MATCH($B24,C_InstallationDescription!$E:$E,0)))","v":""},{"$f":"IF($B24=\"\",\"\",INDEX(C_InstallationDescription!F:F,MATCH($CJ24,C_InstallationDescription!$Q:$Q,0)))","v":""},{"$f":"IF($E24=\"\",\"\",INDEX(C_InstallationDescription!L:L,MATCH($CJ24,C_InstallationDescription!$Q:$Q,0)))","v":""},{"$f":"IF($E24=\"\",\"\",INDEX(C_InstallationDescription!M:M,MATCH($CJ24,C_InstallationDescription!$Q:$Q,0)))","v":""},{"$f":"IF($E24=\"\",\"\",INDEX(C_InstallationDescription!N:N,MATCH($CJ24,C_InstallationDescription!$Q:$Q,0)))","v":""},{"$f":"IF($E24=\"\",\"\",IF(INDEX(E_SourceStreams!$A:$N,CN24,I$7)=\"\",\"\",INDEX(E_SourceStreams!$A:$N,CN24,I$7)))","v":""},{"$f":"IF($E24=\"\",\"\",IF(INDEX(E_SourceStreams!$A:$N,CO24,J$7)=\"\",\"\",INDEX(E_SourceStreams!$A:$N,CO24,J$7)))","v":""},{"$f":"IF($E24=\"\",\"\",IF(INDEX(E_SourceStreams!$A:$N,CP24,K$7)=\"\",\"\",INDEX(E_SourceStreams!$A:$N,CP24,K$7)))","v":""},{"$f":"IF($E24=\"\",\"\",IF(INDEX(E_SourceStreams!$A:$N,CQ24,L$7)=\"\",\"\",INDEX(E_SourceStreams!$A:$N,CQ24,L$7)))","v":""},{"$f":"IF($E24=\"\",\"\",IF(INDEX(E_SourceStreams!$A:$N,CR24,M$7)=\"\",\"\",INDEX(E_SourceStreams!$A:$N,CR24,M$7)))","v":""},{"$f":"IF($E24=\"\",\"\",IF(INDEX(E_SourceStreams!$A:$N,CS24,N$7)=\"\",\"\",INDEX(E_SourceStreams!$A:$N,CS24,N$7)))","v":""},{"$f":"IF($E24=\"\",\"\",IF(INDEX(E_SourceStreams!$A:$N,CT24,O$7)=\"\",\"\",INDEX(E_SourceStreams!$A:$N,CT24,O$7)))","v":""},{"$f":"IF($E24=\"\",\"\",IF(INDEX(E_SourceStreams!$A:$N,CU24,P$7)=\"\",\"\",INDEX(E_SourceStreams!$A:$N,CU24,P$7)))","v":""},{"$f":"IF($E24=\"\",\"\",IF(INDEX(E_SourceStreams!$A:$N,CV24,Q$7)=\"\",\"\",INDEX(E_SourceStreams!$A:$N,CV24,Q$7)))","v":""},{"$f":"IF($E24=\"\",\"\",IF(INDEX(E_SourceStreams!$A:$N,CW24,R$7)=\"\",\"\",INDEX(E_SourceStreams!$A:$N,CW24,R$7)))","v":""},{"$f":"IF($E24=\"\",\"\",IF(INDEX(E_SourceStreams!$A:$N,CX24,S$7)=\"\",\"\",INDEX(E_SourceStreams!$A:$N,CX24,S$7)))","v":""},{"$f":"IF($E24=\"\",\"\",IF(INDEX(E_SourceStreams!$A:$N,CY24,T$7)=\"\",\"\",INDEX(E_SourceStreams!$A:$N,CY24,T$7)))","v":""},{"$f":"IF($E24=\"\",\"\",IF(INDEX(E_SourceStreams!$A:$N,CZ24,U$7)=\"\",\"\",INDEX(E_SourceStreams!$A:$N,CZ24,U$7)))","v":""},{"$f":"IF($E24=\"\",\"\",IF(INDEX(E_SourceStreams!$A:$N,DA24,V$7)=\"\",\"\",INDEX(E_SourceStreams!$A:$N,DA24,V$7)))","v":""},{"$f":"IF($E24=\"\",\"\",IF(INDEX(E_SourceStreams!$A:$N,DB24,W$7)=\"\",\"\",INDEX(E_SourceStreams!$A:$N,DB24,W$7)))","v":""},{"$f":"IF($E24=\"\",\"\",IF(INDEX(E_SourceStreams!$A:$N,DC24,X$7)=\"\",\"\",INDEX(E_SourceStreams!$A:$N,DC24,X$7)))","v":""},{"$f":"IF($E24=\"\",\"\",IF(INDEX(E_SourceStreams!$A:$N,DD24,Y$7)=\"\",\"\",INDEX(E_SourceStreams!$A:$N,DD24,Y$7)))","v":""},{"$f":"IF($E24=\"\",\"\",IF(INDEX(E_SourceStreams!$A:$N,DE24,Z$7)=\"\",\"\",INDEX(E_SourceStreams!$A:$N,DE24,Z$7)))","v":""},{"$f":"IF($E24=\"\",\"\",IF(INDEX(E_SourceStreams!$A:$N,DF24,AA$7)=\"\",\"\",INDEX(E_SourceStreams!$A:$N,DF24,AA$7)))","v":""},{"$f":"IF($E24=\"\",\"\",IF(INDEX(E_SourceStreams!$A:$N,DG24,AB$7)=\"\",\"\",INDEX(E_SourceStreams!$A:$N,DG24,AB$7)))","v":""},{"$f":"IF($E24=\"\",\"\",IF(INDEX(E_SourceStreams!$A:$N,DH24,AC$7)=\"\",\"\",INDEX(E_SourceStreams!$A:$N,DH24,AC$7)))","v":""},{"$f":"IF($E24=\"\",\"\",IF(INDEX(E_SourceStreams!$A:$N,DI24,AD$7)=\"\",\"\",INDEX(E_SourceStreams!$A:$N,DI24,AD$7)))","v":""},{"$f":"IF($E24=\"\",\"\",IF(INDEX(E_SourceStreams!$A:$N,DJ24,AE$7)=\"\",\"\",INDEX(E_SourceStreams!$A:$N,DJ24,AE$7)))","v":""},{"$f":"IF($E24=\"\",\"\",IF(INDEX(E_SourceStreams!$A:$N,DK24,AF$7)=\"\",\"\",INDEX(E_SourceStreams!$A:$N,DK24,AF$7)))","v":""},{"$f":"IF($E24=\"\",\"\",IF(INDEX(E_SourceStreams!$A:$N,DL24,AG$7)=\"\",\"\",INDEX(E_SourceStreams!$A:$N,DL24,AG$7)))","v":""},{"$f":"IF($E24=\"\",\"\",IF(INDEX(E_SourceStreams!$A:$N,DM24,AH$7)=\"\",\"\",INDEX(E_SourceStreams!$A:$N,DM24,AH$7)))","v":""},{"$f":"IF($E24=\"\",\"\",IF(INDEX(E_SourceStreams!$A:$N,DN24,AI$7)=\"\",\"\",INDEX(E_SourceStreams!$A:$N,DN24,AI$7)))","v":""},{"$f":"IF($E24=\"\",\"\",IF(INDEX(E_SourceStreams!$A:$N,DO24,AJ$7)=\"\",\"\",INDEX(E_SourceStreams!$A:$N,DO24,AJ$7)))","v":""},{"$f":"IF($E24=\"\",\"\",IF(INDEX(E_SourceStreams!$A:$N,DP24,AK$7)=\"\",\"\",INDEX(E_SourceStreams!$A:$N,DP24,AK$7)))","v":""},{"$f":"IF($E24=\"\",\"\",IF(INDEX(E_SourceStreams!$A:$N,DQ24,AL$7)=\"\",\"\",INDEX(E_SourceStreams!$A:$N,DQ24,AL$7)))","v":""},{"$f":"IF($E24=\"\",\"\",IF(INDEX(E_SourceStreams!$A:$N,DR24,AM$7)=\"\",\"\",INDEX(E_SourceStreams!$A:$N,DR24,AM$7)))","v":""},{"$f":"IF($E24=\"\",\"\",IF(INDEX(E_SourceStreams!$A:$N,DS24,AN$7)=\"\",\"\",INDEX(E_SourceStreams!$A:$N,DS24,AN$7)))","v":""},{"$f":"IF($E24=\"\",\"\",IF(INDEX(E_SourceStreams!$A:$N,DT24,AO$7)=\"\",\"\",INDEX(E_SourceStreams!$A:$N,DT24,AO$7)))","v":""},{"$f":"IF($E24=\"\",\"\",IF(INDEX(E_SourceStreams!$A:$N,DU24,AP$7)=\"\",\"\",INDEX(E_SourceStreams!$A:$N,DU24,AP$7)))","v":""},{"$f":"IF($E24=\"\",\"\",IF(INDEX(E_SourceStreams!$A:$N,DV24,AQ$7)=\"\",\"\",INDEX(E_SourceStreams!$A:$N,DV24,AQ$7)))","v":""},{"$f":"IF($E24=\"\",\"\",IF(INDEX(E_SourceStreams!$A:$N,DW24,AR$7)=\"\",\"\",INDEX(E_SourceStreams!$A:$N,DW24,AR$7)))","v":""},{"$f":"IF($E24=\"\",\"\",IF(INDEX(E_SourceStreams!$A:$N,DX24,AS$7)=\"\",\"\",INDEX(E_SourceStreams!$A:$N,DX24,AS$7)))","v":""},{"$f":"IF($E24=\"\",\"\",IF(INDEX(E_SourceStreams!$A:$N,DY24,AT$7)=\"\",\"\",INDEX(E_SourceStreams!$A:$N,DY24,AT$7)))","v":""},{"$f":"IF($E24=\"\",\"\",IF(INDEX(E_SourceStreams!$A:$N,DZ24,AU$7)=\"\",\"\",INDEX(E_SourceStreams!$A:$N,DZ24,AU$7)))","v":""},{"$f":"IF($E24=\"\",\"\",IF(INDEX(E_SourceStreams!$A:$N,EA24,AV$7)=\"\",\"\",INDEX(E_SourceStreams!$A:$N,EA24,AV$7)))","v":""},{"$f":"IF($E24=\"\",\"\",IF(INDEX(E_SourceStreams!$A:$N,EB24,AW$7)=\"\",\"\",INDEX(E_SourceStreams!$A:$N,EB24,AW$7)))","v":""},{"$f":"IF($E24=\"\",\"\",IF(INDEX(E_SourceStreams!$A:$N,EC24,AX$7)=\"\",\"\",INDEX(E_SourceStreams!$A:$N,EC24,AX$7)))","v":""},{"$f":"IF($E24=\"\",\"\",IF(INDEX(E_SourceStreams!$A:$N,ED24,AY$7)=\"\",\"\",INDEX(E_SourceStreams!$A:$N,ED24,AY$7)))","v":""},{"$f":"IF($E24=\"\",\"\",IF(INDEX(E_SourceStreams!$A:$N,EE24,AZ$7)=\"\",\"\",INDEX(E_SourceStreams!$A:$N,EE24,AZ$7)))","v":""},{"$f":"IF($E24=\"\",\"\",IF(INDEX(E_SourceStreams!$A:$N,EF24,BA$7)=\"\",\"\",INDEX(E_SourceStreams!$A:$N,EF24,BA$7)))","v":""},{"$f":"IF($E24=\"\",\"\",IF(INDEX(E_SourceStreams!$A:$N,EG24,BB$7)=\"\",\"\",INDEX(E_SourceStreams!$A:$N,EG24,BB$7)))","v":""},{"$f":"IF($E24=\"\",\"\",IF(INDEX(E_SourceStreams!$A:$N,EH24,BC$7)=\"\",\"\",INDEX(E_SourceStreams!$A:$N,EH24,BC$7)))","v":""},{"$f":"IF($E24=\"\",\"\",IF(INDEX(E_SourceStreams!$A:$N,EI24,BD$7)=\"\",\"\",INDEX(E_SourceStreams!$A:$N,EI24,BD$7)))","v":""},{"$f":"IF($E24=\"\",\"\",IF(INDEX(E_SourceStreams!$A:$N,EJ24,BE$7)=\"\",\"\",INDEX(E_SourceStreams!$A:$N,EJ24,BE$7)))","v":""},{"$f":"IF($E24=\"\",\"\",IF(INDEX(E_SourceStreams!$A:$N,EK24,BF$7)=\"\",\"\",INDEX(E_SourceStreams!$A:$N,EK24,BF$7)))","v":""},{"$f":"IF($E24=\"\",\"\",IF(INDEX(E_SourceStreams!$A:$N,EL24,BG$7)=\"\",\"\",INDEX(E_SourceStreams!$A:$N,EL24,BG$7)))","v":""},{"$f":"IF($E24=\"\",\"\",IF(INDEX(E_SourceStreams!$A:$N,EM24,BH$7)=\"\",\"\",INDEX(E_SourceStreams!$A:$N,EM24,BH$7)))","v":""},{"$f":"IF($E24=\"\",\"\",IF(INDEX(E_SourceStreams!$A:$N,EN24,BI$7)=\"\",\"\",INDEX(E_SourceStreams!$A:$N,EN24,BI$7)))","v":""},{"$f":"IF($E24=\"\",\"\",IF(INDEX(E_SourceStreams!$A:$N,EO24,BJ$7)=\"\",\"\",INDEX(E_SourceStreams!$A:$N,EO24,BJ$7)))","v":""},{"$f":"IF($E24=\"\",\"\",IF(INDEX(E_SourceStreams!$A:$N,EP24,BK$7)=\"\",\"\",INDEX(E_SourceStreams!$A:$N,EP24,BK$7)))","v":""},{"$f":"IF($E24=\"\",\"\",IF(INDEX(E_SourceStreams!$A:$N,EQ24,BL$7)=\"\",\"\",INDEX(E_SourceStreams!$A:$N,EQ24,BL$7)))","v":""},{"$f":"IF($E24=\"\",\"\",IF(INDEX(E_SourceStreams!$A:$N,ER24,BM$7)=\"\",\"\",INDEX(E_SourceStreams!$A:$N,ER24,BM$7)))","v":""},{"$f":"IF($E24=\"\",\"\",IF(INDEX(E_SourceStreams!$A:$N,ES24,BN$7)=\"\",\"\",INDEX(E_SourceStreams!$A:$N,ES24,BN$7)))","v":""},{"$f":"IF($E24=\"\",\"\",IF(INDEX(E_SourceStreams!$A:$N,ET24,BO$7)=\"\",\"\",INDEX(E_SourceStreams!$A:$N,ET24,BO$7)))","v":""},{"$f":"IF($E24=\"\",\"\",IF(INDEX(E_SourceStreams!$A:$N,EU24,BP$7)=\"\",\"\",INDEX(E_SourceStreams!$A:$N,EU24,BP$7)))","v":""},{"$f":"IF($E24=\"\",\"\",IF(INDEX(E_SourceStreams!$A:$N,EV24,BQ$7)=\"\",\"\",INDEX(E_SourceStreams!$A:$N,EV24,BQ$7)))","v":""},{"$f":"IF($E24=\"\",\"\",IF(INDEX(E_SourceStreams!$A:$N,EW24,BR$7)=\"\",\"\",INDEX(E_SourceStreams!$A:$N,EW24,BR$7)))","v":""},{"$f":"IF($E24=\"\",\"\",IF(INDEX(E_SourceStreams!$A:$N,EX24,BS$7)=\"\",\"\",INDEX(E_SourceStreams!$A:$N,EX24,BS$7)))","v":""},{"$f":"IF($E24=\"\",\"\",IF(INDEX(E_SourceStreams!$A:$N,EY24,BT$7)=\"\",\"\",INDEX(E_SourceStreams!$A:$N,EY24,BT$7)))","v":""},null,null,null,null,null,null,null,null,null,null,null,null,null,null,null,"SourceCategory_",{"$f":"INDEX(C_InstallationDescription!$A$223:$A$328,ROWS($CI$11:CI24))=\"ausblenden\"","v":false},"SourceStreamName_",null,992,994,996,998,1000,1002,1004,1004,1004,1004,1004,1007,1011,1012,1013,1020,1030,1030,1030,1030,1030,1030,1030,1021,1031,1031,1031,1031,1031,1031,1031,1022,1032,1032,1032,1032,1032,1032,1032,1023,1033,1033,1033,1033,1033,1033,1033,1024,1034,1034,1034,1034,1034,1034,1034,1025,1035,1035,1035,1035,1035,1035,1035,1041]
[null,{"$f":"IF(COUNTIF($CK$10:CK25,TRUE)>0,\"\",INDEX(C_InstallationDescription!$E$223:$E$239,ROWS($A$11:A25)))","v":""},{"$f":"IF($E25=\"\",\"\",INDEX(C_InstallationDescription!G:G,MATCH($B25,C_InstallationDescription!$E:$E,0)))","v":""},{"$f":"IF($E25=\"\",\"\",INDEX(C_InstallationDescription!I:I,MATCH($B25,C_InstallationDescription!$E:$E,0)))","v":""},{"$f":"IF($B25=\"\",\"\",INDEX(C_InstallationDescription!F:F,MATCH($CJ25,C_InstallationDescription!$Q:$Q,0)))","v":""},{"$f":"IF($E25=\"\",\"\",INDEX(C_InstallationDescription!L:L,MATCH($CJ25,C_InstallationDescription!$Q:$Q,0)))","v":""},{"$f":"IF($E25=\"\",\"\",INDEX(C_InstallationDescription!M:M,MATCH($CJ25,C_InstallationDescription!$Q:$Q,0)))","v":""},{"$f":"IF($E25=\"\",\"\",INDEX(C_InstallationDescription!N:N,MATCH($CJ25,C_InstallationDescription!$Q:$Q,0)))","v":""},{"$f":"IF($E25=\"\",\"\",IF(INDEX(E_SourceStreams!$A:$N,CN25,I$7)=\"\",\"\",INDEX(E_SourceStreams!$A:$N,CN25,I$7)))","v":""},{"$f":"IF($E25=\"\",\"\",IF(INDEX(E_SourceStreams!$A:$N,CO25,J$7)=\"\",\"\",INDEX(E_SourceStreams!$A:$N,CO25,J$7)))","v":""},{"$f":"IF($E25=\"\",\"\",IF(INDEX(E_SourceStreams!$A:$N,CP25,K$7)=\"\",\"\",INDEX(E_SourceStreams!$A:$N,CP25,K$7)))","v":""},{"$f":"IF($E25=\"\",\"\",IF(INDEX(E_SourceStreams!$A:$N,CQ25,L$7)=\"\",\"\",INDEX(E_SourceStreams!$A:$N,CQ25,L$7)))","v":""},{"$f":"IF($E25=\"\",\"\",IF(INDEX(E_SourceStreams!$A:$N,CR25,M$7)=\"\",\"\",INDEX(E_SourceStreams!$A:$N,CR25,M$7)))","v":""},{"$f":"IF($E25=\"\",\"\",IF(INDEX(E_SourceStreams!$A:$N,CS25,N$7)=\"\",\"\",INDEX(E_SourceStreams!$A:$N,CS25,N$7)))","v":""},{"$f":"IF($E25=\"\",\"\",IF(INDEX(E_SourceStreams!$A:$N,CT25,O$7)=\"\",\"\",INDEX(E_SourceStreams!$A:$N,CT25,O$7)))","v":""},{"$f":"IF($E25=\"\",\"\",IF(INDEX(E_SourceStreams!$A:$N,CU25,P$7)=\"\",\"\",INDEX(E_SourceStreams!$A:$N,CU25,P$7)))","v":""},{"$f":"IF($E25=\"\",\"\",IF(INDEX(E_SourceStreams!$A:$N,CV25,Q$7)=\"\",\"\",INDEX(E_SourceStreams!$A:$N,CV25,Q$7)))","v":""},{"$f":"IF($E25=\"\",\"\",IF(INDEX(E_SourceStreams!$A:$N,CW25,R$7)=\"\",\"\",INDEX(E_SourceStreams!$A:$N,CW25,R$7)))","v":""},{"$f":"IF($E25=\"\",\"\",IF(INDEX(E_SourceStreams!$A:$N,CX25,S$7)=\"\",\"\",INDEX(E_SourceStreams!$A:$N,CX25,S$7)))","v":""},{"$f":"IF($E25=\"\",\"\",IF(INDEX(E_SourceStreams!$A:$N,CY25,T$7)=\"\",\"\",INDEX(E_SourceStreams!$A:$N,CY25,T$7)))","v":""},{"$f":"IF($E25=\"\",\"\",IF(INDEX(E_SourceStreams!$A:$N,CZ25,U$7)=\"\",\"\",INDEX(E_SourceStreams!$A:$N,CZ25,U$7)))","v":""},{"$f":"IF($E25=\"\",\"\",IF(INDEX(E_SourceStreams!$A:$N,DA25,V$7)=\"\",\"\",INDEX(E_SourceStreams!$A:$N,DA25,V$7)))","v":""},{"$f":"IF($E25=\"\",\"\",IF(INDEX(E_SourceStreams!$A:$N,DB25,W$7)=\"\",\"\",INDEX(E_SourceStreams!$A:$N,DB25,W$7)))","v":""},{"$f":"IF($E25=\"\",\"\",IF(INDEX(E_SourceStreams!$A:$N,DC25,X$7)=\"\",\"\",INDEX(E_SourceStreams!$A:$N,DC25,X$7)))","v":""},{"$f":"IF($E25=\"\",\"\",IF(INDEX(E_SourceStreams!$A:$N,DD25,Y$7)=\"\",\"\",INDEX(E_SourceStreams!$A:$N,DD25,Y$7)))","v":""},{"$f":"IF($E25=\"\",\"\",IF(INDEX(E_SourceStreams!$A:$N,DE25,Z$7)=\"\",\"\",INDEX(E_SourceStreams!$A:$N,DE25,Z$7)))","v":""},{"$f":"IF($E25=\"\",\"\",IF(INDEX(E_SourceStreams!$A:$N,DF25,AA$7)=\"\",\"\",INDEX(E_SourceStreams!$A:$N,DF25,AA$7)))","v":""},{"$f":"IF($E25=\"\",\"\",IF(INDEX(E_SourceStreams!$A:$N,DG25,AB$7)=\"\",\"\",INDEX(E_SourceStreams!$A:$N,DG25,AB$7)))","v":""},{"$f":"IF($E25=\"\",\"\",IF(INDEX(E_SourceStreams!$A:$N,DH25,AC$7)=\"\",\"\",INDEX(E_SourceStreams!$A:$N,DH25,AC$7)))","v":""},{"$f":"IF($E25=\"\",\"\",IF(INDEX(E_SourceStreams!$A:$N,DI25,AD$7)=\"\",\"\",INDEX(E_SourceStreams!$A:$N,DI25,AD$7)))","v":""},{"$f":"IF($E25=\"\",\"\",IF(INDEX(E_SourceStreams!$A:$N,DJ25,AE$7)=\"\",\"\",INDEX(E_SourceStreams!$A:$N,DJ25,AE$7)))","v":""},{"$f":"IF($E25=\"\",\"\",IF(INDEX(E_SourceStreams!$A:$N,DK25,AF$7)=\"\",\"\",INDEX(E_SourceStreams!$A:$N,DK25,AF$7)))","v":""},{"$f":"IF($E25=\"\",\"\",IF(INDEX(E_SourceStreams!$A:$N,DL25,AG$7)=\"\",\"\",INDEX(E_SourceStreams!$A:$N,DL25,AG$7)))","v":""},{"$f":"IF($E25=\"\",\"\",IF(INDEX(E_SourceStreams!$A:$N,DM25,AH$7)=\"\",\"\",INDEX(E_SourceStreams!$A:$N,DM25,AH$7)))","v":""},{"$f":"IF($E25=\"\",\"\",IF(INDEX(E_SourceStreams!$A:$N,DN25,AI$7)=\"\",\"\",INDEX(E_SourceStreams!$A:$N,DN25,AI$7)))","v":""},{"$f":"IF($E25=\"\",\"\",IF(INDEX(E_SourceStreams!$A:$N,DO25,AJ$7)=\"\",\"\",INDEX(E_SourceStreams!$A:$N,DO25,AJ$7)))","v":""},{"$f":"IF($E25=\"\",\"\",IF(INDEX(E_SourceStreams!$A:$N,DP25,AK$7)=\"\",\"\",INDEX(E_SourceStreams!$A:$N,DP25,AK$7)))","v":""},{"$f":"IF($E25=\"\",\"\",IF(INDEX(E_SourceStreams!$A:$N,DQ25,AL$7)=\"\",\"\",INDEX(E_SourceStreams!$A:$N,DQ25,AL$7)))","v":""},{"$f":"IF($E25=\"\",\"\",IF(INDEX(E_SourceStreams!$A:$N,DR25,AM$7)=\"\",\"\",INDEX(E_SourceStreams!$A:$N,DR25,AM$7)))","v":""},{"$f":"IF($E25=\"\",\"\",IF(INDEX(E_SourceStreams!$A:$N,DS25,AN$7)=\"\",\"\",INDEX(E_SourceStreams!$A:$N,DS25,AN$7)))","v":""},{"$f":"IF($E25=\"\",\"\",IF(INDEX(E_SourceStreams!$A:$N,DT25,AO$7)=\"\",\"\",INDEX(E_SourceStreams!$A:$N,DT25,AO$7)))","v":""},{"$f":"IF($E25=\"\",\"\",IF(INDEX(E_SourceStreams!$A:$N,DU25,AP$7)=\"\",\"\",INDEX(E_SourceStreams!$A:$N,DU25,AP$7)))","v":""},{"$f":"IF($E25=\"\",\"\",IF(INDEX(E_SourceStreams!$A:$N,DV25,AQ$7)=\"\",\"\",INDEX(E_SourceStreams!$A:$N,DV25,AQ$7)))","v":""},{"$f":"IF($E25=\"\",\"\",IF(INDEX(E_SourceStreams!$A:$N,DW25,AR$7)=\"\",\"\",INDEX(E_SourceStreams!$A:$N,DW25,AR$7)))","v":""},{"$f":"IF($E25=\"\",\"\",IF(INDEX(E_SourceStreams!$A:$N,DX25,AS$7)=\"\",\"\",INDEX(E_SourceStreams!$A:$N,DX25,AS$7)))","v":""},{"$f":"IF($E25=\"\",\"\",IF(INDEX(E_SourceStreams!$A:$N,DY25,AT$7)=\"\",\"\",INDEX(E_SourceStreams!$A:$N,DY25,AT$7)))","v":""},{"$f":"IF($E25=\"\",\"\",IF(INDEX(E_SourceStreams!$A:$N,DZ25,AU$7)=\"\",\"\",INDEX(E_SourceStreams!$A:$N,DZ25,AU$7)))","v":""},{"$f":"IF($E25=\"\",\"\",IF(INDEX(E_SourceStreams!$A:$N,EA25,AV$7)=\"\",\"\",INDEX(E_SourceStreams!$A:$N,EA25,AV$7)))","v":""},{"$f":"IF($E25=\"\",\"\",IF(INDEX(E_SourceStreams!$A:$N,EB25,AW$7)=\"\",\"\",INDEX(E_SourceStreams!$A:$N,EB25,AW$7)))","v":""},{"$f":"IF($E25=\"\",\"\",IF(INDEX(E_SourceStreams!$A:$N,EC25,AX$7)=\"\",\"\",INDEX(E_SourceStreams!$A:$N,EC25,AX$7)))","v":""},{"$f":"IF($E25=\"\",\"\",IF(INDEX(E_SourceStreams!$A:$N,ED25,AY$7)=\"\",\"\",INDEX(E_SourceStreams!$A:$N,ED25,AY$7)))","v":""},{"$f":"IF($E25=\"\",\"\",IF(INDEX(E_SourceStreams!$A:$N,EE25,AZ$7)=\"\",\"\",INDEX(E_SourceStreams!$A:$N,EE25,AZ$7)))","v":""},{"$f":"IF($E25=\"\",\"\",IF(INDEX(E_SourceStreams!$A:$N,EF25,BA$7)=\"\",\"\",INDEX(E_SourceStreams!$A:$N,EF25,BA$7)))","v":""},{"$f":"IF($E25=\"\",\"\",IF(INDEX(E_SourceStreams!$A:$N,EG25,BB$7)=\"\",\"\",INDEX(E_SourceStreams!$A:$N,EG25,BB$7)))","v":""},{"$f":"IF($E25=\"\",\"\",IF(INDEX(E_SourceStreams!$A:$N,EH25,BC$7)=\"\",\"\",INDEX(E_SourceStreams!$A:$N,EH25,BC$7)))","v":""},{"$f":"IF($E25=\"\",\"\",IF(INDEX(E_SourceStreams!$A:$N,EI25,BD$7)=\"\",\"\",INDEX(E_SourceStreams!$A:$N,EI25,BD$7)))","v":""},{"$f":"IF($E25=\"\",\"\",IF(INDEX(E_SourceStreams!$A:$N,EJ25,BE$7)=\"\",\"\",INDEX(E_SourceStreams!$A:$N,EJ25,BE$7)))","v":""},{"$f":"IF($E25=\"\",\"\",IF(INDEX(E_SourceStreams!$A:$N,EK25,BF$7)=\"\",\"\",INDEX(E_SourceStreams!$A:$N,EK25,BF$7)))","v":""},{"$f":"IF($E25=\"\",\"\",IF(INDEX(E_SourceStreams!$A:$N,EL25,BG$7)=\"\",\"\",INDEX(E_SourceStreams!$A:$N,EL25,BG$7)))","v":""},{"$f":"IF($E25=\"\",\"\",IF(INDEX(E_SourceStreams!$A:$N,EM25,BH$7)=\"\",\"\",INDEX(E_SourceStreams!$A:$N,EM25,BH$7)))","v":""},{"$f":"IF($E25=\"\",\"\",IF(INDEX(E_SourceStreams!$A:$N,EN25,BI$7)=\"\",\"\",INDEX(E_SourceStreams!$A:$N,EN25,BI$7)))","v":""},{"$f":"IF($E25=\"\",\"\",IF(INDEX(E_SourceStreams!$A:$N,EO25,BJ$7)=\"\",\"\",INDEX(E_SourceStreams!$A:$N,EO25,BJ$7)))","v":""},{"$f":"IF($E25=\"\",\"\",IF(INDEX(E_SourceStreams!$A:$N,EP25,BK$7)=\"\",\"\",INDEX(E_SourceStreams!$A:$N,EP25,BK$7)))","v":""},{"$f":"IF($E25=\"\",\"\",IF(INDEX(E_SourceStreams!$A:$N,EQ25,BL$7)=\"\",\"\",INDEX(E_SourceStreams!$A:$N,EQ25,BL$7)))","v":""},{"$f":"IF($E25=\"\",\"\",IF(INDEX(E_SourceStreams!$A:$N,ER25,BM$7)=\"\",\"\",INDEX(E_SourceStreams!$A:$N,ER25,BM$7)))","v":""},{"$f":"IF($E25=\"\",\"\",IF(INDEX(E_SourceStreams!$A:$N,ES25,BN$7)=\"\",\"\",INDEX(E_SourceStreams!$A:$N,ES25,BN$7)))","v":""},{"$f":"IF($E25=\"\",\"\",IF(INDEX(E_SourceStreams!$A:$N,ET25,BO$7)=\"\",\"\",INDEX(E_SourceStreams!$A:$N,ET25,BO$7)))","v":""},{"$f":"IF($E25=\"\",\"\",IF(INDEX(E_SourceStreams!$A:$N,EU25,BP$7)=\"\",\"\",INDEX(E_SourceStreams!$A:$N,EU25,BP$7)))","v":""},{"$f":"IF($E25=\"\",\"\",IF(INDEX(E_SourceStreams!$A:$N,EV25,BQ$7)=\"\",\"\",INDEX(E_SourceStreams!$A:$N,EV25,BQ$7)))","v":""},{"$f":"IF($E25=\"\",\"\",IF(INDEX(E_SourceStreams!$A:$N,EW25,BR$7)=\"\",\"\",INDEX(E_SourceStreams!$A:$N,EW25,BR$7)))","v":""},{"$f":"IF($E25=\"\",\"\",IF(INDEX(E_SourceStreams!$A:$N,EX25,BS$7)=\"\",\"\",INDEX(E_SourceStreams!$A:$N,EX25,BS$7)))","v":""},{"$f":"IF($E25=\"\",\"\",IF(INDEX(E_SourceStreams!$A:$N,EY25,BT$7)=\"\",\"\",INDEX(E_SourceStreams!$A:$N,EY25,BT$7)))","v":""},null,null,null,null,null,null,null,null,null,null,null,null,null,null,null,"SourceCategory_",{"$f":"INDEX(C_InstallationDescription!$A$223:$A$328,ROWS($CI$11:CI25))=\"ausblenden\"","v":false},"SourceStreamName_",null,1058,1060,1062,1064,1066,1068,1070,1070,1070,1070,1070,1073,1077,1078,1079,1086,1096,1096,1096,1096,1096,1096,1096,1087,1097,1097,1097,1097,1097,1097,1097,1088,1098,1098,1098,1098,1098,1098,1098,1089,1099,1099,1099,1099,1099,1099,1099,1090,1100,1100,1100,1100,1100,1100,1100,1091,1101,1101,1101,1101,1101,1101,1101,1107]
[null,{"$f":"IF(COUNTIF($CK$10:CK26,TRUE)>0,\"\",INDEX(C_InstallationDescription!$E$223:$E$239,ROWS($A$11:A26)))","v":""},{"$f":"IF($E26=\"\",\"\",INDEX(C_InstallationDescription!G:G,MATCH($B26,C_InstallationDescription!$E:$E,0)))","v":""},{"$f":"IF($E26=\"\",\"\",INDEX(C_InstallationDescription!I:I,MATCH($B26,C_InstallationDescription!$E:$E,0)))","v":""},{"$f":"IF($B26=\"\",\"\",INDEX(C_InstallationDescription!F:F,MATCH($CJ26,C_InstallationDescription!$Q:$Q,0)))","v":""},{"$f":"IF($E26=\"\",\"\",INDEX(C_InstallationDescription!L:L,MATCH($CJ26,C_InstallationDescription!$Q:$Q,0)))","v":""},{"$f":"IF($E26=\"\",\"\",INDEX(C_InstallationDescription!M:M,MATCH($CJ26,C_InstallationDescription!$Q:$Q,0)))","v":""},{"$f":"IF($E26=\"\",\"\",INDEX(C_InstallationDescription!N:N,MATCH($CJ26,C_InstallationDescription!$Q:$Q,0)))","v":""},{"$f":"IF($E26=\"\",\"\",IF(INDEX(E_SourceStreams!$A:$N,CN26,I$7)=\"\",\"\",INDEX(E_SourceStreams!$A:$N,CN26,I$7)))","v":""},{"$f":"IF($E26=\"\",\"\",IF(INDEX(E_SourceStreams!$A:$N,CO26,J$7)=\"\",\"\",INDEX(E_SourceStreams!$A:$N,CO26,J$7)))","v":""},{"$f":"IF($E26=\"\",\"\",IF(INDEX(E_SourceStreams!$A:$N,CP26,K$7)=\"\",\"\",INDEX(E_SourceStreams!$A:$N,CP26,K$7)))","v":""},{"$f":"IF($E26=\"\",\"\",IF(INDEX(E_SourceStreams!$A:$N,CQ26,L$7)=\"\",\"\",INDEX(E_SourceStreams!$A:$N,CQ26,L$7)))","v":""},{"$f":"IF($E26=\"\",\"\",IF(INDEX(E_SourceStreams!$A:$N,CR26,M$7)=\"\",\"\",INDEX(E_SourceStreams!$A:$N,CR26,M$7)))","v":""},{"$f":"IF($E26=\"\",\"\",IF(INDEX(E_SourceStreams!$A:$N,CS26,N$7)=\"\",\"\",INDEX(E_SourceStreams!$A:$N,CS26,N$7)))","v":""},{"$f":"IF($E26=\"\",\"\",IF(INDEX(E_SourceStreams!$A:$N,CT26,O$7)=\"\",\"\",INDEX(E_SourceStreams!$A:$N,CT26,O$7)))","v":""},{"$f":"IF($E26=\"\",\"\",IF(INDEX(E_SourceStreams!$A:$N,CU26,P$7)=\"\",\"\",INDEX(E_SourceStreams!$A:$N,CU26,P$7)))","v":""},{"$f":"IF($E26=\"\",\"\",IF(INDEX(E_SourceStreams!$A:$N,CV26,Q$7)=\"\",\"\",INDEX(E_SourceStreams!$A:$N,CV26,Q$7)))","v":""},{"$f":"IF($E26=\"\",\"\",IF(INDEX(E_SourceStreams!$A:$N,CW26,R$7)=\"\",\"\",INDEX(E_SourceStreams!$A:$N,CW26,R$7)))","v":""},{"$f":"IF($E26=\"\",\"\",IF(INDEX(E_SourceStreams!$A:$N,CX26,S$7)=\"\",\"\",INDEX(E_SourceStreams!$A:$N,CX26,S$7)))","v":""},{"$f":"IF($E26=\"\",\"\",IF(INDEX(E_SourceStreams!$A:$N,CY26,T$7)=\"\",\"\",INDEX(E_SourceStreams!$A:$N,CY26,T$7)))","v":""},{"$f":"IF($E26=\"\",\"\",IF(INDEX(E_SourceStreams!$A:$N,CZ26,U$7)=\"\",\"\",INDEX(E_SourceStreams!$A:$N,CZ26,U$7)))","v":""},{"$f":"IF($E26=\"\",\"\",IF(INDEX(E_SourceStreams!$A:$N,DA26,V$7)=\"\",\"\",INDEX(E_SourceStreams!$A:$N,DA26,V$7)))","v":""},{"$f":"IF($E26=\"\",\"\",IF(INDEX(E_SourceStreams!$A:$N,DB26,W$7)=\"\",\"\",INDEX(E_SourceStreams!$A:$N,DB26,W$7)))","v":""},{"$f":"IF($E26=\"\",\"\",IF(INDEX(E_SourceStreams!$A:$N,DC26,X$7)=\"\",\"\",INDEX(E_SourceStreams!$A:$N,DC26,X$7)))","v":""},{"$f":"IF($E26=\"\",\"\",IF(INDEX(E_SourceStreams!$A:$N,DD26,Y$7)=\"\",\"\",INDEX(E_SourceStreams!$A:$N,DD26,Y$7)))","v":""},{"$f":"IF($E26=\"\",\"\",IF(INDEX(E_SourceStreams!$A:$N,DE26,Z$7)=\"\",\"\",INDEX(E_SourceStreams!$A:$N,DE26,Z$7)))","v":""},{"$f":"IF($E26=\"\",\"\",IF(INDEX(E_SourceStreams!$A:$N,DF26,AA$7)=\"\",\"\",INDEX(E_SourceStreams!$A:$N,DF26,AA$7)))","v":""},{"$f":"IF($E26=\"\",\"\",IF(INDEX(E_SourceStreams!$A:$N,DG26,AB$7)=\"\",\"\",INDEX(E_SourceStreams!$A:$N,DG26,AB$7)))","v":""},{"$f":"IF($E26=\"\",\"\",IF(INDEX(E_SourceStreams!$A:$N,DH26,AC$7)=\"\",\"\",INDEX(E_SourceStreams!$A:$N,DH26,AC$7)))","v":""},{"$f":"IF($E26=\"\",\"\",IF(INDEX(E_SourceStreams!$A:$N,DI26,AD$7)=\"\",\"\",INDEX(E_SourceStreams!$A:$N,DI26,AD$7)))","v":""},{"$f":"IF($E26=\"\",\"\",IF(INDEX(E_SourceStreams!$A:$N,DJ26,AE$7)=\"\",\"\",INDEX(E_SourceStreams!$A:$N,DJ26,AE$7)))","v":""},{"$f":"IF($E26=\"\",\"\",IF(INDEX(E_SourceStreams!$A:$N,DK26,AF$7)=\"\",\"\",INDEX(E_SourceStreams!$A:$N,DK26,AF$7)))","v":""},{"$f":"IF($E26=\"\",\"\",IF(INDEX(E_SourceStreams!$A:$N,DL26,AG$7)=\"\",\"\",INDEX(E_SourceStreams!$A:$N,DL26,AG$7)))","v":""},{"$f":"IF($E26=\"\",\"\",IF(INDEX(E_SourceStreams!$A:$N,DM26,AH$7)=\"\",\"\",INDEX(E_SourceStreams!$A:$N,DM26,AH$7)))","v":""},{"$f":"IF($E26=\"\",\"\",IF(INDEX(E_SourceStreams!$A:$N,DN26,AI$7)=\"\",\"\",INDEX(E_SourceStreams!$A:$N,DN26,AI$7)))","v":""},{"$f":"IF($E26=\"\",\"\",IF(INDEX(E_SourceStreams!$A:$N,DO26,AJ$7)=\"\",\"\",INDEX(E_SourceStreams!$A:$N,DO26,AJ$7)))","v":""},{"$f":"IF($E26=\"\",\"\",IF(INDEX(E_SourceStreams!$A:$N,DP26,AK$7)=\"\",\"\",INDEX(E_SourceStreams!$A:$N,DP26,AK$7)))","v":""},{"$f":"IF($E26=\"\",\"\",IF(INDEX(E_SourceStreams!$A:$N,DQ26,AL$7)=\"\",\"\",INDEX(E_SourceStreams!$A:$N,DQ26,AL$7)))","v":""},{"$f":"IF($E26=\"\",\"\",IF(INDEX(E_SourceStreams!$A:$N,DR26,AM$7)=\"\",\"\",INDEX(E_SourceStreams!$A:$N,DR26,AM$7)))","v":""},{"$f":"IF($E26=\"\",\"\",IF(INDEX(E_SourceStreams!$A:$N,DS26,AN$7)=\"\",\"\",INDEX(E_SourceStreams!$A:$N,DS26,AN$7)))","v":""},{"$f":"IF($E26=\"\",\"\",IF(INDEX(E_SourceStreams!$A:$N,DT26,AO$7)=\"\",\"\",INDEX(E_SourceStreams!$A:$N,DT26,AO$7)))","v":""},{"$f":"IF($E26=\"\",\"\",IF(INDEX(E_SourceStreams!$A:$N,DU26,AP$7)=\"\",\"\",INDEX(E_SourceStreams!$A:$N,DU26,AP$7)))","v":""},{"$f":"IF($E26=\"\",\"\",IF(INDEX(E_SourceStreams!$A:$N,DV26,AQ$7)=\"\",\"\",INDEX(E_SourceStreams!$A:$N,DV26,AQ$7)))","v":""},{"$f":"IF($E26=\"\",\"\",IF(INDEX(E_SourceStreams!$A:$N,DW26,AR$7)=\"\",\"\",INDEX(E_SourceStreams!$A:$N,DW26,AR$7)))","v":""},{"$f":"IF($E26=\"\",\"\",IF(INDEX(E_SourceStreams!$A:$N,DX26,AS$7)=\"\",\"\",INDEX(E_SourceStreams!$A:$N,DX26,AS$7)))","v":""},{"$f":"IF($E26=\"\",\"\",IF(INDEX(E_SourceStreams!$A:$N,DY26,AT$7)=\"\",\"\",INDEX(E_SourceStreams!$A:$N,DY26,AT$7)))","v":""},{"$f":"IF($E26=\"\",\"\",IF(INDEX(E_SourceStreams!$A:$N,DZ26,AU$7)=\"\",\"\",INDEX(E_SourceStreams!$A:$N,DZ26,AU$7)))","v":""},{"$f":"IF($E26=\"\",\"\",IF(INDEX(E_SourceStreams!$A:$N,EA26,AV$7)=\"\",\"\",INDEX(E_SourceStreams!$A:$N,EA26,AV$7)))","v":""},{"$f":"IF($E26=\"\",\"\",IF(INDEX(E_SourceStreams!$A:$N,EB26,AW$7)=\"\",\"\",INDEX(E_SourceStreams!$A:$N,EB26,AW$7)))","v":""},{"$f":"IF($E26=\"\",\"\",IF(INDEX(E_SourceStreams!$A:$N,EC26,AX$7)=\"\",\"\",INDEX(E_SourceStreams!$A:$N,EC26,AX$7)))","v":""},{"$f":"IF($E26=\"\",\"\",IF(INDEX(E_SourceStreams!$A:$N,ED26,AY$7)=\"\",\"\",INDEX(E_SourceStreams!$A:$N,ED26,AY$7)))","v":""},{"$f":"IF($E26=\"\",\"\",IF(INDEX(E_SourceStreams!$A:$N,EE26,AZ$7)=\"\",\"\",INDEX(E_SourceStreams!$A:$N,EE26,AZ$7)))","v":""},{"$f":"IF($E26=\"\",\"\",IF(INDEX(E_SourceStreams!$A:$N,EF26,BA$7)=\"\",\"\",INDEX(E_SourceStreams!$A:$N,EF26,BA$7)))","v":""},{"$f":"IF($E26=\"\",\"\",IF(INDEX(E_SourceStreams!$A:$N,EG26,BB$7)=\"\",\"\",INDEX(E_SourceStreams!$A:$N,EG26,BB$7)))","v":""},{"$f":"IF($E26=\"\",\"\",IF(INDEX(E_SourceStreams!$A:$N,EH26,BC$7)=\"\",\"\",INDEX(E_SourceStreams!$A:$N,EH26,BC$7)))","v":""},{"$f":"IF($E26=\"\",\"\",IF(INDEX(E_SourceStreams!$A:$N,EI26,BD$7)=\"\",\"\",INDEX(E_SourceStreams!$A:$N,EI26,BD$7)))","v":""},{"$f":"IF($E26=\"\",\"\",IF(INDEX(E_SourceStreams!$A:$N,EJ26,BE$7)=\"\",\"\",INDEX(E_SourceStreams!$A:$N,EJ26,BE$7)))","v":""},{"$f":"IF($E26=\"\",\"\",IF(INDEX(E_SourceStreams!$A:$N,EK26,BF$7)=\"\",\"\",INDEX(E_SourceStreams!$A:$N,EK26,BF$7)))","v":""},{"$f":"IF($E26=\"\",\"\",IF(INDEX(E_SourceStreams!$A:$N,EL26,BG$7)=\"\",\"\",INDEX(E_SourceStreams!$A:$N,EL26,BG$7)))","v":""},{"$f":"IF($E26=\"\",\"\",IF(INDEX(E_SourceStreams!$A:$N,EM26,BH$7)=\"\",\"\",INDEX(E_SourceStreams!$A:$N,EM26,BH$7)))","v":""},{"$f":"IF($E26=\"\",\"\",IF(INDEX(E_SourceStreams!$A:$N,EN26,BI$7)=\"\",\"\",INDEX(E_SourceStreams!$A:$N,EN26,BI$7)))","v":""},{"$f":"IF($E26=\"\",\"\",IF(INDEX(E_SourceStreams!$A:$N,EO26,BJ$7)=\"\",\"\",INDEX(E_SourceStreams!$A:$N,EO26,BJ$7)))","v":""},{"$f":"IF($E26=\"\",\"\",IF(INDEX(E_SourceStreams!$A:$N,EP26,BK$7)=\"\",\"\",INDEX(E_SourceStreams!$A:$N,EP26,BK$7)))","v":""},{"$f":"IF($E26=\"\",\"\",IF(INDEX(E_SourceStreams!$A:$N,EQ26,BL$7)=\"\",\"\",INDEX(E_SourceStreams!$A:$N,EQ26,BL$7)))","v":""},{"$f":"IF($E26=\"\",\"\",IF(INDEX(E_SourceStreams!$A:$N,ER26,BM$7)=\"\",\"\",INDEX(E_SourceStreams!$A:$N,ER26,BM$7)))","v":""},{"$f":"IF($E26=\"\",\"\",IF(INDEX(E_SourceStreams!$A:$N,ES26,BN$7)=\"\",\"\",INDEX(E_SourceStreams!$A:$N,ES26,BN$7)))","v":""},{"$f":"IF($E26=\"\",\"\",IF(INDEX(E_SourceStreams!$A:$N,ET26,BO$7)=\"\",\"\",INDEX(E_SourceStreams!$A:$N,ET26,BO$7)))","v":""},{"$f":"IF($E26=\"\",\"\",IF(INDEX(E_SourceStreams!$A:$N,EU26,BP$7)=\"\",\"\",INDEX(E_SourceStreams!$A:$N,EU26,BP$7)))","v":""},{"$f":"IF($E26=\"\",\"\",IF(INDEX(E_SourceStreams!$A:$N,EV26,BQ$7)=\"\",\"\",INDEX(E_SourceStreams!$A:$N,EV26,BQ$7)))","v":""},{"$f":"IF($E26=\"\",\"\",IF(INDEX(E_SourceStreams!$A:$N,EW26,BR$7)=\"\",\"\",INDEX(E_SourceStreams!$A:$N,EW26,BR$7)))","v":""},{"$f":"IF($E26=\"\",\"\",IF(INDEX(E_SourceStreams!$A:$N,EX26,BS$7)=\"\",\"\",INDEX(E_SourceStreams!$A:$N,EX26,BS$7)))","v":""},{"$f":"IF($E26=\"\",\"\",IF(INDEX(E_SourceStreams!$A:$N,EY26,BT$7)=\"\",\"\",INDEX(E_SourceStreams!$A:$N,EY26,BT$7)))","v":""},null,null,null,null,null,null,null,null,null,null,null,null,null,null,null,"SourceCategory_",{"$f":"INDEX(C_InstallationDescription!$A$223:$A$328,ROWS($CI$11:CI26))=\"ausblenden\"","v":false},"SourceStreamName_",null,1124,1126,1128,1130,1132,1134,1136,1136,1136,1136,1136,1139,1143,1144,1145,1152,1162,1162,1162,1162,1162,1162,1162,1153,1163,1163,1163,1163,1163,1163,1163,1154,1164,1164,1164,1164,1164,1164,1164,1155,1165,1165,1165,1165,1165,1165,1165,1156,1166,1166,1166,1166,1166,1166,1166,1157,1167,1167,1167,1167,1167,1167,1167,1173]
[null,{"$f":"IF(COUNTIF($CK$10:CK27,TRUE)>0,\"\",INDEX(C_InstallationDescription!$E$223:$E$239,ROWS($A$11:A27)))","v":""},{"$f":"IF($E27=\"\",\"\",INDEX(C_InstallationDescription!G:G,MATCH($B27,C_InstallationDescription!$E:$E,0)))","v":""},{"$f":"IF($E27=\"\",\"\",INDEX(C_InstallationDescription!I:I,MATCH($B27,C_InstallationDescription!$E:$E,0)))","v":""},{"$f":"IF($B27=\"\",\"\",INDEX(C_InstallationDescription!F:F,MATCH($CJ27,C_InstallationDescription!$Q:$Q,0)))","v":""},{"$f":"IF($E27=\"\",\"\",INDEX(C_InstallationDescription!L:L,MATCH($CJ27,C_InstallationDescription!$Q:$Q,0)))","v":""},{"$f":"IF($E27=\"\",\"\",INDEX(C_InstallationDescription!M:M,MATCH($CJ27,C_InstallationDescription!$Q:$Q,0)))","v":""},{"$f":"IF($E27=\"\",\"\",INDEX(C_InstallationDescription!N:N,MATCH($CJ27,C_InstallationDescription!$Q:$Q,0)))","v":""},{"$f":"IF($E27=\"\",\"\",IF(INDEX(E_SourceStreams!$A:$N,CN27,I$7)=\"\",\"\",INDEX(E_SourceStreams!$A:$N,CN27,I$7)))","v":""},{"$f":"IF($E27=\"\",\"\",IF(INDEX(E_SourceStreams!$A:$N,CO27,J$7)=\"\",\"\",INDEX(E_SourceStreams!$A:$N,CO27,J$7)))","v":""},{"$f":"IF($E27=\"\",\"\",IF(INDEX(E_SourceStreams!$A:$N,CP27,K$7)=\"\",\"\",INDEX(E_SourceStreams!$A:$N,CP27,K$7)))","v":""},{"$f":"IF($E27=\"\",\"\",IF(INDEX(E_SourceStreams!$A:$N,CQ27,L$7)=\"\",\"\",INDEX(E_SourceStreams!$A:$N,CQ27,L$7)))","v":""},{"$f":"IF($E27=\"\",\"\",IF(INDEX(E_SourceStreams!$A:$N,CR27,M$7)=\"\",\"\",INDEX(E_SourceStreams!$A:$N,CR27,M$7)))","v":""},{"$f":"IF($E27=\"\",\"\",IF(INDEX(E_SourceStreams!$A:$N,CS27,N$7)=\"\",\"\",INDEX(E_SourceStreams!$A:$N,CS27,N$7)))","v":""},{"$f":"IF($E27=\"\",\"\",IF(INDEX(E_SourceStreams!$A:$N,CT27,O$7)=\"\",\"\",INDEX(E_SourceStreams!$A:$N,CT27,O$7)))","v":""},{"$f":"IF($E27=\"\",\"\",IF(INDEX(E_SourceStreams!$A:$N,CU27,P$7)=\"\",\"\",INDEX(E_SourceStreams!$A:$N,CU27,P$7)))","v":""},{"$f":"IF($E27=\"\",\"\",IF(INDEX(E_SourceStreams!$A:$N,CV27,Q$7)=\"\",\"\",INDEX(E_SourceStreams!$A:$N,CV27,Q$7)))","v":""},{"$f":"IF($E27=\"\",\"\",IF(INDEX(E_SourceStreams!$A:$N,CW27,R$7)=\"\",\"\",INDEX(E_SourceStreams!$A:$N,CW27,R$7)))","v":""},{"$f":"IF($E27=\"\",\"\",IF(INDEX(E_SourceStreams!$A:$N,CX27,S$7)=\"\",\"\",INDEX(E_SourceStreams!$A:$N,CX27,S$7)))","v":""},{"$f":"IF($E27=\"\",\"\",IF(INDEX(E_SourceStreams!$A:$N,CY27,T$7)=\"\",\"\",INDEX(E_SourceStreams!$A:$N,CY27,T$7)))","v":""},{"$f":"IF($E27=\"\",\"\",IF(INDEX(E_SourceStreams!$A:$N,CZ27,U$7)=\"\",\"\",INDEX(E_SourceStreams!$A:$N,CZ27,U$7)))","v":""},{"$f":"IF($E27=\"\",\"\",IF(INDEX(E_SourceStreams!$A:$N,DA27,V$7)=\"\",\"\",INDEX(E_SourceStreams!$A:$N,DA27,V$7)))","v":""},{"$f":"IF($E27=\"\",\"\",IF(INDEX(E_SourceStreams!$A:$N,DB27,W$7)=\"\",\"\",INDEX(E_SourceStreams!$A:$N,DB27,W$7)))","v":""},{"$f":"IF($E27=\"\",\"\",IF(INDEX(E_SourceStreams!$A:$N,DC27,X$7)=\"\",\"\",INDEX(E_SourceStreams!$A:$N,DC27,X$7)))","v":""},{"$f":"IF($E27=\"\",\"\",IF(INDEX(E_SourceStreams!$A:$N,DD27,Y$7)=\"\",\"\",INDEX(E_SourceStreams!$A:$N,DD27,Y$7)))","v":""},{"$f":"IF($E27=\"\",\"\",IF(INDEX(E_SourceStreams!$A:$N,DE27,Z$7)=\"\",\"\",INDEX(E_SourceStreams!$A:$N,DE27,Z$7)))","v":""},{"$f":"IF($E27=\"\",\"\",IF(INDEX(E_SourceStreams!$A:$N,DF27,AA$7)=\"\",\"\",INDEX(E_SourceStreams!$A:$N,DF27,AA$7)))","v":""},{"$f":"IF($E27=\"\",\"\",IF(INDEX(E_SourceStreams!$A:$N,DG27,AB$7)=\"\",\"\",INDEX(E_SourceStreams!$A:$N,DG27,AB$7)))","v":""},{"$f":"IF($E27=\"\",\"\",IF(INDEX(E_SourceStreams!$A:$N,DH27,AC$7)=\"\",\"\",INDEX(E_SourceStreams!$A:$N,DH27,AC$7)))","v":""},{"$f":"IF($E27=\"\",\"\",IF(INDEX(E_SourceStreams!$A:$N,DI27,AD$7)=\"\",\"\",INDEX(E_SourceStreams!$A:$N,DI27,AD$7)))","v":""},{"$f":"IF($E27=\"\",\"\",IF(INDEX(E_SourceStreams!$A:$N,DJ27,AE$7)=\"\",\"\",INDEX(E_SourceStreams!$A:$N,DJ27,AE$7)))","v":""},{"$f":"IF($E27=\"\",\"\",IF(INDEX(E_SourceStreams!$A:$N,DK27,AF$7)=\"\",\"\",INDEX(E_SourceStreams!$A:$N,DK27,AF$7)))","v":""},{"$f":"IF($E27=\"\",\"\",IF(INDEX(E_SourceStreams!$A:$N,DL27,AG$7)=\"\",\"\",INDEX(E_SourceStreams!$A:$N,DL27,AG$7)))","v":""},{"$f":"IF($E27=\"\",\"\",IF(INDEX(E_SourceStreams!$A:$N,DM27,AH$7)=\"\",\"\",INDEX(E_SourceStreams!$A:$N,DM27,AH$7)))","v":""},{"$f":"IF($E27=\"\",\"\",IF(INDEX(E_SourceStreams!$A:$N,DN27,AI$7)=\"\",\"\",INDEX(E_SourceStreams!$A:$N,DN27,AI$7)))","v":""},{"$f":"IF($E27=\"\",\"\",IF(INDEX(E_SourceStreams!$A:$N,DO27,AJ$7)=\"\",\"\",INDEX(E_SourceStreams!$A:$N,DO27,AJ$7)))","v":""},{"$f":"IF($E27=\"\",\"\",IF(INDEX(E_SourceStreams!$A:$N,DP27,AK$7)=\"\",\"\",INDEX(E_SourceStreams!$A:$N,DP27,AK$7)))","v":""},{"$f":"IF($E27=\"\",\"\",IF(INDEX(E_SourceStreams!$A:$N,DQ27,AL$7)=\"\",\"\",INDEX(E_SourceStreams!$A:$N,DQ27,AL$7)))","v":""},{"$f":"IF($E27=\"\",\"\",IF(INDEX(E_SourceStreams!$A:$N,DR27,AM$7)=\"\",\"\",INDEX(E_SourceStreams!$A:$N,DR27,AM$7)))","v":""},{"$f":"IF($E27=\"\",\"\",IF(INDEX(E_SourceStreams!$A:$N,DS27,AN$7)=\"\",\"\",INDEX(E_SourceStreams!$A:$N,DS27,AN$7)))","v":""},{"$f":"IF($E27=\"\",\"\",IF(INDEX(E_SourceStreams!$A:$N,DT27,AO$7)=\"\",\"\",INDEX(E_SourceStreams!$A:$N,DT27,AO$7)))","v":""},{"$f":"IF($E27=\"\",\"\",IF(INDEX(E_SourceStreams!$A:$N,DU27,AP$7)=\"\",\"\",INDEX(E_SourceStreams!$A:$N,DU27,AP$7)))","v":""},{"$f":"IF($E27=\"\",\"\",IF(INDEX(E_SourceStreams!$A:$N,DV27,AQ$7)=\"\",\"\",INDEX(E_SourceStreams!$A:$N,DV27,AQ$7)))","v":""},{"$f":"IF($E27=\"\",\"\",IF(INDEX(E_SourceStreams!$A:$N,DW27,AR$7)=\"\",\"\",INDEX(E_SourceStreams!$A:$N,DW27,AR$7)))","v":""},{"$f":"IF($E27=\"\",\"\",IF(INDEX(E_SourceStreams!$A:$N,DX27,AS$7)=\"\",\"\",INDEX(E_SourceStreams!$A:$N,DX27,AS$7)))","v":""},{"$f":"IF($E27=\"\",\"\",IF(INDEX(E_SourceStreams!$A:$N,DY27,AT$7)=\"\",\"\",INDEX(E_SourceStreams!$A:$N,DY27,AT$7)))","v":""},{"$f":"IF($E27=\"\",\"\",IF(INDEX(E_SourceStreams!$A:$N,DZ27,AU$7)=\"\",\"\",INDEX(E_SourceStreams!$A:$N,DZ27,AU$7)))","v":""},{"$f":"IF($E27=\"\",\"\",IF(INDEX(E_SourceStreams!$A:$N,EA27,AV$7)=\"\",\"\",INDEX(E_SourceStreams!$A:$N,EA27,AV$7)))","v":""},{"$f":"IF($E27=\"\",\"\",IF(INDEX(E_SourceStreams!$A:$N,EB27,AW$7)=\"\",\"\",INDEX(E_SourceStreams!$A:$N,EB27,AW$7)))","v":""},{"$f":"IF($E27=\"\",\"\",IF(INDEX(E_SourceStreams!$A:$N,EC27,AX$7)=\"\",\"\",INDEX(E_SourceStreams!$A:$N,EC27,AX$7)))","v":""},{"$f":"IF($E27=\"\",\"\",IF(INDEX(E_SourceStreams!$A:$N,ED27,AY$7)=\"\",\"\",INDEX(E_SourceStreams!$A:$N,ED27,AY$7)))","v":""},{"$f":"IF($E27=\"\",\"\",IF(INDEX(E_SourceStreams!$A:$N,EE27,AZ$7)=\"\",\"\",INDEX(E_SourceStreams!$A:$N,EE27,AZ$7)))","v":""},{"$f":"IF($E27=\"\",\"\",IF(INDEX(E_SourceStreams!$A:$N,EF27,BA$7)=\"\",\"\",INDEX(E_SourceStreams!$A:$N,EF27,BA$7)))","v":""},{"$f":"IF($E27=\"\",\"\",IF(INDEX(E_SourceStreams!$A:$N,EG27,BB$7)=\"\",\"\",INDEX(E_SourceStreams!$A:$N,EG27,BB$7)))","v":""},{"$f":"IF($E27=\"\",\"\",IF(INDEX(E_SourceStreams!$A:$N,EH27,BC$7)=\"\",\"\",INDEX(E_SourceStreams!$A:$N,EH27,BC$7)))","v":""},{"$f":"IF($E27=\"\",\"\",IF(INDEX(E_SourceStreams!$A:$N,EI27,BD$7)=\"\",\"\",INDEX(E_SourceStreams!$A:$N,EI27,BD$7)))","v":""},{"$f":"IF($E27=\"\",\"\",IF(INDEX(E_SourceStreams!$A:$N,EJ27,BE$7)=\"\",\"\",INDEX(E_SourceStreams!$A:$N,EJ27,BE$7)))","v":""},{"$f":"IF($E27=\"\",\"\",IF(INDEX(E_SourceStreams!$A:$N,EK27,BF$7)=\"\",\"\",INDEX(E_SourceStreams!$A:$N,EK27,BF$7)))","v":""},{"$f":"IF($E27=\"\",\"\",IF(INDEX(E_SourceStreams!$A:$N,EL27,BG$7)=\"\",\"\",INDEX(E_SourceStreams!$A:$N,EL27,BG$7)))","v":""},{"$f":"IF($E27=\"\",\"\",IF(INDEX(E_SourceStreams!$A:$N,EM27,BH$7)=\"\",\"\",INDEX(E_SourceStreams!$A:$N,EM27,BH$7)))","v":""},{"$f":"IF($E27=\"\",\"\",IF(INDEX(E_SourceStreams!$A:$N,EN27,BI$7)=\"\",\"\",INDEX(E_SourceStreams!$A:$N,EN27,BI$7)))","v":""},{"$f":"IF($E27=\"\",\"\",IF(INDEX(E_SourceStreams!$A:$N,EO27,BJ$7)=\"\",\"\",INDEX(E_SourceStreams!$A:$N,EO27,BJ$7)))","v":""},{"$f":"IF($E27=\"\",\"\",IF(INDEX(E_SourceStreams!$A:$N,EP27,BK$7)=\"\",\"\",INDEX(E_SourceStreams!$A:$N,EP27,BK$7)))","v":""},{"$f":"IF($E27=\"\",\"\",IF(INDEX(E_SourceStreams!$A:$N,EQ27,BL$7)=\"\",\"\",INDEX(E_SourceStreams!$A:$N,EQ27,BL$7)))","v":""},{"$f":"IF($E27=\"\",\"\",IF(INDEX(E_SourceStreams!$A:$N,ER27,BM$7)=\"\",\"\",INDEX(E_SourceStreams!$A:$N,ER27,BM$7)))","v":""},{"$f":"IF($E27=\"\",\"\",IF(INDEX(E_SourceStreams!$A:$N,ES27,BN$7)=\"\",\"\",INDEX(E_SourceStreams!$A:$N,ES27,BN$7)))","v":""},{"$f":"IF($E27=\"\",\"\",IF(INDEX(E_SourceStreams!$A:$N,ET27,BO$7)=\"\",\"\",INDEX(E_SourceStreams!$A:$N,ET27,BO$7)))","v":""},{"$f":"IF($E27=\"\",\"\",IF(INDEX(E_SourceStreams!$A:$N,EU27,BP$7)=\"\",\"\",INDEX(E_SourceStreams!$A:$N,EU27,BP$7)))","v":""},{"$f":"IF($E27=\"\",\"\",IF(INDEX(E_SourceStreams!$A:$N,EV27,BQ$7)=\"\",\"\",INDEX(E_SourceStreams!$A:$N,EV27,BQ$7)))","v":""},{"$f":"IF($E27=\"\",\"\",IF(INDEX(E_SourceStreams!$A:$N,EW27,BR$7)=\"\",\"\",INDEX(E_SourceStreams!$A:$N,EW27,BR$7)))","v":""},{"$f":"IF($E27=\"\",\"\",IF(INDEX(E_SourceStreams!$A:$N,EX27,BS$7)=\"\",\"\",INDEX(E_SourceStreams!$A:$N,EX27,BS$7)))","v":""},{"$f":"IF($E27=\"\",\"\",IF(INDEX(E_SourceStreams!$A:$N,EY27,BT$7)=\"\",\"\",INDEX(E_SourceStreams!$A:$N,EY27,BT$7)))","v":""},null,null,null,null,null,null,null,null,null,null,null,null,null,null,null,"SourceCategory_",{"$f":"INDEX(C_InstallationDescription!$A$223:$A$328,ROWS($CI$11:CI27))=\"ausblenden\"","v":false},"SourceStreamName_",null,1190,1192,1194,1196,1198,1200,1202,1202,1202,1202,1202,1205,1209,1210,1211,1218,1228,1228,1228,1228,1228,1228,1228,1219,1229,1229,1229,1229,1229,1229,1229,1220,1230,1230,1230,1230,1230,1230,1230,1221,1231,1231,1231,1231,1231,1231,1231,1222,1232,1232,1232,1232,1232,1232,1232,1223,1233,1233,1233,1233,1233,1233,1233,1239]
[null,{"$f":"IF(COUNTIF($CK$10:CK28,TRUE)>0,\"\",INDEX(C_InstallationDescription!$E$223:$E$239,ROWS($A$11:A28)))","v":""},{"$f":"IF($E28=\"\",\"\",INDEX(C_InstallationDescription!G:G,MATCH($B28,C_InstallationDescription!$E:$E,0)))","v":""},{"$f":"IF($E28=\"\",\"\",INDEX(C_InstallationDescription!I:I,MATCH($B28,C_InstallationDescription!$E:$E,0)))","v":""},{"$f":"IF($B28=\"\",\"\",INDEX(C_InstallationDescription!F:F,MATCH($CJ28,C_InstallationDescription!$Q:$Q,0)))","v":""},{"$f":"IF($E28=\"\",\"\",INDEX(C_InstallationDescription!L:L,MATCH($CJ28,C_InstallationDescription!$Q:$Q,0)))","v":""},{"$f":"IF($E28=\"\",\"\",INDEX(C_InstallationDescription!M:M,MATCH($CJ28,C_InstallationDescription!$Q:$Q,0)))","v":""},{"$f":"IF($E28=\"\",\"\",INDEX(C_InstallationDescription!N:N,MATCH($CJ28,C_InstallationDescription!$Q:$Q,0)))","v":""},{"$f":"IF($E28=\"\",\"\",IF(INDEX(E_SourceStreams!$A:$N,CN28,I$7)=\"\",\"\",INDEX(E_SourceStreams!$A:$N,CN28,I$7)))","v":""},{"$f":"IF($E28=\"\",\"\",IF(INDEX(E_SourceStreams!$A:$N,CO28,J$7)=\"\",\"\",INDEX(E_SourceStreams!$A:$N,CO28,J$7)))","v":""},{"$f":"IF($E28=\"\",\"\",IF(INDEX(E_SourceStreams!$A:$N,CP28,K$7)=\"\",\"\",INDEX(E_SourceStreams!$A:$N,CP28,K$7)))","v":""},{"$f":"IF($E28=\"\",\"\",IF(INDEX(E_SourceStreams!$A:$N,CQ28,L$7)=\"\",\"\",INDEX(E_SourceStreams!$A:$N,CQ28,L$7)))","v":""},{"$f":"IF($E28=\"\",\"\",IF(INDEX(E_SourceStreams!$A:$N,CR28,M$7)=\"\",\"\",INDEX(E_SourceStreams!$A:$N,CR28,M$7)))","v":""},{"$f":"IF($E28=\"\",\"\",IF(INDEX(E_SourceStreams!$A:$N,CS28,N$7)=\"\",\"\",INDEX(E_SourceStreams!$A:$N,CS28,N$7)))","v":""},{"$f":"IF($E28=\"\",\"\",IF(INDEX(E_SourceStreams!$A:$N,CT28,O$7)=\"\",\"\",INDEX(E_SourceStreams!$A:$N,CT28,O$7)))","v":""},{"$f":"IF($E28=\"\",\"\",IF(INDEX(E_SourceStreams!$A:$N,CU28,P$7)=\"\",\"\",INDEX(E_SourceStreams!$A:$N,CU28,P$7)))","v":""},{"$f":"IF($E28=\"\",\"\",IF(INDEX(E_SourceStreams!$A:$N,CV28,Q$7)=\"\",\"\",INDEX(E_SourceStreams!$A:$N,CV28,Q$7)))","v":""},{"$f":"IF($E28=\"\",\"\",IF(INDEX(E_SourceStreams!$A:$N,CW28,R$7)=\"\",\"\",INDEX(E_SourceStreams!$A:$N,CW28,R$7)))","v":""},{"$f":"IF($E28=\"\",\"\",IF(INDEX(E_SourceStreams!$A:$N,CX28,S$7)=\"\",\"\",INDEX(E_SourceStreams!$A:$N,CX28,S$7)))","v":""},{"$f":"IF($E28=\"\",\"\",IF(INDEX(E_SourceStreams!$A:$N,CY28,T$7)=\"\",\"\",INDEX(E_SourceStreams!$A:$N,CY28,T$7)))","v":""},{"$f":"IF($E28=\"\",\"\",IF(INDEX(E_SourceStreams!$A:$N,CZ28,U$7)=\"\",\"\",INDEX(E_SourceStreams!$A:$N,CZ28,U$7)))","v":""},{"$f":"IF($E28=\"\",\"\",IF(INDEX(E_SourceStreams!$A:$N,DA28,V$7)=\"\",\"\",INDEX(E_SourceStreams!$A:$N,DA28,V$7)))","v":""},{"$f":"IF($E28=\"\",\"\",IF(INDEX(E_SourceStreams!$A:$N,DB28,W$7)=\"\",\"\",INDEX(E_SourceStreams!$A:$N,DB28,W$7)))","v":""},{"$f":"IF($E28=\"\",\"\",IF(INDEX(E_SourceStreams!$A:$N,DC28,X$7)=\"\",\"\",INDEX(E_SourceStreams!$A:$N,DC28,X$7)))","v":""},{"$f":"IF($E28=\"\",\"\",IF(INDEX(E_SourceStreams!$A:$N,DD28,Y$7)=\"\",\"\",INDEX(E_SourceStreams!$A:$N,DD28,Y$7)))","v":""},{"$f":"IF($E28=\"\",\"\",IF(INDEX(E_SourceStreams!$A:$N,DE28,Z$7)=\"\",\"\",INDEX(E_SourceStreams!$A:$N,DE28,Z$7)))","v":""},{"$f":"IF($E28=\"\",\"\",IF(INDEX(E_SourceStreams!$A:$N,DF28,AA$7)=\"\",\"\",INDEX(E_SourceStreams!$A:$N,DF28,AA$7)))","v":""},{"$f":"IF($E28=\"\",\"\",IF(INDEX(E_SourceStreams!$A:$N,DG28,AB$7)=\"\",\"\",INDEX(E_SourceStreams!$A:$N,DG28,AB$7)))","v":""},{"$f":"IF($E28=\"\",\"\",IF(INDEX(E_SourceStreams!$A:$N,DH28,AC$7)=\"\",\"\",INDEX(E_SourceStreams!$A:$N,DH28,AC$7)))","v":""},{"$f":"IF($E28=\"\",\"\",IF(INDEX(E_SourceStreams!$A:$N,DI28,AD$7)=\"\",\"\",INDEX(E_SourceStreams!$A:$N,DI28,AD$7)))","v":""},{"$f":"IF($E28=\"\",\"\",IF(INDEX(E_SourceStreams!$A:$N,DJ28,AE$7)=\"\",\"\",INDEX(E_SourceStreams!$A:$N,DJ28,AE$7)))","v":""},{"$f":"IF($E28=\"\",\"\",IF(INDEX(E_SourceStreams!$A:$N,DK28,AF$7)=\"\",\"\",INDEX(E_SourceStreams!$A:$N,DK28,AF$7)))","v":""},{"$f":"IF($E28=\"\",\"\",IF(INDEX(E_SourceStreams!$A:$N,DL28,AG$7)=\"\",\"\",INDEX(E_SourceStreams!$A:$N,DL28,AG$7)))","v":""},{"$f":"IF($E28=\"\",\"\",IF(INDEX(E_SourceStreams!$A:$N,DM28,AH$7)=\"\",\"\",INDEX(E_SourceStreams!$A:$N,DM28,AH$7)))","v":""},{"$f":"IF($E28=\"\",\"\",IF(INDEX(E_SourceStreams!$A:$N,DN28,AI$7)=\"\",\"\",INDEX(E_SourceStreams!$A:$N,DN28,AI$7)))","v":""},{"$f":"IF($E28=\"\",\"\",IF(INDEX(E_SourceStreams!$A:$N,DO28,AJ$7)=\"\",\"\",INDEX(E_SourceStreams!$A:$N,DO28,AJ$7)))","v":""},{"$f":"IF($E28=\"\",\"\",IF(INDEX(E_SourceStreams!$A:$N,DP28,AK$7)=\"\",\"\",INDEX(E_SourceStreams!$A:$N,DP28,AK$7)))","v":""},{"$f":"IF($E28=\"\",\"\",IF(INDEX(E_SourceStreams!$A:$N,DQ28,AL$7)=\"\",\"\",INDEX(E_SourceStreams!$A:$N,DQ28,AL$7)))","v":""},{"$f":"IF($E28=\"\",\"\",IF(INDEX(E_SourceStreams!$A:$N,DR28,AM$7)=\"\",\"\",INDEX(E_SourceStreams!$A:$N,DR28,AM$7)))","v":""},{"$f":"IF($E28=\"\",\"\",IF(INDEX(E_SourceStreams!$A:$N,DS28,AN$7)=\"\",\"\",INDEX(E_SourceStreams!$A:$N,DS28,AN$7)))","v":""},{"$f":"IF($E28=\"\",\"\",IF(INDEX(E_SourceStreams!$A:$N,DT28,AO$7)=\"\",\"\",INDEX(E_SourceStreams!$A:$N,DT28,AO$7)))","v":""},{"$f":"IF($E28=\"\",\"\",IF(INDEX(E_SourceStreams!$A:$N,DU28,AP$7)=\"\",\"\",INDEX(E_SourceStreams!$A:$N,DU28,AP$7)))","v":""},{"$f":"IF($E28=\"\",\"\",IF(INDEX(E_SourceStreams!$A:$N,DV28,AQ$7)=\"\",\"\",INDEX(E_SourceStreams!$A:$N,DV28,AQ$7)))","v":""},{"$f":"IF($E28=\"\",\"\",IF(INDEX(E_SourceStreams!$A:$N,DW28,AR$7)=\"\",\"\",INDEX(E_SourceStreams!$A:$N,DW28,AR$7)))","v":""},{"$f":"IF($E28=\"\",\"\",IF(INDEX(E_SourceStreams!$A:$N,DX28,AS$7)=\"\",\"\",INDEX(E_SourceStreams!$A:$N,DX28,AS$7)))","v":""},{"$f":"IF($E28=\"\",\"\",IF(INDEX(E_SourceStreams!$A:$N,DY28,AT$7)=\"\",\"\",INDEX(E_SourceStreams!$A:$N,DY28,AT$7)))","v":""},{"$f":"IF($E28=\"\",\"\",IF(INDEX(E_SourceStreams!$A:$N,DZ28,AU$7)=\"\",\"\",INDEX(E_SourceStreams!$A:$N,DZ28,AU$7)))","v":""},{"$f":"IF($E28=\"\",\"\",IF(INDEX(E_SourceStreams!$A:$N,EA28,AV$7)=\"\",\"\",INDEX(E_SourceStreams!$A:$N,EA28,AV$7)))","v":""},{"$f":"IF($E28=\"\",\"\",IF(INDEX(E_SourceStreams!$A:$N,EB28,AW$7)=\"\",\"\",INDEX(E_SourceStreams!$A:$N,EB28,AW$7)))","v":""},{"$f":"IF($E28=\"\",\"\",IF(INDEX(E_SourceStreams!$A:$N,EC28,AX$7)=\"\",\"\",INDEX(E_SourceStreams!$A:$N,EC28,AX$7)))","v":""},{"$f":"IF($E28=\"\",\"\",IF(INDEX(E_SourceStreams!$A:$N,ED28,AY$7)=\"\",\"\",INDEX(E_SourceStreams!$A:$N,ED28,AY$7)))","v":""},{"$f":"IF($E28=\"\",\"\",IF(INDEX(E_SourceStreams!$A:$N,EE28,AZ$7)=\"\",\"\",INDEX(E_SourceStreams!$A:$N,EE28,AZ$7)))","v":""},{"$f":"IF($E28=\"\",\"\",IF(INDEX(E_SourceStreams!$A:$N,EF28,BA$7)=\"\",\"\",INDEX(E_SourceStreams!$A:$N,EF28,BA$7)))","v":""},{"$f":"IF($E28=\"\",\"\",IF(INDEX(E_SourceStreams!$A:$N,EG28,BB$7)=\"\",\"\",INDEX(E_SourceStreams!$A:$N,EG28,BB$7)))","v":""},{"$f":"IF($E28=\"\",\"\",IF(INDEX(E_SourceStreams!$A:$N,EH28,BC$7)=\"\",\"\",INDEX(E_SourceStreams!$A:$N,EH28,BC$7)))","v":""},{"$f":"IF($E28=\"\",\"\",IF(INDEX(E_SourceStreams!$A:$N,EI28,BD$7)=\"\",\"\",INDEX(E_SourceStreams!$A:$N,EI28,BD$7)))","v":""},{"$f":"IF($E28=\"\",\"\",IF(INDEX(E_SourceStreams!$A:$N,EJ28,BE$7)=\"\",\"\",INDEX(E_SourceStreams!$A:$N,EJ28,BE$7)))","v":""},{"$f":"IF($E28=\"\",\"\",IF(INDEX(E_SourceStreams!$A:$N,EK28,BF$7)=\"\",\"\",INDEX(E_SourceStreams!$A:$N,EK28,BF$7)))","v":""},{"$f":"IF($E28=\"\",\"\",IF(INDEX(E_SourceStreams!$A:$N,EL28,BG$7)=\"\",\"\",INDEX(E_SourceStreams!$A:$N,EL28,BG$7)))","v":""},{"$f":"IF($E28=\"\",\"\",IF(INDEX(E_SourceStreams!$A:$N,EM28,BH$7)=\"\",\"\",INDEX(E_SourceStreams!$A:$N,EM28,BH$7)))","v":""},{"$f":"IF($E28=\"\",\"\",IF(INDEX(E_SourceStreams!$A:$N,EN28,BI$7)=\"\",\"\",INDEX(E_SourceStreams!$A:$N,EN28,BI$7)))","v":""},{"$f":"IF($E28=\"\",\"\",IF(INDEX(E_SourceStreams!$A:$N,EO28,BJ$7)=\"\",\"\",INDEX(E_SourceStreams!$A:$N,EO28,BJ$7)))","v":""},{"$f":"IF($E28=\"\",\"\",IF(INDEX(E_SourceStreams!$A:$N,EP28,BK$7)=\"\",\"\",INDEX(E_SourceStreams!$A:$N,EP28,BK$7)))","v":""},{"$f":"IF($E28=\"\",\"\",IF(INDEX(E_SourceStreams!$A:$N,EQ28,BL$7)=\"\",\"\",INDEX(E_SourceStreams!$A:$N,EQ28,BL$7)))","v":""},{"$f":"IF($E28=\"\",\"\",IF(INDEX(E_SourceStreams!$A:$N,ER28,BM$7)=\"\",\"\",INDEX(E_SourceStreams!$A:$N,ER28,BM$7)))","v":""},{"$f":"IF($E28=\"\",\"\",IF(INDEX(E_SourceStreams!$A:$N,ES28,BN$7)=\"\",\"\",INDEX(E_SourceStreams!$A:$N,ES28,BN$7)))","v":""},{"$f":"IF($E28=\"\",\"\",IF(INDEX(E_SourceStreams!$A:$N,ET28,BO$7)=\"\",\"\",INDEX(E_SourceStreams!$A:$N,ET28,BO$7)))","v":""},{"$f":"IF($E28=\"\",\"\",IF(INDEX(E_SourceStreams!$A:$N,EU28,BP$7)=\"\",\"\",INDEX(E_SourceStreams!$A:$N,EU28,BP$7)))","v":""},{"$f":"IF($E28=\"\",\"\",IF(INDEX(E_SourceStreams!$A:$N,EV28,BQ$7)=\"\",\"\",INDEX(E_SourceStreams!$A:$N,EV28,BQ$7)))","v":""},{"$f":"IF($E28=\"\",\"\",IF(INDEX(E_SourceStreams!$A:$N,EW28,BR$7)=\"\",\"\",INDEX(E_SourceStreams!$A:$N,EW28,BR$7)))","v":""},{"$f":"IF($E28=\"\",\"\",IF(INDEX(E_SourceStreams!$A:$N,EX28,BS$7)=\"\",\"\",INDEX(E_SourceStreams!$A:$N,EX28,BS$7)))","v":""},{"$f":"IF($E28=\"\",\"\",IF(INDEX(E_SourceStreams!$A:$N,EY28,BT$7)=\"\",\"\",INDEX(E_SourceStreams!$A:$N,EY28,BT$7)))","v":""},null,null,null,null,null,null,null,null,null,null,null,null,null,null,null,"SourceCategory_",{"$f":"INDEX(C_InstallationDescription!$A$223:$A$328,ROWS($CI$11:CI28))=\"ausblenden\"","v":false},"SourceStreamName_",null,1256,1258,1260,1262,1264,1266,1268,1268,1268,1268,1268,1271,1275,1276,1277,1284,1294,1294,1294,1294,1294,1294,1294,1285,1295,1295,1295,1295,1295,1295,1295,1286,1296,1296,1296,1296,1296,1296,1296,1287,1297,1297,1297,1297,1297,1297,1297,1288,1298,1298,1298,1298,1298,1298,1298,1289,1299,1299,1299,1299,1299,1299,1299,1305]
[null,{"$f":"IF(COUNTIF($CK$10:CK29,TRUE)>0,\"\",INDEX(C_InstallationDescription!$E$223:$E$239,ROWS($A$11:A29)))","v":""},{"$f":"IF($E29=\"\",\"\",INDEX(C_InstallationDescription!G:G,MATCH($B29,C_InstallationDescription!$E:$E,0)))","v":""},{"$f":"IF($E29=\"\",\"\",INDEX(C_InstallationDescription!I:I,MATCH($B29,C_InstallationDescription!$E:$E,0)))","v":""},{"$f":"IF($B29=\"\",\"\",INDEX(C_InstallationDescription!F:F,MATCH($CJ29,C_InstallationDescription!$Q:$Q,0)))","v":""},{"$f":"IF($E29=\"\",\"\",INDEX(C_InstallationDescription!L:L,MATCH($CJ29,C_InstallationDescription!$Q:$Q,0)))","v":""},{"$f":"IF($E29=\"\",\"\",INDEX(C_InstallationDescription!M:M,MATCH($CJ29,C_InstallationDescription!$Q:$Q,0)))","v":""},{"$f":"IF($E29=\"\",\"\",INDEX(C_InstallationDescription!N:N,MATCH($CJ29,C_InstallationDescription!$Q:$Q,0)))","v":""},{"$f":"IF($E29=\"\",\"\",IF(INDEX(E_SourceStreams!$A:$N,CN29,I$7)=\"\",\"\",INDEX(E_SourceStreams!$A:$N,CN29,I$7)))","v":""},{"$f":"IF($E29=\"\",\"\",IF(INDEX(E_SourceStreams!$A:$N,CO29,J$7)=\"\",\"\",INDEX(E_SourceStreams!$A:$N,CO29,J$7)))","v":""},{"$f":"IF($E29=\"\",\"\",IF(INDEX(E_SourceStreams!$A:$N,CP29,K$7)=\"\",\"\",INDEX(E_SourceStreams!$A:$N,CP29,K$7)))","v":""},{"$f":"IF($E29=\"\",\"\",IF(INDEX(E_SourceStreams!$A:$N,CQ29,L$7)=\"\",\"\",INDEX(E_SourceStreams!$A:$N,CQ29,L$7)))","v":""},{"$f":"IF($E29=\"\",\"\",IF(INDEX(E_SourceStreams!$A:$N,CR29,M$7)=\"\",\"\",INDEX(E_SourceStreams!$A:$N,CR29,M$7)))","v":""},{"$f":"IF($E29=\"\",\"\",IF(INDEX(E_SourceStreams!$A:$N,CS29,N$7)=\"\",\"\",INDEX(E_SourceStreams!$A:$N,CS29,N$7)))","v":""},{"$f":"IF($E29=\"\",\"\",IF(INDEX(E_SourceStreams!$A:$N,CT29,O$7)=\"\",\"\",INDEX(E_SourceStreams!$A:$N,CT29,O$7)))","v":""},{"$f":"IF($E29=\"\",\"\",IF(INDEX(E_SourceStreams!$A:$N,CU29,P$7)=\"\",\"\",INDEX(E_SourceStreams!$A:$N,CU29,P$7)))","v":""},{"$f":"IF($E29=\"\",\"\",IF(INDEX(E_SourceStreams!$A:$N,CV29,Q$7)=\"\",\"\",INDEX(E_SourceStreams!$A:$N,CV29,Q$7)))","v":""},{"$f":"IF($E29=\"\",\"\",IF(INDEX(E_SourceStreams!$A:$N,CW29,R$7)=\"\",\"\",INDEX(E_SourceStreams!$A:$N,CW29,R$7)))","v":""},{"$f":"IF($E29=\"\",\"\",IF(INDEX(E_SourceStreams!$A:$N,CX29,S$7)=\"\",\"\",INDEX(E_SourceStreams!$A:$N,CX29,S$7)))","v":""},{"$f":"IF($E29=\"\",\"\",IF(INDEX(E_SourceStreams!$A:$N,CY29,T$7)=\"\",\"\",INDEX(E_SourceStreams!$A:$N,CY29,T$7)))","v":""},{"$f":"IF($E29=\"\",\"\",IF(INDEX(E_SourceStreams!$A:$N,CZ29,U$7)=\"\",\"\",INDEX(E_SourceStreams!$A:$N,CZ29,U$7)))","v":""},{"$f":"IF($E29=\"\",\"\",IF(INDEX(E_SourceStreams!$A:$N,DA29,V$7)=\"\",\"\",INDEX(E_SourceStreams!$A:$N,DA29,V$7)))","v":""},{"$f":"IF($E29=\"\",\"\",IF(INDEX(E_SourceStreams!$A:$N,DB29,W$7)=\"\",\"\",INDEX(E_SourceStreams!$A:$N,DB29,W$7)))","v":""},{"$f":"IF($E29=\"\",\"\",IF(INDEX(E_SourceStreams!$A:$N,DC29,X$7)=\"\",\"\",INDEX(E_SourceStreams!$A:$N,DC29,X$7)))","v":""},{"$f":"IF($E29=\"\",\"\",IF(INDEX(E_SourceStreams!$A:$N,DD29,Y$7)=\"\",\"\",INDEX(E_SourceStreams!$A:$N,DD29,Y$7)))","v":""},{"$f":"IF($E29=\"\",\"\",IF(INDEX(E_SourceStreams!$A:$N,DE29,Z$7)=\"\",\"\",INDEX(E_SourceStreams!$A:$N,DE29,Z$7)))","v":""},{"$f":"IF($E29=\"\",\"\",IF(INDEX(E_SourceStreams!$A:$N,DF29,AA$7)=\"\",\"\",INDEX(E_SourceStreams!$A:$N,DF29,AA$7)))","v":""},{"$f":"IF($E29=\"\",\"\",IF(INDEX(E_SourceStreams!$A:$N,DG29,AB$7)=\"\",\"\",INDEX(E_SourceStreams!$A:$N,DG29,AB$7)))","v":""},{"$f":"IF($E29=\"\",\"\",IF(INDEX(E_SourceStreams!$A:$N,DH29,AC$7)=\"\",\"\",INDEX(E_SourceStreams!$A:$N,DH29,AC$7)))","v":""},{"$f":"IF($E29=\"\",\"\",IF(INDEX(E_SourceStreams!$A:$N,DI29,AD$7)=\"\",\"\",INDEX(E_SourceStreams!$A:$N,DI29,AD$7)))","v":""},{"$f":"IF($E29=\"\",\"\",IF(INDEX(E_SourceStreams!$A:$N,DJ29,AE$7)=\"\",\"\",INDEX(E_SourceStreams!$A:$N,DJ29,AE$7)))","v":""},{"$f":"IF($E29=\"\",\"\",IF(INDEX(E_SourceStreams!$A:$N,DK29,AF$7)=\"\",\"\",INDEX(E_SourceStreams!$A:$N,DK29,AF$7)))","v":""},{"$f":"IF($E29=\"\",\"\",IF(INDEX(E_SourceStreams!$A:$N,DL29,AG$7)=\"\",\"\",INDEX(E_SourceStreams!$A:$N,DL29,AG$7)))","v":""},{"$f":"IF($E29=\"\",\"\",IF(INDEX(E_SourceStreams!$A:$N,DM29,AH$7)=\"\",\"\",INDEX(E_SourceStreams!$A:$N,DM29,AH$7)))","v":""},{"$f":"IF($E29=\"\",\"\",IF(INDEX(E_SourceStreams!$A:$N,DN29,AI$7)=\"\",\"\",INDEX(E_SourceStreams!$A:$N,DN29,AI$7)))","v":""},{"$f":"IF($E29=\"\",\"\",IF(INDEX(E_SourceStreams!$A:$N,DO29,AJ$7)=\"\",\"\",INDEX(E_SourceStreams!$A:$N,DO29,AJ$7)))","v":""},{"$f":"IF($E29=\"\",\"\",IF(INDEX(E_SourceStreams!$A:$N,DP29,AK$7)=\"\",\"\",INDEX(E_SourceStreams!$A:$N,DP29,AK$7)))","v":""},{"$f":"IF($E29=\"\",\"\",IF(INDEX(E_SourceStreams!$A:$N,DQ29,AL$7)=\"\",\"\",INDEX(E_SourceStreams!$A:$N,DQ29,AL$7)))","v":""},{"$f":"IF($E29=\"\",\"\",IF(INDEX(E_SourceStreams!$A:$N,DR29,AM$7)=\"\",\"\",INDEX(E_SourceStreams!$A:$N,DR29,AM$7)))","v":""},{"$f":"IF($E29=\"\",\"\",IF(INDEX(E_SourceStreams!$A:$N,DS29,AN$7)=\"\",\"\",INDEX(E_SourceStreams!$A:$N,DS29,AN$7)))","v":""},{"$f":"IF($E29=\"\",\"\",IF(INDEX(E_SourceStreams!$A:$N,DT29,AO$7)=\"\",\"\",INDEX(E_SourceStreams!$A:$N,DT29,AO$7)))","v":""},{"$f":"IF($E29=\"\",\"\",IF(INDEX(E_SourceStreams!$A:$N,DU29,AP$7)=\"\",\"\",INDEX(E_SourceStreams!$A:$N,DU29,AP$7)))","v":""},{"$f":"IF($E29=\"\",\"\",IF(INDEX(E_SourceStreams!$A:$N,DV29,AQ$7)=\"\",\"\",INDEX(E_SourceStreams!$A:$N,DV29,AQ$7)))","v":""},{"$f":"IF($E29=\"\",\"\",IF(INDEX(E_SourceStreams!$A:$N,DW29,AR$7)=\"\",\"\",INDEX(E_SourceStreams!$A:$N,DW29,AR$7)))","v":""},{"$f":"IF($E29=\"\",\"\",IF(INDEX(E_SourceStreams!$A:$N,DX29,AS$7)=\"\",\"\",INDEX(E_SourceStreams!$A:$N,DX29,AS$7)))","v":""},{"$f":"IF($E29=\"\",\"\",IF(INDEX(E_SourceStreams!$A:$N,DY29,AT$7)=\"\",\"\",INDEX(E_SourceStreams!$A:$N,DY29,AT$7)))","v":""},{"$f":"IF($E29=\"\",\"\",IF(INDEX(E_SourceStreams!$A:$N,DZ29,AU$7)=\"\",\"\",INDEX(E_SourceStreams!$A:$N,DZ29,AU$7)))","v":""},{"$f":"IF($E29=\"\",\"\",IF(INDEX(E_SourceStreams!$A:$N,EA29,AV$7)=\"\",\"\",INDEX(E_SourceStreams!$A:$N,EA29,AV$7)))","v":""},{"$f":"IF($E29=\"\",\"\",IF(INDEX(E_SourceStreams!$A:$N,EB29,AW$7)=\"\",\"\",INDEX(E_SourceStreams!$A:$N,EB29,AW$7)))","v":""},{"$f":"IF($E29=\"\",\"\",IF(INDEX(E_SourceStreams!$A:$N,EC29,AX$7)=\"\",\"\",INDEX(E_SourceStreams!$A:$N,EC29,AX$7)))","v":""},{"$f":"IF($E29=\"\",\"\",IF(INDEX(E_SourceStreams!$A:$N,ED29,AY$7)=\"\",\"\",INDEX(E_SourceStreams!$A:$N,ED29,AY$7)))","v":""},{"$f":"IF($E29=\"\",\"\",IF(INDEX(E_SourceStreams!$A:$N,EE29,AZ$7)=\"\",\"\",INDEX(E_SourceStreams!$A:$N,EE29,AZ$7)))","v":""},{"$f":"IF($E29=\"\",\"\",IF(INDEX(E_SourceStreams!$A:$N,EF29,BA$7)=\"\",\"\",INDEX(E_SourceStreams!$A:$N,EF29,BA$7)))","v":""},{"$f":"IF($E29=\"\",\"\",IF(INDEX(E_SourceStreams!$A:$N,EG29,BB$7)=\"\",\"\",INDEX(E_SourceStreams!$A:$N,EG29,BB$7)))","v":""},{"$f":"IF($E29=\"\",\"\",IF(INDEX(E_SourceStreams!$A:$N,EH29,BC$7)=\"\",\"\",INDEX(E_SourceStreams!$A:$N,EH29,BC$7)))","v":""},{"$f":"IF($E29=\"\",\"\",IF(INDEX(E_SourceStreams!$A:$N,EI29,BD$7)=\"\",\"\",INDEX(E_SourceStreams!$A:$N,EI29,BD$7)))","v":""},{"$f":"IF($E29=\"\",\"\",IF(INDEX(E_SourceStreams!$A:$N,EJ29,BE$7)=\"\",\"\",INDEX(E_SourceStreams!$A:$N,EJ29,BE$7)))","v":""},{"$f":"IF($E29=\"\",\"\",IF(INDEX(E_SourceStreams!$A:$N,EK29,BF$7)=\"\",\"\",INDEX(E_SourceStreams!$A:$N,EK29,BF$7)))","v":""},{"$f":"IF($E29=\"\",\"\",IF(INDEX(E_SourceStreams!$A:$N,EL29,BG$7)=\"\",\"\",INDEX(E_SourceStreams!$A:$N,EL29,BG$7)))","v":""},{"$f":"IF($E29=\"\",\"\",IF(INDEX(E_SourceStreams!$A:$N,EM29,BH$7)=\"\",\"\",INDEX(E_SourceStreams!$A:$N,EM29,BH$7)))","v":""},{"$f":"IF($E29=\"\",\"\",IF(INDEX(E_SourceStreams!$A:$N,EN29,BI$7)=\"\",\"\",INDEX(E_SourceStreams!$A:$N,EN29,BI$7)))","v":""},{"$f":"IF($E29=\"\",\"\",IF(INDEX(E_SourceStreams!$A:$N,EO29,BJ$7)=\"\",\"\",INDEX(E_SourceStreams!$A:$N,EO29,BJ$7)))","v":""},{"$f":"IF($E29=\"\",\"\",IF(INDEX(E_SourceStreams!$A:$N,EP29,BK$7)=\"\",\"\",INDEX(E_SourceStreams!$A:$N,EP29,BK$7)))","v":""},{"$f":"IF($E29=\"\",\"\",IF(INDEX(E_SourceStreams!$A:$N,EQ29,BL$7)=\"\",\"\",INDEX(E_SourceStreams!$A:$N,EQ29,BL$7)))","v":""},{"$f":"IF($E29=\"\",\"\",IF(INDEX(E_SourceStreams!$A:$N,ER29,BM$7)=\"\",\"\",INDEX(E_SourceStreams!$A:$N,ER29,BM$7)))","v":""},{"$f":"IF($E29=\"\",\"\",IF(INDEX(E_SourceStreams!$A:$N,ES29,BN$7)=\"\",\"\",INDEX(E_SourceStreams!$A:$N,ES29,BN$7)))","v":""},{"$f":"IF($E29=\"\",\"\",IF(INDEX(E_SourceStreams!$A:$N,ET29,BO$7)=\"\",\"\",INDEX(E_SourceStreams!$A:$N,ET29,BO$7)))","v":""},{"$f":"IF($E29=\"\",\"\",IF(INDEX(E_SourceStreams!$A:$N,EU29,BP$7)=\"\",\"\",INDEX(E_SourceStreams!$A:$N,EU29,BP$7)))","v":""},{"$f":"IF($E29=\"\",\"\",IF(INDEX(E_SourceStreams!$A:$N,EV29,BQ$7)=\"\",\"\",INDEX(E_SourceStreams!$A:$N,EV29,BQ$7)))","v":""},{"$f":"IF($E29=\"\",\"\",IF(INDEX(E_SourceStreams!$A:$N,EW29,BR$7)=\"\",\"\",INDEX(E_SourceStreams!$A:$N,EW29,BR$7)))","v":""},{"$f":"IF($E29=\"\",\"\",IF(INDEX(E_SourceStreams!$A:$N,EX29,BS$7)=\"\",\"\",INDEX(E_SourceStreams!$A:$N,EX29,BS$7)))","v":""},{"$f":"IF($E29=\"\",\"\",IF(INDEX(E_SourceStreams!$A:$N,EY29,BT$7)=\"\",\"\",INDEX(E_SourceStreams!$A:$N,EY29,BT$7)))","v":""},null,null,null,null,null,null,null,null,null,null,null,null,null,null,null,"SourceCategory_",{"$f":"INDEX(C_InstallationDescription!$A$223:$A$328,ROWS($CI$11:CI29))=\"ausblenden\"","v":false},"SourceStreamName_",null,1322,1324,1326,1328,1330,1332,1334,1334,1334,1334,1334,1337,1341,1342,1343,1350,1360,1360,1360,1360,1360,1360,1360,1351,1361,1361,1361,1361,1361,1361,1361,1352,1362,1362,1362,1362,1362,1362,1362,1353,1363,1363,1363,1363,1363,1363,1363,1354,1364,1364,1364,1364,1364,1364,1364,1355,1365,1365,1365,1365,1365,1365,1365,1371]
[null,{"$f":"IF(COUNTIF($CK$10:CK30,TRUE)>0,\"\",INDEX(C_InstallationDescription!$E$223:$E$239,ROWS($A$11:A30)))","v":""},{"$f":"IF($E30=\"\",\"\",INDEX(C_InstallationDescription!G:G,MATCH($B30,C_InstallationDescription!$E:$E,0)))","v":""},{"$f":"IF($E30=\"\",\"\",INDEX(C_InstallationDescription!I:I,MATCH($B30,C_InstallationDescription!$E:$E,0)))","v":""},{"$f":"IF($B30=\"\",\"\",INDEX(C_InstallationDescription!F:F,MATCH($CJ30,C_InstallationDescription!$Q:$Q,0)))","v":""},{"$f":"IF($E30=\"\",\"\",INDEX(C_InstallationDescription!L:L,MATCH($CJ30,C_InstallationDescription!$Q:$Q,0)))","v":""},{"$f":"IF($E30=\"\",\"\",INDEX(C_InstallationDescription!M:M,MATCH($CJ30,C_InstallationDescription!$Q:$Q,0)))","v":""},{"$f":"IF($E30=\"\",\"\",INDEX(C_InstallationDescription!N:N,MATCH($CJ30,C_InstallationDescription!$Q:$Q,0)))","v":""},{"$f":"IF($E30=\"\",\"\",IF(INDEX(E_SourceStreams!$A:$N,CN30,I$7)=\"\",\"\",INDEX(E_SourceStreams!$A:$N,CN30,I$7)))","v":""},{"$f":"IF($E30=\"\",\"\",IF(INDEX(E_SourceStreams!$A:$N,CO30,J$7)=\"\",\"\",INDEX(E_SourceStreams!$A:$N,CO30,J$7)))","v":""},{"$f":"IF($E30=\"\",\"\",IF(INDEX(E_SourceStreams!$A:$N,CP30,K$7)=\"\",\"\",INDEX(E_SourceStreams!$A:$N,CP30,K$7)))","v":""},{"$f":"IF($E30=\"\",\"\",IF(INDEX(E_SourceStreams!$A:$N,CQ30,L$7)=\"\",\"\",INDEX(E_SourceStreams!$A:$N,CQ30,L$7)))","v":""},{"$f":"IF($E30=\"\",\"\",IF(INDEX(E_SourceStreams!$A:$N,CR30,M$7)=\"\",\"\",INDEX(E_SourceStreams!$A:$N,CR30,M$7)))","v":""},{"$f":"IF($E30=\"\",\"\",IF(INDEX(E_SourceStreams!$A:$N,CS30,N$7)=\"\",\"\",INDEX(E_SourceStreams!$A:$N,CS30,N$7)))","v":""},{"$f":"IF($E30=\"\",\"\",IF(INDEX(E_SourceStreams!$A:$N,CT30,O$7)=\"\",\"\",INDEX(E_SourceStreams!$A:$N,CT30,O$7)))","v":""},{"$f":"IF($E30=\"\",\"\",IF(INDEX(E_SourceStreams!$A:$N,CU30,P$7)=\"\",\"\",INDEX(E_SourceStreams!$A:$N,CU30,P$7)))","v":""},{"$f":"IF($E30=\"\",\"\",IF(INDEX(E_SourceStreams!$A:$N,CV30,Q$7)=\"\",\"\",INDEX(E_SourceStreams!$A:$N,CV30,Q$7)))","v":""},{"$f":"IF($E30=\"\",\"\",IF(INDEX(E_SourceStreams!$A:$N,CW30,R$7)=\"\",\"\",INDEX(E_SourceStreams!$A:$N,CW30,R$7)))","v":""},{"$f":"IF($E30=\"\",\"\",IF(INDEX(E_SourceStreams!$A:$N,CX30,S$7)=\"\",\"\",INDEX(E_SourceStreams!$A:$N,CX30,S$7)))","v":""},{"$f":"IF($E30=\"\",\"\",IF(INDEX(E_SourceStreams!$A:$N,CY30,T$7)=\"\",\"\",INDEX(E_SourceStreams!$A:$N,CY30,T$7)))","v":""},{"$f":"IF($E30=\"\",\"\",IF(INDEX(E_SourceStreams!$A:$N,CZ30,U$7)=\"\",\"\",INDEX(E_SourceStreams!$A:$N,CZ30,U$7)))","v":""},{"$f":"IF($E30=\"\",\"\",IF(INDEX(E_SourceStreams!$A:$N,DA30,V$7)=\"\",\"\",INDEX(E_SourceStreams!$A:$N,DA30,V$7)))","v":""},{"$f":"IF($E30=\"\",\"\",IF(INDEX(E_SourceStreams!$A:$N,DB30,W$7)=\"\",\"\",INDEX(E_SourceStreams!$A:$N,DB30,W$7)))","v":""},{"$f":"IF($E30=\"\",\"\",IF(INDEX(E_SourceStreams!$A:$N,DC30,X$7)=\"\",\"\",INDEX(E_SourceStreams!$A:$N,DC30,X$7)))","v":""},{"$f":"IF($E30=\"\",\"\",IF(INDEX(E_SourceStreams!$A:$N,DD30,Y$7)=\"\",\"\",INDEX(E_SourceStreams!$A:$N,DD30,Y$7)))","v":""},{"$f":"IF($E30=\"\",\"\",IF(INDEX(E_SourceStreams!$A:$N,DE30,Z$7)=\"\",\"\",INDEX(E_SourceStreams!$A:$N,DE30,Z$7)))","v":""},{"$f":"IF($E30=\"\",\"\",IF(INDEX(E_SourceStreams!$A:$N,DF30,AA$7)=\"\",\"\",INDEX(E_SourceStreams!$A:$N,DF30,AA$7)))","v":""},{"$f":"IF($E30=\"\",\"\",IF(INDEX(E_SourceStreams!$A:$N,DG30,AB$7)=\"\",\"\",INDEX(E_SourceStreams!$A:$N,DG30,AB$7)))","v":""},{"$f":"IF($E30=\"\",\"\",IF(INDEX(E_SourceStreams!$A:$N,DH30,AC$7)=\"\",\"\",INDEX(E_SourceStreams!$A:$N,DH30,AC$7)))","v":""},{"$f":"IF($E30=\"\",\"\",IF(INDEX(E_SourceStreams!$A:$N,DI30,AD$7)=\"\",\"\",INDEX(E_SourceStreams!$A:$N,DI30,AD$7)))","v":""},{"$f":"IF($E30=\"\",\"\",IF(INDEX(E_SourceStreams!$A:$N,DJ30,AE$7)=\"\",\"\",INDEX(E_SourceStreams!$A:$N,DJ30,AE$7)))","v":""},{"$f":"IF($E30=\"\",\"\",IF(INDEX(E_SourceStreams!$A:$N,DK30,AF$7)=\"\",\"\",INDEX(E_SourceStreams!$A:$N,DK30,AF$7)))","v":""},{"$f":"IF($E30=\"\",\"\",IF(INDEX(E_SourceStreams!$A:$N,DL30,AG$7)=\"\",\"\",INDEX(E_SourceStreams!$A:$N,DL30,AG$7)))","v":""},{"$f":"IF($E30=\"\",\"\",IF(INDEX(E_SourceStreams!$A:$N,DM30,AH$7)=\"\",\"\",INDEX(E_SourceStreams!$A:$N,DM30,AH$7)))","v":""},{"$f":"IF($E30=\"\",\"\",IF(INDEX(E_SourceStreams!$A:$N,DN30,AI$7)=\"\",\"\",INDEX(E_SourceStreams!$A:$N,DN30,AI$7)))","v":""},{"$f":"IF($E30=\"\",\"\",IF(INDEX(E_SourceStreams!$A:$N,DO30,AJ$7)=\"\",\"\",INDEX(E_SourceStreams!$A:$N,DO30,AJ$7)))","v":""},{"$f":"IF($E30=\"\",\"\",IF(INDEX(E_SourceStreams!$A:$N,DP30,AK$7)=\"\",\"\",INDEX(E_SourceStreams!$A:$N,DP30,AK$7)))","v":""},{"$f":"IF($E30=\"\",\"\",IF(INDEX(E_SourceStreams!$A:$N,DQ30,AL$7)=\"\",\"\",INDEX(E_SourceStreams!$A:$N,DQ30,AL$7)))","v":""},{"$f":"IF($E30=\"\",\"\",IF(INDEX(E_SourceStreams!$A:$N,DR30,AM$7)=\"\",\"\",INDEX(E_SourceStreams!$A:$N,DR30,AM$7)))","v":""},{"$f":"IF($E30=\"\",\"\",IF(INDEX(E_SourceStreams!$A:$N,DS30,AN$7)=\"\",\"\",INDEX(E_SourceStreams!$A:$N,DS30,AN$7)))","v":""},{"$f":"IF($E30=\"\",\"\",IF(INDEX(E_SourceStreams!$A:$N,DT30,AO$7)=\"\",\"\",INDEX(E_SourceStreams!$A:$N,DT30,AO$7)))","v":""},{"$f":"IF($E30=\"\",\"\",IF(INDEX(E_SourceStreams!$A:$N,DU30,AP$7)=\"\",\"\",INDEX(E_SourceStreams!$A:$N,DU30,AP$7)))","v":""},{"$f":"IF($E30=\"\",\"\",IF(INDEX(E_SourceStreams!$A:$N,DV30,AQ$7)=\"\",\"\",INDEX(E_SourceStreams!$A:$N,DV30,AQ$7)))","v":""},{"$f":"IF($E30=\"\",\"\",IF(INDEX(E_SourceStreams!$A:$N,DW30,AR$7)=\"\",\"\",INDEX(E_SourceStreams!$A:$N,DW30,AR$7)))","v":""},{"$f":"IF($E30=\"\",\"\",IF(INDEX(E_SourceStreams!$A:$N,DX30,AS$7)=\"\",\"\",INDEX(E_SourceStreams!$A:$N,DX30,AS$7)))","v":""},{"$f":"IF($E30=\"\",\"\",IF(INDEX(E_SourceStreams!$A:$N,DY30,AT$7)=\"\",\"\",INDEX(E_SourceStreams!$A:$N,DY30,AT$7)))","v":""},{"$f":"IF($E30=\"\",\"\",IF(INDEX(E_SourceStreams!$A:$N,DZ30,AU$7)=\"\",\"\",INDEX(E_SourceStreams!$A:$N,DZ30,AU$7)))","v":""},{"$f":"IF($E30=\"\",\"\",IF(INDEX(E_SourceStreams!$A:$N,EA30,AV$7)=\"\",\"\",INDEX(E_SourceStreams!$A:$N,EA30,AV$7)))","v":""},{"$f":"IF($E30=\"\",\"\",IF(INDEX(E_SourceStreams!$A:$N,EB30,AW$7)=\"\",\"\",INDEX(E_SourceStreams!$A:$N,EB30,AW$7)))","v":""},{"$f":"IF($E30=\"\",\"\",IF(INDEX(E_SourceStreams!$A:$N,EC30,AX$7)=\"\",\"\",INDEX(E_SourceStreams!$A:$N,EC30,AX$7)))","v":""},{"$f":"IF($E30=\"\",\"\",IF(INDEX(E_SourceStreams!$A:$N,ED30,AY$7)=\"\",\"\",INDEX(E_SourceStreams!$A:$N,ED30,AY$7)))","v":""},{"$f":"IF($E30=\"\",\"\",IF(INDEX(E_SourceStreams!$A:$N,EE30,AZ$7)=\"\",\"\",INDEX(E_SourceStreams!$A:$N,EE30,AZ$7)))","v":""},{"$f":"IF($E30=\"\",\"\",IF(INDEX(E_SourceStreams!$A:$N,EF30,BA$7)=\"\",\"\",INDEX(E_SourceStreams!$A:$N,EF30,BA$7)))","v":""},{"$f":"IF($E30=\"\",\"\",IF(INDEX(E_SourceStreams!$A:$N,EG30,BB$7)=\"\",\"\",INDEX(E_SourceStreams!$A:$N,EG30,BB$7)))","v":""},{"$f":"IF($E30=\"\",\"\",IF(INDEX(E_SourceStreams!$A:$N,EH30,BC$7)=\"\",\"\",INDEX(E_SourceStreams!$A:$N,EH30,BC$7)))","v":""},{"$f":"IF($E30=\"\",\"\",IF(INDEX(E_SourceStreams!$A:$N,EI30,BD$7)=\"\",\"\",INDEX(E_SourceStreams!$A:$N,EI30,BD$7)))","v":""},{"$f":"IF($E30=\"\",\"\",IF(INDEX(E_SourceStreams!$A:$N,EJ30,BE$7)=\"\",\"\",INDEX(E_SourceStreams!$A:$N,EJ30,BE$7)))","v":""},{"$f":"IF($E30=\"\",\"\",IF(INDEX(E_SourceStreams!$A:$N,EK30,BF$7)=\"\",\"\",INDEX(E_SourceStreams!$A:$N,EK30,BF$7)))","v":""},{"$f":"IF($E30=\"\",\"\",IF(INDEX(E_SourceStreams!$A:$N,EL30,BG$7)=\"\",\"\",INDEX(E_SourceStreams!$A:$N,EL30,BG$7)))","v":""},{"$f":"IF($E30=\"\",\"\",IF(INDEX(E_SourceStreams!$A:$N,EM30,BH$7)=\"\",\"\",INDEX(E_SourceStreams!$A:$N,EM30,BH$7)))","v":""},{"$f":"IF($E30=\"\",\"\",IF(INDEX(E_SourceStreams!$A:$N,EN30,BI$7)=\"\",\"\",INDEX(E_SourceStreams!$A:$N,EN30,BI$7)))","v":""},{"$f":"IF($E30=\"\",\"\",IF(INDEX(E_SourceStreams!$A:$N,EO30,BJ$7)=\"\",\"\",INDEX(E_SourceStreams!$A:$N,EO30,BJ$7)))","v":""},{"$f":"IF($E30=\"\",\"\",IF(INDEX(E_SourceStreams!$A:$N,EP30,BK$7)=\"\",\"\",INDEX(E_SourceStreams!$A:$N,EP30,BK$7)))","v":""},{"$f":"IF($E30=\"\",\"\",IF(INDEX(E_SourceStreams!$A:$N,EQ30,BL$7)=\"\",\"\",INDEX(E_SourceStreams!$A:$N,EQ30,BL$7)))","v":""},{"$f":"IF($E30=\"\",\"\",IF(INDEX(E_SourceStreams!$A:$N,ER30,BM$7)=\"\",\"\",INDEX(E_SourceStreams!$A:$N,ER30,BM$7)))","v":""},{"$f":"IF($E30=\"\",\"\",IF(INDEX(E_SourceStreams!$A:$N,ES30,BN$7)=\"\",\"\",INDEX(E_SourceStreams!$A:$N,ES30,BN$7)))","v":""},{"$f":"IF($E30=\"\",\"\",IF(INDEX(E_SourceStreams!$A:$N,ET30,BO$7)=\"\",\"\",INDEX(E_SourceStreams!$A:$N,ET30,BO$7)))","v":""},{"$f":"IF($E30=\"\",\"\",IF(INDEX(E_SourceStreams!$A:$N,EU30,BP$7)=\"\",\"\",INDEX(E_SourceStreams!$A:$N,EU30,BP$7)))","v":""},{"$f":"IF($E30=\"\",\"\",IF(INDEX(E_SourceStreams!$A:$N,EV30,BQ$7)=\"\",\"\",INDEX(E_SourceStreams!$A:$N,EV30,BQ$7)))","v":""},{"$f":"IF($E30=\"\",\"\",IF(INDEX(E_SourceStreams!$A:$N,EW30,BR$7)=\"\",\"\",INDEX(E_SourceStreams!$A:$N,EW30,BR$7)))","v":""},{"$f":"IF($E30=\"\",\"\",IF(INDEX(E_SourceStreams!$A:$N,EX30,BS$7)=\"\",\"\",INDEX(E_SourceStreams!$A:$N,EX30,BS$7)))","v":""},{"$f":"IF($E30=\"\",\"\",IF(INDEX(E_SourceStreams!$A:$N,EY30,BT$7)=\"\",\"\",INDEX(E_SourceStreams!$A:$N,EY30,BT$7)))","v":""},null,null,null,null,null,null,null,null,null,null,null,null,null,null,null,"SourceCategory_",{"$f":"INDEX(C_InstallationDescription!$A$223:$A$328,ROWS($CI$11:CI30))=\"ausblenden\"","v":false},"SourceStreamName_",null,1388,1390,1392,1394,1396,1398,1400,1400,1400,1400,1400,1403,1407,1408,1409,1416,1426,1426,1426,1426,1426,1426,1426,1417,1427,1427,1427,1427,1427,1427,1427,1418,1428,1428,1428,1428,1428,1428,1428,1419,1429,1429,1429,1429,1429,1429,1429,1420,1430,1430,1430,1430,1430,1430,1430,1421,1431,1431,1431,1431,1431,1431,1431,1437]
[null,{"$f":"IF(COUNTIF($CK$10:CK31,TRUE)>0,\"\",INDEX(C_InstallationDescription!$E$223:$E$239,ROWS($A$11:A31)))","v":""},{"$f":"IF($E31=\"\",\"\",INDEX(C_InstallationDescription!G:G,MATCH($B31,C_InstallationDescription!$E:$E,0)))","v":""},{"$f":"IF($E31=\"\",\"\",INDEX(C_InstallationDescription!I:I,MATCH($B31,C_InstallationDescription!$E:$E,0)))","v":""},{"$f":"IF($B31=\"\",\"\",INDEX(C_InstallationDescription!F:F,MATCH($CJ31,C_InstallationDescription!$Q:$Q,0)))","v":""},{"$f":"IF($E31=\"\",\"\",INDEX(C_InstallationDescription!L:L,MATCH($CJ31,C_InstallationDescription!$Q:$Q,0)))","v":""},{"$f":"IF($E31=\"\",\"\",INDEX(C_InstallationDescription!M:M,MATCH($CJ31,C_InstallationDescription!$Q:$Q,0)))","v":""},{"$f":"IF($E31=\"\",\"\",INDEX(C_InstallationDescription!N:N,MATCH($CJ31,C_InstallationDescription!$Q:$Q,0)))","v":""},{"$f":"IF($E31=\"\",\"\",IF(INDEX(E_SourceStreams!$A:$N,CN31,I$7)=\"\",\"\",INDEX(E_SourceStreams!$A:$N,CN31,I$7)))","v":""},{"$f":"IF($E31=\"\",\"\",IF(INDEX(E_SourceStreams!$A:$N,CO31,J$7)=\"\",\"\",INDEX(E_SourceStreams!$A:$N,CO31,J$7)))","v":""},{"$f":"IF($E31=\"\",\"\",IF(INDEX(E_SourceStreams!$A:$N,CP31,K$7)=\"\",\"\",INDEX(E_SourceStreams!$A:$N,CP31,K$7)))","v":""},{"$f":"IF($E31=\"\",\"\",IF(INDEX(E_SourceStreams!$A:$N,CQ31,L$7)=\"\",\"\",INDEX(E_SourceStreams!$A:$N,CQ31,L$7)))","v":""},{"$f":"IF($E31=\"\",\"\",IF(INDEX(E_SourceStreams!$A:$N,CR31,M$7)=\"\",\"\",INDEX(E_SourceStreams!$A:$N,CR31,M$7)))","v":""},{"$f":"IF($E31=\"\",\"\",IF(INDEX(E_SourceStreams!$A:$N,CS31,N$7)=\"\",\"\",INDEX(E_SourceStreams!$A:$N,CS31,N$7)))","v":""},{"$f":"IF($E31=\"\",\"\",IF(INDEX(E_SourceStreams!$A:$N,CT31,O$7)=\"\",\"\",INDEX(E_SourceStreams!$A:$N,CT31,O$7)))","v":""},{"$f":"IF($E31=\"\",\"\",IF(INDEX(E_SourceStreams!$A:$N,CU31,P$7)=\"\",\"\",INDEX(E_SourceStreams!$A:$N,CU31,P$7)))","v":""},{"$f":"IF($E31=\"\",\"\",IF(INDEX(E_SourceStreams!$A:$N,CV31,Q$7)=\"\",\"\",INDEX(E_SourceStreams!$A:$N,CV31,Q$7)))","v":""},{"$f":"IF($E31=\"\",\"\",IF(INDEX(E_SourceStreams!$A:$N,CW31,R$7)=\"\",\"\",INDEX(E_SourceStreams!$A:$N,CW31,R$7)))","v":""},{"$f":"IF($E31=\"\",\"\",IF(INDEX(E_SourceStreams!$A:$N,CX31,S$7)=\"\",\"\",INDEX(E_SourceStreams!$A:$N,CX31,S$7)))","v":""},{"$f":"IF($E31=\"\",\"\",IF(INDEX(E_SourceStreams!$A:$N,CY31,T$7)=\"\",\"\",INDEX(E_SourceStreams!$A:$N,CY31,T$7)))","v":""},{"$f":"IF($E31=\"\",\"\",IF(INDEX(E_SourceStreams!$A:$N,CZ31,U$7)=\"\",\"\",INDEX(E_SourceStreams!$A:$N,CZ31,U$7)))","v":""},{"$f":"IF($E31=\"\",\"\",IF(INDEX(E_SourceStreams!$A:$N,DA31,V$7)=\"\",\"\",INDEX(E_SourceStreams!$A:$N,DA31,V$7)))","v":""},{"$f":"IF($E31=\"\",\"\",IF(INDEX(E_SourceStreams!$A:$N,DB31,W$7)=\"\",\"\",INDEX(E_SourceStreams!$A:$N,DB31,W$7)))","v":""},{"$f":"IF($E31=\"\",\"\",IF(INDEX(E_SourceStreams!$A:$N,DC31,X$7)=\"\",\"\",INDEX(E_SourceStreams!$A:$N,DC31,X$7)))","v":""},{"$f":"IF($E31=\"\",\"\",IF(INDEX(E_SourceStreams!$A:$N,DD31,Y$7)=\"\",\"\",INDEX(E_SourceStreams!$A:$N,DD31,Y$7)))","v":""},{"$f":"IF($E31=\"\",\"\",IF(INDEX(E_SourceStreams!$A:$N,DE31,Z$7)=\"\",\"\",INDEX(E_SourceStreams!$A:$N,DE31,Z$7)))","v":""},{"$f":"IF($E31=\"\",\"\",IF(INDEX(E_SourceStreams!$A:$N,DF31,AA$7)=\"\",\"\",INDEX(E_SourceStreams!$A:$N,DF31,AA$7)))","v":""},{"$f":"IF($E31=\"\",\"\",IF(INDEX(E_SourceStreams!$A:$N,DG31,AB$7)=\"\",\"\",INDEX(E_SourceStreams!$A:$N,DG31,AB$7)))","v":""},{"$f":"IF($E31=\"\",\"\",IF(INDEX(E_SourceStreams!$A:$N,DH31,AC$7)=\"\",\"\",INDEX(E_SourceStreams!$A:$N,DH31,AC$7)))","v":""},{"$f":"IF($E31=\"\",\"\",IF(INDEX(E_SourceStreams!$A:$N,DI31,AD$7)=\"\",\"\",INDEX(E_SourceStreams!$A:$N,DI31,AD$7)))","v":""},{"$f":"IF($E31=\"\",\"\",IF(INDEX(E_SourceStreams!$A:$N,DJ31,AE$7)=\"\",\"\",INDEX(E_SourceStreams!$A:$N,DJ31,AE$7)))","v":""},{"$f":"IF($E31=\"\",\"\",IF(INDEX(E_SourceStreams!$A:$N,DK31,AF$7)=\"\",\"\",INDEX(E_SourceStreams!$A:$N,DK31,AF$7)))","v":""},{"$f":"IF($E31=\"\",\"\",IF(INDEX(E_SourceStreams!$A:$N,DL31,AG$7)=\"\",\"\",INDEX(E_SourceStreams!$A:$N,DL31,AG$7)))","v":""},{"$f":"IF($E31=\"\",\"\",IF(INDEX(E_SourceStreams!$A:$N,DM31,AH$7)=\"\",\"\",INDEX(E_SourceStreams!$A:$N,DM31,AH$7)))","v":""},{"$f":"IF($E31=\"\",\"\",IF(INDEX(E_SourceStreams!$A:$N,DN31,AI$7)=\"\",\"\",INDEX(E_SourceStreams!$A:$N,DN31,AI$7)))","v":""},{"$f":"IF($E31=\"\",\"\",IF(INDEX(E_SourceStreams!$A:$N,DO31,AJ$7)=\"\",\"\",INDEX(E_SourceStreams!$A:$N,DO31,AJ$7)))","v":""},{"$f":"IF($E31=\"\",\"\",IF(INDEX(E_SourceStreams!$A:$N,DP31,AK$7)=\"\",\"\",INDEX(E_SourceStreams!$A:$N,DP31,AK$7)))","v":""},{"$f":"IF($E31=\"\",\"\",IF(INDEX(E_SourceStreams!$A:$N,DQ31,AL$7)=\"\",\"\",INDEX(E_SourceStreams!$A:$N,DQ31,AL$7)))","v":""},{"$f":"IF($E31=\"\",\"\",IF(INDEX(E_SourceStreams!$A:$N,DR31,AM$7)=\"\",\"\",INDEX(E_SourceStreams!$A:$N,DR31,AM$7)))","v":""},{"$f":"IF($E31=\"\",\"\",IF(INDEX(E_SourceStreams!$A:$N,DS31,AN$7)=\"\",\"\",INDEX(E_SourceStreams!$A:$N,DS31,AN$7)))","v":""},{"$f":"IF($E31=\"\",\"\",IF(INDEX(E_SourceStreams!$A:$N,DT31,AO$7)=\"\",\"\",INDEX(E_SourceStreams!$A:$N,DT31,AO$7)))","v":""},{"$f":"IF($E31=\"\",\"\",IF(INDEX(E_SourceStreams!$A:$N,DU31,AP$7)=\"\",\"\",INDEX(E_SourceStreams!$A:$N,DU31,AP$7)))","v":""},{"$f":"IF($E31=\"\",\"\",IF(INDEX(E_SourceStreams!$A:$N,DV31,AQ$7)=\"\",\"\",INDEX(E_SourceStreams!$A:$N,DV31,AQ$7)))","v":""},{"$f":"IF($E31=\"\",\"\",IF(INDEX(E_SourceStreams!$A:$N,DW31,AR$7)=\"\",\"\",INDEX(E_SourceStreams!$A:$N,DW31,AR$7)))","v":""},{"$f":"IF($E31=\"\",\"\",IF(INDEX(E_SourceStreams!$A:$N,DX31,AS$7)=\"\",\"\",INDEX(E_SourceStreams!$A:$N,DX31,AS$7)))","v":""},{"$f":"IF($E31=\"\",\"\",IF(INDEX(E_SourceStreams!$A:$N,DY31,AT$7)=\"\",\"\",INDEX(E_SourceStreams!$A:$N,DY31,AT$7)))","v":""},{"$f":"IF($E31=\"\",\"\",IF(INDEX(E_SourceStreams!$A:$N,DZ31,AU$7)=\"\",\"\",INDEX(E_SourceStreams!$A:$N,DZ31,AU$7)))","v":""},{"$f":"IF($E31=\"\",\"\",IF(INDEX(E_SourceStreams!$A:$N,EA31,AV$7)=\"\",\"\",INDEX(E_SourceStreams!$A:$N,EA31,AV$7)))","v":""},{"$f":"IF($E31=\"\",\"\",IF(INDEX(E_SourceStreams!$A:$N,EB31,AW$7)=\"\",\"\",INDEX(E_SourceStreams!$A:$N,EB31,AW$7)))","v":""},{"$f":"IF($E31=\"\",\"\",IF(INDEX(E_SourceStreams!$A:$N,EC31,AX$7)=\"\",\"\",INDEX(E_SourceStreams!$A:$N,EC31,AX$7)))","v":""},{"$f":"IF($E31=\"\",\"\",IF(INDEX(E_SourceStreams!$A:$N,ED31,AY$7)=\"\",\"\",INDEX(E_SourceStreams!$A:$N,ED31,AY$7)))","v":""},{"$f":"IF($E31=\"\",\"\",IF(INDEX(E_SourceStreams!$A:$N,EE31,AZ$7)=\"\",\"\",INDEX(E_SourceStreams!$A:$N,EE31,AZ$7)))","v":""},{"$f":"IF($E31=\"\",\"\",IF(INDEX(E_SourceStreams!$A:$N,EF31,BA$7)=\"\",\"\",INDEX(E_SourceStreams!$A:$N,EF31,BA$7)))","v":""},{"$f":"IF($E31=\"\",\"\",IF(INDEX(E_SourceStreams!$A:$N,EG31,BB$7)=\"\",\"\",INDEX(E_SourceStreams!$A:$N,EG31,BB$7)))","v":""},{"$f":"IF($E31=\"\",\"\",IF(INDEX(E_SourceStreams!$A:$N,EH31,BC$7)=\"\",\"\",INDEX(E_SourceStreams!$A:$N,EH31,BC$7)))","v":""},{"$f":"IF($E31=\"\",\"\",IF(INDEX(E_SourceStreams!$A:$N,EI31,BD$7)=\"\",\"\",INDEX(E_SourceStreams!$A:$N,EI31,BD$7)))","v":""},{"$f":"IF($E31=\"\",\"\",IF(INDEX(E_SourceStreams!$A:$N,EJ31,BE$7)=\"\",\"\",INDEX(E_SourceStreams!$A:$N,EJ31,BE$7)))","v":""},{"$f":"IF($E31=\"\",\"\",IF(INDEX(E_SourceStreams!$A:$N,EK31,BF$7)=\"\",\"\",INDEX(E_SourceStreams!$A:$N,EK31,BF$7)))","v":""},{"$f":"IF($E31=\"\",\"\",IF(INDEX(E_SourceStreams!$A:$N,EL31,BG$7)=\"\",\"\",INDEX(E_SourceStreams!$A:$N,EL31,BG$7)))","v":""},{"$f":"IF($E31=\"\",\"\",IF(INDEX(E_SourceStreams!$A:$N,EM31,BH$7)=\"\",\"\",INDEX(E_SourceStreams!$A:$N,EM31,BH$7)))","v":""},{"$f":"IF($E31=\"\",\"\",IF(INDEX(E_SourceStreams!$A:$N,EN31,BI$7)=\"\",\"\",INDEX(E_SourceStreams!$A:$N,EN31,BI$7)))","v":""},{"$f":"IF($E31=\"\",\"\",IF(INDEX(E_SourceStreams!$A:$N,EO31,BJ$7)=\"\",\"\",INDEX(E_SourceStreams!$A:$N,EO31,BJ$7)))","v":""},{"$f":"IF($E31=\"\",\"\",IF(INDEX(E_SourceStreams!$A:$N,EP31,BK$7)=\"\",\"\",INDEX(E_SourceStreams!$A:$N,EP31,BK$7)))","v":""},{"$f":"IF($E31=\"\",\"\",IF(INDEX(E_SourceStreams!$A:$N,EQ31,BL$7)=\"\",\"\",INDEX(E_SourceStreams!$A:$N,EQ31,BL$7)))","v":""},{"$f":"IF($E31=\"\",\"\",IF(INDEX(E_SourceStreams!$A:$N,ER31,BM$7)=\"\",\"\",INDEX(E_SourceStreams!$A:$N,ER31,BM$7)))","v":""},{"$f":"IF($E31=\"\",\"\",IF(INDEX(E_SourceStreams!$A:$N,ES31,BN$7)=\"\",\"\",INDEX(E_SourceStreams!$A:$N,ES31,BN$7)))","v":""},{"$f":"IF($E31=\"\",\"\",IF(INDEX(E_SourceStreams!$A:$N,ET31,BO$7)=\"\",\"\",INDEX(E_SourceStreams!$A:$N,ET31,BO$7)))","v":""},{"$f":"IF($E31=\"\",\"\",IF(INDEX(E_SourceStreams!$A:$N,EU31,BP$7)=\"\",\"\",INDEX(E_SourceStreams!$A:$N,EU31,BP$7)))","v":""},{"$f":"IF($E31=\"\",\"\",IF(INDEX(E_SourceStreams!$A:$N,EV31,BQ$7)=\"\",\"\",INDEX(E_SourceStreams!$A:$N,EV31,BQ$7)))","v":""},{"$f":"IF($E31=\"\",\"\",IF(INDEX(E_SourceStreams!$A:$N,EW31,BR$7)=\"\",\"\",INDEX(E_SourceStreams!$A:$N,EW31,BR$7)))","v":""},{"$f":"IF($E31=\"\",\"\",IF(INDEX(E_SourceStreams!$A:$N,EX31,BS$7)=\"\",\"\",INDEX(E_SourceStreams!$A:$N,EX31,BS$7)))","v":""},{"$f":"IF($E31=\"\",\"\",IF(INDEX(E_SourceStreams!$A:$N,EY31,BT$7)=\"\",\"\",INDEX(E_SourceStreams!$A:$N,EY31,BT$7)))","v":""},null,null,null,null,null,null,null,null,null,null,null,null,null,null,null,"SourceCategory_",{"$f":"INDEX(C_InstallationDescription!$A$223:$A$328,ROWS($CI$11:CI31))=\"ausblenden\"","v":false},"SourceStreamName_",null,1454,1456,1458,1460,1462,1464,1466,1466,1466,1466,1466,1469,1473,1474,1475,1482,1492,1492,1492,1492,1492,1492,1492,1483,1493,1493,1493,1493,1493,1493,1493,1484,1494,1494,1494,1494,1494,1494,1494,1485,1495,1495,1495,1495,1495,1495,1495,1486,1496,1496,1496,1496,1496,1496,1496,1487,1497,1497,1497,1497,1497,1497,1497,1503]
[null,{"$f":"IF(COUNTIF($CK$10:CK32,TRUE)>0,\"\",INDEX(C_InstallationDescription!$E$223:$E$239,ROWS($A$11:A32)))","v":""},{"$f":"IF($E32=\"\",\"\",INDEX(C_InstallationDescription!G:G,MATCH($B32,C_InstallationDescription!$E:$E,0)))","v":""},{"$f":"IF($E32=\"\",\"\",INDEX(C_InstallationDescription!I:I,MATCH($B32,C_InstallationDescription!$E:$E,0)))","v":""},{"$f":"IF($B32=\"\",\"\",INDEX(C_InstallationDescription!F:F,MATCH($CJ32,C_InstallationDescription!$Q:$Q,0)))","v":""},{"$f":"IF($E32=\"\",\"\",INDEX(C_InstallationDescription!L:L,MATCH($CJ32,C_InstallationDescription!$Q:$Q,0)))","v":""},{"$f":"IF($E32=\"\",\"\",INDEX(C_InstallationDescription!M:M,MATCH($CJ32,C_InstallationDescription!$Q:$Q,0)))","v":""},{"$f":"IF($E32=\"\",\"\",INDEX(C_InstallationDescription!N:N,MATCH($CJ32,C_InstallationDescription!$Q:$Q,0)))","v":""},{"$f":"IF($E32=\"\",\"\",IF(INDEX(E_SourceStreams!$A:$N,CN32,I$7)=\"\",\"\",INDEX(E_SourceStreams!$A:$N,CN32,I$7)))","v":""},{"$f":"IF($E32=\"\",\"\",IF(INDEX(E_SourceStreams!$A:$N,CO32,J$7)=\"\",\"\",INDEX(E_SourceStreams!$A:$N,CO32,J$7)))","v":""},{"$f":"IF($E32=\"\",\"\",IF(INDEX(E_SourceStreams!$A:$N,CP32,K$7)=\"\",\"\",INDEX(E_SourceStreams!$A:$N,CP32,K$7)))","v":""},{"$f":"IF($E32=\"\",\"\",IF(INDEX(E_SourceStreams!$A:$N,CQ32,L$7)=\"\",\"\",INDEX(E_SourceStreams!$A:$N,CQ32,L$7)))","v":""},{"$f":"IF($E32=\"\",\"\",IF(INDEX(E_SourceStreams!$A:$N,CR32,M$7)=\"\",\"\",INDEX(E_SourceStreams!$A:$N,CR32,M$7)))","v":""},{"$f":"IF($E32=\"\",\"\",IF(INDEX(E_SourceStreams!$A:$N,CS32,N$7)=\"\",\"\",INDEX(E_SourceStreams!$A:$N,CS32,N$7)))","v":""},{"$f":"IF($E32=\"\",\"\",IF(INDEX(E_SourceStreams!$A:$N,CT32,O$7)=\"\",\"\",INDEX(E_SourceStreams!$A:$N,CT32,O$7)))","v":""},{"$f":"IF($E32=\"\",\"\",IF(INDEX(E_SourceStreams!$A:$N,CU32,P$7)=\"\",\"\",INDEX(E_SourceStreams!$A:$N,CU32,P$7)))","v":""},{"$f":"IF($E32=\"\",\"\",IF(INDEX(E_SourceStreams!$A:$N,CV32,Q$7)=\"\",\"\",INDEX(E_SourceStreams!$A:$N,CV32,Q$7)))","v":""},{"$f":"IF($E32=\"\",\"\",IF(INDEX(E_SourceStreams!$A:$N,CW32,R$7)=\"\",\"\",INDEX(E_SourceStreams!$A:$N,CW32,R$7)))","v":""},{"$f":"IF($E32=\"\",\"\",IF(INDEX(E_SourceStreams!$A:$N,CX32,S$7)=\"\",\"\",INDEX(E_SourceStreams!$A:$N,CX32,S$7)))","v":""},{"$f":"IF($E32=\"\",\"\",IF(INDEX(E_SourceStreams!$A:$N,CY32,T$7)=\"\",\"\",INDEX(E_SourceStreams!$A:$N,CY32,T$7)))","v":""},{"$f":"IF($E32=\"\",\"\",IF(INDEX(E_SourceStreams!$A:$N,CZ32,U$7)=\"\",\"\",INDEX(E_SourceStreams!$A:$N,CZ32,U$7)))","v":""},{"$f":"IF($E32=\"\",\"\",IF(INDEX(E_SourceStreams!$A:$N,DA32,V$7)=\"\",\"\",INDEX(E_SourceStreams!$A:$N,DA32,V$7)))","v":""},{"$f":"IF($E32=\"\",\"\",IF(INDEX(E_SourceStreams!$A:$N,DB32,W$7)=\"\",\"\",INDEX(E_SourceStreams!$A:$N,DB32,W$7)))","v":""},{"$f":"IF($E32=\"\",\"\",IF(INDEX(E_SourceStreams!$A:$N,DC32,X$7)=\"\",\"\",INDEX(E_SourceStreams!$A:$N,DC32,X$7)))","v":""},{"$f":"IF($E32=\"\",\"\",IF(INDEX(E_SourceStreams!$A:$N,DD32,Y$7)=\"\",\"\",INDEX(E_SourceStreams!$A:$N,DD32,Y$7)))","v":""},{"$f":"IF($E32=\"\",\"\",IF(INDEX(E_SourceStreams!$A:$N,DE32,Z$7)=\"\",\"\",INDEX(E_SourceStreams!$A:$N,DE32,Z$7)))","v":""},{"$f":"IF($E32=\"\",\"\",IF(INDEX(E_SourceStreams!$A:$N,DF32,AA$7)=\"\",\"\",INDEX(E_SourceStreams!$A:$N,DF32,AA$7)))","v":""},{"$f":"IF($E32=\"\",\"\",IF(INDEX(E_SourceStreams!$A:$N,DG32,AB$7)=\"\",\"\",INDEX(E_SourceStreams!$A:$N,DG32,AB$7)))","v":""},{"$f":"IF($E32=\"\",\"\",IF(INDEX(E_SourceStreams!$A:$N,DH32,AC$7)=\"\",\"\",INDEX(E_SourceStreams!$A:$N,DH32,AC$7)))","v":""},{"$f":"IF($E32=\"\",\"\",IF(INDEX(E_SourceStreams!$A:$N,DI32,AD$7)=\"\",\"\",INDEX(E_SourceStreams!$A:$N,DI32,AD$7)))","v":""},{"$f":"IF($E32=\"\",\"\",IF(INDEX(E_SourceStreams!$A:$N,DJ32,AE$7)=\"\",\"\",INDEX(E_SourceStreams!$A:$N,DJ32,AE$7)))","v":""},{"$f":"IF($E32=\"\",\"\",IF(INDEX(E_SourceStreams!$A:$N,DK32,AF$7)=\"\",\"\",INDEX(E_SourceStreams!$A:$N,DK32,AF$7)))","v":""},{"$f":"IF($E32=\"\",\"\",IF(INDEX(E_SourceStreams!$A:$N,DL32,AG$7)=\"\",\"\",INDEX(E_SourceStreams!$A:$N,DL32,AG$7)))","v":""},{"$f":"IF($E32=\"\",\"\",IF(INDEX(E_SourceStreams!$A:$N,DM32,AH$7)=\"\",\"\",INDEX(E_SourceStreams!$A:$N,DM32,AH$7)))","v":""},{"$f":"IF($E32=\"\",\"\",IF(INDEX(E_SourceStreams!$A:$N,DN32,AI$7)=\"\",\"\",INDEX(E_SourceStreams!$A:$N,DN32,AI$7)))","v":""},{"$f":"IF($E32=\"\",\"\",IF(INDEX(E_SourceStreams!$A:$N,DO32,AJ$7)=\"\",\"\",INDEX(E_SourceStreams!$A:$N,DO32,AJ$7)))","v":""},{"$f":"IF($E32=\"\",\"\",IF(INDEX(E_SourceStreams!$A:$N,DP32,AK$7)=\"\",\"\",INDEX(E_SourceStreams!$A:$N,DP32,AK$7)))","v":""},{"$f":"IF($E32=\"\",\"\",IF(INDEX(E_SourceStreams!$A:$N,DQ32,AL$7)=\"\",\"\",INDEX(E_SourceStreams!$A:$N,DQ32,AL$7)))","v":""},{"$f":"IF($E32=\"\",\"\",IF(INDEX(E_SourceStreams!$A:$N,DR32,AM$7)=\"\",\"\",INDEX(E_SourceStreams!$A:$N,DR32,AM$7)))","v":""},{"$f":"IF($E32=\"\",\"\",IF(INDEX(E_SourceStreams!$A:$N,DS32,AN$7)=\"\",\"\",INDEX(E_SourceStreams!$A:$N,DS32,AN$7)))","v":""},{"$f":"IF($E32=\"\",\"\",IF(INDEX(E_SourceStreams!$A:$N,DT32,AO$7)=\"\",\"\",INDEX(E_SourceStreams!$A:$N,DT32,AO$7)))","v":""},{"$f":"IF($E32=\"\",\"\",IF(INDEX(E_SourceStreams!$A:$N,DU32,AP$7)=\"\",\"\",INDEX(E_SourceStreams!$A:$N,DU32,AP$7)))","v":""},{"$f":"IF($E32=\"\",\"\",IF(INDEX(E_SourceStreams!$A:$N,DV32,AQ$7)=\"\",\"\",INDEX(E_SourceStreams!$A:$N,DV32,AQ$7)))","v":""},{"$f":"IF($E32=\"\",\"\",IF(INDEX(E_SourceStreams!$A:$N,DW32,AR$7)=\"\",\"\",INDEX(E_SourceStreams!$A:$N,DW32,AR$7)))","v":""},{"$f":"IF($E32=\"\",\"\",IF(INDEX(E_SourceStreams!$A:$N,DX32,AS$7)=\"\",\"\",INDEX(E_SourceStreams!$A:$N,DX32,AS$7)))","v":""},{"$f":"IF($E32=\"\",\"\",IF(INDEX(E_SourceStreams!$A:$N,DY32,AT$7)=\"\",\"\",INDEX(E_SourceStreams!$A:$N,DY32,AT$7)))","v":""},{"$f":"IF($E32=\"\",\"\",IF(INDEX(E_SourceStreams!$A:$N,DZ32,AU$7)=\"\",\"\",INDEX(E_SourceStreams!$A:$N,DZ32,AU$7)))","v":""},{"$f":"IF($E32=\"\",\"\",IF(INDEX(E_SourceStreams!$A:$N,EA32,AV$7)=\"\",\"\",INDEX(E_SourceStreams!$A:$N,EA32,AV$7)))","v":""},{"$f":"IF($E32=\"\",\"\",IF(INDEX(E_SourceStreams!$A:$N,EB32,AW$7)=\"\",\"\",INDEX(E_SourceStreams!$A:$N,EB32,AW$7)))","v":""},{"$f":"IF($E32=\"\",\"\",IF(INDEX(E_SourceStreams!$A:$N,EC32,AX$7)=\"\",\"\",INDEX(E_SourceStreams!$A:$N,EC32,AX$7)))","v":""},{"$f":"IF($E32=\"\",\"\",IF(INDEX(E_SourceStreams!$A:$N,ED32,AY$7)=\"\",\"\",INDEX(E_SourceStreams!$A:$N,ED32,AY$7)))","v":""},{"$f":"IF($E32=\"\",\"\",IF(INDEX(E_SourceStreams!$A:$N,EE32,AZ$7)=\"\",\"\",INDEX(E_SourceStreams!$A:$N,EE32,AZ$7)))","v":""},{"$f":"IF($E32=\"\",\"\",IF(INDEX(E_SourceStreams!$A:$N,EF32,BA$7)=\"\",\"\",INDEX(E_SourceStreams!$A:$N,EF32,BA$7)))","v":""},{"$f":"IF($E32=\"\",\"\",IF(INDEX(E_SourceStreams!$A:$N,EG32,BB$7)=\"\",\"\",INDEX(E_SourceStreams!$A:$N,EG32,BB$7)))","v":""},{"$f":"IF($E32=\"\",\"\",IF(INDEX(E_SourceStreams!$A:$N,EH32,BC$7)=\"\",\"\",INDEX(E_SourceStreams!$A:$N,EH32,BC$7)))","v":""},{"$f":"IF($E32=\"\",\"\",IF(INDEX(E_SourceStreams!$A:$N,EI32,BD$7)=\"\",\"\",INDEX(E_SourceStreams!$A:$N,EI32,BD$7)))","v":""},{"$f":"IF($E32=\"\",\"\",IF(INDEX(E_SourceStreams!$A:$N,EJ32,BE$7)=\"\",\"\",INDEX(E_SourceStreams!$A:$N,EJ32,BE$7)))","v":""},{"$f":"IF($E32=\"\",\"\",IF(INDEX(E_SourceStreams!$A:$N,EK32,BF$7)=\"\",\"\",INDEX(E_SourceStreams!$A:$N,EK32,BF$7)))","v":""},{"$f":"IF($E32=\"\",\"\",IF(INDEX(E_SourceStreams!$A:$N,EL32,BG$7)=\"\",\"\",INDEX(E_SourceStreams!$A:$N,EL32,BG$7)))","v":""},{"$f":"IF($E32=\"\",\"\",IF(INDEX(E_SourceStreams!$A:$N,EM32,BH$7)=\"\",\"\",INDEX(E_SourceStreams!$A:$N,EM32,BH$7)))","v":""},{"$f":"IF($E32=\"\",\"\",IF(INDEX(E_SourceStreams!$A:$N,EN32,BI$7)=\"\",\"\",INDEX(E_SourceStreams!$A:$N,EN32,BI$7)))","v":""},{"$f":"IF($E32=\"\",\"\",IF(INDEX(E_SourceStreams!$A:$N,EO32,BJ$7)=\"\",\"\",INDEX(E_SourceStreams!$A:$N,EO32,BJ$7)))","v":""},{"$f":"IF($E32=\"\",\"\",IF(INDEX(E_SourceStreams!$A:$N,EP32,BK$7)=\"\",\"\",INDEX(E_SourceStreams!$A:$N,EP32,BK$7)))","v":""},{"$f":"IF($E32=\"\",\"\",IF(INDEX(E_SourceStreams!$A:$N,EQ32,BL$7)=\"\",\"\",INDEX(E_SourceStreams!$A:$N,EQ32,BL$7)))","v":""},{"$f":"IF($E32=\"\",\"\",IF(INDEX(E_SourceStreams!$A:$N,ER32,BM$7)=\"\",\"\",INDEX(E_SourceStreams!$A:$N,ER32,BM$7)))","v":""},{"$f":"IF($E32=\"\",\"\",IF(INDEX(E_SourceStreams!$A:$N,ES32,BN$7)=\"\",\"\",INDEX(E_SourceStreams!$A:$N,ES32,BN$7)))","v":""},{"$f":"IF($E32=\"\",\"\",IF(INDEX(E_SourceStreams!$A:$N,ET32,BO$7)=\"\",\"\",INDEX(E_SourceStreams!$A:$N,ET32,BO$7)))","v":""},{"$f":"IF($E32=\"\",\"\",IF(INDEX(E_SourceStreams!$A:$N,EU32,BP$7)=\"\",\"\",INDEX(E_SourceStreams!$A:$N,EU32,BP$7)))","v":""},{"$f":"IF($E32=\"\",\"\",IF(INDEX(E_SourceStreams!$A:$N,EV32,BQ$7)=\"\",\"\",INDEX(E_SourceStreams!$A:$N,EV32,BQ$7)))","v":""},{"$f":"IF($E32=\"\",\"\",IF(INDEX(E_SourceStreams!$A:$N,EW32,BR$7)=\"\",\"\",INDEX(E_SourceStreams!$A:$N,EW32,BR$7)))","v":""},{"$f":"IF($E32=\"\",\"\",IF(INDEX(E_SourceStreams!$A:$N,EX32,BS$7)=\"\",\"\",INDEX(E_SourceStreams!$A:$N,EX32,BS$7)))","v":""},{"$f":"IF($E32=\"\",\"\",IF(INDEX(E_SourceStreams!$A:$N,EY32,BT$7)=\"\",\"\",INDEX(E_SourceStreams!$A:$N,EY32,BT$7)))","v":""},null,null,null,null,null,null,null,null,null,null,null,null,null,null,null,"SourceCategory_",{"$f":"INDEX(C_InstallationDescription!$A$223:$A$328,ROWS($CI$11:CI32))=\"ausblenden\"","v":false},"SourceStreamName_",null,1520,1522,1524,1526,1528,1530,1532,1532,1532,1532,1532,1535,1539,1540,1541,1548,1558,1558,1558,1558,1558,1558,1558,1549,1559,1559,1559,1559,1559,1559,1559,1550,1560,1560,1560,1560,1560,1560,1560,1551,1561,1561,1561,1561,1561,1561,1561,1552,1562,1562,1562,1562,1562,1562,1562,1553,1563,1563,1563,1563,1563,1563,1563,1569]
[null,{"$f":"IF(COUNTIF($CK$10:CK33,TRUE)>0,\"\",INDEX(C_InstallationDescription!$E$223:$E$239,ROWS($A$11:A33)))","v":""},{"$f":"IF($E33=\"\",\"\",INDEX(C_InstallationDescription!G:G,MATCH($B33,C_InstallationDescription!$E:$E,0)))","v":""},{"$f":"IF($E33=\"\",\"\",INDEX(C_InstallationDescription!I:I,MATCH($B33,C_InstallationDescription!$E:$E,0)))","v":""},{"$f":"IF($B33=\"\",\"\",INDEX(C_InstallationDescription!F:F,MATCH($CJ33,C_InstallationDescription!$Q:$Q,0)))","v":""},{"$f":"IF($E33=\"\",\"\",INDEX(C_InstallationDescription!L:L,MATCH($CJ33,C_InstallationDescription!$Q:$Q,0)))","v":""},{"$f":"IF($E33=\"\",\"\",INDEX(C_InstallationDescription!M:M,MATCH($CJ33,C_InstallationDescription!$Q:$Q,0)))","v":""},{"$f":"IF($E33=\"\",\"\",INDEX(C_InstallationDescription!N:N,MATCH($CJ33,C_InstallationDescription!$Q:$Q,0)))","v":""},{"$f":"IF($E33=\"\",\"\",IF(INDEX(E_SourceStreams!$A:$N,CN33,I$7)=\"\",\"\",INDEX(E_SourceStreams!$A:$N,CN33,I$7)))","v":""},{"$f":"IF($E33=\"\",\"\",IF(INDEX(E_SourceStreams!$A:$N,CO33,J$7)=\"\",\"\",INDEX(E_SourceStreams!$A:$N,CO33,J$7)))","v":""},{"$f":"IF($E33=\"\",\"\",IF(INDEX(E_SourceStreams!$A:$N,CP33,K$7)=\"\",\"\",INDEX(E_SourceStreams!$A:$N,CP33,K$7)))","v":""},{"$f":"IF($E33=\"\",\"\",IF(INDEX(E_SourceStreams!$A:$N,CQ33,L$7)=\"\",\"\",INDEX(E_SourceStreams!$A:$N,CQ33,L$7)))","v":""},{"$f":"IF($E33=\"\",\"\",IF(INDEX(E_SourceStreams!$A:$N,CR33,M$7)=\"\",\"\",INDEX(E_SourceStreams!$A:$N,CR33,M$7)))","v":""},{"$f":"IF($E33=\"\",\"\",IF(INDEX(E_SourceStreams!$A:$N,CS33,N$7)=\"\",\"\",INDEX(E_SourceStreams!$A:$N,CS33,N$7)))","v":""},{"$f":"IF($E33=\"\",\"\",IF(INDEX(E_SourceStreams!$A:$N,CT33,O$7)=\"\",\"\",INDEX(E_SourceStreams!$A:$N,CT33,O$7)))","v":""},{"$f":"IF($E33=\"\",\"\",IF(INDEX(E_SourceStreams!$A:$N,CU33,P$7)=\"\",\"\",INDEX(E_SourceStreams!$A:$N,CU33,P$7)))","v":""},{"$f":"IF($E33=\"\",\"\",IF(INDEX(E_SourceStreams!$A:$N,CV33,Q$7)=\"\",\"\",INDEX(E_SourceStreams!$A:$N,CV33,Q$7)))","v":""},{"$f":"IF($E33=\"\",\"\",IF(INDEX(E_SourceStreams!$A:$N,CW33,R$7)=\"\",\"\",INDEX(E_SourceStreams!$A:$N,CW33,R$7)))","v":""},{"$f":"IF($E33=\"\",\"\",IF(INDEX(E_SourceStreams!$A:$N,CX33,S$7)=\"\",\"\",INDEX(E_SourceStreams!$A:$N,CX33,S$7)))","v":""},{"$f":"IF($E33=\"\",\"\",IF(INDEX(E_SourceStreams!$A:$N,CY33,T$7)=\"\",\"\",INDEX(E_SourceStreams!$A:$N,CY33,T$7)))","v":""},{"$f":"IF($E33=\"\",\"\",IF(INDEX(E_SourceStreams!$A:$N,CZ33,U$7)=\"\",\"\",INDEX(E_SourceStreams!$A:$N,CZ33,U$7)))","v":""},{"$f":"IF($E33=\"\",\"\",IF(INDEX(E_SourceStreams!$A:$N,DA33,V$7)=\"\",\"\",INDEX(E_SourceStreams!$A:$N,DA33,V$7)))","v":""},{"$f":"IF($E33=\"\",\"\",IF(INDEX(E_SourceStreams!$A:$N,DB33,W$7)=\"\",\"\",INDEX(E_SourceStreams!$A:$N,DB33,W$7)))","v":""},{"$f":"IF($E33=\"\",\"\",IF(INDEX(E_SourceStreams!$A:$N,DC33,X$7)=\"\",\"\",INDEX(E_SourceStreams!$A:$N,DC33,X$7)))","v":""},{"$f":"IF($E33=\"\",\"\",IF(INDEX(E_SourceStreams!$A:$N,DD33,Y$7)=\"\",\"\",INDEX(E_SourceStreams!$A:$N,DD33,Y$7)))","v":""},{"$f":"IF($E33=\"\",\"\",IF(INDEX(E_SourceStreams!$A:$N,DE33,Z$7)=\"\",\"\",INDEX(E_SourceStreams!$A:$N,DE33,Z$7)))","v":""},{"$f":"IF($E33=\"\",\"\",IF(INDEX(E_SourceStreams!$A:$N,DF33,AA$7)=\"\",\"\",INDEX(E_SourceStreams!$A:$N,DF33,AA$7)))","v":""},{"$f":"IF($E33=\"\",\"\",IF(INDEX(E_SourceStreams!$A:$N,DG33,AB$7)=\"\",\"\",INDEX(E_SourceStreams!$A:$N,DG33,AB$7)))","v":""},{"$f":"IF($E33=\"\",\"\",IF(INDEX(E_SourceStreams!$A:$N,DH33,AC$7)=\"\",\"\",INDEX(E_SourceStreams!$A:$N,DH33,AC$7)))","v":""},{"$f":"IF($E33=\"\",\"\",IF(INDEX(E_SourceStreams!$A:$N,DI33,AD$7)=\"\",\"\",INDEX(E_SourceStreams!$A:$N,DI33,AD$7)))","v":""},{"$f":"IF($E33=\"\",\"\",IF(INDEX(E_SourceStreams!$A:$N,DJ33,AE$7)=\"\",\"\",INDEX(E_SourceStreams!$A:$N,DJ33,AE$7)))","v":""},{"$f":"IF($E33=\"\",\"\",IF(INDEX(E_SourceStreams!$A:$N,DK33,AF$7)=\"\",\"\",INDEX(E_SourceStreams!$A:$N,DK33,AF$7)))","v":""},{"$f":"IF($E33=\"\",\"\",IF(INDEX(E_SourceStreams!$A:$N,DL33,AG$7)=\"\",\"\",INDEX(E_SourceStreams!$A:$N,DL33,AG$7)))","v":""},{"$f":"IF($E33=\"\",\"\",IF(INDEX(E_SourceStreams!$A:$N,DM33,AH$7)=\"\",\"\",INDEX(E_SourceStreams!$A:$N,DM33,AH$7)))","v":""},{"$f":"IF($E33=\"\",\"\",IF(INDEX(E_SourceStreams!$A:$N,DN33,AI$7)=\"\",\"\",INDEX(E_SourceStreams!$A:$N,DN33,AI$7)))","v":""},{"$f":"IF($E33=\"\",\"\",IF(INDEX(E_SourceStreams!$A:$N,DO33,AJ$7)=\"\",\"\",INDEX(E_SourceStreams!$A:$N,DO33,AJ$7)))","v":""},{"$f":"IF($E33=\"\",\"\",IF(INDEX(E_SourceStreams!$A:$N,DP33,AK$7)=\"\",\"\",INDEX(E_SourceStreams!$A:$N,DP33,AK$7)))","v":""},{"$f":"IF($E33=\"\",\"\",IF(INDEX(E_SourceStreams!$A:$N,DQ33,AL$7)=\"\",\"\",INDEX(E_SourceStreams!$A:$N,DQ33,AL$7)))","v":""},{"$f":"IF($E33=\"\",\"\",IF(INDEX(E_SourceStreams!$A:$N,DR33,AM$7)=\"\",\"\",INDEX(E_SourceStreams!$A:$N,DR33,AM$7)))","v":""},{"$f":"IF($E33=\"\",\"\",IF(INDEX(E_SourceStreams!$A:$N,DS33,AN$7)=\"\",\"\",INDEX(E_SourceStreams!$A:$N,DS33,AN$7)))","v":""},{"$f":"IF($E33=\"\",\"\",IF(INDEX(E_SourceStreams!$A:$N,DT33,AO$7)=\"\",\"\",INDEX(E_SourceStreams!$A:$N,DT33,AO$7)))","v":""},{"$f":"IF($E33=\"\",\"\",IF(INDEX(E_SourceStreams!$A:$N,DU33,AP$7)=\"\",\"\",INDEX(E_SourceStreams!$A:$N,DU33,AP$7)))","v":""},{"$f":"IF($E33=\"\",\"\",IF(INDEX(E_SourceStreams!$A:$N,DV33,AQ$7)=\"\",\"\",INDEX(E_SourceStreams!$A:$N,DV33,AQ$7)))","v":""},{"$f":"IF($E33=\"\",\"\",IF(INDEX(E_SourceStreams!$A:$N,DW33,AR$7)=\"\",\"\",INDEX(E_SourceStreams!$A:$N,DW33,AR$7)))","v":""},{"$f":"IF($E33=\"\",\"\",IF(INDEX(E_SourceStreams!$A:$N,DX33,AS$7)=\"\",\"\",INDEX(E_SourceStreams!$A:$N,DX33,AS$7)))","v":""},{"$f":"IF($E33=\"\",\"\",IF(INDEX(E_SourceStreams!$A:$N,DY33,AT$7)=\"\",\"\",INDEX(E_SourceStreams!$A:$N,DY33,AT$7)))","v":""},{"$f":"IF($E33=\"\",\"\",IF(INDEX(E_SourceStreams!$A:$N,DZ33,AU$7)=\"\",\"\",INDEX(E_SourceStreams!$A:$N,DZ33,AU$7)))","v":""},{"$f":"IF($E33=\"\",\"\",IF(INDEX(E_SourceStreams!$A:$N,EA33,AV$7)=\"\",\"\",INDEX(E_SourceStreams!$A:$N,EA33,AV$7)))","v":""},{"$f":"IF($E33=\"\",\"\",IF(INDEX(E_SourceStreams!$A:$N,EB33,AW$7)=\"\",\"\",INDEX(E_SourceStreams!$A:$N,EB33,AW$7)))","v":""},{"$f":"IF($E33=\"\",\"\",IF(INDEX(E_SourceStreams!$A:$N,EC33,AX$7)=\"\",\"\",INDEX(E_SourceStreams!$A:$N,EC33,AX$7)))","v":""},{"$f":"IF($E33=\"\",\"\",IF(INDEX(E_SourceStreams!$A:$N,ED33,AY$7)=\"\",\"\",INDEX(E_SourceStreams!$A:$N,ED33,AY$7)))","v":""},{"$f":"IF($E33=\"\",\"\",IF(INDEX(E_SourceStreams!$A:$N,EE33,AZ$7)=\"\",\"\",INDEX(E_SourceStreams!$A:$N,EE33,AZ$7)))","v":""},{"$f":"IF($E33=\"\",\"\",IF(INDEX(E_SourceStreams!$A:$N,EF33,BA$7)=\"\",\"\",INDEX(E_SourceStreams!$A:$N,EF33,BA$7)))","v":""},{"$f":"IF($E33=\"\",\"\",IF(INDEX(E_SourceStreams!$A:$N,EG33,BB$7)=\"\",\"\",INDEX(E_SourceStreams!$A:$N,EG33,BB$7)))","v":""},{"$f":"IF($E33=\"\",\"\",IF(INDEX(E_SourceStreams!$A:$N,EH33,BC$7)=\"\",\"\",INDEX(E_SourceStreams!$A:$N,EH33,BC$7)))","v":""},{"$f":"IF($E33=\"\",\"\",IF(INDEX(E_SourceStreams!$A:$N,EI33,BD$7)=\"\",\"\",INDEX(E_SourceStreams!$A:$N,EI33,BD$7)))","v":""},{"$f":"IF($E33=\"\",\"\",IF(INDEX(E_SourceStreams!$A:$N,EJ33,BE$7)=\"\",\"\",INDEX(E_SourceStreams!$A:$N,EJ33,BE$7)))","v":""},{"$f":"IF($E33=\"\",\"\",IF(INDEX(E_SourceStreams!$A:$N,EK33,BF$7)=\"\",\"\",INDEX(E_SourceStreams!$A:$N,EK33,BF$7)))","v":""},{"$f":"IF($E33=\"\",\"\",IF(INDEX(E_SourceStreams!$A:$N,EL33,BG$7)=\"\",\"\",INDEX(E_SourceStreams!$A:$N,EL33,BG$7)))","v":""},{"$f":"IF($E33=\"\",\"\",IF(INDEX(E_SourceStreams!$A:$N,EM33,BH$7)=\"\",\"\",INDEX(E_SourceStreams!$A:$N,EM33,BH$7)))","v":""},{"$f":"IF($E33=\"\",\"\",IF(INDEX(E_SourceStreams!$A:$N,EN33,BI$7)=\"\",\"\",INDEX(E_SourceStreams!$A:$N,EN33,BI$7)))","v":""},{"$f":"IF($E33=\"\",\"\",IF(INDEX(E_SourceStreams!$A:$N,EO33,BJ$7)=\"\",\"\",INDEX(E_SourceStreams!$A:$N,EO33,BJ$7)))","v":""},{"$f":"IF($E33=\"\",\"\",IF(INDEX(E_SourceStreams!$A:$N,EP33,BK$7)=\"\",\"\",INDEX(E_SourceStreams!$A:$N,EP33,BK$7)))","v":""},{"$f":"IF($E33=\"\",\"\",IF(INDEX(E_SourceStreams!$A:$N,EQ33,BL$7)=\"\",\"\",INDEX(E_SourceStreams!$A:$N,EQ33,BL$7)))","v":""},{"$f":"IF($E33=\"\",\"\",IF(INDEX(E_SourceStreams!$A:$N,ER33,BM$7)=\"\",\"\",INDEX(E_SourceStreams!$A:$N,ER33,BM$7)))","v":""},{"$f":"IF($E33=\"\",\"\",IF(INDEX(E_SourceStreams!$A:$N,ES33,BN$7)=\"\",\"\",INDEX(E_SourceStreams!$A:$N,ES33,BN$7)))","v":""},{"$f":"IF($E33=\"\",\"\",IF(INDEX(E_SourceStreams!$A:$N,ET33,BO$7)=\"\",\"\",INDEX(E_SourceStreams!$A:$N,ET33,BO$7)))","v":""},{"$f":"IF($E33=\"\",\"\",IF(INDEX(E_SourceStreams!$A:$N,EU33,BP$7)=\"\",\"\",INDEX(E_SourceStreams!$A:$N,EU33,BP$7)))","v":""},{"$f":"IF($E33=\"\",\"\",IF(INDEX(E_SourceStreams!$A:$N,EV33,BQ$7)=\"\",\"\",INDEX(E_SourceStreams!$A:$N,EV33,BQ$7)))","v":""},{"$f":"IF($E33=\"\",\"\",IF(INDEX(E_SourceStreams!$A:$N,EW33,BR$7)=\"\",\"\",INDEX(E_SourceStreams!$A:$N,EW33,BR$7)))","v":""},{"$f":"IF($E33=\"\",\"\",IF(INDEX(E_SourceStreams!$A:$N,EX33,BS$7)=\"\",\"\",INDEX(E_SourceStreams!$A:$N,EX33,BS$7)))","v":""},{"$f":"IF($E33=\"\",\"\",IF(INDEX(E_SourceStreams!$A:$N,EY33,BT$7)=\"\",\"\",INDEX(E_SourceStreams!$A:$N,EY33,BT$7)))","v":""},null,null,null,null,null,null,null,null,null,null,null,null,null,null,null,"SourceCategory_",{"$f":"INDEX(C_InstallationDescription!$A$223:$A$328,ROWS($CI$11:CI33))=\"ausblenden\"","v":false},"SourceStreamName_",null,1586,1588,1590,1592,1594,1596,1598,1598,1598,1598,1598,1601,1605,1606,1607,1614,1624,1624,1624,1624,1624,1624,1624,1615,1625,1625,1625,1625,1625,1625,1625,1616,1626,1626,1626,1626,1626,1626,1626,1617,1627,1627,1627,1627,1627,1627,1627,1618,1628,1628,1628,1628,1628,1628,1628,1619,1629,1629,1629,1629,1629,1629,1629,1635]
[null,{"$f":"IF(COUNTIF($CK$10:CK34,TRUE)>0,\"\",INDEX(C_InstallationDescription!$E$223:$E$239,ROWS($A$11:A34)))","v":""},{"$f":"IF($E34=\"\",\"\",INDEX(C_InstallationDescription!G:G,MATCH($B34,C_InstallationDescription!$E:$E,0)))","v":""},{"$f":"IF($E34=\"\",\"\",INDEX(C_InstallationDescription!I:I,MATCH($B34,C_InstallationDescription!$E:$E,0)))","v":""},{"$f":"IF($B34=\"\",\"\",INDEX(C_InstallationDescription!F:F,MATCH($CJ34,C_InstallationDescription!$Q:$Q,0)))","v":""},{"$f":"IF($E34=\"\",\"\",INDEX(C_InstallationDescription!L:L,MATCH($CJ34,C_InstallationDescription!$Q:$Q,0)))","v":""},{"$f":"IF($E34=\"\",\"\",INDEX(C_InstallationDescription!M:M,MATCH($CJ34,C_InstallationDescription!$Q:$Q,0)))","v":""},{"$f":"IF($E34=\"\",\"\",INDEX(C_InstallationDescription!N:N,MATCH($CJ34,C_InstallationDescription!$Q:$Q,0)))","v":""},{"$f":"IF($E34=\"\",\"\",IF(INDEX(E_SourceStreams!$A:$N,CN34,I$7)=\"\",\"\",INDEX(E_SourceStreams!$A:$N,CN34,I$7)))","v":""},{"$f":"IF($E34=\"\",\"\",IF(INDEX(E_SourceStreams!$A:$N,CO34,J$7)=\"\",\"\",INDEX(E_SourceStreams!$A:$N,CO34,J$7)))","v":""},{"$f":"IF($E34=\"\",\"\",IF(INDEX(E_SourceStreams!$A:$N,CP34,K$7)=\"\",\"\",INDEX(E_SourceStreams!$A:$N,CP34,K$7)))","v":""},{"$f":"IF($E34=\"\",\"\",IF(INDEX(E_SourceStreams!$A:$N,CQ34,L$7)=\"\",\"\",INDEX(E_SourceStreams!$A:$N,CQ34,L$7)))","v":""},{"$f":"IF($E34=\"\",\"\",IF(INDEX(E_SourceStreams!$A:$N,CR34,M$7)=\"\",\"\",INDEX(E_SourceStreams!$A:$N,CR34,M$7)))","v":""},{"$f":"IF($E34=\"\",\"\",IF(INDEX(E_SourceStreams!$A:$N,CS34,N$7)=\"\",\"\",INDEX(E_SourceStreams!$A:$N,CS34,N$7)))","v":""},{"$f":"IF($E34=\"\",\"\",IF(INDEX(E_SourceStreams!$A:$N,CT34,O$7)=\"\",\"\",INDEX(E_SourceStreams!$A:$N,CT34,O$7)))","v":""},{"$f":"IF($E34=\"\",\"\",IF(INDEX(E_SourceStreams!$A:$N,CU34,P$7)=\"\",\"\",INDEX(E_SourceStreams!$A:$N,CU34,P$7)))","v":""},{"$f":"IF($E34=\"\",\"\",IF(INDEX(E_SourceStreams!$A:$N,CV34,Q$7)=\"\",\"\",INDEX(E_SourceStreams!$A:$N,CV34,Q$7)))","v":""},{"$f":"IF($E34=\"\",\"\",IF(INDEX(E_SourceStreams!$A:$N,CW34,R$7)=\"\",\"\",INDEX(E_SourceStreams!$A:$N,CW34,R$7)))","v":""},{"$f":"IF($E34=\"\",\"\",IF(INDEX(E_SourceStreams!$A:$N,CX34,S$7)=\"\",\"\",INDEX(E_SourceStreams!$A:$N,CX34,S$7)))","v":""},{"$f":"IF($E34=\"\",\"\",IF(INDEX(E_SourceStreams!$A:$N,CY34,T$7)=\"\",\"\",INDEX(E_SourceStreams!$A:$N,CY34,T$7)))","v":""},{"$f":"IF($E34=\"\",\"\",IF(INDEX(E_SourceStreams!$A:$N,CZ34,U$7)=\"\",\"\",INDEX(E_SourceStreams!$A:$N,CZ34,U$7)))","v":""},{"$f":"IF($E34=\"\",\"\",IF(INDEX(E_SourceStreams!$A:$N,DA34,V$7)=\"\",\"\",INDEX(E_SourceStreams!$A:$N,DA34,V$7)))","v":""},{"$f":"IF($E34=\"\",\"\",IF(INDEX(E_SourceStreams!$A:$N,DB34,W$7)=\"\",\"\",INDEX(E_SourceStreams!$A:$N,DB34,W$7)))","v":""},{"$f":"IF($E34=\"\",\"\",IF(INDEX(E_SourceStreams!$A:$N,DC34,X$7)=\"\",\"\",INDEX(E_SourceStreams!$A:$N,DC34,X$7)))","v":""},{"$f":"IF($E34=\"\",\"\",IF(INDEX(E_SourceStreams!$A:$N,DD34,Y$7)=\"\",\"\",INDEX(E_SourceStreams!$A:$N,DD34,Y$7)))","v":""},{"$f":"IF($E34=\"\",\"\",IF(INDEX(E_SourceStreams!$A:$N,DE34,Z$7)=\"\",\"\",INDEX(E_SourceStreams!$A:$N,DE34,Z$7)))","v":""},{"$f":"IF($E34=\"\",\"\",IF(INDEX(E_SourceStreams!$A:$N,DF34,AA$7)=\"\",\"\",INDEX(E_SourceStreams!$A:$N,DF34,AA$7)))","v":""},{"$f":"IF($E34=\"\",\"\",IF(INDEX(E_SourceStreams!$A:$N,DG34,AB$7)=\"\",\"\",INDEX(E_SourceStreams!$A:$N,DG34,AB$7)))","v":""},{"$f":"IF($E34=\"\",\"\",IF(INDEX(E_SourceStreams!$A:$N,DH34,AC$7)=\"\",\"\",INDEX(E_SourceStreams!$A:$N,DH34,AC$7)))","v":""},{"$f":"IF($E34=\"\",\"\",IF(INDEX(E_SourceStreams!$A:$N,DI34,AD$7)=\"\",\"\",INDEX(E_SourceStreams!$A:$N,DI34,AD$7)))","v":""},{"$f":"IF($E34=\"\",\"\",IF(INDEX(E_SourceStreams!$A:$N,DJ34,AE$7)=\"\",\"\",INDEX(E_SourceStreams!$A:$N,DJ34,AE$7)))","v":""},{"$f":"IF($E34=\"\",\"\",IF(INDEX(E_SourceStreams!$A:$N,DK34,AF$7)=\"\",\"\",INDEX(E_SourceStreams!$A:$N,DK34,AF$7)))","v":""},{"$f":"IF($E34=\"\",\"\",IF(INDEX(E_SourceStreams!$A:$N,DL34,AG$7)=\"\",\"\",INDEX(E_SourceStreams!$A:$N,DL34,AG$7)))","v":""},{"$f":"IF($E34=\"\",\"\",IF(INDEX(E_SourceStreams!$A:$N,DM34,AH$7)=\"\",\"\",INDEX(E_SourceStreams!$A:$N,DM34,AH$7)))","v":""},{"$f":"IF($E34=\"\",\"\",IF(INDEX(E_SourceStreams!$A:$N,DN34,AI$7)=\"\",\"\",INDEX(E_SourceStreams!$A:$N,DN34,AI$7)))","v":""},{"$f":"IF($E34=\"\",\"\",IF(INDEX(E_SourceStreams!$A:$N,DO34,AJ$7)=\"\",\"\",INDEX(E_SourceStreams!$A:$N,DO34,AJ$7)))","v":""},{"$f":"IF($E34=\"\",\"\",IF(INDEX(E_SourceStreams!$A:$N,DP34,AK$7)=\"\",\"\",INDEX(E_SourceStreams!$A:$N,DP34,AK$7)))","v":""},{"$f":"IF($E34=\"\",\"\",IF(INDEX(E_SourceStreams!$A:$N,DQ34,AL$7)=\"\",\"\",INDEX(E_SourceStreams!$A:$N,DQ34,AL$7)))","v":""},{"$f":"IF($E34=\"\",\"\",IF(INDEX(E_SourceStreams!$A:$N,DR34,AM$7)=\"\",\"\",INDEX(E_SourceStreams!$A:$N,DR34,AM$7)))","v":""},{"$f":"IF($E34=\"\",\"\",IF(INDEX(E_SourceStreams!$A:$N,DS34,AN$7)=\"\",\"\",INDEX(E_SourceStreams!$A:$N,DS34,AN$7)))","v":""},{"$f":"IF($E34=\"\",\"\",IF(INDEX(E_SourceStreams!$A:$N,DT34,AO$7)=\"\",\"\",INDEX(E_SourceStreams!$A:$N,DT34,AO$7)))","v":""},{"$f":"IF($E34=\"\",\"\",IF(INDEX(E_SourceStreams!$A:$N,DU34,AP$7)=\"\",\"\",INDEX(E_SourceStreams!$A:$N,DU34,AP$7)))","v":""},{"$f":"IF($E34=\"\",\"\",IF(INDEX(E_SourceStreams!$A:$N,DV34,AQ$7)=\"\",\"\",INDEX(E_SourceStreams!$A:$N,DV34,AQ$7)))","v":""},{"$f":"IF($E34=\"\",\"\",IF(INDEX(E_SourceStreams!$A:$N,DW34,AR$7)=\"\",\"\",INDEX(E_SourceStreams!$A:$N,DW34,AR$7)))","v":""},{"$f":"IF($E34=\"\",\"\",IF(INDEX(E_SourceStreams!$A:$N,DX34,AS$7)=\"\",\"\",INDEX(E_SourceStreams!$A:$N,DX34,AS$7)))","v":""},{"$f":"IF($E34=\"\",\"\",IF(INDEX(E_SourceStreams!$A:$N,DY34,AT$7)=\"\",\"\",INDEX(E_SourceStreams!$A:$N,DY34,AT$7)))","v":""},{"$f":"IF($E34=\"\",\"\",IF(INDEX(E_SourceStreams!$A:$N,DZ34,AU$7)=\"\",\"\",INDEX(E_SourceStreams!$A:$N,DZ34,AU$7)))","v":""},{"$f":"IF($E34=\"\",\"\",IF(INDEX(E_SourceStreams!$A:$N,EA34,AV$7)=\"\",\"\",INDEX(E_SourceStreams!$A:$N,EA34,AV$7)))","v":""},{"$f":"IF($E34=\"\",\"\",IF(INDEX(E_SourceStreams!$A:$N,EB34,AW$7)=\"\",\"\",INDEX(E_SourceStreams!$A:$N,EB34,AW$7)))","v":""},{"$f":"IF($E34=\"\",\"\",IF(INDEX(E_SourceStreams!$A:$N,EC34,AX$7)=\"\",\"\",INDEX(E_SourceStreams!$A:$N,EC34,AX$7)))","v":""},{"$f":"IF($E34=\"\",\"\",IF(INDEX(E_SourceStreams!$A:$N,ED34,AY$7)=\"\",\"\",INDEX(E_SourceStreams!$A:$N,ED34,AY$7)))","v":""},{"$f":"IF($E34=\"\",\"\",IF(INDEX(E_SourceStreams!$A:$N,EE34,AZ$7)=\"\",\"\",INDEX(E_SourceStreams!$A:$N,EE34,AZ$7)))","v":""},{"$f":"IF($E34=\"\",\"\",IF(INDEX(E_SourceStreams!$A:$N,EF34,BA$7)=\"\",\"\",INDEX(E_SourceStreams!$A:$N,EF34,BA$7)))","v":""},{"$f":"IF($E34=\"\",\"\",IF(INDEX(E_SourceStreams!$A:$N,EG34,BB$7)=\"\",\"\",INDEX(E_SourceStreams!$A:$N,EG34,BB$7)))","v":""},{"$f":"IF($E34=\"\",\"\",IF(INDEX(E_SourceStreams!$A:$N,EH34,BC$7)=\"\",\"\",INDEX(E_SourceStreams!$A:$N,EH34,BC$7)))","v":""},{"$f":"IF($E34=\"\",\"\",IF(INDEX(E_SourceStreams!$A:$N,EI34,BD$7)=\"\",\"\",INDEX(E_SourceStreams!$A:$N,EI34,BD$7)))","v":""},{"$f":"IF($E34=\"\",\"\",IF(INDEX(E_SourceStreams!$A:$N,EJ34,BE$7)=\"\",\"\",INDEX(E_SourceStreams!$A:$N,EJ34,BE$7)))","v":""},{"$f":"IF($E34=\"\",\"\",IF(INDEX(E_SourceStreams!$A:$N,EK34,BF$7)=\"\",\"\",INDEX(E_SourceStreams!$A:$N,EK34,BF$7)))","v":""},{"$f":"IF($E34=\"\",\"\",IF(INDEX(E_SourceStreams!$A:$N,EL34,BG$7)=\"\",\"\",INDEX(E_SourceStreams!$A:$N,EL34,BG$7)))","v":""},{"$f":"IF($E34=\"\",\"\",IF(INDEX(E_SourceStreams!$A:$N,EM34,BH$7)=\"\",\"\",INDEX(E_SourceStreams!$A:$N,EM34,BH$7)))","v":""},{"$f":"IF($E34=\"\",\"\",IF(INDEX(E_SourceStreams!$A:$N,EN34,BI$7)=\"\",\"\",INDEX(E_SourceStreams!$A:$N,EN34,BI$7)))","v":""},{"$f":"IF($E34=\"\",\"\",IF(INDEX(E_SourceStreams!$A:$N,EO34,BJ$7)=\"\",\"\",INDEX(E_SourceStreams!$A:$N,EO34,BJ$7)))","v":""},{"$f":"IF($E34=\"\",\"\",IF(INDEX(E_SourceStreams!$A:$N,EP34,BK$7)=\"\",\"\",INDEX(E_SourceStreams!$A:$N,EP34,BK$7)))","v":""},{"$f":"IF($E34=\"\",\"\",IF(INDEX(E_SourceStreams!$A:$N,EQ34,BL$7)=\"\",\"\",INDEX(E_SourceStreams!$A:$N,EQ34,BL$7)))","v":""},{"$f":"IF($E34=\"\",\"\",IF(INDEX(E_SourceStreams!$A:$N,ER34,BM$7)=\"\",\"\",INDEX(E_SourceStreams!$A:$N,ER34,BM$7)))","v":""},{"$f":"IF($E34=\"\",\"\",IF(INDEX(E_SourceStreams!$A:$N,ES34,BN$7)=\"\",\"\",INDEX(E_SourceStreams!$A:$N,ES34,BN$7)))","v":""},{"$f":"IF($E34=\"\",\"\",IF(INDEX(E_SourceStreams!$A:$N,ET34,BO$7)=\"\",\"\",INDEX(E_SourceStreams!$A:$N,ET34,BO$7)))","v":""},{"$f":"IF($E34=\"\",\"\",IF(INDEX(E_SourceStreams!$A:$N,EU34,BP$7)=\"\",\"\",INDEX(E_SourceStreams!$A:$N,EU34,BP$7)))","v":""},{"$f":"IF($E34=\"\",\"\",IF(INDEX(E_SourceStreams!$A:$N,EV34,BQ$7)=\"\",\"\",INDEX(E_SourceStreams!$A:$N,EV34,BQ$7)))","v":""},{"$f":"IF($E34=\"\",\"\",IF(INDEX(E_SourceStreams!$A:$N,EW34,BR$7)=\"\",\"\",INDEX(E_SourceStreams!$A:$N,EW34,BR$7)))","v":""},{"$f":"IF($E34=\"\",\"\",IF(INDEX(E_SourceStreams!$A:$N,EX34,BS$7)=\"\",\"\",INDEX(E_SourceStreams!$A:$N,EX34,BS$7)))","v":""},{"$f":"IF($E34=\"\",\"\",IF(INDEX(E_SourceStreams!$A:$N,EY34,BT$7)=\"\",\"\",INDEX(E_SourceStreams!$A:$N,EY34,BT$7)))","v":""},null,null,null,null,null,null,null,null,null,null,null,null,null,null,null,"SourceCategory_",{"$f":"INDEX(C_InstallationDescription!$A$223:$A$328,ROWS($CI$11:CI34))=\"ausblenden\"","v":false},"SourceStreamName_",null,1652,1654,1656,1658,1660,1662,1664,1664,1664,1664,1664,1667,1671,1672,1673,1680,1690,1690,1690,1690,1690,1690,1690,1681,1691,1691,1691,1691,1691,1691,1691,1682,1692,1692,1692,1692,1692,1692,1692,1683,1693,1693,1693,1693,1693,1693,1693,1684,1694,1694,1694,1694,1694,1694,1694,1685,1695,1695,1695,1695,1695,1695,1695,1701]
[null,{"$f":"IF(COUNTIF($CK$10:CK35,TRUE)>0,\"\",INDEX(C_InstallationDescription!$E$223:$E$239,ROWS($A$11:A35)))","v":""},{"$f":"IF($E35=\"\",\"\",INDEX(C_InstallationDescription!G:G,MATCH($B35,C_InstallationDescription!$E:$E,0)))","v":""},{"$f":"IF($E35=\"\",\"\",INDEX(C_InstallationDescription!I:I,MATCH($B35,C_InstallationDescription!$E:$E,0)))","v":""},{"$f":"IF($B35=\"\",\"\",INDEX(C_InstallationDescription!F:F,MATCH($CJ35,C_InstallationDescription!$Q:$Q,0)))","v":""},{"$f":"IF($E35=\"\",\"\",INDEX(C_InstallationDescription!L:L,MATCH($CJ35,C_InstallationDescription!$Q:$Q,0)))","v":""},{"$f":"IF($E35=\"\",\"\",INDEX(C_InstallationDescription!M:M,MATCH($CJ35,C_InstallationDescription!$Q:$Q,0)))","v":""},{"$f":"IF($E35=\"\",\"\",INDEX(C_InstallationDescription!N:N,MATCH($CJ35,C_InstallationDescription!$Q:$Q,0)))","v":""},{"$f":"IF($E35=\"\",\"\",IF(INDEX(E_SourceStreams!$A:$N,CN35,I$7)=\"\",\"\",INDEX(E_SourceStreams!$A:$N,CN35,I$7)))","v":""},{"$f":"IF($E35=\"\",\"\",IF(INDEX(E_SourceStreams!$A:$N,CO35,J$7)=\"\",\"\",INDEX(E_SourceStreams!$A:$N,CO35,J$7)))","v":""},{"$f":"IF($E35=\"\",\"\",IF(INDEX(E_SourceStreams!$A:$N,CP35,K$7)=\"\",\"\",INDEX(E_SourceStreams!$A:$N,CP35,K$7)))","v":""},{"$f":"IF($E35=\"\",\"\",IF(INDEX(E_SourceStreams!$A:$N,CQ35,L$7)=\"\",\"\",INDEX(E_SourceStreams!$A:$N,CQ35,L$7)))","v":""},{"$f":"IF($E35=\"\",\"\",IF(INDEX(E_SourceStreams!$A:$N,CR35,M$7)=\"\",\"\",INDEX(E_SourceStreams!$A:$N,CR35,M$7)))","v":""},{"$f":"IF($E35=\"\",\"\",IF(INDEX(E_SourceStreams!$A:$N,CS35,N$7)=\"\",\"\",INDEX(E_SourceStreams!$A:$N,CS35,N$7)))","v":""},{"$f":"IF($E35=\"\",\"\",IF(INDEX(E_SourceStreams!$A:$N,CT35,O$7)=\"\",\"\",INDEX(E_SourceStreams!$A:$N,CT35,O$7)))","v":""},{"$f":"IF($E35=\"\",\"\",IF(INDEX(E_SourceStreams!$A:$N,CU35,P$7)=\"\",\"\",INDEX(E_SourceStreams!$A:$N,CU35,P$7)))","v":""},{"$f":"IF($E35=\"\",\"\",IF(INDEX(E_SourceStreams!$A:$N,CV35,Q$7)=\"\",\"\",INDEX(E_SourceStreams!$A:$N,CV35,Q$7)))","v":""},{"$f":"IF($E35=\"\",\"\",IF(INDEX(E_SourceStreams!$A:$N,CW35,R$7)=\"\",\"\",INDEX(E_SourceStreams!$A:$N,CW35,R$7)))","v":""},{"$f":"IF($E35=\"\",\"\",IF(INDEX(E_SourceStreams!$A:$N,CX35,S$7)=\"\",\"\",INDEX(E_SourceStreams!$A:$N,CX35,S$7)))","v":""},{"$f":"IF($E35=\"\",\"\",IF(INDEX(E_SourceStreams!$A:$N,CY35,T$7)=\"\",\"\",INDEX(E_SourceStreams!$A:$N,CY35,T$7)))","v":""},{"$f":"IF($E35=\"\",\"\",IF(INDEX(E_SourceStreams!$A:$N,CZ35,U$7)=\"\",\"\",INDEX(E_SourceStreams!$A:$N,CZ35,U$7)))","v":""},{"$f":"IF($E35=\"\",\"\",IF(INDEX(E_SourceStreams!$A:$N,DA35,V$7)=\"\",\"\",INDEX(E_SourceStreams!$A:$N,DA35,V$7)))","v":""},{"$f":"IF($E35=\"\",\"\",IF(INDEX(E_SourceStreams!$A:$N,DB35,W$7)=\"\",\"\",INDEX(E_SourceStreams!$A:$N,DB35,W$7)))","v":""},{"$f":"IF($E35=\"\",\"\",IF(INDEX(E_SourceStreams!$A:$N,DC35,X$7)=\"\",\"\",INDEX(E_SourceStreams!$A:$N,DC35,X$7)))","v":""},{"$f":"IF($E35=\"\",\"\",IF(INDEX(E_SourceStreams!$A:$N,DD35,Y$7)=\"\",\"\",INDEX(E_SourceStreams!$A:$N,DD35,Y$7)))","v":""},{"$f":"IF($E35=\"\",\"\",IF(INDEX(E_SourceStreams!$A:$N,DE35,Z$7)=\"\",\"\",INDEX(E_SourceStreams!$A:$N,DE35,Z$7)))","v":""},{"$f":"IF($E35=\"\",\"\",IF(INDEX(E_SourceStreams!$A:$N,DF35,AA$7)=\"\",\"\",INDEX(E_SourceStreams!$A:$N,DF35,AA$7)))","v":""},{"$f":"IF($E35=\"\",\"\",IF(INDEX(E_SourceStreams!$A:$N,DG35,AB$7)=\"\",\"\",INDEX(E_SourceStreams!$A:$N,DG35,AB$7)))","v":""},{"$f":"IF($E35=\"\",\"\",IF(INDEX(E_SourceStreams!$A:$N,DH35,AC$7)=\"\",\"\",INDEX(E_SourceStreams!$A:$N,DH35,AC$7)))","v":""},{"$f":"IF($E35=\"\",\"\",IF(INDEX(E_SourceStreams!$A:$N,DI35,AD$7)=\"\",\"\",INDEX(E_SourceStreams!$A:$N,DI35,AD$7)))","v":""},{"$f":"IF($E35=\"\",\"\",IF(INDEX(E_SourceStreams!$A:$N,DJ35,AE$7)=\"\",\"\",INDEX(E_SourceStreams!$A:$N,DJ35,AE$7)))","v":""},{"$f":"IF($E35=\"\",\"\",IF(INDEX(E_SourceStreams!$A:$N,DK35,AF$7)=\"\",\"\",INDEX(E_SourceStreams!$A:$N,DK35,AF$7)))","v":""},{"$f":"IF($E35=\"\",\"\",IF(INDEX(E_SourceStreams!$A:$N,DL35,AG$7)=\"\",\"\",INDEX(E_SourceStreams!$A:$N,DL35,AG$7)))","v":""},{"$f":"IF($E35=\"\",\"\",IF(INDEX(E_SourceStreams!$A:$N,DM35,AH$7)=\"\",\"\",INDEX(E_SourceStreams!$A:$N,DM35,AH$7)))","v":""},{"$f":"IF($E35=\"\",\"\",IF(INDEX(E_SourceStreams!$A:$N,DN35,AI$7)=\"\",\"\",INDEX(E_SourceStreams!$A:$N,DN35,AI$7)))","v":""},{"$f":"IF($E35=\"\",\"\",IF(INDEX(E_SourceStreams!$A:$N,DO35,AJ$7)=\"\",\"\",INDEX(E_SourceStreams!$A:$N,DO35,AJ$7)))","v":""},{"$f":"IF($E35=\"\",\"\",IF(INDEX(E_SourceStreams!$A:$N,DP35,AK$7)=\"\",\"\",INDEX(E_SourceStreams!$A:$N,DP35,AK$7)))","v":""},{"$f":"IF($E35=\"\",\"\",IF(INDEX(E_SourceStreams!$A:$N,DQ35,AL$7)=\"\",\"\",INDEX(E_SourceStreams!$A:$N,DQ35,AL$7)))","v":""},{"$f":"IF($E35=\"\",\"\",IF(INDEX(E_SourceStreams!$A:$N,DR35,AM$7)=\"\",\"\",INDEX(E_SourceStreams!$A:$N,DR35,AM$7)))","v":""},{"$f":"IF($E35=\"\",\"\",IF(INDEX(E_SourceStreams!$A:$N,DS35,AN$7)=\"\",\"\",INDEX(E_SourceStreams!$A:$N,DS35,AN$7)))","v":""},{"$f":"IF($E35=\"\",\"\",IF(INDEX(E_SourceStreams!$A:$N,DT35,AO$7)=\"\",\"\",INDEX(E_SourceStreams!$A:$N,DT35,AO$7)))","v":""},{"$f":"IF($E35=\"\",\"\",IF(INDEX(E_SourceStreams!$A:$N,DU35,AP$7)=\"\",\"\",INDEX(E_SourceStreams!$A:$N,DU35,AP$7)))","v":""},{"$f":"IF($E35=\"\",\"\",IF(INDEX(E_SourceStreams!$A:$N,DV35,AQ$7)=\"\",\"\",INDEX(E_SourceStreams!$A:$N,DV35,AQ$7)))","v":""},{"$f":"IF($E35=\"\",\"\",IF(INDEX(E_SourceStreams!$A:$N,DW35,AR$7)=\"\",\"\",INDEX(E_SourceStreams!$A:$N,DW35,AR$7)))","v":""},{"$f":"IF($E35=\"\",\"\",IF(INDEX(E_SourceStreams!$A:$N,DX35,AS$7)=\"\",\"\",INDEX(E_SourceStreams!$A:$N,DX35,AS$7)))","v":""},{"$f":"IF($E35=\"\",\"\",IF(INDEX(E_SourceStreams!$A:$N,DY35,AT$7)=\"\",\"\",INDEX(E_SourceStreams!$A:$N,DY35,AT$7)))","v":""},{"$f":"IF($E35=\"\",\"\",IF(INDEX(E_SourceStreams!$A:$N,DZ35,AU$7)=\"\",\"\",INDEX(E_SourceStreams!$A:$N,DZ35,AU$7)))","v":""},{"$f":"IF($E35=\"\",\"\",IF(INDEX(E_SourceStreams!$A:$N,EA35,AV$7)=\"\",\"\",INDEX(E_SourceStreams!$A:$N,EA35,AV$7)))","v":""},{"$f":"IF($E35=\"\",\"\",IF(INDEX(E_SourceStreams!$A:$N,EB35,AW$7)=\"\",\"\",INDEX(E_SourceStreams!$A:$N,EB35,AW$7)))","v":""},{"$f":"IF($E35=\"\",\"\",IF(INDEX(E_SourceStreams!$A:$N,EC35,AX$7)=\"\",\"\",INDEX(E_SourceStreams!$A:$N,EC35,AX$7)))","v":""},{"$f":"IF($E35=\"\",\"\",IF(INDEX(E_SourceStreams!$A:$N,ED35,AY$7)=\"\",\"\",INDEX(E_SourceStreams!$A:$N,ED35,AY$7)))","v":""},{"$f":"IF($E35=\"\",\"\",IF(INDEX(E_SourceStreams!$A:$N,EE35,AZ$7)=\"\",\"\",INDEX(E_SourceStreams!$A:$N,EE35,AZ$7)))","v":""},{"$f":"IF($E35=\"\",\"\",IF(INDEX(E_SourceStreams!$A:$N,EF35,BA$7)=\"\",\"\",INDEX(E_SourceStreams!$A:$N,EF35,BA$7)))","v":""},{"$f":"IF($E35=\"\",\"\",IF(INDEX(E_SourceStreams!$A:$N,EG35,BB$7)=\"\",\"\",INDEX(E_SourceStreams!$A:$N,EG35,BB$7)))","v":""},{"$f":"IF($E35=\"\",\"\",IF(INDEX(E_SourceStreams!$A:$N,EH35,BC$7)=\"\",\"\",INDEX(E_SourceStreams!$A:$N,EH35,BC$7)))","v":""},{"$f":"IF($E35=\"\",\"\",IF(INDEX(E_SourceStreams!$A:$N,EI35,BD$7)=\"\",\"\",INDEX(E_SourceStreams!$A:$N,EI35,BD$7)))","v":""},{"$f":"IF($E35=\"\",\"\",IF(INDEX(E_SourceStreams!$A:$N,EJ35,BE$7)=\"\",\"\",INDEX(E_SourceStreams!$A:$N,EJ35,BE$7)))","v":""},{"$f":"IF($E35=\"\",\"\",IF(INDEX(E_SourceStreams!$A:$N,EK35,BF$7)=\"\",\"\",INDEX(E_SourceStreams!$A:$N,EK35,BF$7)))","v":""},{"$f":"IF($E35=\"\",\"\",IF(INDEX(E_SourceStreams!$A:$N,EL35,BG$7)=\"\",\"\",INDEX(E_SourceStreams!$A:$N,EL35,BG$7)))","v":""},{"$f":"IF($E35=\"\",\"\",IF(INDEX(E_SourceStreams!$A:$N,EM35,BH$7)=\"\",\"\",INDEX(E_SourceStreams!$A:$N,EM35,BH$7)))","v":""},{"$f":"IF($E35=\"\",\"\",IF(INDEX(E_SourceStreams!$A:$N,EN35,BI$7)=\"\",\"\",INDEX(E_SourceStreams!$A:$N,EN35,BI$7)))","v":""},{"$f":"IF($E35=\"\",\"\",IF(INDEX(E_SourceStreams!$A:$N,EO35,BJ$7)=\"\",\"\",INDEX(E_SourceStreams!$A:$N,EO35,BJ$7)))","v":""},{"$f":"IF($E35=\"\",\"\",IF(INDEX(E_SourceStreams!$A:$N,EP35,BK$7)=\"\",\"\",INDEX(E_SourceStreams!$A:$N,EP35,BK$7)))","v":""},{"$f":"IF($E35=\"\",\"\",IF(INDEX(E_SourceStreams!$A:$N,EQ35,BL$7)=\"\",\"\",INDEX(E_SourceStreams!$A:$N,EQ35,BL$7)))","v":""},{"$f":"IF($E35=\"\",\"\",IF(INDEX(E_SourceStreams!$A:$N,ER35,BM$7)=\"\",\"\",INDEX(E_SourceStreams!$A:$N,ER35,BM$7)))","v":""},{"$f":"IF($E35=\"\",\"\",IF(INDEX(E_SourceStreams!$A:$N,ES35,BN$7)=\"\",\"\",INDEX(E_SourceStreams!$A:$N,ES35,BN$7)))","v":""},{"$f":"IF($E35=\"\",\"\",IF(INDEX(E_SourceStreams!$A:$N,ET35,BO$7)=\"\",\"\",INDEX(E_SourceStreams!$A:$N,ET35,BO$7)))","v":""},{"$f":"IF($E35=\"\",\"\",IF(INDEX(E_SourceStreams!$A:$N,EU35,BP$7)=\"\",\"\",INDEX(E_SourceStreams!$A:$N,EU35,BP$7)))","v":""},{"$f":"IF($E35=\"\",\"\",IF(INDEX(E_SourceStreams!$A:$N,EV35,BQ$7)=\"\",\"\",INDEX(E_SourceStreams!$A:$N,EV35,BQ$7)))","v":""},{"$f":"IF($E35=\"\",\"\",IF(INDEX(E_SourceStreams!$A:$N,EW35,BR$7)=\"\",\"\",INDEX(E_SourceStreams!$A:$N,EW35,BR$7)))","v":""},{"$f":"IF($E35=\"\",\"\",IF(INDEX(E_SourceStreams!$A:$N,EX35,BS$7)=\"\",\"\",INDEX(E_SourceStreams!$A:$N,EX35,BS$7)))","v":""},{"$f":"IF($E35=\"\",\"\",IF(INDEX(E_SourceStreams!$A:$N,EY35,BT$7)=\"\",\"\",INDEX(E_SourceStreams!$A:$N,EY35,BT$7)))","v":""},null,null,null,null,null,null,null,null,null,null,null,null,null,null,null,"SourceCategory_",{"$f":"INDEX(C_InstallationDescription!$A$223:$A$328,ROWS($CI$11:CI35))=\"ausblenden\"","v":false},"SourceStreamName_",null,1718,1720,1722,1724,1726,1728,1730,1730,1730,1730,1730,1733,1737,1738,1739,1746,1756,1756,1756,1756,1756,1756,1756,1747,1757,1757,1757,1757,1757,1757,1757,1748,1758,1758,1758,1758,1758,1758,1758,1749,1759,1759,1759,1759,1759,1759,1759,1750,1760,1760,1760,1760,1760,1760,1760,1751,1761,1761,1761,1761,1761,1761,1761,1767]
[null,{"$f":"IF(COUNTIF($CK$10:CK36,TRUE)>0,\"\",INDEX(C_InstallationDescription!$E$223:$E$239,ROWS($A$11:A36)))","v":""},{"$f":"IF($E36=\"\",\"\",INDEX(C_InstallationDescription!G:G,MATCH($B36,C_InstallationDescription!$E:$E,0)))","v":""},{"$f":"IF($E36=\"\",\"\",INDEX(C_InstallationDescription!I:I,MATCH($B36,C_InstallationDescription!$E:$E,0)))","v":""},{"$f":"IF($B36=\"\",\"\",INDEX(C_InstallationDescription!F:F,MATCH($CJ36,C_InstallationDescription!$Q:$Q,0)))","v":""},{"$f":"IF($E36=\"\",\"\",INDEX(C_InstallationDescription!L:L,MATCH($CJ36,C_InstallationDescription!$Q:$Q,0)))","v":""},{"$f":"IF($E36=\"\",\"\",INDEX(C_InstallationDescription!M:M,MATCH($CJ36,C_InstallationDescription!$Q:$Q,0)))","v":""},{"$f":"IF($E36=\"\",\"\",INDEX(C_InstallationDescription!N:N,MATCH($CJ36,C_InstallationDescription!$Q:$Q,0)))","v":""},{"$f":"IF($E36=\"\",\"\",IF(INDEX(E_SourceStreams!$A:$N,CN36,I$7)=\"\",\"\",INDEX(E_SourceStreams!$A:$N,CN36,I$7)))","v":""},{"$f":"IF($E36=\"\",\"\",IF(INDEX(E_SourceStreams!$A:$N,CO36,J$7)=\"\",\"\",INDEX(E_SourceStreams!$A:$N,CO36,J$7)))","v":""},{"$f":"IF($E36=\"\",\"\",IF(INDEX(E_SourceStreams!$A:$N,CP36,K$7)=\"\",\"\",INDEX(E_SourceStreams!$A:$N,CP36,K$7)))","v":""},{"$f":"IF($E36=\"\",\"\",IF(INDEX(E_SourceStreams!$A:$N,CQ36,L$7)=\"\",\"\",INDEX(E_SourceStreams!$A:$N,CQ36,L$7)))","v":""},{"$f":"IF($E36=\"\",\"\",IF(INDEX(E_SourceStreams!$A:$N,CR36,M$7)=\"\",\"\",INDEX(E_SourceStreams!$A:$N,CR36,M$7)))","v":""},{"$f":"IF($E36=\"\",\"\",IF(INDEX(E_SourceStreams!$A:$N,CS36,N$7)=\"\",\"\",INDEX(E_SourceStreams!$A:$N,CS36,N$7)))","v":""},{"$f":"IF($E36=\"\",\"\",IF(INDEX(E_SourceStreams!$A:$N,CT36,O$7)=\"\",\"\",INDEX(E_SourceStreams!$A:$N,CT36,O$7)))","v":""},{"$f":"IF($E36=\"\",\"\",IF(INDEX(E_SourceStreams!$A:$N,CU36,P$7)=\"\",\"\",INDEX(E_SourceStreams!$A:$N,CU36,P$7)))","v":""},{"$f":"IF($E36=\"\",\"\",IF(INDEX(E_SourceStreams!$A:$N,CV36,Q$7)=\"\",\"\",INDEX(E_SourceStreams!$A:$N,CV36,Q$7)))","v":""},{"$f":"IF($E36=\"\",\"\",IF(INDEX(E_SourceStreams!$A:$N,CW36,R$7)=\"\",\"\",INDEX(E_SourceStreams!$A:$N,CW36,R$7)))","v":""},{"$f":"IF($E36=\"\",\"\",IF(INDEX(E_SourceStreams!$A:$N,CX36,S$7)=\"\",\"\",INDEX(E_SourceStreams!$A:$N,CX36,S$7)))","v":""},{"$f":"IF($E36=\"\",\"\",IF(INDEX(E_SourceStreams!$A:$N,CY36,T$7)=\"\",\"\",INDEX(E_SourceStreams!$A:$N,CY36,T$7)))","v":""},{"$f":"IF($E36=\"\",\"\",IF(INDEX(E_SourceStreams!$A:$N,CZ36,U$7)=\"\",\"\",INDEX(E_SourceStreams!$A:$N,CZ36,U$7)))","v":""},{"$f":"IF($E36=\"\",\"\",IF(INDEX(E_SourceStreams!$A:$N,DA36,V$7)=\"\",\"\",INDEX(E_SourceStreams!$A:$N,DA36,V$7)))","v":""},{"$f":"IF($E36=\"\",\"\",IF(INDEX(E_SourceStreams!$A:$N,DB36,W$7)=\"\",\"\",INDEX(E_SourceStreams!$A:$N,DB36,W$7)))","v":""},{"$f":"IF($E36=\"\",\"\",IF(INDEX(E_SourceStreams!$A:$N,DC36,X$7)=\"\",\"\",INDEX(E_SourceStreams!$A:$N,DC36,X$7)))","v":""},{"$f":"IF($E36=\"\",\"\",IF(INDEX(E_SourceStreams!$A:$N,DD36,Y$7)=\"\",\"\",INDEX(E_SourceStreams!$A:$N,DD36,Y$7)))","v":""},{"$f":"IF($E36=\"\",\"\",IF(INDEX(E_SourceStreams!$A:$N,DE36,Z$7)=\"\",\"\",INDEX(E_SourceStreams!$A:$N,DE36,Z$7)))","v":""},{"$f":"IF($E36=\"\",\"\",IF(INDEX(E_SourceStreams!$A:$N,DF36,AA$7)=\"\",\"\",INDEX(E_SourceStreams!$A:$N,DF36,AA$7)))","v":""},{"$f":"IF($E36=\"\",\"\",IF(INDEX(E_SourceStreams!$A:$N,DG36,AB$7)=\"\",\"\",INDEX(E_SourceStreams!$A:$N,DG36,AB$7)))","v":""},{"$f":"IF($E36=\"\",\"\",IF(INDEX(E_SourceStreams!$A:$N,DH36,AC$7)=\"\",\"\",INDEX(E_SourceStreams!$A:$N,DH36,AC$7)))","v":""},{"$f":"IF($E36=\"\",\"\",IF(INDEX(E_SourceStreams!$A:$N,DI36,AD$7)=\"\",\"\",INDEX(E_SourceStreams!$A:$N,DI36,AD$7)))","v":""},{"$f":"IF($E36=\"\",\"\",IF(INDEX(E_SourceStreams!$A:$N,DJ36,AE$7)=\"\",\"\",INDEX(E_SourceStreams!$A:$N,DJ36,AE$7)))","v":""},{"$f":"IF($E36=\"\",\"\",IF(INDEX(E_SourceStreams!$A:$N,DK36,AF$7)=\"\",\"\",INDEX(E_SourceStreams!$A:$N,DK36,AF$7)))","v":""},{"$f":"IF($E36=\"\",\"\",IF(INDEX(E_SourceStreams!$A:$N,DL36,AG$7)=\"\",\"\",INDEX(E_SourceStreams!$A:$N,DL36,AG$7)))","v":""},{"$f":"IF($E36=\"\",\"\",IF(INDEX(E_SourceStreams!$A:$N,DM36,AH$7)=\"\",\"\",INDEX(E_SourceStreams!$A:$N,DM36,AH$7)))","v":""},{"$f":"IF($E36=\"\",\"\",IF(INDEX(E_SourceStreams!$A:$N,DN36,AI$7)=\"\",\"\",INDEX(E_SourceStreams!$A:$N,DN36,AI$7)))","v":""},{"$f":"IF($E36=\"\",\"\",IF(INDEX(E_SourceStreams!$A:$N,DO36,AJ$7)=\"\",\"\",INDEX(E_SourceStreams!$A:$N,DO36,AJ$7)))","v":""},{"$f":"IF($E36=\"\",\"\",IF(INDEX(E_SourceStreams!$A:$N,DP36,AK$7)=\"\",\"\",INDEX(E_SourceStreams!$A:$N,DP36,AK$7)))","v":""},{"$f":"IF($E36=\"\",\"\",IF(INDEX(E_SourceStreams!$A:$N,DQ36,AL$7)=\"\",\"\",INDEX(E_SourceStreams!$A:$N,DQ36,AL$7)))","v":""},{"$f":"IF($E36=\"\",\"\",IF(INDEX(E_SourceStreams!$A:$N,DR36,AM$7)=\"\",\"\",INDEX(E_SourceStreams!$A:$N,DR36,AM$7)))","v":""},{"$f":"IF($E36=\"\",\"\",IF(INDEX(E_SourceStreams!$A:$N,DS36,AN$7)=\"\",\"\",INDEX(E_SourceStreams!$A:$N,DS36,AN$7)))","v":""},{"$f":"IF($E36=\"\",\"\",IF(INDEX(E_SourceStreams!$A:$N,DT36,AO$7)=\"\",\"\",INDEX(E_SourceStreams!$A:$N,DT36,AO$7)))","v":""},{"$f":"IF($E36=\"\",\"\",IF(INDEX(E_SourceStreams!$A:$N,DU36,AP$7)=\"\",\"\",INDEX(E_SourceStreams!$A:$N,DU36,AP$7)))","v":""},{"$f":"IF($E36=\"\",\"\",IF(INDEX(E_SourceStreams!$A:$N,DV36,AQ$7)=\"\",\"\",INDEX(E_SourceStreams!$A:$N,DV36,AQ$7)))","v":""},{"$f":"IF($E36=\"\",\"\",IF(INDEX(E_SourceStreams!$A:$N,DW36,AR$7)=\"\",\"\",INDEX(E_SourceStreams!$A:$N,DW36,AR$7)))","v":""},{"$f":"IF($E36=\"\",\"\",IF(INDEX(E_SourceStreams!$A:$N,DX36,AS$7)=\"\",\"\",INDEX(E_SourceStreams!$A:$N,DX36,AS$7)))","v":""},{"$f":"IF($E36=\"\",\"\",IF(INDEX(E_SourceStreams!$A:$N,DY36,AT$7)=\"\",\"\",INDEX(E_SourceStreams!$A:$N,DY36,AT$7)))","v":""},{"$f":"IF($E36=\"\",\"\",IF(INDEX(E_SourceStreams!$A:$N,DZ36,AU$7)=\"\",\"\",INDEX(E_SourceStreams!$A:$N,DZ36,AU$7)))","v":""},{"$f":"IF($E36=\"\",\"\",IF(INDEX(E_SourceStreams!$A:$N,EA36,AV$7)=\"\",\"\",INDEX(E_SourceStreams!$A:$N,EA36,AV$7)))","v":""},{"$f":"IF($E36=\"\",\"\",IF(INDEX(E_SourceStreams!$A:$N,EB36,AW$7)=\"\",\"\",INDEX(E_SourceStreams!$A:$N,EB36,AW$7)))","v":""},{"$f":"IF($E36=\"\",\"\",IF(INDEX(E_SourceStreams!$A:$N,EC36,AX$7)=\"\",\"\",INDEX(E_SourceStreams!$A:$N,EC36,AX$7)))","v":""},{"$f":"IF($E36=\"\",\"\",IF(INDEX(E_SourceStreams!$A:$N,ED36,AY$7)=\"\",\"\",INDEX(E_SourceStreams!$A:$N,ED36,AY$7)))","v":""},{"$f":"IF($E36=\"\",\"\",IF(INDEX(E_SourceStreams!$A:$N,EE36,AZ$7)=\"\",\"\",INDEX(E_SourceStreams!$A:$N,EE36,AZ$7)))","v":""},{"$f":"IF($E36=\"\",\"\",IF(INDEX(E_SourceStreams!$A:$N,EF36,BA$7)=\"\",\"\",INDEX(E_SourceStreams!$A:$N,EF36,BA$7)))","v":""},{"$f":"IF($E36=\"\",\"\",IF(INDEX(E_SourceStreams!$A:$N,EG36,BB$7)=\"\",\"\",INDEX(E_SourceStreams!$A:$N,EG36,BB$7)))","v":""},{"$f":"IF($E36=\"\",\"\",IF(INDEX(E_SourceStreams!$A:$N,EH36,BC$7)=\"\",\"\",INDEX(E_SourceStreams!$A:$N,EH36,BC$7)))","v":""},{"$f":"IF($E36=\"\",\"\",IF(INDEX(E_SourceStreams!$A:$N,EI36,BD$7)=\"\",\"\",INDEX(E_SourceStreams!$A:$N,EI36,BD$7)))","v":""},{"$f":"IF($E36=\"\",\"\",IF(INDEX(E_SourceStreams!$A:$N,EJ36,BE$7)=\"\",\"\",INDEX(E_SourceStreams!$A:$N,EJ36,BE$7)))","v":""},{"$f":"IF($E36=\"\",\"\",IF(INDEX(E_SourceStreams!$A:$N,EK36,BF$7)=\"\",\"\",INDEX(E_SourceStreams!$A:$N,EK36,BF$7)))","v":""},{"$f":"IF($E36=\"\",\"\",IF(INDEX(E_SourceStreams!$A:$N,EL36,BG$7)=\"\",\"\",INDEX(E_SourceStreams!$A:$N,EL36,BG$7)))","v":""},{"$f":"IF($E36=\"\",\"\",IF(INDEX(E_SourceStreams!$A:$N,EM36,BH$7)=\"\",\"\",INDEX(E_SourceStreams!$A:$N,EM36,BH$7)))","v":""},{"$f":"IF($E36=\"\",\"\",IF(INDEX(E_SourceStreams!$A:$N,EN36,BI$7)=\"\",\"\",INDEX(E_SourceStreams!$A:$N,EN36,BI$7)))","v":""},{"$f":"IF($E36=\"\",\"\",IF(INDEX(E_SourceStreams!$A:$N,EO36,BJ$7)=\"\",\"\",INDEX(E_SourceStreams!$A:$N,EO36,BJ$7)))","v":""},{"$f":"IF($E36=\"\",\"\",IF(INDEX(E_SourceStreams!$A:$N,EP36,BK$7)=\"\",\"\",INDEX(E_SourceStreams!$A:$N,EP36,BK$7)))","v":""},{"$f":"IF($E36=\"\",\"\",IF(INDEX(E_SourceStreams!$A:$N,EQ36,BL$7)=\"\",\"\",INDEX(E_SourceStreams!$A:$N,EQ36,BL$7)))","v":""},{"$f":"IF($E36=\"\",\"\",IF(INDEX(E_SourceStreams!$A:$N,ER36,BM$7)=\"\",\"\",INDEX(E_SourceStreams!$A:$N,ER36,BM$7)))","v":""},{"$f":"IF($E36=\"\",\"\",IF(INDEX(E_SourceStreams!$A:$N,ES36,BN$7)=\"\",\"\",INDEX(E_SourceStreams!$A:$N,ES36,BN$7)))","v":""},{"$f":"IF($E36=\"\",\"\",IF(INDEX(E_SourceStreams!$A:$N,ET36,BO$7)=\"\",\"\",INDEX(E_SourceStreams!$A:$N,ET36,BO$7)))","v":""},{"$f":"IF($E36=\"\",\"\",IF(INDEX(E_SourceStreams!$A:$N,EU36,BP$7)=\"\",\"\",INDEX(E_SourceStreams!$A:$N,EU36,BP$7)))","v":""},{"$f":"IF($E36=\"\",\"\",IF(INDEX(E_SourceStreams!$A:$N,EV36,BQ$7)=\"\",\"\",INDEX(E_SourceStreams!$A:$N,EV36,BQ$7)))","v":""},{"$f":"IF($E36=\"\",\"\",IF(INDEX(E_SourceStreams!$A:$N,EW36,BR$7)=\"\",\"\",INDEX(E_SourceStreams!$A:$N,EW36,BR$7)))","v":""},{"$f":"IF($E36=\"\",\"\",IF(INDEX(E_SourceStreams!$A:$N,EX36,BS$7)=\"\",\"\",INDEX(E_SourceStreams!$A:$N,EX36,BS$7)))","v":""},{"$f":"IF($E36=\"\",\"\",IF(INDEX(E_SourceStreams!$A:$N,EY36,BT$7)=\"\",\"\",INDEX(E_SourceStreams!$A:$N,EY36,BT$7)))","v":""},null,null,null,null,null,null,null,null,null,null,null,null,null,null,null,"SourceCategory_",{"$f":"INDEX(C_InstallationDescription!$A$223:$A$328,ROWS($CI$11:CI36))=\"ausblenden\"","v":false},"SourceStreamName_",null,1784,1786,1788,1790,1792,1794,1796,1796,1796,1796,1796,1799,1803,1804,1805,1812,1822,1822,1822,1822,1822,1822,1822,1813,1823,1823,1823,1823,1823,1823,1823,1814,1824,1824,1824,1824,1824,1824,1824,1815,1825,1825,1825,1825,1825,1825,1825,1816,1826,1826,1826,1826,1826,1826,1826,1817,1827,1827,1827,1827,1827,1827,1827,1833]
[null,{"$f":"IF(COUNTIF($CK$10:CK37,TRUE)>0,\"\",INDEX(C_InstallationDescription!$E$223:$E$239,ROWS($A$11:A37)))","v":""},{"$f":"IF($E37=\"\",\"\",INDEX(C_InstallationDescription!G:G,MATCH($B37,C_InstallationDescription!$E:$E,0)))","v":""},{"$f":"IF($E37=\"\",\"\",INDEX(C_InstallationDescription!I:I,MATCH($B37,C_InstallationDescription!$E:$E,0)))","v":""},{"$f":"IF($B37=\"\",\"\",INDEX(C_InstallationDescription!F:F,MATCH($CJ37,C_InstallationDescription!$Q:$Q,0)))","v":""},{"$f":"IF($E37=\"\",\"\",INDEX(C_InstallationDescription!L:L,MATCH($CJ37,C_InstallationDescription!$Q:$Q,0)))","v":""},{"$f":"IF($E37=\"\",\"\",INDEX(C_InstallationDescription!M:M,MATCH($CJ37,C_InstallationDescription!$Q:$Q,0)))","v":""},{"$f":"IF($E37=\"\",\"\",INDEX(C_InstallationDescription!N:N,MATCH($CJ37,C_InstallationDescription!$Q:$Q,0)))","v":""},{"$f":"IF($E37=\"\",\"\",IF(INDEX(E_SourceStreams!$A:$N,CN37,I$7)=\"\",\"\",INDEX(E_SourceStreams!$A:$N,CN37,I$7)))","v":""},{"$f":"IF($E37=\"\",\"\",IF(INDEX(E_SourceStreams!$A:$N,CO37,J$7)=\"\",\"\",INDEX(E_SourceStreams!$A:$N,CO37,J$7)))","v":""},{"$f":"IF($E37=\"\",\"\",IF(INDEX(E_SourceStreams!$A:$N,CP37,K$7)=\"\",\"\",INDEX(E_SourceStreams!$A:$N,CP37,K$7)))","v":""},{"$f":"IF($E37=\"\",\"\",IF(INDEX(E_SourceStreams!$A:$N,CQ37,L$7)=\"\",\"\",INDEX(E_SourceStreams!$A:$N,CQ37,L$7)))","v":""},{"$f":"IF($E37=\"\",\"\",IF(INDEX(E_SourceStreams!$A:$N,CR37,M$7)=\"\",\"\",INDEX(E_SourceStreams!$A:$N,CR37,M$7)))","v":""},{"$f":"IF($E37=\"\",\"\",IF(INDEX(E_SourceStreams!$A:$N,CS37,N$7)=\"\",\"\",INDEX(E_SourceStreams!$A:$N,CS37,N$7)))","v":""},{"$f":"IF($E37=\"\",\"\",IF(INDEX(E_SourceStreams!$A:$N,CT37,O$7)=\"\",\"\",INDEX(E_SourceStreams!$A:$N,CT37,O$7)))","v":""},{"$f":"IF($E37=\"\",\"\",IF(INDEX(E_SourceStreams!$A:$N,CU37,P$7)=\"\",\"\",INDEX(E_SourceStreams!$A:$N,CU37,P$7)))","v":""},{"$f":"IF($E37=\"\",\"\",IF(INDEX(E_SourceStreams!$A:$N,CV37,Q$7)=\"\",\"\",INDEX(E_SourceStreams!$A:$N,CV37,Q$7)))","v":""},{"$f":"IF($E37=\"\",\"\",IF(INDEX(E_SourceStreams!$A:$N,CW37,R$7)=\"\",\"\",INDEX(E_SourceStreams!$A:$N,CW37,R$7)))","v":""},{"$f":"IF($E37=\"\",\"\",IF(INDEX(E_SourceStreams!$A:$N,CX37,S$7)=\"\",\"\",INDEX(E_SourceStreams!$A:$N,CX37,S$7)))","v":""},{"$f":"IF($E37=\"\",\"\",IF(INDEX(E_SourceStreams!$A:$N,CY37,T$7)=\"\",\"\",INDEX(E_SourceStreams!$A:$N,CY37,T$7)))","v":""},{"$f":"IF($E37=\"\",\"\",IF(INDEX(E_SourceStreams!$A:$N,CZ37,U$7)=\"\",\"\",INDEX(E_SourceStreams!$A:$N,CZ37,U$7)))","v":""},{"$f":"IF($E37=\"\",\"\",IF(INDEX(E_SourceStreams!$A:$N,DA37,V$7)=\"\",\"\",INDEX(E_SourceStreams!$A:$N,DA37,V$7)))","v":""},{"$f":"IF($E37=\"\",\"\",IF(INDEX(E_SourceStreams!$A:$N,DB37,W$7)=\"\",\"\",INDEX(E_SourceStreams!$A:$N,DB37,W$7)))","v":""},{"$f":"IF($E37=\"\",\"\",IF(INDEX(E_SourceStreams!$A:$N,DC37,X$7)=\"\",\"\",INDEX(E_SourceStreams!$A:$N,DC37,X$7)))","v":""},{"$f":"IF($E37=\"\",\"\",IF(INDEX(E_SourceStreams!$A:$N,DD37,Y$7)=\"\",\"\",INDEX(E_SourceStreams!$A:$N,DD37,Y$7)))","v":""},{"$f":"IF($E37=\"\",\"\",IF(INDEX(E_SourceStreams!$A:$N,DE37,Z$7)=\"\",\"\",INDEX(E_SourceStreams!$A:$N,DE37,Z$7)))","v":""},{"$f":"IF($E37=\"\",\"\",IF(INDEX(E_SourceStreams!$A:$N,DF37,AA$7)=\"\",\"\",INDEX(E_SourceStreams!$A:$N,DF37,AA$7)))","v":""},{"$f":"IF($E37=\"\",\"\",IF(INDEX(E_SourceStreams!$A:$N,DG37,AB$7)=\"\",\"\",INDEX(E_SourceStreams!$A:$N,DG37,AB$7)))","v":""},{"$f":"IF($E37=\"\",\"\",IF(INDEX(E_SourceStreams!$A:$N,DH37,AC$7)=\"\",\"\",INDEX(E_SourceStreams!$A:$N,DH37,AC$7)))","v":""},{"$f":"IF($E37=\"\",\"\",IF(INDEX(E_SourceStreams!$A:$N,DI37,AD$7)=\"\",\"\",INDEX(E_SourceStreams!$A:$N,DI37,AD$7)))","v":""},{"$f":"IF($E37=\"\",\"\",IF(INDEX(E_SourceStreams!$A:$N,DJ37,AE$7)=\"\",\"\",INDEX(E_SourceStreams!$A:$N,DJ37,AE$7)))","v":""},{"$f":"IF($E37=\"\",\"\",IF(INDEX(E_SourceStreams!$A:$N,DK37,AF$7)=\"\",\"\",INDEX(E_SourceStreams!$A:$N,DK37,AF$7)))","v":""},{"$f":"IF($E37=\"\",\"\",IF(INDEX(E_SourceStreams!$A:$N,DL37,AG$7)=\"\",\"\",INDEX(E_SourceStreams!$A:$N,DL37,AG$7)))","v":""},{"$f":"IF($E37=\"\",\"\",IF(INDEX(E_SourceStreams!$A:$N,DM37,AH$7)=\"\",\"\",INDEX(E_SourceStreams!$A:$N,DM37,AH$7)))","v":""},{"$f":"IF($E37=\"\",\"\",IF(INDEX(E_SourceStreams!$A:$N,DN37,AI$7)=\"\",\"\",INDEX(E_SourceStreams!$A:$N,DN37,AI$7)))","v":""},{"$f":"IF($E37=\"\",\"\",IF(INDEX(E_SourceStreams!$A:$N,DO37,AJ$7)=\"\",\"\",INDEX(E_SourceStreams!$A:$N,DO37,AJ$7)))","v":""},{"$f":"IF($E37=\"\",\"\",IF(INDEX(E_SourceStreams!$A:$N,DP37,AK$7)=\"\",\"\",INDEX(E_SourceStreams!$A:$N,DP37,AK$7)))","v":""},{"$f":"IF($E37=\"\",\"\",IF(INDEX(E_SourceStreams!$A:$N,DQ37,AL$7)=\"\",\"\",INDEX(E_SourceStreams!$A:$N,DQ37,AL$7)))","v":""},{"$f":"IF($E37=\"\",\"\",IF(INDEX(E_SourceStreams!$A:$N,DR37,AM$7)=\"\",\"\",INDEX(E_SourceStreams!$A:$N,DR37,AM$7)))","v":""},{"$f":"IF($E37=\"\",\"\",IF(INDEX(E_SourceStreams!$A:$N,DS37,AN$7)=\"\",\"\",INDEX(E_SourceStreams!$A:$N,DS37,AN$7)))","v":""},{"$f":"IF($E37=\"\",\"\",IF(INDEX(E_SourceStreams!$A:$N,DT37,AO$7)=\"\",\"\",INDEX(E_SourceStreams!$A:$N,DT37,AO$7)))","v":""},{"$f":"IF($E37=\"\",\"\",IF(INDEX(E_SourceStreams!$A:$N,DU37,AP$7)=\"\",\"\",INDEX(E_SourceStreams!$A:$N,DU37,AP$7)))","v":""},{"$f":"IF($E37=\"\",\"\",IF(INDEX(E_SourceStreams!$A:$N,DV37,AQ$7)=\"\",\"\",INDEX(E_SourceStreams!$A:$N,DV37,AQ$7)))","v":""},{"$f":"IF($E37=\"\",\"\",IF(INDEX(E_SourceStreams!$A:$N,DW37,AR$7)=\"\",\"\",INDEX(E_SourceStreams!$A:$N,DW37,AR$7)))","v":""},{"$f":"IF($E37=\"\",\"\",IF(INDEX(E_SourceStreams!$A:$N,DX37,AS$7)=\"\",\"\",INDEX(E_SourceStreams!$A:$N,DX37,AS$7)))","v":""},{"$f":"IF($E37=\"\",\"\",IF(INDEX(E_SourceStreams!$A:$N,DY37,AT$7)=\"\",\"\",INDEX(E_SourceStreams!$A:$N,DY37,AT$7)))","v":""},{"$f":"IF($E37=\"\",\"\",IF(INDEX(E_SourceStreams!$A:$N,DZ37,AU$7)=\"\",\"\",INDEX(E_SourceStreams!$A:$N,DZ37,AU$7)))","v":""},{"$f":"IF($E37=\"\",\"\",IF(INDEX(E_SourceStreams!$A:$N,EA37,AV$7)=\"\",\"\",INDEX(E_SourceStreams!$A:$N,EA37,AV$7)))","v":""},{"$f":"IF($E37=\"\",\"\",IF(INDEX(E_SourceStreams!$A:$N,EB37,AW$7)=\"\",\"\",INDEX(E_SourceStreams!$A:$N,EB37,AW$7)))","v":""},{"$f":"IF($E37=\"\",\"\",IF(INDEX(E_SourceStreams!$A:$N,EC37,AX$7)=\"\",\"\",INDEX(E_SourceStreams!$A:$N,EC37,AX$7)))","v":""},{"$f":"IF($E37=\"\",\"\",IF(INDEX(E_SourceStreams!$A:$N,ED37,AY$7)=\"\",\"\",INDEX(E_SourceStreams!$A:$N,ED37,AY$7)))","v":""},{"$f":"IF($E37=\"\",\"\",IF(INDEX(E_SourceStreams!$A:$N,EE37,AZ$7)=\"\",\"\",INDEX(E_SourceStreams!$A:$N,EE37,AZ$7)))","v":""},{"$f":"IF($E37=\"\",\"\",IF(INDEX(E_SourceStreams!$A:$N,EF37,BA$7)=\"\",\"\",INDEX(E_SourceStreams!$A:$N,EF37,BA$7)))","v":""},{"$f":"IF($E37=\"\",\"\",IF(INDEX(E_SourceStreams!$A:$N,EG37,BB$7)=\"\",\"\",INDEX(E_SourceStreams!$A:$N,EG37,BB$7)))","v":""},{"$f":"IF($E37=\"\",\"\",IF(INDEX(E_SourceStreams!$A:$N,EH37,BC$7)=\"\",\"\",INDEX(E_SourceStreams!$A:$N,EH37,BC$7)))","v":""},{"$f":"IF($E37=\"\",\"\",IF(INDEX(E_SourceStreams!$A:$N,EI37,BD$7)=\"\",\"\",INDEX(E_SourceStreams!$A:$N,EI37,BD$7)))","v":""},{"$f":"IF($E37=\"\",\"\",IF(INDEX(E_SourceStreams!$A:$N,EJ37,BE$7)=\"\",\"\",INDEX(E_SourceStreams!$A:$N,EJ37,BE$7)))","v":""},{"$f":"IF($E37=\"\",\"\",IF(INDEX(E_SourceStreams!$A:$N,EK37,BF$7)=\"\",\"\",INDEX(E_SourceStreams!$A:$N,EK37,BF$7)))","v":""},{"$f":"IF($E37=\"\",\"\",IF(INDEX(E_SourceStreams!$A:$N,EL37,BG$7)=\"\",\"\",INDEX(E_SourceStreams!$A:$N,EL37,BG$7)))","v":""},{"$f":"IF($E37=\"\",\"\",IF(INDEX(E_SourceStreams!$A:$N,EM37,BH$7)=\"\",\"\",INDEX(E_SourceStreams!$A:$N,EM37,BH$7)))","v":""},{"$f":"IF($E37=\"\",\"\",IF(INDEX(E_SourceStreams!$A:$N,EN37,BI$7)=\"\",\"\",INDEX(E_SourceStreams!$A:$N,EN37,BI$7)))","v":""},{"$f":"IF($E37=\"\",\"\",IF(INDEX(E_SourceStreams!$A:$N,EO37,BJ$7)=\"\",\"\",INDEX(E_SourceStreams!$A:$N,EO37,BJ$7)))","v":""},{"$f":"IF($E37=\"\",\"\",IF(INDEX(E_SourceStreams!$A:$N,EP37,BK$7)=\"\",\"\",INDEX(E_SourceStreams!$A:$N,EP37,BK$7)))","v":""},{"$f":"IF($E37=\"\",\"\",IF(INDEX(E_SourceStreams!$A:$N,EQ37,BL$7)=\"\",\"\",INDEX(E_SourceStreams!$A:$N,EQ37,BL$7)))","v":""},{"$f":"IF($E37=\"\",\"\",IF(INDEX(E_SourceStreams!$A:$N,ER37,BM$7)=\"\",\"\",INDEX(E_SourceStreams!$A:$N,ER37,BM$7)))","v":""},{"$f":"IF($E37=\"\",\"\",IF(INDEX(E_SourceStreams!$A:$N,ES37,BN$7)=\"\",\"\",INDEX(E_SourceStreams!$A:$N,ES37,BN$7)))","v":""},{"$f":"IF($E37=\"\",\"\",IF(INDEX(E_SourceStreams!$A:$N,ET37,BO$7)=\"\",\"\",INDEX(E_SourceStreams!$A:$N,ET37,BO$7)))","v":""},{"$f":"IF($E37=\"\",\"\",IF(INDEX(E_SourceStreams!$A:$N,EU37,BP$7)=\"\",\"\",INDEX(E_SourceStreams!$A:$N,EU37,BP$7)))","v":""},{"$f":"IF($E37=\"\",\"\",IF(INDEX(E_SourceStreams!$A:$N,EV37,BQ$7)=\"\",\"\",INDEX(E_SourceStreams!$A:$N,EV37,BQ$7)))","v":""},{"$f":"IF($E37=\"\",\"\",IF(INDEX(E_SourceStreams!$A:$N,EW37,BR$7)=\"\",\"\",INDEX(E_SourceStreams!$A:$N,EW37,BR$7)))","v":""},{"$f":"IF($E37=\"\",\"\",IF(INDEX(E_SourceStreams!$A:$N,EX37,BS$7)=\"\",\"\",INDEX(E_SourceStreams!$A:$N,EX37,BS$7)))","v":""},{"$f":"IF($E37=\"\",\"\",IF(INDEX(E_SourceStreams!$A:$N,EY37,BT$7)=\"\",\"\",INDEX(E_SourceStreams!$A:$N,EY37,BT$7)))","v":""},null,null,null,null,null,null,null,null,null,null,null,null,null,null,null,"SourceCategory_",{"$f":"INDEX(C_InstallationDescription!$A$223:$A$328,ROWS($CI$11:CI37))=\"ausblenden\"","v":false},"SourceStreamName_",null,1850,1852,1854,1856,1858,1860,1862,1862,1862,1862,1862,1865,1869,1870,1871,1878,1888,1888,1888,1888,1888,1888,1888,1879,1889,1889,1889,1889,1889,1889,1889,1880,1890,1890,1890,1890,1890,1890,1890,1881,1891,1891,1891,1891,1891,1891,1891,1882,1892,1892,1892,1892,1892,1892,1892,1883,1893,1893,1893,1893,1893,1893,1893,1899]
[null,{"$f":"IF(COUNTIF($CK$10:CK38,TRUE)>0,\"\",INDEX(C_InstallationDescription!$E$223:$E$239,ROWS($A$11:A38)))","v":""},{"$f":"IF($E38=\"\",\"\",INDEX(C_InstallationDescription!G:G,MATCH($B38,C_InstallationDescription!$E:$E,0)))","v":""},{"$f":"IF($E38=\"\",\"\",INDEX(C_InstallationDescription!I:I,MATCH($B38,C_InstallationDescription!$E:$E,0)))","v":""},{"$f":"IF($B38=\"\",\"\",INDEX(C_InstallationDescription!F:F,MATCH($CJ38,C_InstallationDescription!$Q:$Q,0)))","v":""},{"$f":"IF($E38=\"\",\"\",INDEX(C_InstallationDescription!L:L,MATCH($CJ38,C_InstallationDescription!$Q:$Q,0)))","v":""},{"$f":"IF($E38=\"\",\"\",INDEX(C_InstallationDescription!M:M,MATCH($CJ38,C_InstallationDescription!$Q:$Q,0)))","v":""},{"$f":"IF($E38=\"\",\"\",INDEX(C_InstallationDescription!N:N,MATCH($CJ38,C_InstallationDescription!$Q:$Q,0)))","v":""},{"$f":"IF($E38=\"\",\"\",IF(INDEX(E_SourceStreams!$A:$N,CN38,I$7)=\"\",\"\",INDEX(E_SourceStreams!$A:$N,CN38,I$7)))","v":""},{"$f":"IF($E38=\"\",\"\",IF(INDEX(E_SourceStreams!$A:$N,CO38,J$7)=\"\",\"\",INDEX(E_SourceStreams!$A:$N,CO38,J$7)))","v":""},{"$f":"IF($E38=\"\",\"\",IF(INDEX(E_SourceStreams!$A:$N,CP38,K$7)=\"\",\"\",INDEX(E_SourceStreams!$A:$N,CP38,K$7)))","v":""},{"$f":"IF($E38=\"\",\"\",IF(INDEX(E_SourceStreams!$A:$N,CQ38,L$7)=\"\",\"\",INDEX(E_SourceStreams!$A:$N,CQ38,L$7)))","v":""},{"$f":"IF($E38=\"\",\"\",IF(INDEX(E_SourceStreams!$A:$N,CR38,M$7)=\"\",\"\",INDEX(E_SourceStreams!$A:$N,CR38,M$7)))","v":""},{"$f":"IF($E38=\"\",\"\",IF(INDEX(E_SourceStreams!$A:$N,CS38,N$7)=\"\",\"\",INDEX(E_SourceStreams!$A:$N,CS38,N$7)))","v":""},{"$f":"IF($E38=\"\",\"\",IF(INDEX(E_SourceStreams!$A:$N,CT38,O$7)=\"\",\"\",INDEX(E_SourceStreams!$A:$N,CT38,O$7)))","v":""},{"$f":"IF($E38=\"\",\"\",IF(INDEX(E_SourceStreams!$A:$N,CU38,P$7)=\"\",\"\",INDEX(E_SourceStreams!$A:$N,CU38,P$7)))","v":""},{"$f":"IF($E38=\"\",\"\",IF(INDEX(E_SourceStreams!$A:$N,CV38,Q$7)=\"\",\"\",INDEX(E_SourceStreams!$A:$N,CV38,Q$7)))","v":""},{"$f":"IF($E38=\"\",\"\",IF(INDEX(E_SourceStreams!$A:$N,CW38,R$7)=\"\",\"\",INDEX(E_SourceStreams!$A:$N,CW38,R$7)))","v":""},{"$f":"IF($E38=\"\",\"\",IF(INDEX(E_SourceStreams!$A:$N,CX38,S$7)=\"\",\"\",INDEX(E_SourceStreams!$A:$N,CX38,S$7)))","v":""},{"$f":"IF($E38=\"\",\"\",IF(INDEX(E_SourceStreams!$A:$N,CY38,T$7)=\"\",\"\",INDEX(E_SourceStreams!$A:$N,CY38,T$7)))","v":""},{"$f":"IF($E38=\"\",\"\",IF(INDEX(E_SourceStreams!$A:$N,CZ38,U$7)=\"\",\"\",INDEX(E_SourceStreams!$A:$N,CZ38,U$7)))","v":""},{"$f":"IF($E38=\"\",\"\",IF(INDEX(E_SourceStreams!$A:$N,DA38,V$7)=\"\",\"\",INDEX(E_SourceStreams!$A:$N,DA38,V$7)))","v":""},{"$f":"IF($E38=\"\",\"\",IF(INDEX(E_SourceStreams!$A:$N,DB38,W$7)=\"\",\"\",INDEX(E_SourceStreams!$A:$N,DB38,W$7)))","v":""},{"$f":"IF($E38=\"\",\"\",IF(INDEX(E_SourceStreams!$A:$N,DC38,X$7)=\"\",\"\",INDEX(E_SourceStreams!$A:$N,DC38,X$7)))","v":""},{"$f":"IF($E38=\"\",\"\",IF(INDEX(E_SourceStreams!$A:$N,DD38,Y$7)=\"\",\"\",INDEX(E_SourceStreams!$A:$N,DD38,Y$7)))","v":""},{"$f":"IF($E38=\"\",\"\",IF(INDEX(E_SourceStreams!$A:$N,DE38,Z$7)=\"\",\"\",INDEX(E_SourceStreams!$A:$N,DE38,Z$7)))","v":""},{"$f":"IF($E38=\"\",\"\",IF(INDEX(E_SourceStreams!$A:$N,DF38,AA$7)=\"\",\"\",INDEX(E_SourceStreams!$A:$N,DF38,AA$7)))","v":""},{"$f":"IF($E38=\"\",\"\",IF(INDEX(E_SourceStreams!$A:$N,DG38,AB$7)=\"\",\"\",INDEX(E_SourceStreams!$A:$N,DG38,AB$7)))","v":""},{"$f":"IF($E38=\"\",\"\",IF(INDEX(E_SourceStreams!$A:$N,DH38,AC$7)=\"\",\"\",INDEX(E_SourceStreams!$A:$N,DH38,AC$7)))","v":""},{"$f":"IF($E38=\"\",\"\",IF(INDEX(E_SourceStreams!$A:$N,DI38,AD$7)=\"\",\"\",INDEX(E_SourceStreams!$A:$N,DI38,AD$7)))","v":""},{"$f":"IF($E38=\"\",\"\",IF(INDEX(E_SourceStreams!$A:$N,DJ38,AE$7)=\"\",\"\",INDEX(E_SourceStreams!$A:$N,DJ38,AE$7)))","v":""},{"$f":"IF($E38=\"\",\"\",IF(INDEX(E_SourceStreams!$A:$N,DK38,AF$7)=\"\",\"\",INDEX(E_SourceStreams!$A:$N,DK38,AF$7)))","v":""},{"$f":"IF($E38=\"\",\"\",IF(INDEX(E_SourceStreams!$A:$N,DL38,AG$7)=\"\",\"\",INDEX(E_SourceStreams!$A:$N,DL38,AG$7)))","v":""},{"$f":"IF($E38=\"\",\"\",IF(INDEX(E_SourceStreams!$A:$N,DM38,AH$7)=\"\",\"\",INDEX(E_SourceStreams!$A:$N,DM38,AH$7)))","v":""},{"$f":"IF($E38=\"\",\"\",IF(INDEX(E_SourceStreams!$A:$N,DN38,AI$7)=\"\",\"\",INDEX(E_SourceStreams!$A:$N,DN38,AI$7)))","v":""},{"$f":"IF($E38=\"\",\"\",IF(INDEX(E_SourceStreams!$A:$N,DO38,AJ$7)=\"\",\"\",INDEX(E_SourceStreams!$A:$N,DO38,AJ$7)))","v":""},{"$f":"IF($E38=\"\",\"\",IF(INDEX(E_SourceStreams!$A:$N,DP38,AK$7)=\"\",\"\",INDEX(E_SourceStreams!$A:$N,DP38,AK$7)))","v":""},{"$f":"IF($E38=\"\",\"\",IF(INDEX(E_SourceStreams!$A:$N,DQ38,AL$7)=\"\",\"\",INDEX(E_SourceStreams!$A:$N,DQ38,AL$7)))","v":""},{"$f":"IF($E38=\"\",\"\",IF(INDEX(E_SourceStreams!$A:$N,DR38,AM$7)=\"\",\"\",INDEX(E_SourceStreams!$A:$N,DR38,AM$7)))","v":""},{"$f":"IF($E38=\"\",\"\",IF(INDEX(E_SourceStreams!$A:$N,DS38,AN$7)=\"\",\"\",INDEX(E_SourceStreams!$A:$N,DS38,AN$7)))","v":""},{"$f":"IF($E38=\"\",\"\",IF(INDEX(E_SourceStreams!$A:$N,DT38,AO$7)=\"\",\"\",INDEX(E_SourceStreams!$A:$N,DT38,AO$7)))","v":""},{"$f":"IF($E38=\"\",\"\",IF(INDEX(E_SourceStreams!$A:$N,DU38,AP$7)=\"\",\"\",INDEX(E_SourceStreams!$A:$N,DU38,AP$7)))","v":""},{"$f":"IF($E38=\"\",\"\",IF(INDEX(E_SourceStreams!$A:$N,DV38,AQ$7)=\"\",\"\",INDEX(E_SourceStreams!$A:$N,DV38,AQ$7)))","v":""},{"$f":"IF($E38=\"\",\"\",IF(INDEX(E_SourceStreams!$A:$N,DW38,AR$7)=\"\",\"\",INDEX(E_SourceStreams!$A:$N,DW38,AR$7)))","v":""},{"$f":"IF($E38=\"\",\"\",IF(INDEX(E_SourceStreams!$A:$N,DX38,AS$7)=\"\",\"\",INDEX(E_SourceStreams!$A:$N,DX38,AS$7)))","v":""},{"$f":"IF($E38=\"\",\"\",IF(INDEX(E_SourceStreams!$A:$N,DY38,AT$7)=\"\",\"\",INDEX(E_SourceStreams!$A:$N,DY38,AT$7)))","v":""},{"$f":"IF($E38=\"\",\"\",IF(INDEX(E_SourceStreams!$A:$N,DZ38,AU$7)=\"\",\"\",INDEX(E_SourceStreams!$A:$N,DZ38,AU$7)))","v":""},{"$f":"IF($E38=\"\",\"\",IF(INDEX(E_SourceStreams!$A:$N,EA38,AV$7)=\"\",\"\",INDEX(E_SourceStreams!$A:$N,EA38,AV$7)))","v":""},{"$f":"IF($E38=\"\",\"\",IF(INDEX(E_SourceStreams!$A:$N,EB38,AW$7)=\"\",\"\",INDEX(E_SourceStreams!$A:$N,EB38,AW$7)))","v":""},{"$f":"IF($E38=\"\",\"\",IF(INDEX(E_SourceStreams!$A:$N,EC38,AX$7)=\"\",\"\",INDEX(E_SourceStreams!$A:$N,EC38,AX$7)))","v":""},{"$f":"IF($E38=\"\",\"\",IF(INDEX(E_SourceStreams!$A:$N,ED38,AY$7)=\"\",\"\",INDEX(E_SourceStreams!$A:$N,ED38,AY$7)))","v":""},{"$f":"IF($E38=\"\",\"\",IF(INDEX(E_SourceStreams!$A:$N,EE38,AZ$7)=\"\",\"\",INDEX(E_SourceStreams!$A:$N,EE38,AZ$7)))","v":""},{"$f":"IF($E38=\"\",\"\",IF(INDEX(E_SourceStreams!$A:$N,EF38,BA$7)=\"\",\"\",INDEX(E_SourceStreams!$A:$N,EF38,BA$7)))","v":""},{"$f":"IF($E38=\"\",\"\",IF(INDEX(E_SourceStreams!$A:$N,EG38,BB$7)=\"\",\"\",INDEX(E_SourceStreams!$A:$N,EG38,BB$7)))","v":""},{"$f":"IF($E38=\"\",\"\",IF(INDEX(E_SourceStreams!$A:$N,EH38,BC$7)=\"\",\"\",INDEX(E_SourceStreams!$A:$N,EH38,BC$7)))","v":""},{"$f":"IF($E38=\"\",\"\",IF(INDEX(E_SourceStreams!$A:$N,EI38,BD$7)=\"\",\"\",INDEX(E_SourceStreams!$A:$N,EI38,BD$7)))","v":""},{"$f":"IF($E38=\"\",\"\",IF(INDEX(E_SourceStreams!$A:$N,EJ38,BE$7)=\"\",\"\",INDEX(E_SourceStreams!$A:$N,EJ38,BE$7)))","v":""},{"$f":"IF($E38=\"\",\"\",IF(INDEX(E_SourceStreams!$A:$N,EK38,BF$7)=\"\",\"\",INDEX(E_SourceStreams!$A:$N,EK38,BF$7)))","v":""},{"$f":"IF($E38=\"\",\"\",IF(INDEX(E_SourceStreams!$A:$N,EL38,BG$7)=\"\",\"\",INDEX(E_SourceStreams!$A:$N,EL38,BG$7)))","v":""},{"$f":"IF($E38=\"\",\"\",IF(INDEX(E_SourceStreams!$A:$N,EM38,BH$7)=\"\",\"\",INDEX(E_SourceStreams!$A:$N,EM38,BH$7)))","v":""},{"$f":"IF($E38=\"\",\"\",IF(INDEX(E_SourceStreams!$A:$N,EN38,BI$7)=\"\",\"\",INDEX(E_SourceStreams!$A:$N,EN38,BI$7)))","v":""},{"$f":"IF($E38=\"\",\"\",IF(INDEX(E_SourceStreams!$A:$N,EO38,BJ$7)=\"\",\"\",INDEX(E_SourceStreams!$A:$N,EO38,BJ$7)))","v":""},{"$f":"IF($E38=\"\",\"\",IF(INDEX(E_SourceStreams!$A:$N,EP38,BK$7)=\"\",\"\",INDEX(E_SourceStreams!$A:$N,EP38,BK$7)))","v":""},{"$f":"IF($E38=\"\",\"\",IF(INDEX(E_SourceStreams!$A:$N,EQ38,BL$7)=\"\",\"\",INDEX(E_SourceStreams!$A:$N,EQ38,BL$7)))","v":""},{"$f":"IF($E38=\"\",\"\",IF(INDEX(E_SourceStreams!$A:$N,ER38,BM$7)=\"\",\"\",INDEX(E_SourceStreams!$A:$N,ER38,BM$7)))","v":""},{"$f":"IF($E38=\"\",\"\",IF(INDEX(E_SourceStreams!$A:$N,ES38,BN$7)=\"\",\"\",INDEX(E_SourceStreams!$A:$N,ES38,BN$7)))","v":""},{"$f":"IF($E38=\"\",\"\",IF(INDEX(E_SourceStreams!$A:$N,ET38,BO$7)=\"\",\"\",INDEX(E_SourceStreams!$A:$N,ET38,BO$7)))","v":""},{"$f":"IF($E38=\"\",\"\",IF(INDEX(E_SourceStreams!$A:$N,EU38,BP$7)=\"\",\"\",INDEX(E_SourceStreams!$A:$N,EU38,BP$7)))","v":""},{"$f":"IF($E38=\"\",\"\",IF(INDEX(E_SourceStreams!$A:$N,EV38,BQ$7)=\"\",\"\",INDEX(E_SourceStreams!$A:$N,EV38,BQ$7)))","v":""},{"$f":"IF($E38=\"\",\"\",IF(INDEX(E_SourceStreams!$A:$N,EW38,BR$7)=\"\",\"\",INDEX(E_SourceStreams!$A:$N,EW38,BR$7)))","v":""},{"$f":"IF($E38=\"\",\"\",IF(INDEX(E_SourceStreams!$A:$N,EX38,BS$7)=\"\",\"\",INDEX(E_SourceStreams!$A:$N,EX38,BS$7)))","v":""},{"$f":"IF($E38=\"\",\"\",IF(INDEX(E_SourceStreams!$A:$N,EY38,BT$7)=\"\",\"\",INDEX(E_SourceStreams!$A:$N,EY38,BT$7)))","v":""},null,null,null,null,null,null,null,null,null,null,null,null,null,null,null,"SourceCategory_",{"$f":"INDEX(C_InstallationDescription!$A$223:$A$328,ROWS($CI$11:CI38))=\"ausblenden\"","v":false},"SourceStreamName_",null,1916,1918,1920,1922,1924,1926,1928,1928,1928,1928,1928,1931,1935,1936,1937,1944,1954,1954,1954,1954,1954,1954,1954,1945,1955,1955,1955,1955,1955,1955,1955,1946,1956,1956,1956,1956,1956,1956,1956,1947,1957,1957,1957,1957,1957,1957,1957,1948,1958,1958,1958,1958,1958,1958,1958,1949,1959,1959,1959,1959,1959,1959,1959,1965]
[null,{"$f":"IF(COUNTIF($CK$10:CK39,TRUE)>0,\"\",INDEX(C_InstallationDescription!$E$223:$E$239,ROWS($A$11:A39)))","v":""},{"$f":"IF($E39=\"\",\"\",INDEX(C_InstallationDescription!G:G,MATCH($B39,C_InstallationDescription!$E:$E,0)))","v":""},{"$f":"IF($E39=\"\",\"\",INDEX(C_InstallationDescription!I:I,MATCH($B39,C_InstallationDescription!$E:$E,0)))","v":""},{"$f":"IF($B39=\"\",\"\",INDEX(C_InstallationDescription!F:F,MATCH($CJ39,C_InstallationDescription!$Q:$Q,0)))","v":""},{"$f":"IF($E39=\"\",\"\",INDEX(C_InstallationDescription!L:L,MATCH($CJ39,C_InstallationDescription!$Q:$Q,0)))","v":""},{"$f":"IF($E39=\"\",\"\",INDEX(C_InstallationDescription!M:M,MATCH($CJ39,C_InstallationDescription!$Q:$Q,0)))","v":""},{"$f":"IF($E39=\"\",\"\",INDEX(C_InstallationDescription!N:N,MATCH($CJ39,C_InstallationDescription!$Q:$Q,0)))","v":""},{"$f":"IF($E39=\"\",\"\",IF(INDEX(E_SourceStreams!$A:$N,CN39,I$7)=\"\",\"\",INDEX(E_SourceStreams!$A:$N,CN39,I$7)))","v":""},{"$f":"IF($E39=\"\",\"\",IF(INDEX(E_SourceStreams!$A:$N,CO39,J$7)=\"\",\"\",INDEX(E_SourceStreams!$A:$N,CO39,J$7)))","v":""},{"$f":"IF($E39=\"\",\"\",IF(INDEX(E_SourceStreams!$A:$N,CP39,K$7)=\"\",\"\",INDEX(E_SourceStreams!$A:$N,CP39,K$7)))","v":""},{"$f":"IF($E39=\"\",\"\",IF(INDEX(E_SourceStreams!$A:$N,CQ39,L$7)=\"\",\"\",INDEX(E_SourceStreams!$A:$N,CQ39,L$7)))","v":""},{"$f":"IF($E39=\"\",\"\",IF(INDEX(E_SourceStreams!$A:$N,CR39,M$7)=\"\",\"\",INDEX(E_SourceStreams!$A:$N,CR39,M$7)))","v":""},{"$f":"IF($E39=\"\",\"\",IF(INDEX(E_SourceStreams!$A:$N,CS39,N$7)=\"\",\"\",INDEX(E_SourceStreams!$A:$N,CS39,N$7)))","v":""},{"$f":"IF($E39=\"\",\"\",IF(INDEX(E_SourceStreams!$A:$N,CT39,O$7)=\"\",\"\",INDEX(E_SourceStreams!$A:$N,CT39,O$7)))","v":""},{"$f":"IF($E39=\"\",\"\",IF(INDEX(E_SourceStreams!$A:$N,CU39,P$7)=\"\",\"\",INDEX(E_SourceStreams!$A:$N,CU39,P$7)))","v":""},{"$f":"IF($E39=\"\",\"\",IF(INDEX(E_SourceStreams!$A:$N,CV39,Q$7)=\"\",\"\",INDEX(E_SourceStreams!$A:$N,CV39,Q$7)))","v":""},{"$f":"IF($E39=\"\",\"\",IF(INDEX(E_SourceStreams!$A:$N,CW39,R$7)=\"\",\"\",INDEX(E_SourceStreams!$A:$N,CW39,R$7)))","v":""},{"$f":"IF($E39=\"\",\"\",IF(INDEX(E_SourceStreams!$A:$N,CX39,S$7)=\"\",\"\",INDEX(E_SourceStreams!$A:$N,CX39,S$7)))","v":""},{"$f":"IF($E39=\"\",\"\",IF(INDEX(E_SourceStreams!$A:$N,CY39,T$7)=\"\",\"\",INDEX(E_SourceStreams!$A:$N,CY39,T$7)))","v":""},{"$f":"IF($E39=\"\",\"\",IF(INDEX(E_SourceStreams!$A:$N,CZ39,U$7)=\"\",\"\",INDEX(E_SourceStreams!$A:$N,CZ39,U$7)))","v":""},{"$f":"IF($E39=\"\",\"\",IF(INDEX(E_SourceStreams!$A:$N,DA39,V$7)=\"\",\"\",INDEX(E_SourceStreams!$A:$N,DA39,V$7)))","v":""},{"$f":"IF($E39=\"\",\"\",IF(INDEX(E_SourceStreams!$A:$N,DB39,W$7)=\"\",\"\",INDEX(E_SourceStreams!$A:$N,DB39,W$7)))","v":""},{"$f":"IF($E39=\"\",\"\",IF(INDEX(E_SourceStreams!$A:$N,DC39,X$7)=\"\",\"\",INDEX(E_SourceStreams!$A:$N,DC39,X$7)))","v":""},{"$f":"IF($E39=\"\",\"\",IF(INDEX(E_SourceStreams!$A:$N,DD39,Y$7)=\"\",\"\",INDEX(E_SourceStreams!$A:$N,DD39,Y$7)))","v":""},{"$f":"IF($E39=\"\",\"\",IF(INDEX(E_SourceStreams!$A:$N,DE39,Z$7)=\"\",\"\",INDEX(E_SourceStreams!$A:$N,DE39,Z$7)))","v":""},{"$f":"IF($E39=\"\",\"\",IF(INDEX(E_SourceStreams!$A:$N,DF39,AA$7)=\"\",\"\",INDEX(E_SourceStreams!$A:$N,DF39,AA$7)))","v":""},{"$f":"IF($E39=\"\",\"\",IF(INDEX(E_SourceStreams!$A:$N,DG39,AB$7)=\"\",\"\",INDEX(E_SourceStreams!$A:$N,DG39,AB$7)))","v":""},{"$f":"IF($E39=\"\",\"\",IF(INDEX(E_SourceStreams!$A:$N,DH39,AC$7)=\"\",\"\",INDEX(E_SourceStreams!$A:$N,DH39,AC$7)))","v":""},{"$f":"IF($E39=\"\",\"\",IF(INDEX(E_SourceStreams!$A:$N,DI39,AD$7)=\"\",\"\",INDEX(E_SourceStreams!$A:$N,DI39,AD$7)))","v":""},{"$f":"IF($E39=\"\",\"\",IF(INDEX(E_SourceStreams!$A:$N,DJ39,AE$7)=\"\",\"\",INDEX(E_SourceStreams!$A:$N,DJ39,AE$7)))","v":""},{"$f":"IF($E39=\"\",\"\",IF(INDEX(E_SourceStreams!$A:$N,DK39,AF$7)=\"\",\"\",INDEX(E_SourceStreams!$A:$N,DK39,AF$7)))","v":""},{"$f":"IF($E39=\"\",\"\",IF(INDEX(E_SourceStreams!$A:$N,DL39,AG$7)=\"\",\"\",INDEX(E_SourceStreams!$A:$N,DL39,AG$7)))","v":""},{"$f":"IF($E39=\"\",\"\",IF(INDEX(E_SourceStreams!$A:$N,DM39,AH$7)=\"\",\"\",INDEX(E_SourceStreams!$A:$N,DM39,AH$7)))","v":""},{"$f":"IF($E39=\"\",\"\",IF(INDEX(E_SourceStreams!$A:$N,DN39,AI$7)=\"\",\"\",INDEX(E_SourceStreams!$A:$N,DN39,AI$7)))","v":""},{"$f":"IF($E39=\"\",\"\",IF(INDEX(E_SourceStreams!$A:$N,DO39,AJ$7)=\"\",\"\",INDEX(E_SourceStreams!$A:$N,DO39,AJ$7)))","v":""},{"$f":"IF($E39=\"\",\"\",IF(INDEX(E_SourceStreams!$A:$N,DP39,AK$7)=\"\",\"\",INDEX(E_SourceStreams!$A:$N,DP39,AK$7)))","v":""},{"$f":"IF($E39=\"\",\"\",IF(INDEX(E_SourceStreams!$A:$N,DQ39,AL$7)=\"\",\"\",INDEX(E_SourceStreams!$A:$N,DQ39,AL$7)))","v":""},{"$f":"IF($E39=\"\",\"\",IF(INDEX(E_SourceStreams!$A:$N,DR39,AM$7)=\"\",\"\",INDEX(E_SourceStreams!$A:$N,DR39,AM$7)))","v":""},{"$f":"IF($E39=\"\",\"\",IF(INDEX(E_SourceStreams!$A:$N,DS39,AN$7)=\"\",\"\",INDEX(E_SourceStreams!$A:$N,DS39,AN$7)))","v":""},{"$f":"IF($E39=\"\",\"\",IF(INDEX(E_SourceStreams!$A:$N,DT39,AO$7)=\"\",\"\",INDEX(E_SourceStreams!$A:$N,DT39,AO$7)))","v":""},{"$f":"IF($E39=\"\",\"\",IF(INDEX(E_SourceStreams!$A:$N,DU39,AP$7)=\"\",\"\",INDEX(E_SourceStreams!$A:$N,DU39,AP$7)))","v":""},{"$f":"IF($E39=\"\",\"\",IF(INDEX(E_SourceStreams!$A:$N,DV39,AQ$7)=\"\",\"\",INDEX(E_SourceStreams!$A:$N,DV39,AQ$7)))","v":""},{"$f":"IF($E39=\"\",\"\",IF(INDEX(E_SourceStreams!$A:$N,DW39,AR$7)=\"\",\"\",INDEX(E_SourceStreams!$A:$N,DW39,AR$7)))","v":""},{"$f":"IF($E39=\"\",\"\",IF(INDEX(E_SourceStreams!$A:$N,DX39,AS$7)=\"\",\"\",INDEX(E_SourceStreams!$A:$N,DX39,AS$7)))","v":""},{"$f":"IF($E39=\"\",\"\",IF(INDEX(E_SourceStreams!$A:$N,DY39,AT$7)=\"\",\"\",INDEX(E_SourceStreams!$A:$N,DY39,AT$7)))","v":""},{"$f":"IF($E39=\"\",\"\",IF(INDEX(E_SourceStreams!$A:$N,DZ39,AU$7)=\"\",\"\",INDEX(E_SourceStreams!$A:$N,DZ39,AU$7)))","v":""},{"$f":"IF($E39=\"\",\"\",IF(INDEX(E_SourceStreams!$A:$N,EA39,AV$7)=\"\",\"\",INDEX(E_SourceStreams!$A:$N,EA39,AV$7)))","v":""},{"$f":"IF($E39=\"\",\"\",IF(INDEX(E_SourceStreams!$A:$N,EB39,AW$7)=\"\",\"\",INDEX(E_SourceStreams!$A:$N,EB39,AW$7)))","v":""},{"$f":"IF($E39=\"\",\"\",IF(INDEX(E_SourceStreams!$A:$N,EC39,AX$7)=\"\",\"\",INDEX(E_SourceStreams!$A:$N,EC39,AX$7)))","v":""},{"$f":"IF($E39=\"\",\"\",IF(INDEX(E_SourceStreams!$A:$N,ED39,AY$7)=\"\",\"\",INDEX(E_SourceStreams!$A:$N,ED39,AY$7)))","v":""},{"$f":"IF($E39=\"\",\"\",IF(INDEX(E_SourceStreams!$A:$N,EE39,AZ$7)=\"\",\"\",INDEX(E_SourceStreams!$A:$N,EE39,AZ$7)))","v":""},{"$f":"IF($E39=\"\",\"\",IF(INDEX(E_SourceStreams!$A:$N,EF39,BA$7)=\"\",\"\",INDEX(E_SourceStreams!$A:$N,EF39,BA$7)))","v":""},{"$f":"IF($E39=\"\",\"\",IF(INDEX(E_SourceStreams!$A:$N,EG39,BB$7)=\"\",\"\",INDEX(E_SourceStreams!$A:$N,EG39,BB$7)))","v":""},{"$f":"IF($E39=\"\",\"\",IF(INDEX(E_SourceStreams!$A:$N,EH39,BC$7)=\"\",\"\",INDEX(E_SourceStreams!$A:$N,EH39,BC$7)))","v":""},{"$f":"IF($E39=\"\",\"\",IF(INDEX(E_SourceStreams!$A:$N,EI39,BD$7)=\"\",\"\",INDEX(E_SourceStreams!$A:$N,EI39,BD$7)))","v":""},{"$f":"IF($E39=\"\",\"\",IF(INDEX(E_SourceStreams!$A:$N,EJ39,BE$7)=\"\",\"\",INDEX(E_SourceStreams!$A:$N,EJ39,BE$7)))","v":""},{"$f":"IF($E39=\"\",\"\",IF(INDEX(E_SourceStreams!$A:$N,EK39,BF$7)=\"\",\"\",INDEX(E_SourceStreams!$A:$N,EK39,BF$7)))","v":""},{"$f":"IF($E39=\"\",\"\",IF(INDEX(E_SourceStreams!$A:$N,EL39,BG$7)=\"\",\"\",INDEX(E_SourceStreams!$A:$N,EL39,BG$7)))","v":""},{"$f":"IF($E39=\"\",\"\",IF(INDEX(E_SourceStreams!$A:$N,EM39,BH$7)=\"\",\"\",INDEX(E_SourceStreams!$A:$N,EM39,BH$7)))","v":""},{"$f":"IF($E39=\"\",\"\",IF(INDEX(E_SourceStreams!$A:$N,EN39,BI$7)=\"\",\"\",INDEX(E_SourceStreams!$A:$N,EN39,BI$7)))","v":""},{"$f":"IF($E39=\"\",\"\",IF(INDEX(E_SourceStreams!$A:$N,EO39,BJ$7)=\"\",\"\",INDEX(E_SourceStreams!$A:$N,EO39,BJ$7)))","v":""},{"$f":"IF($E39=\"\",\"\",IF(INDEX(E_SourceStreams!$A:$N,EP39,BK$7)=\"\",\"\",INDEX(E_SourceStreams!$A:$N,EP39,BK$7)))","v":""},{"$f":"IF($E39=\"\",\"\",IF(INDEX(E_SourceStreams!$A:$N,EQ39,BL$7)=\"\",\"\",INDEX(E_SourceStreams!$A:$N,EQ39,BL$7)))","v":""},{"$f":"IF($E39=\"\",\"\",IF(INDEX(E_SourceStreams!$A:$N,ER39,BM$7)=\"\",\"\",INDEX(E_SourceStreams!$A:$N,ER39,BM$7)))","v":""},{"$f":"IF($E39=\"\",\"\",IF(INDEX(E_SourceStreams!$A:$N,ES39,BN$7)=\"\",\"\",INDEX(E_SourceStreams!$A:$N,ES39,BN$7)))","v":""},{"$f":"IF($E39=\"\",\"\",IF(INDEX(E_SourceStreams!$A:$N,ET39,BO$7)=\"\",\"\",INDEX(E_SourceStreams!$A:$N,ET39,BO$7)))","v":""},{"$f":"IF($E39=\"\",\"\",IF(INDEX(E_SourceStreams!$A:$N,EU39,BP$7)=\"\",\"\",INDEX(E_SourceStreams!$A:$N,EU39,BP$7)))","v":""},{"$f":"IF($E39=\"\",\"\",IF(INDEX(E_SourceStreams!$A:$N,EV39,BQ$7)=\"\",\"\",INDEX(E_SourceStreams!$A:$N,EV39,BQ$7)))","v":""},{"$f":"IF($E39=\"\",\"\",IF(INDEX(E_SourceStreams!$A:$N,EW39,BR$7)=\"\",\"\",INDEX(E_SourceStreams!$A:$N,EW39,BR$7)))","v":""},{"$f":"IF($E39=\"\",\"\",IF(INDEX(E_SourceStreams!$A:$N,EX39,BS$7)=\"\",\"\",INDEX(E_SourceStreams!$A:$N,EX39,BS$7)))","v":""},{"$f":"IF($E39=\"\",\"\",IF(INDEX(E_SourceStreams!$A:$N,EY39,BT$7)=\"\",\"\",INDEX(E_SourceStreams!$A:$N,EY39,BT$7)))","v":""},null,null,null,null,null,null,null,null,null,null,null,null,null,null,null,"SourceCategory_",{"$f":"INDEX(C_InstallationDescription!$A$223:$A$328,ROWS($CI$11:CI39))=\"ausblenden\"","v":false},"SourceStreamName_",null,1982,1984,1986,1988,1990,1992,1994,1994,1994,1994,1994,1997,2001,2002,2003,2010,2020,2020,2020,2020,2020,2020,2020,2011,2021,2021,2021,2021,2021,2021,2021,2012,2022,2022,2022,2022,2022,2022,2022,2013,2023,2023,2023,2023,2023,2023,2023,2014,2024,2024,2024,2024,2024,2024,2024,2015,2025,2025,2025,2025,2025,2025,2025,2031]
[null,{"$f":"IF(COUNTIF($CK$10:CK40,TRUE)>0,\"\",INDEX(C_InstallationDescription!$E$223:$E$239,ROWS($A$11:A40)))","v":""},{"$f":"IF($E40=\"\",\"\",INDEX(C_InstallationDescription!G:G,MATCH($B40,C_InstallationDescription!$E:$E,0)))","v":""},{"$f":"IF($E40=\"\",\"\",INDEX(C_InstallationDescription!I:I,MATCH($B40,C_InstallationDescription!$E:$E,0)))","v":""},{"$f":"IF($B40=\"\",\"\",INDEX(C_InstallationDescription!F:F,MATCH($CJ40,C_InstallationDescription!$Q:$Q,0)))","v":""},{"$f":"IF($E40=\"\",\"\",INDEX(C_InstallationDescription!L:L,MATCH($CJ40,C_InstallationDescription!$Q:$Q,0)))","v":""},{"$f":"IF($E40=\"\",\"\",INDEX(C_InstallationDescription!M:M,MATCH($CJ40,C_InstallationDescription!$Q:$Q,0)))","v":""},{"$f":"IF($E40=\"\",\"\",INDEX(C_InstallationDescription!N:N,MATCH($CJ40,C_InstallationDescription!$Q:$Q,0)))","v":""},{"$f":"IF($E40=\"\",\"\",IF(INDEX(E_SourceStreams!$A:$N,CN40,I$7)=\"\",\"\",INDEX(E_SourceStreams!$A:$N,CN40,I$7)))","v":""},{"$f":"IF($E40=\"\",\"\",IF(INDEX(E_SourceStreams!$A:$N,CO40,J$7)=\"\",\"\",INDEX(E_SourceStreams!$A:$N,CO40,J$7)))","v":""},{"$f":"IF($E40=\"\",\"\",IF(INDEX(E_SourceStreams!$A:$N,CP40,K$7)=\"\",\"\",INDEX(E_SourceStreams!$A:$N,CP40,K$7)))","v":""},{"$f":"IF($E40=\"\",\"\",IF(INDEX(E_SourceStreams!$A:$N,CQ40,L$7)=\"\",\"\",INDEX(E_SourceStreams!$A:$N,CQ40,L$7)))","v":""},{"$f":"IF($E40=\"\",\"\",IF(INDEX(E_SourceStreams!$A:$N,CR40,M$7)=\"\",\"\",INDEX(E_SourceStreams!$A:$N,CR40,M$7)))","v":""},{"$f":"IF($E40=\"\",\"\",IF(INDEX(E_SourceStreams!$A:$N,CS40,N$7)=\"\",\"\",INDEX(E_SourceStreams!$A:$N,CS40,N$7)))","v":""},{"$f":"IF($E40=\"\",\"\",IF(INDEX(E_SourceStreams!$A:$N,CT40,O$7)=\"\",\"\",INDEX(E_SourceStreams!$A:$N,CT40,O$7)))","v":""},{"$f":"IF($E40=\"\",\"\",IF(INDEX(E_SourceStreams!$A:$N,CU40,P$7)=\"\",\"\",INDEX(E_SourceStreams!$A:$N,CU40,P$7)))","v":""},{"$f":"IF($E40=\"\",\"\",IF(INDEX(E_SourceStreams!$A:$N,CV40,Q$7)=\"\",\"\",INDEX(E_SourceStreams!$A:$N,CV40,Q$7)))","v":""},{"$f":"IF($E40=\"\",\"\",IF(INDEX(E_SourceStreams!$A:$N,CW40,R$7)=\"\",\"\",INDEX(E_SourceStreams!$A:$N,CW40,R$7)))","v":""},{"$f":"IF($E40=\"\",\"\",IF(INDEX(E_SourceStreams!$A:$N,CX40,S$7)=\"\",\"\",INDEX(E_SourceStreams!$A:$N,CX40,S$7)))","v":""},{"$f":"IF($E40=\"\",\"\",IF(INDEX(E_SourceStreams!$A:$N,CY40,T$7)=\"\",\"\",INDEX(E_SourceStreams!$A:$N,CY40,T$7)))","v":""},{"$f":"IF($E40=\"\",\"\",IF(INDEX(E_SourceStreams!$A:$N,CZ40,U$7)=\"\",\"\",INDEX(E_SourceStreams!$A:$N,CZ40,U$7)))","v":""},{"$f":"IF($E40=\"\",\"\",IF(INDEX(E_SourceStreams!$A:$N,DA40,V$7)=\"\",\"\",INDEX(E_SourceStreams!$A:$N,DA40,V$7)))","v":""},{"$f":"IF($E40=\"\",\"\",IF(INDEX(E_SourceStreams!$A:$N,DB40,W$7)=\"\",\"\",INDEX(E_SourceStreams!$A:$N,DB40,W$7)))","v":""},{"$f":"IF($E40=\"\",\"\",IF(INDEX(E_SourceStreams!$A:$N,DC40,X$7)=\"\",\"\",INDEX(E_SourceStreams!$A:$N,DC40,X$7)))","v":""},{"$f":"IF($E40=\"\",\"\",IF(INDEX(E_SourceStreams!$A:$N,DD40,Y$7)=\"\",\"\",INDEX(E_SourceStreams!$A:$N,DD40,Y$7)))","v":""},{"$f":"IF($E40=\"\",\"\",IF(INDEX(E_SourceStreams!$A:$N,DE40,Z$7)=\"\",\"\",INDEX(E_SourceStreams!$A:$N,DE40,Z$7)))","v":""},{"$f":"IF($E40=\"\",\"\",IF(INDEX(E_SourceStreams!$A:$N,DF40,AA$7)=\"\",\"\",INDEX(E_SourceStreams!$A:$N,DF40,AA$7)))","v":""},{"$f":"IF($E40=\"\",\"\",IF(INDEX(E_SourceStreams!$A:$N,DG40,AB$7)=\"\",\"\",INDEX(E_SourceStreams!$A:$N,DG40,AB$7)))","v":""},{"$f":"IF($E40=\"\",\"\",IF(INDEX(E_SourceStreams!$A:$N,DH40,AC$7)=\"\",\"\",INDEX(E_SourceStreams!$A:$N,DH40,AC$7)))","v":""},{"$f":"IF($E40=\"\",\"\",IF(INDEX(E_SourceStreams!$A:$N,DI40,AD$7)=\"\",\"\",INDEX(E_SourceStreams!$A:$N,DI40,AD$7)))","v":""},{"$f":"IF($E40=\"\",\"\",IF(INDEX(E_SourceStreams!$A:$N,DJ40,AE$7)=\"\",\"\",INDEX(E_SourceStreams!$A:$N,DJ40,AE$7)))","v":""},{"$f":"IF($E40=\"\",\"\",IF(INDEX(E_SourceStreams!$A:$N,DK40,AF$7)=\"\",\"\",INDEX(E_SourceStreams!$A:$N,DK40,AF$7)))","v":""},{"$f":"IF($E40=\"\",\"\",IF(INDEX(E_SourceStreams!$A:$N,DL40,AG$7)=\"\",\"\",INDEX(E_SourceStreams!$A:$N,DL40,AG$7)))","v":""},{"$f":"IF($E40=\"\",\"\",IF(INDEX(E_SourceStreams!$A:$N,DM40,AH$7)=\"\",\"\",INDEX(E_SourceStreams!$A:$N,DM40,AH$7)))","v":""},{"$f":"IF($E40=\"\",\"\",IF(INDEX(E_SourceStreams!$A:$N,DN40,AI$7)=\"\",\"\",INDEX(E_SourceStreams!$A:$N,DN40,AI$7)))","v":""},{"$f":"IF($E40=\"\",\"\",IF(INDEX(E_SourceStreams!$A:$N,DO40,AJ$7)=\"\",\"\",INDEX(E_SourceStreams!$A:$N,DO40,AJ$7)))","v":""},{"$f":"IF($E40=\"\",\"\",IF(INDEX(E_SourceStreams!$A:$N,DP40,AK$7)=\"\",\"\",INDEX(E_SourceStreams!$A:$N,DP40,AK$7)))","v":""},{"$f":"IF($E40=\"\",\"\",IF(INDEX(E_SourceStreams!$A:$N,DQ40,AL$7)=\"\",\"\",INDEX(E_SourceStreams!$A:$N,DQ40,AL$7)))","v":""},{"$f":"IF($E40=\"\",\"\",IF(INDEX(E_SourceStreams!$A:$N,DR40,AM$7)=\"\",\"\",INDEX(E_SourceStreams!$A:$N,DR40,AM$7)))","v":""},{"$f":"IF($E40=\"\",\"\",IF(INDEX(E_SourceStreams!$A:$N,DS40,AN$7)=\"\",\"\",INDEX(E_SourceStreams!$A:$N,DS40,AN$7)))","v":""},{"$f":"IF($E40=\"\",\"\",IF(INDEX(E_SourceStreams!$A:$N,DT40,AO$7)=\"\",\"\",INDEX(E_SourceStreams!$A:$N,DT40,AO$7)))","v":""},{"$f":"IF($E40=\"\",\"\",IF(INDEX(E_SourceStreams!$A:$N,DU40,AP$7)=\"\",\"\",INDEX(E_SourceStreams!$A:$N,DU40,AP$7)))","v":""},{"$f":"IF($E40=\"\",\"\",IF(INDEX(E_SourceStreams!$A:$N,DV40,AQ$7)=\"\",\"\",INDEX(E_SourceStreams!$A:$N,DV40,AQ$7)))","v":""},{"$f":"IF($E40=\"\",\"\",IF(INDEX(E_SourceStreams!$A:$N,DW40,AR$7)=\"\",\"\",INDEX(E_SourceStreams!$A:$N,DW40,AR$7)))","v":""},{"$f":"IF($E40=\"\",\"\",IF(INDEX(E_SourceStreams!$A:$N,DX40,AS$7)=\"\",\"\",INDEX(E_SourceStreams!$A:$N,DX40,AS$7)))","v":""},{"$f":"IF($E40=\"\",\"\",IF(INDEX(E_SourceStreams!$A:$N,DY40,AT$7)=\"\",\"\",INDEX(E_SourceStreams!$A:$N,DY40,AT$7)))","v":""},{"$f":"IF($E40=\"\",\"\",IF(INDEX(E_SourceStreams!$A:$N,DZ40,AU$7)=\"\",\"\",INDEX(E_SourceStreams!$A:$N,DZ40,AU$7)))","v":""},{"$f":"IF($E40=\"\",\"\",IF(INDEX(E_SourceStreams!$A:$N,EA40,AV$7)=\"\",\"\",INDEX(E_SourceStreams!$A:$N,EA40,AV$7)))","v":""},{"$f":"IF($E40=\"\",\"\",IF(INDEX(E_SourceStreams!$A:$N,EB40,AW$7)=\"\",\"\",INDEX(E_SourceStreams!$A:$N,EB40,AW$7)))","v":""},{"$f":"IF($E40=\"\",\"\",IF(INDEX(E_SourceStreams!$A:$N,EC40,AX$7)=\"\",\"\",INDEX(E_SourceStreams!$A:$N,EC40,AX$7)))","v":""},{"$f":"IF($E40=\"\",\"\",IF(INDEX(E_SourceStreams!$A:$N,ED40,AY$7)=\"\",\"\",INDEX(E_SourceStreams!$A:$N,ED40,AY$7)))","v":""},{"$f":"IF($E40=\"\",\"\",IF(INDEX(E_SourceStreams!$A:$N,EE40,AZ$7)=\"\",\"\",INDEX(E_SourceStreams!$A:$N,EE40,AZ$7)))","v":""},{"$f":"IF($E40=\"\",\"\",IF(INDEX(E_SourceStreams!$A:$N,EF40,BA$7)=\"\",\"\",INDEX(E_SourceStreams!$A:$N,EF40,BA$7)))","v":""},{"$f":"IF($E40=\"\",\"\",IF(INDEX(E_SourceStreams!$A:$N,EG40,BB$7)=\"\",\"\",INDEX(E_SourceStreams!$A:$N,EG40,BB$7)))","v":""},{"$f":"IF($E40=\"\",\"\",IF(INDEX(E_SourceStreams!$A:$N,EH40,BC$7)=\"\",\"\",INDEX(E_SourceStreams!$A:$N,EH40,BC$7)))","v":""},{"$f":"IF($E40=\"\",\"\",IF(INDEX(E_SourceStreams!$A:$N,EI40,BD$7)=\"\",\"\",INDEX(E_SourceStreams!$A:$N,EI40,BD$7)))","v":""},{"$f":"IF($E40=\"\",\"\",IF(INDEX(E_SourceStreams!$A:$N,EJ40,BE$7)=\"\",\"\",INDEX(E_SourceStreams!$A:$N,EJ40,BE$7)))","v":""},{"$f":"IF($E40=\"\",\"\",IF(INDEX(E_SourceStreams!$A:$N,EK40,BF$7)=\"\",\"\",INDEX(E_SourceStreams!$A:$N,EK40,BF$7)))","v":""},{"$f":"IF($E40=\"\",\"\",IF(INDEX(E_SourceStreams!$A:$N,EL40,BG$7)=\"\",\"\",INDEX(E_SourceStreams!$A:$N,EL40,BG$7)))","v":""},{"$f":"IF($E40=\"\",\"\",IF(INDEX(E_SourceStreams!$A:$N,EM40,BH$7)=\"\",\"\",INDEX(E_SourceStreams!$A:$N,EM40,BH$7)))","v":""},{"$f":"IF($E40=\"\",\"\",IF(INDEX(E_SourceStreams!$A:$N,EN40,BI$7)=\"\",\"\",INDEX(E_SourceStreams!$A:$N,EN40,BI$7)))","v":""},{"$f":"IF($E40=\"\",\"\",IF(INDEX(E_SourceStreams!$A:$N,EO40,BJ$7)=\"\",\"\",INDEX(E_SourceStreams!$A:$N,EO40,BJ$7)))","v":""},{"$f":"IF($E40=\"\",\"\",IF(INDEX(E_SourceStreams!$A:$N,EP40,BK$7)=\"\",\"\",INDEX(E_SourceStreams!$A:$N,EP40,BK$7)))","v":""},{"$f":"IF($E40=\"\",\"\",IF(INDEX(E_SourceStreams!$A:$N,EQ40,BL$7)=\"\",\"\",INDEX(E_SourceStreams!$A:$N,EQ40,BL$7)))","v":""},{"$f":"IF($E40=\"\",\"\",IF(INDEX(E_SourceStreams!$A:$N,ER40,BM$7)=\"\",\"\",INDEX(E_SourceStreams!$A:$N,ER40,BM$7)))","v":""},{"$f":"IF($E40=\"\",\"\",IF(INDEX(E_SourceStreams!$A:$N,ES40,BN$7)=\"\",\"\",INDEX(E_SourceStreams!$A:$N,ES40,BN$7)))","v":""},{"$f":"IF($E40=\"\",\"\",IF(INDEX(E_SourceStreams!$A:$N,ET40,BO$7)=\"\",\"\",INDEX(E_SourceStreams!$A:$N,ET40,BO$7)))","v":""},{"$f":"IF($E40=\"\",\"\",IF(INDEX(E_SourceStreams!$A:$N,EU40,BP$7)=\"\",\"\",INDEX(E_SourceStreams!$A:$N,EU40,BP$7)))","v":""},{"$f":"IF($E40=\"\",\"\",IF(INDEX(E_SourceStreams!$A:$N,EV40,BQ$7)=\"\",\"\",INDEX(E_SourceStreams!$A:$N,EV40,BQ$7)))","v":""},{"$f":"IF($E40=\"\",\"\",IF(INDEX(E_SourceStreams!$A:$N,EW40,BR$7)=\"\",\"\",INDEX(E_SourceStreams!$A:$N,EW40,BR$7)))","v":""},{"$f":"IF($E40=\"\",\"\",IF(INDEX(E_SourceStreams!$A:$N,EX40,BS$7)=\"\",\"\",INDEX(E_SourceStreams!$A:$N,EX40,BS$7)))","v":""},{"$f":"IF($E40=\"\",\"\",IF(INDEX(E_SourceStreams!$A:$N,EY40,BT$7)=\"\",\"\",INDEX(E_SourceStreams!$A:$N,EY40,BT$7)))","v":""},null,null,null,null,null,null,null,null,null,null,null,null,null,null,null,"SourceCategory_",{"$f":"INDEX(C_InstallationDescription!$A$223:$A$328,ROWS($CI$11:CI40))=\"ausblenden\"","v":false},"SourceStreamName_",null,2048,2050,2052,2054,2056,2058,2060,2060,2060,2060,2060,2063,2067,2068,2069,2076,2086,2086,2086,2086,2086,2086,2086,2077,2087,2087,2087,2087,2087,2087,2087,2078,2088,2088,2088,2088,2088,2088,2088,2079,2089,2089,2089,2089,2089,2089,2089,2080,2090,2090,2090,2090,2090,2090,2090,2081,2091,2091,2091,2091,2091,2091,2091,2097]
[null,{"$f":"IF(COUNTIF($CK$10:CK41,TRUE)>0,\"\",INDEX(C_InstallationDescription!$E$223:$E$239,ROWS($A$11:A41)))","v":""},{"$f":"IF($E41=\"\",\"\",INDEX(C_InstallationDescription!G:G,MATCH($B41,C_InstallationDescription!$E:$E,0)))","v":""},{"$f":"IF($E41=\"\",\"\",INDEX(C_InstallationDescription!I:I,MATCH($B41,C_InstallationDescription!$E:$E,0)))","v":""},{"$f":"IF($B41=\"\",\"\",INDEX(C_InstallationDescription!F:F,MATCH($CJ41,C_InstallationDescription!$Q:$Q,0)))","v":""},{"$f":"IF($E41=\"\",\"\",INDEX(C_InstallationDescription!L:L,MATCH($CJ41,C_InstallationDescription!$Q:$Q,0)))","v":""},{"$f":"IF($E41=\"\",\"\",INDEX(C_InstallationDescription!M:M,MATCH($CJ41,C_InstallationDescription!$Q:$Q,0)))","v":""},{"$f":"IF($E41=\"\",\"\",INDEX(C_InstallationDescription!N:N,MATCH($CJ41,C_InstallationDescription!$Q:$Q,0)))","v":""},{"$f":"IF($E41=\"\",\"\",IF(INDEX(E_SourceStreams!$A:$N,CN41,I$7)=\"\",\"\",INDEX(E_SourceStreams!$A:$N,CN41,I$7)))","v":""},{"$f":"IF($E41=\"\",\"\",IF(INDEX(E_SourceStreams!$A:$N,CO41,J$7)=\"\",\"\",INDEX(E_SourceStreams!$A:$N,CO41,J$7)))","v":""},{"$f":"IF($E41=\"\",\"\",IF(INDEX(E_SourceStreams!$A:$N,CP41,K$7)=\"\",\"\",INDEX(E_SourceStreams!$A:$N,CP41,K$7)))","v":""},{"$f":"IF($E41=\"\",\"\",IF(INDEX(E_SourceStreams!$A:$N,CQ41,L$7)=\"\",\"\",INDEX(E_SourceStreams!$A:$N,CQ41,L$7)))","v":""},{"$f":"IF($E41=\"\",\"\",IF(INDEX(E_SourceStreams!$A:$N,CR41,M$7)=\"\",\"\",INDEX(E_SourceStreams!$A:$N,CR41,M$7)))","v":""},{"$f":"IF($E41=\"\",\"\",IF(INDEX(E_SourceStreams!$A:$N,CS41,N$7)=\"\",\"\",INDEX(E_SourceStreams!$A:$N,CS41,N$7)))","v":""},{"$f":"IF($E41=\"\",\"\",IF(INDEX(E_SourceStreams!$A:$N,CT41,O$7)=\"\",\"\",INDEX(E_SourceStreams!$A:$N,CT41,O$7)))","v":""},{"$f":"IF($E41=\"\",\"\",IF(INDEX(E_SourceStreams!$A:$N,CU41,P$7)=\"\",\"\",INDEX(E_SourceStreams!$A:$N,CU41,P$7)))","v":""},{"$f":"IF($E41=\"\",\"\",IF(INDEX(E_SourceStreams!$A:$N,CV41,Q$7)=\"\",\"\",INDEX(E_SourceStreams!$A:$N,CV41,Q$7)))","v":""},{"$f":"IF($E41=\"\",\"\",IF(INDEX(E_SourceStreams!$A:$N,CW41,R$7)=\"\",\"\",INDEX(E_SourceStreams!$A:$N,CW41,R$7)))","v":""},{"$f":"IF($E41=\"\",\"\",IF(INDEX(E_SourceStreams!$A:$N,CX41,S$7)=\"\",\"\",INDEX(E_SourceStreams!$A:$N,CX41,S$7)))","v":""},{"$f":"IF($E41=\"\",\"\",IF(INDEX(E_SourceStreams!$A:$N,CY41,T$7)=\"\",\"\",INDEX(E_SourceStreams!$A:$N,CY41,T$7)))","v":""},{"$f":"IF($E41=\"\",\"\",IF(INDEX(E_SourceStreams!$A:$N,CZ41,U$7)=\"\",\"\",INDEX(E_SourceStreams!$A:$N,CZ41,U$7)))","v":""},{"$f":"IF($E41=\"\",\"\",IF(INDEX(E_SourceStreams!$A:$N,DA41,V$7)=\"\",\"\",INDEX(E_SourceStreams!$A:$N,DA41,V$7)))","v":""},{"$f":"IF($E41=\"\",\"\",IF(INDEX(E_SourceStreams!$A:$N,DB41,W$7)=\"\",\"\",INDEX(E_SourceStreams!$A:$N,DB41,W$7)))","v":""},{"$f":"IF($E41=\"\",\"\",IF(INDEX(E_SourceStreams!$A:$N,DC41,X$7)=\"\",\"\",INDEX(E_SourceStreams!$A:$N,DC41,X$7)))","v":""},{"$f":"IF($E41=\"\",\"\",IF(INDEX(E_SourceStreams!$A:$N,DD41,Y$7)=\"\",\"\",INDEX(E_SourceStreams!$A:$N,DD41,Y$7)))","v":""},{"$f":"IF($E41=\"\",\"\",IF(INDEX(E_SourceStreams!$A:$N,DE41,Z$7)=\"\",\"\",INDEX(E_SourceStreams!$A:$N,DE41,Z$7)))","v":""},{"$f":"IF($E41=\"\",\"\",IF(INDEX(E_SourceStreams!$A:$N,DF41,AA$7)=\"\",\"\",INDEX(E_SourceStreams!$A:$N,DF41,AA$7)))","v":""},{"$f":"IF($E41=\"\",\"\",IF(INDEX(E_SourceStreams!$A:$N,DG41,AB$7)=\"\",\"\",INDEX(E_SourceStreams!$A:$N,DG41,AB$7)))","v":""},{"$f":"IF($E41=\"\",\"\",IF(INDEX(E_SourceStreams!$A:$N,DH41,AC$7)=\"\",\"\",INDEX(E_SourceStreams!$A:$N,DH41,AC$7)))","v":""},{"$f":"IF($E41=\"\",\"\",IF(INDEX(E_SourceStreams!$A:$N,DI41,AD$7)=\"\",\"\",INDEX(E_SourceStreams!$A:$N,DI41,AD$7)))","v":""},{"$f":"IF($E41=\"\",\"\",IF(INDEX(E_SourceStreams!$A:$N,DJ41,AE$7)=\"\",\"\",INDEX(E_SourceStreams!$A:$N,DJ41,AE$7)))","v":""},{"$f":"IF($E41=\"\",\"\",IF(INDEX(E_SourceStreams!$A:$N,DK41,AF$7)=\"\",\"\",INDEX(E_SourceStreams!$A:$N,DK41,AF$7)))","v":""},{"$f":"IF($E41=\"\",\"\",IF(INDEX(E_SourceStreams!$A:$N,DL41,AG$7)=\"\",\"\",INDEX(E_SourceStreams!$A:$N,DL41,AG$7)))","v":""},{"$f":"IF($E41=\"\",\"\",IF(INDEX(E_SourceStreams!$A:$N,DM41,AH$7)=\"\",\"\",INDEX(E_SourceStreams!$A:$N,DM41,AH$7)))","v":""},{"$f":"IF($E41=\"\",\"\",IF(INDEX(E_SourceStreams!$A:$N,DN41,AI$7)=\"\",\"\",INDEX(E_SourceStreams!$A:$N,DN41,AI$7)))","v":""},{"$f":"IF($E41=\"\",\"\",IF(INDEX(E_SourceStreams!$A:$N,DO41,AJ$7)=\"\",\"\",INDEX(E_SourceStreams!$A:$N,DO41,AJ$7)))","v":""},{"$f":"IF($E41=\"\",\"\",IF(INDEX(E_SourceStreams!$A:$N,DP41,AK$7)=\"\",\"\",INDEX(E_SourceStreams!$A:$N,DP41,AK$7)))","v":""},{"$f":"IF($E41=\"\",\"\",IF(INDEX(E_SourceStreams!$A:$N,DQ41,AL$7)=\"\",\"\",INDEX(E_SourceStreams!$A:$N,DQ41,AL$7)))","v":""},{"$f":"IF($E41=\"\",\"\",IF(INDEX(E_SourceStreams!$A:$N,DR41,AM$7)=\"\",\"\",INDEX(E_SourceStreams!$A:$N,DR41,AM$7)))","v":""},{"$f":"IF($E41=\"\",\"\",IF(INDEX(E_SourceStreams!$A:$N,DS41,AN$7)=\"\",\"\",INDEX(E_SourceStreams!$A:$N,DS41,AN$7)))","v":""},{"$f":"IF($E41=\"\",\"\",IF(INDEX(E_SourceStreams!$A:$N,DT41,AO$7)=\"\",\"\",INDEX(E_SourceStreams!$A:$N,DT41,AO$7)))","v":""},{"$f":"IF($E41=\"\",\"\",IF(INDEX(E_SourceStreams!$A:$N,DU41,AP$7)=\"\",\"\",INDEX(E_SourceStreams!$A:$N,DU41,AP$7)))","v":""},{"$f":"IF($E41=\"\",\"\",IF(INDEX(E_SourceStreams!$A:$N,DV41,AQ$7)=\"\",\"\",INDEX(E_SourceStreams!$A:$N,DV41,AQ$7)))","v":""},{"$f":"IF($E41=\"\",\"\",IF(INDEX(E_SourceStreams!$A:$N,DW41,AR$7)=\"\",\"\",INDEX(E_SourceStreams!$A:$N,DW41,AR$7)))","v":""},{"$f":"IF($E41=\"\",\"\",IF(INDEX(E_SourceStreams!$A:$N,DX41,AS$7)=\"\",\"\",INDEX(E_SourceStreams!$A:$N,DX41,AS$7)))","v":""},{"$f":"IF($E41=\"\",\"\",IF(INDEX(E_SourceStreams!$A:$N,DY41,AT$7)=\"\",\"\",INDEX(E_SourceStreams!$A:$N,DY41,AT$7)))","v":""},{"$f":"IF($E41=\"\",\"\",IF(INDEX(E_SourceStreams!$A:$N,DZ41,AU$7)=\"\",\"\",INDEX(E_SourceStreams!$A:$N,DZ41,AU$7)))","v":""},{"$f":"IF($E41=\"\",\"\",IF(INDEX(E_SourceStreams!$A:$N,EA41,AV$7)=\"\",\"\",INDEX(E_SourceStreams!$A:$N,EA41,AV$7)))","v":""},{"$f":"IF($E41=\"\",\"\",IF(INDEX(E_SourceStreams!$A:$N,EB41,AW$7)=\"\",\"\",INDEX(E_SourceStreams!$A:$N,EB41,AW$7)))","v":""},{"$f":"IF($E41=\"\",\"\",IF(INDEX(E_SourceStreams!$A:$N,EC41,AX$7)=\"\",\"\",INDEX(E_SourceStreams!$A:$N,EC41,AX$7)))","v":""},{"$f":"IF($E41=\"\",\"\",IF(INDEX(E_SourceStreams!$A:$N,ED41,AY$7)=\"\",\"\",INDEX(E_SourceStreams!$A:$N,ED41,AY$7)))","v":""},{"$f":"IF($E41=\"\",\"\",IF(INDEX(E_SourceStreams!$A:$N,EE41,AZ$7)=\"\",\"\",INDEX(E_SourceStreams!$A:$N,EE41,AZ$7)))","v":""},{"$f":"IF($E41=\"\",\"\",IF(INDEX(E_SourceStreams!$A:$N,EF41,BA$7)=\"\",\"\",INDEX(E_SourceStreams!$A:$N,EF41,BA$7)))","v":""},{"$f":"IF($E41=\"\",\"\",IF(INDEX(E_SourceStreams!$A:$N,EG41,BB$7)=\"\",\"\",INDEX(E_SourceStreams!$A:$N,EG41,BB$7)))","v":""},{"$f":"IF($E41=\"\",\"\",IF(INDEX(E_SourceStreams!$A:$N,EH41,BC$7)=\"\",\"\",INDEX(E_SourceStreams!$A:$N,EH41,BC$7)))","v":""},{"$f":"IF($E41=\"\",\"\",IF(INDEX(E_SourceStreams!$A:$N,EI41,BD$7)=\"\",\"\",INDEX(E_SourceStreams!$A:$N,EI41,BD$7)))","v":""},{"$f":"IF($E41=\"\",\"\",IF(INDEX(E_SourceStreams!$A:$N,EJ41,BE$7)=\"\",\"\",INDEX(E_SourceStreams!$A:$N,EJ41,BE$7)))","v":""},{"$f":"IF($E41=\"\",\"\",IF(INDEX(E_SourceStreams!$A:$N,EK41,BF$7)=\"\",\"\",INDEX(E_SourceStreams!$A:$N,EK41,BF$7)))","v":""},{"$f":"IF($E41=\"\",\"\",IF(INDEX(E_SourceStreams!$A:$N,EL41,BG$7)=\"\",\"\",INDEX(E_SourceStreams!$A:$N,EL41,BG$7)))","v":""},{"$f":"IF($E41=\"\",\"\",IF(INDEX(E_SourceStreams!$A:$N,EM41,BH$7)=\"\",\"\",INDEX(E_SourceStreams!$A:$N,EM41,BH$7)))","v":""},{"$f":"IF($E41=\"\",\"\",IF(INDEX(E_SourceStreams!$A:$N,EN41,BI$7)=\"\",\"\",INDEX(E_SourceStreams!$A:$N,EN41,BI$7)))","v":""},{"$f":"IF($E41=\"\",\"\",IF(INDEX(E_SourceStreams!$A:$N,EO41,BJ$7)=\"\",\"\",INDEX(E_SourceStreams!$A:$N,EO41,BJ$7)))","v":""},{"$f":"IF($E41=\"\",\"\",IF(INDEX(E_SourceStreams!$A:$N,EP41,BK$7)=\"\",\"\",INDEX(E_SourceStreams!$A:$N,EP41,BK$7)))","v":""},{"$f":"IF($E41=\"\",\"\",IF(INDEX(E_SourceStreams!$A:$N,EQ41,BL$7)=\"\",\"\",INDEX(E_SourceStreams!$A:$N,EQ41,BL$7)))","v":""},{"$f":"IF($E41=\"\",\"\",IF(INDEX(E_SourceStreams!$A:$N,ER41,BM$7)=\"\",\"\",INDEX(E_SourceStreams!$A:$N,ER41,BM$7)))","v":""},{"$f":"IF($E41=\"\",\"\",IF(INDEX(E_SourceStreams!$A:$N,ES41,BN$7)=\"\",\"\",INDEX(E_SourceStreams!$A:$N,ES41,BN$7)))","v":""},{"$f":"IF($E41=\"\",\"\",IF(INDEX(E_SourceStreams!$A:$N,ET41,BO$7)=\"\",\"\",INDEX(E_SourceStreams!$A:$N,ET41,BO$7)))","v":""},{"$f":"IF($E41=\"\",\"\",IF(INDEX(E_SourceStreams!$A:$N,EU41,BP$7)=\"\",\"\",INDEX(E_SourceStreams!$A:$N,EU41,BP$7)))","v":""},{"$f":"IF($E41=\"\",\"\",IF(INDEX(E_SourceStreams!$A:$N,EV41,BQ$7)=\"\",\"\",INDEX(E_SourceStreams!$A:$N,EV41,BQ$7)))","v":""},{"$f":"IF($E41=\"\",\"\",IF(INDEX(E_SourceStreams!$A:$N,EW41,BR$7)=\"\",\"\",INDEX(E_SourceStreams!$A:$N,EW41,BR$7)))","v":""},{"$f":"IF($E41=\"\",\"\",IF(INDEX(E_SourceStreams!$A:$N,EX41,BS$7)=\"\",\"\",INDEX(E_SourceStreams!$A:$N,EX41,BS$7)))","v":""},{"$f":"IF($E41=\"\",\"\",IF(INDEX(E_SourceStreams!$A:$N,EY41,BT$7)=\"\",\"\",INDEX(E_SourceStreams!$A:$N,EY41,BT$7)))","v":""},null,null,null,null,null,null,null,null,null,null,null,null,null,null,null,"SourceCategory_",{"$f":"INDEX(C_InstallationDescription!$A$223:$A$328,ROWS($CI$11:CI41))=\"ausblenden\"","v":false},"SourceStreamName_",null,2114,2116,2118,2120,2122,2124,2126,2126,2126,2126,2126,2129,2133,2134,2135,2142,2152,2152,2152,2152,2152,2152,2152,2143,2153,2153,2153,2153,2153,2153,2153,2144,2154,2154,2154,2154,2154,2154,2154,2145,2155,2155,2155,2155,2155,2155,2155,2146,2156,2156,2156,2156,2156,2156,2156,2147,2157,2157,2157,2157,2157,2157,2157,2163]
[null,{"$f":"IF(COUNTIF($CK$10:CK42,TRUE)>0,\"\",INDEX(C_InstallationDescription!$E$223:$E$239,ROWS($A$11:A42)))","v":""},{"$f":"IF($E42=\"\",\"\",INDEX(C_InstallationDescription!G:G,MATCH($B42,C_InstallationDescription!$E:$E,0)))","v":""},{"$f":"IF($E42=\"\",\"\",INDEX(C_InstallationDescription!I:I,MATCH($B42,C_InstallationDescription!$E:$E,0)))","v":""},{"$f":"IF($B42=\"\",\"\",INDEX(C_InstallationDescription!F:F,MATCH($CJ42,C_InstallationDescription!$Q:$Q,0)))","v":""},{"$f":"IF($E42=\"\",\"\",INDEX(C_InstallationDescription!L:L,MATCH($CJ42,C_InstallationDescription!$Q:$Q,0)))","v":""},{"$f":"IF($E42=\"\",\"\",INDEX(C_InstallationDescription!M:M,MATCH($CJ42,C_InstallationDescription!$Q:$Q,0)))","v":""},{"$f":"IF($E42=\"\",\"\",INDEX(C_InstallationDescription!N:N,MATCH($CJ42,C_InstallationDescription!$Q:$Q,0)))","v":""},{"$f":"IF($E42=\"\",\"\",IF(INDEX(E_SourceStreams!$A:$N,CN42,I$7)=\"\",\"\",INDEX(E_SourceStreams!$A:$N,CN42,I$7)))","v":""},{"$f":"IF($E42=\"\",\"\",IF(INDEX(E_SourceStreams!$A:$N,CO42,J$7)=\"\",\"\",INDEX(E_SourceStreams!$A:$N,CO42,J$7)))","v":""},{"$f":"IF($E42=\"\",\"\",IF(INDEX(E_SourceStreams!$A:$N,CP42,K$7)=\"\",\"\",INDEX(E_SourceStreams!$A:$N,CP42,K$7)))","v":""},{"$f":"IF($E42=\"\",\"\",IF(INDEX(E_SourceStreams!$A:$N,CQ42,L$7)=\"\",\"\",INDEX(E_SourceStreams!$A:$N,CQ42,L$7)))","v":""},{"$f":"IF($E42=\"\",\"\",IF(INDEX(E_SourceStreams!$A:$N,CR42,M$7)=\"\",\"\",INDEX(E_SourceStreams!$A:$N,CR42,M$7)))","v":""},{"$f":"IF($E42=\"\",\"\",IF(INDEX(E_SourceStreams!$A:$N,CS42,N$7)=\"\",\"\",INDEX(E_SourceStreams!$A:$N,CS42,N$7)))","v":""},{"$f":"IF($E42=\"\",\"\",IF(INDEX(E_SourceStreams!$A:$N,CT42,O$7)=\"\",\"\",INDEX(E_SourceStreams!$A:$N,CT42,O$7)))","v":""},{"$f":"IF($E42=\"\",\"\",IF(INDEX(E_SourceStreams!$A:$N,CU42,P$7)=\"\",\"\",INDEX(E_SourceStreams!$A:$N,CU42,P$7)))","v":""},{"$f":"IF($E42=\"\",\"\",IF(INDEX(E_SourceStreams!$A:$N,CV42,Q$7)=\"\",\"\",INDEX(E_SourceStreams!$A:$N,CV42,Q$7)))","v":""},{"$f":"IF($E42=\"\",\"\",IF(INDEX(E_SourceStreams!$A:$N,CW42,R$7)=\"\",\"\",INDEX(E_SourceStreams!$A:$N,CW42,R$7)))","v":""},{"$f":"IF($E42=\"\",\"\",IF(INDEX(E_SourceStreams!$A:$N,CX42,S$7)=\"\",\"\",INDEX(E_SourceStreams!$A:$N,CX42,S$7)))","v":""},{"$f":"IF($E42=\"\",\"\",IF(INDEX(E_SourceStreams!$A:$N,CY42,T$7)=\"\",\"\",INDEX(E_SourceStreams!$A:$N,CY42,T$7)))","v":""},{"$f":"IF($E42=\"\",\"\",IF(INDEX(E_SourceStreams!$A:$N,CZ42,U$7)=\"\",\"\",INDEX(E_SourceStreams!$A:$N,CZ42,U$7)))","v":""},{"$f":"IF($E42=\"\",\"\",IF(INDEX(E_SourceStreams!$A:$N,DA42,V$7)=\"\",\"\",INDEX(E_SourceStreams!$A:$N,DA42,V$7)))","v":""},{"$f":"IF($E42=\"\",\"\",IF(INDEX(E_SourceStreams!$A:$N,DB42,W$7)=\"\",\"\",INDEX(E_SourceStreams!$A:$N,DB42,W$7)))","v":""},{"$f":"IF($E42=\"\",\"\",IF(INDEX(E_SourceStreams!$A:$N,DC42,X$7)=\"\",\"\",INDEX(E_SourceStreams!$A:$N,DC42,X$7)))","v":""},{"$f":"IF($E42=\"\",\"\",IF(INDEX(E_SourceStreams!$A:$N,DD42,Y$7)=\"\",\"\",INDEX(E_SourceStreams!$A:$N,DD42,Y$7)))","v":""},{"$f":"IF($E42=\"\",\"\",IF(INDEX(E_SourceStreams!$A:$N,DE42,Z$7)=\"\",\"\",INDEX(E_SourceStreams!$A:$N,DE42,Z$7)))","v":""},{"$f":"IF($E42=\"\",\"\",IF(INDEX(E_SourceStreams!$A:$N,DF42,AA$7)=\"\",\"\",INDEX(E_SourceStreams!$A:$N,DF42,AA$7)))","v":""},{"$f":"IF($E42=\"\",\"\",IF(INDEX(E_SourceStreams!$A:$N,DG42,AB$7)=\"\",\"\",INDEX(E_SourceStreams!$A:$N,DG42,AB$7)))","v":""},{"$f":"IF($E42=\"\",\"\",IF(INDEX(E_SourceStreams!$A:$N,DH42,AC$7)=\"\",\"\",INDEX(E_SourceStreams!$A:$N,DH42,AC$7)))","v":""},{"$f":"IF($E42=\"\",\"\",IF(INDEX(E_SourceStreams!$A:$N,DI42,AD$7)=\"\",\"\",INDEX(E_SourceStreams!$A:$N,DI42,AD$7)))","v":""},{"$f":"IF($E42=\"\",\"\",IF(INDEX(E_SourceStreams!$A:$N,DJ42,AE$7)=\"\",\"\",INDEX(E_SourceStreams!$A:$N,DJ42,AE$7)))","v":""},{"$f":"IF($E42=\"\",\"\",IF(INDEX(E_SourceStreams!$A:$N,DK42,AF$7)=\"\",\"\",INDEX(E_SourceStreams!$A:$N,DK42,AF$7)))","v":""},{"$f":"IF($E42=\"\",\"\",IF(INDEX(E_SourceStreams!$A:$N,DL42,AG$7)=\"\",\"\",INDEX(E_SourceStreams!$A:$N,DL42,AG$7)))","v":""},{"$f":"IF($E42=\"\",\"\",IF(INDEX(E_SourceStreams!$A:$N,DM42,AH$7)=\"\",\"\",INDEX(E_SourceStreams!$A:$N,DM42,AH$7)))","v":""},{"$f":"IF($E42=\"\",\"\",IF(INDEX(E_SourceStreams!$A:$N,DN42,AI$7)=\"\",\"\",INDEX(E_SourceStreams!$A:$N,DN42,AI$7)))","v":""},{"$f":"IF($E42=\"\",\"\",IF(INDEX(E_SourceStreams!$A:$N,DO42,AJ$7)=\"\",\"\",INDEX(E_SourceStreams!$A:$N,DO42,AJ$7)))","v":""},{"$f":"IF($E42=\"\",\"\",IF(INDEX(E_SourceStreams!$A:$N,DP42,AK$7)=\"\",\"\",INDEX(E_SourceStreams!$A:$N,DP42,AK$7)))","v":""},{"$f":"IF($E42=\"\",\"\",IF(INDEX(E_SourceStreams!$A:$N,DQ42,AL$7)=\"\",\"\",INDEX(E_SourceStreams!$A:$N,DQ42,AL$7)))","v":""},{"$f":"IF($E42=\"\",\"\",IF(INDEX(E_SourceStreams!$A:$N,DR42,AM$7)=\"\",\"\",INDEX(E_SourceStreams!$A:$N,DR42,AM$7)))","v":""},{"$f":"IF($E42=\"\",\"\",IF(INDEX(E_SourceStreams!$A:$N,DS42,AN$7)=\"\",\"\",INDEX(E_SourceStreams!$A:$N,DS42,AN$7)))","v":""},{"$f":"IF($E42=\"\",\"\",IF(INDEX(E_SourceStreams!$A:$N,DT42,AO$7)=\"\",\"\",INDEX(E_SourceStreams!$A:$N,DT42,AO$7)))","v":""},{"$f":"IF($E42=\"\",\"\",IF(INDEX(E_SourceStreams!$A:$N,DU42,AP$7)=\"\",\"\",INDEX(E_SourceStreams!$A:$N,DU42,AP$7)))","v":""},{"$f":"IF($E42=\"\",\"\",IF(INDEX(E_SourceStreams!$A:$N,DV42,AQ$7)=\"\",\"\",INDEX(E_SourceStreams!$A:$N,DV42,AQ$7)))","v":""},{"$f":"IF($E42=\"\",\"\",IF(INDEX(E_SourceStreams!$A:$N,DW42,AR$7)=\"\",\"\",INDEX(E_SourceStreams!$A:$N,DW42,AR$7)))","v":""},{"$f":"IF($E42=\"\",\"\",IF(INDEX(E_SourceStreams!$A:$N,DX42,AS$7)=\"\",\"\",INDEX(E_SourceStreams!$A:$N,DX42,AS$7)))","v":""},{"$f":"IF($E42=\"\",\"\",IF(INDEX(E_SourceStreams!$A:$N,DY42,AT$7)=\"\",\"\",INDEX(E_SourceStreams!$A:$N,DY42,AT$7)))","v":""},{"$f":"IF($E42=\"\",\"\",IF(INDEX(E_SourceStreams!$A:$N,DZ42,AU$7)=\"\",\"\",INDEX(E_SourceStreams!$A:$N,DZ42,AU$7)))","v":""},{"$f":"IF($E42=\"\",\"\",IF(INDEX(E_SourceStreams!$A:$N,EA42,AV$7)=\"\",\"\",INDEX(E_SourceStreams!$A:$N,EA42,AV$7)))","v":""},{"$f":"IF($E42=\"\",\"\",IF(INDEX(E_SourceStreams!$A:$N,EB42,AW$7)=\"\",\"\",INDEX(E_SourceStreams!$A:$N,EB42,AW$7)))","v":""},{"$f":"IF($E42=\"\",\"\",IF(INDEX(E_SourceStreams!$A:$N,EC42,AX$7)=\"\",\"\",INDEX(E_SourceStreams!$A:$N,EC42,AX$7)))","v":""},{"$f":"IF($E42=\"\",\"\",IF(INDEX(E_SourceStreams!$A:$N,ED42,AY$7)=\"\",\"\",INDEX(E_SourceStreams!$A:$N,ED42,AY$7)))","v":""},{"$f":"IF($E42=\"\",\"\",IF(INDEX(E_SourceStreams!$A:$N,EE42,AZ$7)=\"\",\"\",INDEX(E_SourceStreams!$A:$N,EE42,AZ$7)))","v":""},{"$f":"IF($E42=\"\",\"\",IF(INDEX(E_SourceStreams!$A:$N,EF42,BA$7)=\"\",\"\",INDEX(E_SourceStreams!$A:$N,EF42,BA$7)))","v":""},{"$f":"IF($E42=\"\",\"\",IF(INDEX(E_SourceStreams!$A:$N,EG42,BB$7)=\"\",\"\",INDEX(E_SourceStreams!$A:$N,EG42,BB$7)))","v":""},{"$f":"IF($E42=\"\",\"\",IF(INDEX(E_SourceStreams!$A:$N,EH42,BC$7)=\"\",\"\",INDEX(E_SourceStreams!$A:$N,EH42,BC$7)))","v":""},{"$f":"IF($E42=\"\",\"\",IF(INDEX(E_SourceStreams!$A:$N,EI42,BD$7)=\"\",\"\",INDEX(E_SourceStreams!$A:$N,EI42,BD$7)))","v":""},{"$f":"IF($E42=\"\",\"\",IF(INDEX(E_SourceStreams!$A:$N,EJ42,BE$7)=\"\",\"\",INDEX(E_SourceStreams!$A:$N,EJ42,BE$7)))","v":""},{"$f":"IF($E42=\"\",\"\",IF(INDEX(E_SourceStreams!$A:$N,EK42,BF$7)=\"\",\"\",INDEX(E_SourceStreams!$A:$N,EK42,BF$7)))","v":""},{"$f":"IF($E42=\"\",\"\",IF(INDEX(E_SourceStreams!$A:$N,EL42,BG$7)=\"\",\"\",INDEX(E_SourceStreams!$A:$N,EL42,BG$7)))","v":""},{"$f":"IF($E42=\"\",\"\",IF(INDEX(E_SourceStreams!$A:$N,EM42,BH$7)=\"\",\"\",INDEX(E_SourceStreams!$A:$N,EM42,BH$7)))","v":""},{"$f":"IF($E42=\"\",\"\",IF(INDEX(E_SourceStreams!$A:$N,EN42,BI$7)=\"\",\"\",INDEX(E_SourceStreams!$A:$N,EN42,BI$7)))","v":""},{"$f":"IF($E42=\"\",\"\",IF(INDEX(E_SourceStreams!$A:$N,EO42,BJ$7)=\"\",\"\",INDEX(E_SourceStreams!$A:$N,EO42,BJ$7)))","v":""},{"$f":"IF($E42=\"\",\"\",IF(INDEX(E_SourceStreams!$A:$N,EP42,BK$7)=\"\",\"\",INDEX(E_SourceStreams!$A:$N,EP42,BK$7)))","v":""},{"$f":"IF($E42=\"\",\"\",IF(INDEX(E_SourceStreams!$A:$N,EQ42,BL$7)=\"\",\"\",INDEX(E_SourceStreams!$A:$N,EQ42,BL$7)))","v":""},{"$f":"IF($E42=\"\",\"\",IF(INDEX(E_SourceStreams!$A:$N,ER42,BM$7)=\"\",\"\",INDEX(E_SourceStreams!$A:$N,ER42,BM$7)))","v":""},{"$f":"IF($E42=\"\",\"\",IF(INDEX(E_SourceStreams!$A:$N,ES42,BN$7)=\"\",\"\",INDEX(E_SourceStreams!$A:$N,ES42,BN$7)))","v":""},{"$f":"IF($E42=\"\",\"\",IF(INDEX(E_SourceStreams!$A:$N,ET42,BO$7)=\"\",\"\",INDEX(E_SourceStreams!$A:$N,ET42,BO$7)))","v":""},{"$f":"IF($E42=\"\",\"\",IF(INDEX(E_SourceStreams!$A:$N,EU42,BP$7)=\"\",\"\",INDEX(E_SourceStreams!$A:$N,EU42,BP$7)))","v":""},{"$f":"IF($E42=\"\",\"\",IF(INDEX(E_SourceStreams!$A:$N,EV42,BQ$7)=\"\",\"\",INDEX(E_SourceStreams!$A:$N,EV42,BQ$7)))","v":""},{"$f":"IF($E42=\"\",\"\",IF(INDEX(E_SourceStreams!$A:$N,EW42,BR$7)=\"\",\"\",INDEX(E_SourceStreams!$A:$N,EW42,BR$7)))","v":""},{"$f":"IF($E42=\"\",\"\",IF(INDEX(E_SourceStreams!$A:$N,EX42,BS$7)=\"\",\"\",INDEX(E_SourceStreams!$A:$N,EX42,BS$7)))","v":""},{"$f":"IF($E42=\"\",\"\",IF(INDEX(E_SourceStreams!$A:$N,EY42,BT$7)=\"\",\"\",INDEX(E_SourceStreams!$A:$N,EY42,BT$7)))","v":""},null,null,null,null,null,null,null,null,null,null,null,null,null,null,null,"SourceCategory_",{"$f":"INDEX(C_InstallationDescription!$A$223:$A$328,ROWS($CI$11:CI42))=\"ausblenden\"","v":false},"SourceStreamName_",null,2180,2182,2184,2186,2188,2190,2192,2192,2192,2192,2192,2195,2199,2200,2201,2208,2218,2218,2218,2218,2218,2218,2218,2209,2219,2219,2219,2219,2219,2219,2219,2210,2220,2220,2220,2220,2220,2220,2220,2211,2221,2221,2221,2221,2221,2221,2221,2212,2222,2222,2222,2222,2222,2222,2222,2213,2223,2223,2223,2223,2223,2223,2223,2229]
[null,{"$f":"IF(COUNTIF($CK$10:CK43,TRUE)>0,\"\",INDEX(C_InstallationDescription!$E$223:$E$239,ROWS($A$11:A43)))","v":""},{"$f":"IF($E43=\"\",\"\",INDEX(C_InstallationDescription!G:G,MATCH($B43,C_InstallationDescription!$E:$E,0)))","v":""},{"$f":"IF($E43=\"\",\"\",INDEX(C_InstallationDescription!I:I,MATCH($B43,C_InstallationDescription!$E:$E,0)))","v":""},{"$f":"IF($B43=\"\",\"\",INDEX(C_InstallationDescription!F:F,MATCH($CJ43,C_InstallationDescription!$Q:$Q,0)))","v":""},{"$f":"IF($E43=\"\",\"\",INDEX(C_InstallationDescription!L:L,MATCH($CJ43,C_InstallationDescription!$Q:$Q,0)))","v":""},{"$f":"IF($E43=\"\",\"\",INDEX(C_InstallationDescription!M:M,MATCH($CJ43,C_InstallationDescription!$Q:$Q,0)))","v":""},{"$f":"IF($E43=\"\",\"\",INDEX(C_InstallationDescription!N:N,MATCH($CJ43,C_InstallationDescription!$Q:$Q,0)))","v":""},{"$f":"IF($E43=\"\",\"\",IF(INDEX(E_SourceStreams!$A:$N,CN43,I$7)=\"\",\"\",INDEX(E_SourceStreams!$A:$N,CN43,I$7)))","v":""},{"$f":"IF($E43=\"\",\"\",IF(INDEX(E_SourceStreams!$A:$N,CO43,J$7)=\"\",\"\",INDEX(E_SourceStreams!$A:$N,CO43,J$7)))","v":""},{"$f":"IF($E43=\"\",\"\",IF(INDEX(E_SourceStreams!$A:$N,CP43,K$7)=\"\",\"\",INDEX(E_SourceStreams!$A:$N,CP43,K$7)))","v":""},{"$f":"IF($E43=\"\",\"\",IF(INDEX(E_SourceStreams!$A:$N,CQ43,L$7)=\"\",\"\",INDEX(E_SourceStreams!$A:$N,CQ43,L$7)))","v":""},{"$f":"IF($E43=\"\",\"\",IF(INDEX(E_SourceStreams!$A:$N,CR43,M$7)=\"\",\"\",INDEX(E_SourceStreams!$A:$N,CR43,M$7)))","v":""},{"$f":"IF($E43=\"\",\"\",IF(INDEX(E_SourceStreams!$A:$N,CS43,N$7)=\"\",\"\",INDEX(E_SourceStreams!$A:$N,CS43,N$7)))","v":""},{"$f":"IF($E43=\"\",\"\",IF(INDEX(E_SourceStreams!$A:$N,CT43,O$7)=\"\",\"\",INDEX(E_SourceStreams!$A:$N,CT43,O$7)))","v":""},{"$f":"IF($E43=\"\",\"\",IF(INDEX(E_SourceStreams!$A:$N,CU43,P$7)=\"\",\"\",INDEX(E_SourceStreams!$A:$N,CU43,P$7)))","v":""},{"$f":"IF($E43=\"\",\"\",IF(INDEX(E_SourceStreams!$A:$N,CV43,Q$7)=\"\",\"\",INDEX(E_SourceStreams!$A:$N,CV43,Q$7)))","v":""},{"$f":"IF($E43=\"\",\"\",IF(INDEX(E_SourceStreams!$A:$N,CW43,R$7)=\"\",\"\",INDEX(E_SourceStreams!$A:$N,CW43,R$7)))","v":""},{"$f":"IF($E43=\"\",\"\",IF(INDEX(E_SourceStreams!$A:$N,CX43,S$7)=\"\",\"\",INDEX(E_SourceStreams!$A:$N,CX43,S$7)))","v":""},{"$f":"IF($E43=\"\",\"\",IF(INDEX(E_SourceStreams!$A:$N,CY43,T$7)=\"\",\"\",INDEX(E_SourceStreams!$A:$N,CY43,T$7)))","v":""},{"$f":"IF($E43=\"\",\"\",IF(INDEX(E_SourceStreams!$A:$N,CZ43,U$7)=\"\",\"\",INDEX(E_SourceStreams!$A:$N,CZ43,U$7)))","v":""},{"$f":"IF($E43=\"\",\"\",IF(INDEX(E_SourceStreams!$A:$N,DA43,V$7)=\"\",\"\",INDEX(E_SourceStreams!$A:$N,DA43,V$7)))","v":""},{"$f":"IF($E43=\"\",\"\",IF(INDEX(E_SourceStreams!$A:$N,DB43,W$7)=\"\",\"\",INDEX(E_SourceStreams!$A:$N,DB43,W$7)))","v":""},{"$f":"IF($E43=\"\",\"\",IF(INDEX(E_SourceStreams!$A:$N,DC43,X$7)=\"\",\"\",INDEX(E_SourceStreams!$A:$N,DC43,X$7)))","v":""},{"$f":"IF($E43=\"\",\"\",IF(INDEX(E_SourceStreams!$A:$N,DD43,Y$7)=\"\",\"\",INDEX(E_SourceStreams!$A:$N,DD43,Y$7)))","v":""},{"$f":"IF($E43=\"\",\"\",IF(INDEX(E_SourceStreams!$A:$N,DE43,Z$7)=\"\",\"\",INDEX(E_SourceStreams!$A:$N,DE43,Z$7)))","v":""},{"$f":"IF($E43=\"\",\"\",IF(INDEX(E_SourceStreams!$A:$N,DF43,AA$7)=\"\",\"\",INDEX(E_SourceStreams!$A:$N,DF43,AA$7)))","v":""},{"$f":"IF($E43=\"\",\"\",IF(INDEX(E_SourceStreams!$A:$N,DG43,AB$7)=\"\",\"\",INDEX(E_SourceStreams!$A:$N,DG43,AB$7)))","v":""},{"$f":"IF($E43=\"\",\"\",IF(INDEX(E_SourceStreams!$A:$N,DH43,AC$7)=\"\",\"\",INDEX(E_SourceStreams!$A:$N,DH43,AC$7)))","v":""},{"$f":"IF($E43=\"\",\"\",IF(INDEX(E_SourceStreams!$A:$N,DI43,AD$7)=\"\",\"\",INDEX(E_SourceStreams!$A:$N,DI43,AD$7)))","v":""},{"$f":"IF($E43=\"\",\"\",IF(INDEX(E_SourceStreams!$A:$N,DJ43,AE$7)=\"\",\"\",INDEX(E_SourceStreams!$A:$N,DJ43,AE$7)))","v":""},{"$f":"IF($E43=\"\",\"\",IF(INDEX(E_SourceStreams!$A:$N,DK43,AF$7)=\"\",\"\",INDEX(E_SourceStreams!$A:$N,DK43,AF$7)))","v":""},{"$f":"IF($E43=\"\",\"\",IF(INDEX(E_SourceStreams!$A:$N,DL43,AG$7)=\"\",\"\",INDEX(E_SourceStreams!$A:$N,DL43,AG$7)))","v":""},{"$f":"IF($E43=\"\",\"\",IF(INDEX(E_SourceStreams!$A:$N,DM43,AH$7)=\"\",\"\",INDEX(E_SourceStreams!$A:$N,DM43,AH$7)))","v":""},{"$f":"IF($E43=\"\",\"\",IF(INDEX(E_SourceStreams!$A:$N,DN43,AI$7)=\"\",\"\",INDEX(E_SourceStreams!$A:$N,DN43,AI$7)))","v":""},{"$f":"IF($E43=\"\",\"\",IF(INDEX(E_SourceStreams!$A:$N,DO43,AJ$7)=\"\",\"\",INDEX(E_SourceStreams!$A:$N,DO43,AJ$7)))","v":""},{"$f":"IF($E43=\"\",\"\",IF(INDEX(E_SourceStreams!$A:$N,DP43,AK$7)=\"\",\"\",INDEX(E_SourceStreams!$A:$N,DP43,AK$7)))","v":""},{"$f":"IF($E43=\"\",\"\",IF(INDEX(E_SourceStreams!$A:$N,DQ43,AL$7)=\"\",\"\",INDEX(E_SourceStreams!$A:$N,DQ43,AL$7)))","v":""},{"$f":"IF($E43=\"\",\"\",IF(INDEX(E_SourceStreams!$A:$N,DR43,AM$7)=\"\",\"\",INDEX(E_SourceStreams!$A:$N,DR43,AM$7)))","v":""},{"$f":"IF($E43=\"\",\"\",IF(INDEX(E_SourceStreams!$A:$N,DS43,AN$7)=\"\",\"\",INDEX(E_SourceStreams!$A:$N,DS43,AN$7)))","v":""},{"$f":"IF($E43=\"\",\"\",IF(INDEX(E_SourceStreams!$A:$N,DT43,AO$7)=\"\",\"\",INDEX(E_SourceStreams!$A:$N,DT43,AO$7)))","v":""},{"$f":"IF($E43=\"\",\"\",IF(INDEX(E_SourceStreams!$A:$N,DU43,AP$7)=\"\",\"\",INDEX(E_SourceStreams!$A:$N,DU43,AP$7)))","v":""},{"$f":"IF($E43=\"\",\"\",IF(INDEX(E_SourceStreams!$A:$N,DV43,AQ$7)=\"\",\"\",INDEX(E_SourceStreams!$A:$N,DV43,AQ$7)))","v":""},{"$f":"IF($E43=\"\",\"\",IF(INDEX(E_SourceStreams!$A:$N,DW43,AR$7)=\"\",\"\",INDEX(E_SourceStreams!$A:$N,DW43,AR$7)))","v":""},{"$f":"IF($E43=\"\",\"\",IF(INDEX(E_SourceStreams!$A:$N,DX43,AS$7)=\"\",\"\",INDEX(E_SourceStreams!$A:$N,DX43,AS$7)))","v":""},{"$f":"IF($E43=\"\",\"\",IF(INDEX(E_SourceStreams!$A:$N,DY43,AT$7)=\"\",\"\",INDEX(E_SourceStreams!$A:$N,DY43,AT$7)))","v":""},{"$f":"IF($E43=\"\",\"\",IF(INDEX(E_SourceStreams!$A:$N,DZ43,AU$7)=\"\",\"\",INDEX(E_SourceStreams!$A:$N,DZ43,AU$7)))","v":""},{"$f":"IF($E43=\"\",\"\",IF(INDEX(E_SourceStreams!$A:$N,EA43,AV$7)=\"\",\"\",INDEX(E_SourceStreams!$A:$N,EA43,AV$7)))","v":""},{"$f":"IF($E43=\"\",\"\",IF(INDEX(E_SourceStreams!$A:$N,EB43,AW$7)=\"\",\"\",INDEX(E_SourceStreams!$A:$N,EB43,AW$7)))","v":""},{"$f":"IF($E43=\"\",\"\",IF(INDEX(E_SourceStreams!$A:$N,EC43,AX$7)=\"\",\"\",INDEX(E_SourceStreams!$A:$N,EC43,AX$7)))","v":""},{"$f":"IF($E43=\"\",\"\",IF(INDEX(E_SourceStreams!$A:$N,ED43,AY$7)=\"\",\"\",INDEX(E_SourceStreams!$A:$N,ED43,AY$7)))","v":""},{"$f":"IF($E43=\"\",\"\",IF(INDEX(E_SourceStreams!$A:$N,EE43,AZ$7)=\"\",\"\",INDEX(E_SourceStreams!$A:$N,EE43,AZ$7)))","v":""},{"$f":"IF($E43=\"\",\"\",IF(INDEX(E_SourceStreams!$A:$N,EF43,BA$7)=\"\",\"\",INDEX(E_SourceStreams!$A:$N,EF43,BA$7)))","v":""},{"$f":"IF($E43=\"\",\"\",IF(INDEX(E_SourceStreams!$A:$N,EG43,BB$7)=\"\",\"\",INDEX(E_SourceStreams!$A:$N,EG43,BB$7)))","v":""},{"$f":"IF($E43=\"\",\"\",IF(INDEX(E_SourceStreams!$A:$N,EH43,BC$7)=\"\",\"\",INDEX(E_SourceStreams!$A:$N,EH43,BC$7)))","v":""},{"$f":"IF($E43=\"\",\"\",IF(INDEX(E_SourceStreams!$A:$N,EI43,BD$7)=\"\",\"\",INDEX(E_SourceStreams!$A:$N,EI43,BD$7)))","v":""},{"$f":"IF($E43=\"\",\"\",IF(INDEX(E_SourceStreams!$A:$N,EJ43,BE$7)=\"\",\"\",INDEX(E_SourceStreams!$A:$N,EJ43,BE$7)))","v":""},{"$f":"IF($E43=\"\",\"\",IF(INDEX(E_SourceStreams!$A:$N,EK43,BF$7)=\"\",\"\",INDEX(E_SourceStreams!$A:$N,EK43,BF$7)))","v":""},{"$f":"IF($E43=\"\",\"\",IF(INDEX(E_SourceStreams!$A:$N,EL43,BG$7)=\"\",\"\",INDEX(E_SourceStreams!$A:$N,EL43,BG$7)))","v":""},{"$f":"IF($E43=\"\",\"\",IF(INDEX(E_SourceStreams!$A:$N,EM43,BH$7)=\"\",\"\",INDEX(E_SourceStreams!$A:$N,EM43,BH$7)))","v":""},{"$f":"IF($E43=\"\",\"\",IF(INDEX(E_SourceStreams!$A:$N,EN43,BI$7)=\"\",\"\",INDEX(E_SourceStreams!$A:$N,EN43,BI$7)))","v":""},{"$f":"IF($E43=\"\",\"\",IF(INDEX(E_SourceStreams!$A:$N,EO43,BJ$7)=\"\",\"\",INDEX(E_SourceStreams!$A:$N,EO43,BJ$7)))","v":""},{"$f":"IF($E43=\"\",\"\",IF(INDEX(E_SourceStreams!$A:$N,EP43,BK$7)=\"\",\"\",INDEX(E_SourceStreams!$A:$N,EP43,BK$7)))","v":""},{"$f":"IF($E43=\"\",\"\",IF(INDEX(E_SourceStreams!$A:$N,EQ43,BL$7)=\"\",\"\",INDEX(E_SourceStreams!$A:$N,EQ43,BL$7)))","v":""},{"$f":"IF($E43=\"\",\"\",IF(INDEX(E_SourceStreams!$A:$N,ER43,BM$7)=\"\",\"\",INDEX(E_SourceStreams!$A:$N,ER43,BM$7)))","v":""},{"$f":"IF($E43=\"\",\"\",IF(INDEX(E_SourceStreams!$A:$N,ES43,BN$7)=\"\",\"\",INDEX(E_SourceStreams!$A:$N,ES43,BN$7)))","v":""},{"$f":"IF($E43=\"\",\"\",IF(INDEX(E_SourceStreams!$A:$N,ET43,BO$7)=\"\",\"\",INDEX(E_SourceStreams!$A:$N,ET43,BO$7)))","v":""},{"$f":"IF($E43=\"\",\"\",IF(INDEX(E_SourceStreams!$A:$N,EU43,BP$7)=\"\",\"\",INDEX(E_SourceStreams!$A:$N,EU43,BP$7)))","v":""},{"$f":"IF($E43=\"\",\"\",IF(INDEX(E_SourceStreams!$A:$N,EV43,BQ$7)=\"\",\"\",INDEX(E_SourceStreams!$A:$N,EV43,BQ$7)))","v":""},{"$f":"IF($E43=\"\",\"\",IF(INDEX(E_SourceStreams!$A:$N,EW43,BR$7)=\"\",\"\",INDEX(E_SourceStreams!$A:$N,EW43,BR$7)))","v":""},{"$f":"IF($E43=\"\",\"\",IF(INDEX(E_SourceStreams!$A:$N,EX43,BS$7)=\"\",\"\",INDEX(E_SourceStreams!$A:$N,EX43,BS$7)))","v":""},{"$f":"IF($E43=\"\",\"\",IF(INDEX(E_SourceStreams!$A:$N,EY43,BT$7)=\"\",\"\",INDEX(E_SourceStreams!$A:$N,EY43,BT$7)))","v":""},null,null,null,null,null,null,null,null,null,null,null,null,null,null,null,{"$f":"EUconst_CNTR_SourceCategory&B43","v":"SourceCategory_"},{"$f":"INDEX(C_InstallationDescription!$A$223:$A$328,ROWS($CI$11:CI43))=\"ausblenden\"","v":false},{"$f":"EUconst_CNTR_SourceStreamName&B43","v":"SourceStreamName_"},null,2246,2248,2250,2252,2254,2256,2258,2258,2258,2258,2258,2261,2265,2266,2267,2274,2284,2284,2284,2284,2284,2284,2284,2275,2285,2285,2285,2285,2285,2285,2285,2276,2286,2286,2286,2286,2286,2286,2286,2277,2287,2287,2287,2287,2287,2287,2287,2278,2288,2288,2288,2288,2288,2288,2288,2279,2289,2289,2289,2289,2289,2289,2289,2295]
[null,{"$f":"IF(COUNTIF($CK$10:CK44,TRUE)>0,\"\",INDEX(C_InstallationDescription!$E$223:$E$239,ROWS($A$11:A44)))","v":""},{"$f":"IF($E44=\"\",\"\",INDEX(C_InstallationDescription!G:G,MATCH($B44,C_InstallationDescription!$E:$E,0)))","v":""},{"$f":"IF($E44=\"\",\"\",INDEX(C_InstallationDescription!I:I,MATCH($B44,C_InstallationDescription!$E:$E,0)))","v":""},{"$f":"IF($B44=\"\",\"\",INDEX(C_InstallationDescription!F:F,MATCH($CJ44,C_InstallationDescription!$Q:$Q,0)))","v":""},{"$f":"IF($E44=\"\",\"\",INDEX(C_InstallationDescription!L:L,MATCH($CJ44,C_InstallationDescription!$Q:$Q,0)))","v":""},{"$f":"IF($E44=\"\",\"\",INDEX(C_InstallationDescription!M:M,MATCH($CJ44,C_InstallationDescription!$Q:$Q,0)))","v":""},{"$f":"IF($E44=\"\",\"\",INDEX(C_InstallationDescription!N:N,MATCH($CJ44,C_InstallationDescription!$Q:$Q,0)))","v":""},{"$f":"IF($E44=\"\",\"\",IF(INDEX(E_SourceStreams!$A:$N,CN44,I$7)=\"\",\"\",INDEX(E_SourceStreams!$A:$N,CN44,I$7)))","v":""},{"$f":"IF($E44=\"\",\"\",IF(INDEX(E_SourceStreams!$A:$N,CO44,J$7)=\"\",\"\",INDEX(E_SourceStreams!$A:$N,CO44,J$7)))","v":""},{"$f":"IF($E44=\"\",\"\",IF(INDEX(E_SourceStreams!$A:$N,CP44,K$7)=\"\",\"\",INDEX(E_SourceStreams!$A:$N,CP44,K$7)))","v":""},{"$f":"IF($E44=\"\",\"\",IF(INDEX(E_SourceStreams!$A:$N,CQ44,L$7)=\"\",\"\",INDEX(E_SourceStreams!$A:$N,CQ44,L$7)))","v":""},{"$f":"IF($E44=\"\",\"\",IF(INDEX(E_SourceStreams!$A:$N,CR44,M$7)=\"\",\"\",INDEX(E_SourceStreams!$A:$N,CR44,M$7)))","v":""},{"$f":"IF($E44=\"\",\"\",IF(INDEX(E_SourceStreams!$A:$N,CS44,N$7)=\"\",\"\",INDEX(E_SourceStreams!$A:$N,CS44,N$7)))","v":""},{"$f":"IF($E44=\"\",\"\",IF(INDEX(E_SourceStreams!$A:$N,CT44,O$7)=\"\",\"\",INDEX(E_SourceStreams!$A:$N,CT44,O$7)))","v":""},{"$f":"IF($E44=\"\",\"\",IF(INDEX(E_SourceStreams!$A:$N,CU44,P$7)=\"\",\"\",INDEX(E_SourceStreams!$A:$N,CU44,P$7)))","v":""},{"$f":"IF($E44=\"\",\"\",IF(INDEX(E_SourceStreams!$A:$N,CV44,Q$7)=\"\",\"\",INDEX(E_SourceStreams!$A:$N,CV44,Q$7)))","v":""},{"$f":"IF($E44=\"\",\"\",IF(INDEX(E_SourceStreams!$A:$N,CW44,R$7)=\"\",\"\",INDEX(E_SourceStreams!$A:$N,CW44,R$7)))","v":""},{"$f":"IF($E44=\"\",\"\",IF(INDEX(E_SourceStreams!$A:$N,CX44,S$7)=\"\",\"\",INDEX(E_SourceStreams!$A:$N,CX44,S$7)))","v":""},{"$f":"IF($E44=\"\",\"\",IF(INDEX(E_SourceStreams!$A:$N,CY44,T$7)=\"\",\"\",INDEX(E_SourceStreams!$A:$N,CY44,T$7)))","v":""},{"$f":"IF($E44=\"\",\"\",IF(INDEX(E_SourceStreams!$A:$N,CZ44,U$7)=\"\",\"\",INDEX(E_SourceStreams!$A:$N,CZ44,U$7)))","v":""},{"$f":"IF($E44=\"\",\"\",IF(INDEX(E_SourceStreams!$A:$N,DA44,V$7)=\"\",\"\",INDEX(E_SourceStreams!$A:$N,DA44,V$7)))","v":""},{"$f":"IF($E44=\"\",\"\",IF(INDEX(E_SourceStreams!$A:$N,DB44,W$7)=\"\",\"\",INDEX(E_SourceStreams!$A:$N,DB44,W$7)))","v":""},{"$f":"IF($E44=\"\",\"\",IF(INDEX(E_SourceStreams!$A:$N,DC44,X$7)=\"\",\"\",INDEX(E_SourceStreams!$A:$N,DC44,X$7)))","v":""},{"$f":"IF($E44=\"\",\"\",IF(INDEX(E_SourceStreams!$A:$N,DD44,Y$7)=\"\",\"\",INDEX(E_SourceStreams!$A:$N,DD44,Y$7)))","v":""},{"$f":"IF($E44=\"\",\"\",IF(INDEX(E_SourceStreams!$A:$N,DE44,Z$7)=\"\",\"\",INDEX(E_SourceStreams!$A:$N,DE44,Z$7)))","v":""},{"$f":"IF($E44=\"\",\"\",IF(INDEX(E_SourceStreams!$A:$N,DF44,AA$7)=\"\",\"\",INDEX(E_SourceStreams!$A:$N,DF44,AA$7)))","v":""},{"$f":"IF($E44=\"\",\"\",IF(INDEX(E_SourceStreams!$A:$N,DG44,AB$7)=\"\",\"\",INDEX(E_SourceStreams!$A:$N,DG44,AB$7)))","v":""},{"$f":"IF($E44=\"\",\"\",IF(INDEX(E_SourceStreams!$A:$N,DH44,AC$7)=\"\",\"\",INDEX(E_SourceStreams!$A:$N,DH44,AC$7)))","v":""},{"$f":"IF($E44=\"\",\"\",IF(INDEX(E_SourceStreams!$A:$N,DI44,AD$7)=\"\",\"\",INDEX(E_SourceStreams!$A:$N,DI44,AD$7)))","v":""},{"$f":"IF($E44=\"\",\"\",IF(INDEX(E_SourceStreams!$A:$N,DJ44,AE$7)=\"\",\"\",INDEX(E_SourceStreams!$A:$N,DJ44,AE$7)))","v":""},{"$f":"IF($E44=\"\",\"\",IF(INDEX(E_SourceStreams!$A:$N,DK44,AF$7)=\"\",\"\",INDEX(E_SourceStreams!$A:$N,DK44,AF$7)))","v":""},{"$f":"IF($E44=\"\",\"\",IF(INDEX(E_SourceStreams!$A:$N,DL44,AG$7)=\"\",\"\",INDEX(E_SourceStreams!$A:$N,DL44,AG$7)))","v":""},{"$f":"IF($E44=\"\",\"\",IF(INDEX(E_SourceStreams!$A:$N,DM44,AH$7)=\"\",\"\",INDEX(E_SourceStreams!$A:$N,DM44,AH$7)))","v":""},{"$f":"IF($E44=\"\",\"\",IF(INDEX(E_SourceStreams!$A:$N,DN44,AI$7)=\"\",\"\",INDEX(E_SourceStreams!$A:$N,DN44,AI$7)))","v":""},{"$f":"IF($E44=\"\",\"\",IF(INDEX(E_SourceStreams!$A:$N,DO44,AJ$7)=\"\",\"\",INDEX(E_SourceStreams!$A:$N,DO44,AJ$7)))","v":""},{"$f":"IF($E44=\"\",\"\",IF(INDEX(E_SourceStreams!$A:$N,DP44,AK$7)=\"\",\"\",INDEX(E_SourceStreams!$A:$N,DP44,AK$7)))","v":""},{"$f":"IF($E44=\"\",\"\",IF(INDEX(E_SourceStreams!$A:$N,DQ44,AL$7)=\"\",\"\",INDEX(E_SourceStreams!$A:$N,DQ44,AL$7)))","v":""},{"$f":"IF($E44=\"\",\"\",IF(INDEX(E_SourceStreams!$A:$N,DR44,AM$7)=\"\",\"\",INDEX(E_SourceStreams!$A:$N,DR44,AM$7)))","v":""},{"$f":"IF($E44=\"\",\"\",IF(INDEX(E_SourceStreams!$A:$N,DS44,AN$7)=\"\",\"\",INDEX(E_SourceStreams!$A:$N,DS44,AN$7)))","v":""},{"$f":"IF($E44=\"\",\"\",IF(INDEX(E_SourceStreams!$A:$N,DT44,AO$7)=\"\",\"\",INDEX(E_SourceStreams!$A:$N,DT44,AO$7)))","v":""},{"$f":"IF($E44=\"\",\"\",IF(INDEX(E_SourceStreams!$A:$N,DU44,AP$7)=\"\",\"\",INDEX(E_SourceStreams!$A:$N,DU44,AP$7)))","v":""},{"$f":"IF($E44=\"\",\"\",IF(INDEX(E_SourceStreams!$A:$N,DV44,AQ$7)=\"\",\"\",INDEX(E_SourceStreams!$A:$N,DV44,AQ$7)))","v":""},{"$f":"IF($E44=\"\",\"\",IF(INDEX(E_SourceStreams!$A:$N,DW44,AR$7)=\"\",\"\",INDEX(E_SourceStreams!$A:$N,DW44,AR$7)))","v":""},{"$f":"IF($E44=\"\",\"\",IF(INDEX(E_SourceStreams!$A:$N,DX44,AS$7)=\"\",\"\",INDEX(E_SourceStreams!$A:$N,DX44,AS$7)))","v":""},{"$f":"IF($E44=\"\",\"\",IF(INDEX(E_SourceStreams!$A:$N,DY44,AT$7)=\"\",\"\",INDEX(E_SourceStreams!$A:$N,DY44,AT$7)))","v":""},{"$f":"IF($E44=\"\",\"\",IF(INDEX(E_SourceStreams!$A:$N,DZ44,AU$7)=\"\",\"\",INDEX(E_SourceStreams!$A:$N,DZ44,AU$7)))","v":""},{"$f":"IF($E44=\"\",\"\",IF(INDEX(E_SourceStreams!$A:$N,EA44,AV$7)=\"\",\"\",INDEX(E_SourceStreams!$A:$N,EA44,AV$7)))","v":""},{"$f":"IF($E44=\"\",\"\",IF(INDEX(E_SourceStreams!$A:$N,EB44,AW$7)=\"\",\"\",INDEX(E_SourceStreams!$A:$N,EB44,AW$7)))","v":""},{"$f":"IF($E44=\"\",\"\",IF(INDEX(E_SourceStreams!$A:$N,EC44,AX$7)=\"\",\"\",INDEX(E_SourceStreams!$A:$N,EC44,AX$7)))","v":""},{"$f":"IF($E44=\"\",\"\",IF(INDEX(E_SourceStreams!$A:$N,ED44,AY$7)=\"\",\"\",INDEX(E_SourceStreams!$A:$N,ED44,AY$7)))","v":""},{"$f":"IF($E44=\"\",\"\",IF(INDEX(E_SourceStreams!$A:$N,EE44,AZ$7)=\"\",\"\",INDEX(E_SourceStreams!$A:$N,EE44,AZ$7)))","v":""},{"$f":"IF($E44=\"\",\"\",IF(INDEX(E_SourceStreams!$A:$N,EF44,BA$7)=\"\",\"\",INDEX(E_SourceStreams!$A:$N,EF44,BA$7)))","v":""},{"$f":"IF($E44=\"\",\"\",IF(INDEX(E_SourceStreams!$A:$N,EG44,BB$7)=\"\",\"\",INDEX(E_SourceStreams!$A:$N,EG44,BB$7)))","v":""},{"$f":"IF($E44=\"\",\"\",IF(INDEX(E_SourceStreams!$A:$N,EH44,BC$7)=\"\",\"\",INDEX(E_SourceStreams!$A:$N,EH44,BC$7)))","v":""},{"$f":"IF($E44=\"\",\"\",IF(INDEX(E_SourceStreams!$A:$N,EI44,BD$7)=\"\",\"\",INDEX(E_SourceStreams!$A:$N,EI44,BD$7)))","v":""},{"$f":"IF($E44=\"\",\"\",IF(INDEX(E_SourceStreams!$A:$N,EJ44,BE$7)=\"\",\"\",INDEX(E_SourceStreams!$A:$N,EJ44,BE$7)))","v":""},{"$f":"IF($E44=\"\",\"\",IF(INDEX(E_SourceStreams!$A:$N,EK44,BF$7)=\"\",\"\",INDEX(E_SourceStreams!$A:$N,EK44,BF$7)))","v":""},{"$f":"IF($E44=\"\",\"\",IF(INDEX(E_SourceStreams!$A:$N,EL44,BG$7)=\"\",\"\",INDEX(E_SourceStreams!$A:$N,EL44,BG$7)))","v":""},{"$f":"IF($E44=\"\",\"\",IF(INDEX(E_SourceStreams!$A:$N,EM44,BH$7)=\"\",\"\",INDEX(E_SourceStreams!$A:$N,EM44,BH$7)))","v":""},{"$f":"IF($E44=\"\",\"\",IF(INDEX(E_SourceStreams!$A:$N,EN44,BI$7)=\"\",\"\",INDEX(E_SourceStreams!$A:$N,EN44,BI$7)))","v":""},{"$f":"IF($E44=\"\",\"\",IF(INDEX(E_SourceStreams!$A:$N,EO44,BJ$7)=\"\",\"\",INDEX(E_SourceStreams!$A:$N,EO44,BJ$7)))","v":""},{"$f":"IF($E44=\"\",\"\",IF(INDEX(E_SourceStreams!$A:$N,EP44,BK$7)=\"\",\"\",INDEX(E_SourceStreams!$A:$N,EP44,BK$7)))","v":""},{"$f":"IF($E44=\"\",\"\",IF(INDEX(E_SourceStreams!$A:$N,EQ44,BL$7)=\"\",\"\",INDEX(E_SourceStreams!$A:$N,EQ44,BL$7)))","v":""},{"$f":"IF($E44=\"\",\"\",IF(INDEX(E_SourceStreams!$A:$N,ER44,BM$7)=\"\",\"\",INDEX(E_SourceStreams!$A:$N,ER44,BM$7)))","v":""},{"$f":"IF($E44=\"\",\"\",IF(INDEX(E_SourceStreams!$A:$N,ES44,BN$7)=\"\",\"\",INDEX(E_SourceStreams!$A:$N,ES44,BN$7)))","v":""},{"$f":"IF($E44=\"\",\"\",IF(INDEX(E_SourceStreams!$A:$N,ET44,BO$7)=\"\",\"\",INDEX(E_SourceStreams!$A:$N,ET44,BO$7)))","v":""},{"$f":"IF($E44=\"\",\"\",IF(INDEX(E_SourceStreams!$A:$N,EU44,BP$7)=\"\",\"\",INDEX(E_SourceStreams!$A:$N,EU44,BP$7)))","v":""},{"$f":"IF($E44=\"\",\"\",IF(INDEX(E_SourceStreams!$A:$N,EV44,BQ$7)=\"\",\"\",INDEX(E_SourceStreams!$A:$N,EV44,BQ$7)))","v":""},{"$f":"IF($E44=\"\",\"\",IF(INDEX(E_SourceStreams!$A:$N,EW44,BR$7)=\"\",\"\",INDEX(E_SourceStreams!$A:$N,EW44,BR$7)))","v":""},{"$f":"IF($E44=\"\",\"\",IF(INDEX(E_SourceStreams!$A:$N,EX44,BS$7)=\"\",\"\",INDEX(E_SourceStreams!$A:$N,EX44,BS$7)))","v":""},{"$f":"IF($E44=\"\",\"\",IF(INDEX(E_SourceStreams!$A:$N,EY44,BT$7)=\"\",\"\",INDEX(E_SourceStreams!$A:$N,EY44,BT$7)))","v":""},null,null,null,null,null,null,null,null,null,null,null,null,null,null,null,"SourceCategory_",{"$f":"INDEX(C_InstallationDescription!$A$223:$A$328,ROWS($CI$11:CI44))=\"ausblenden\"","v":false},"SourceStreamName_",null,2312,2314,2316,2318,2320,2322,2324,2324,2324,2324,2324,2327,2331,2332,2333,2340,2350,2350,2350,2350,2350,2350,2350,2341,2351,2351,2351,2351,2351,2351,2351,2342,2352,2352,2352,2352,2352,2352,2352,2343,2353,2353,2353,2353,2353,2353,2353,2344,2354,2354,2354,2354,2354,2354,2354,2345,2355,2355,2355,2355,2355,2355,2355,2361]
[null,{"$f":"IF(COUNTIF($CK$10:CK45,TRUE)>0,\"\",INDEX(C_InstallationDescription!$E$223:$E$239,ROWS($A$11:A45)))","v":""},{"$f":"IF($E45=\"\",\"\",INDEX(C_InstallationDescription!G:G,MATCH($B45,C_InstallationDescription!$E:$E,0)))","v":""},{"$f":"IF($E45=\"\",\"\",INDEX(C_InstallationDescription!I:I,MATCH($B45,C_InstallationDescription!$E:$E,0)))","v":""},{"$f":"IF($B45=\"\",\"\",INDEX(C_InstallationDescription!F:F,MATCH($CJ45,C_InstallationDescription!$Q:$Q,0)))","v":""},{"$f":"IF($E45=\"\",\"\",INDEX(C_InstallationDescription!L:L,MATCH($CJ45,C_InstallationDescription!$Q:$Q,0)))","v":""},{"$f":"IF($E45=\"\",\"\",INDEX(C_InstallationDescription!M:M,MATCH($CJ45,C_InstallationDescription!$Q:$Q,0)))","v":""},{"$f":"IF($E45=\"\",\"\",INDEX(C_InstallationDescription!N:N,MATCH($CJ45,C_InstallationDescription!$Q:$Q,0)))","v":""},{"$f":"IF($E45=\"\",\"\",IF(INDEX(E_SourceStreams!$A:$N,CN45,I$7)=\"\",\"\",INDEX(E_SourceStreams!$A:$N,CN45,I$7)))","v":""},{"$f":"IF($E45=\"\",\"\",IF(INDEX(E_SourceStreams!$A:$N,CO45,J$7)=\"\",\"\",INDEX(E_SourceStreams!$A:$N,CO45,J$7)))","v":""},{"$f":"IF($E45=\"\",\"\",IF(INDEX(E_SourceStreams!$A:$N,CP45,K$7)=\"\",\"\",INDEX(E_SourceStreams!$A:$N,CP45,K$7)))","v":""},{"$f":"IF($E45=\"\",\"\",IF(INDEX(E_SourceStreams!$A:$N,CQ45,L$7)=\"\",\"\",INDEX(E_SourceStreams!$A:$N,CQ45,L$7)))","v":""},{"$f":"IF($E45=\"\",\"\",IF(INDEX(E_SourceStreams!$A:$N,CR45,M$7)=\"\",\"\",INDEX(E_SourceStreams!$A:$N,CR45,M$7)))","v":""},{"$f":"IF($E45=\"\",\"\",IF(INDEX(E_SourceStreams!$A:$N,CS45,N$7)=\"\",\"\",INDEX(E_SourceStreams!$A:$N,CS45,N$7)))","v":""},{"$f":"IF($E45=\"\",\"\",IF(INDEX(E_SourceStreams!$A:$N,CT45,O$7)=\"\",\"\",INDEX(E_SourceStreams!$A:$N,CT45,O$7)))","v":""},{"$f":"IF($E45=\"\",\"\",IF(INDEX(E_SourceStreams!$A:$N,CU45,P$7)=\"\",\"\",INDEX(E_SourceStreams!$A:$N,CU45,P$7)))","v":""},{"$f":"IF($E45=\"\",\"\",IF(INDEX(E_SourceStreams!$A:$N,CV45,Q$7)=\"\",\"\",INDEX(E_SourceStreams!$A:$N,CV45,Q$7)))","v":""},{"$f":"IF($E45=\"\",\"\",IF(INDEX(E_SourceStreams!$A:$N,CW45,R$7)=\"\",\"\",INDEX(E_SourceStreams!$A:$N,CW45,R$7)))","v":""},{"$f":"IF($E45=\"\",\"\",IF(INDEX(E_SourceStreams!$A:$N,CX45,S$7)=\"\",\"\",INDEX(E_SourceStreams!$A:$N,CX45,S$7)))","v":""},{"$f":"IF($E45=\"\",\"\",IF(INDEX(E_SourceStreams!$A:$N,CY45,T$7)=\"\",\"\",INDEX(E_SourceStreams!$A:$N,CY45,T$7)))","v":""},{"$f":"IF($E45=\"\",\"\",IF(INDEX(E_SourceStreams!$A:$N,CZ45,U$7)=\"\",\"\",INDEX(E_SourceStreams!$A:$N,CZ45,U$7)))","v":""},{"$f":"IF($E45=\"\",\"\",IF(INDEX(E_SourceStreams!$A:$N,DA45,V$7)=\"\",\"\",INDEX(E_SourceStreams!$A:$N,DA45,V$7)))","v":""},{"$f":"IF($E45=\"\",\"\",IF(INDEX(E_SourceStreams!$A:$N,DB45,W$7)=\"\",\"\",INDEX(E_SourceStreams!$A:$N,DB45,W$7)))","v":""},{"$f":"IF($E45=\"\",\"\",IF(INDEX(E_SourceStreams!$A:$N,DC45,X$7)=\"\",\"\",INDEX(E_SourceStreams!$A:$N,DC45,X$7)))","v":""},{"$f":"IF($E45=\"\",\"\",IF(INDEX(E_SourceStreams!$A:$N,DD45,Y$7)=\"\",\"\",INDEX(E_SourceStreams!$A:$N,DD45,Y$7)))","v":""},{"$f":"IF($E45=\"\",\"\",IF(INDEX(E_SourceStreams!$A:$N,DE45,Z$7)=\"\",\"\",INDEX(E_SourceStreams!$A:$N,DE45,Z$7)))","v":""},{"$f":"IF($E45=\"\",\"\",IF(INDEX(E_SourceStreams!$A:$N,DF45,AA$7)=\"\",\"\",INDEX(E_SourceStreams!$A:$N,DF45,AA$7)))","v":""},{"$f":"IF($E45=\"\",\"\",IF(INDEX(E_SourceStreams!$A:$N,DG45,AB$7)=\"\",\"\",INDEX(E_SourceStreams!$A:$N,DG45,AB$7)))","v":""},{"$f":"IF($E45=\"\",\"\",IF(INDEX(E_SourceStreams!$A:$N,DH45,AC$7)=\"\",\"\",INDEX(E_SourceStreams!$A:$N,DH45,AC$7)))","v":""},{"$f":"IF($E45=\"\",\"\",IF(INDEX(E_SourceStreams!$A:$N,DI45,AD$7)=\"\",\"\",INDEX(E_SourceStreams!$A:$N,DI45,AD$7)))","v":""},{"$f":"IF($E45=\"\",\"\",IF(INDEX(E_SourceStreams!$A:$N,DJ45,AE$7)=\"\",\"\",INDEX(E_SourceStreams!$A:$N,DJ45,AE$7)))","v":""},{"$f":"IF($E45=\"\",\"\",IF(INDEX(E_SourceStreams!$A:$N,DK45,AF$7)=\"\",\"\",INDEX(E_SourceStreams!$A:$N,DK45,AF$7)))","v":""},{"$f":"IF($E45=\"\",\"\",IF(INDEX(E_SourceStreams!$A:$N,DL45,AG$7)=\"\",\"\",INDEX(E_SourceStreams!$A:$N,DL45,AG$7)))","v":""},{"$f":"IF($E45=\"\",\"\",IF(INDEX(E_SourceStreams!$A:$N,DM45,AH$7)=\"\",\"\",INDEX(E_SourceStreams!$A:$N,DM45,AH$7)))","v":""},{"$f":"IF($E45=\"\",\"\",IF(INDEX(E_SourceStreams!$A:$N,DN45,AI$7)=\"\",\"\",INDEX(E_SourceStreams!$A:$N,DN45,AI$7)))","v":""},{"$f":"IF($E45=\"\",\"\",IF(INDEX(E_SourceStreams!$A:$N,DO45,AJ$7)=\"\",\"\",INDEX(E_SourceStreams!$A:$N,DO45,AJ$7)))","v":""},{"$f":"IF($E45=\"\",\"\",IF(INDEX(E_SourceStreams!$A:$N,DP45,AK$7)=\"\",\"\",INDEX(E_SourceStreams!$A:$N,DP45,AK$7)))","v":""},{"$f":"IF($E45=\"\",\"\",IF(INDEX(E_SourceStreams!$A:$N,DQ45,AL$7)=\"\",\"\",INDEX(E_SourceStreams!$A:$N,DQ45,AL$7)))","v":""},{"$f":"IF($E45=\"\",\"\",IF(INDEX(E_SourceStreams!$A:$N,DR45,AM$7)=\"\",\"\",INDEX(E_SourceStreams!$A:$N,DR45,AM$7)))","v":""},{"$f":"IF($E45=\"\",\"\",IF(INDEX(E_SourceStreams!$A:$N,DS45,AN$7)=\"\",\"\",INDEX(E_SourceStreams!$A:$N,DS45,AN$7)))","v":""},{"$f":"IF($E45=\"\",\"\",IF(INDEX(E_SourceStreams!$A:$N,DT45,AO$7)=\"\",\"\",INDEX(E_SourceStreams!$A:$N,DT45,AO$7)))","v":""},{"$f":"IF($E45=\"\",\"\",IF(INDEX(E_SourceStreams!$A:$N,DU45,AP$7)=\"\",\"\",INDEX(E_SourceStreams!$A:$N,DU45,AP$7)))","v":""},{"$f":"IF($E45=\"\",\"\",IF(INDEX(E_SourceStreams!$A:$N,DV45,AQ$7)=\"\",\"\",INDEX(E_SourceStreams!$A:$N,DV45,AQ$7)))","v":""},{"$f":"IF($E45=\"\",\"\",IF(INDEX(E_SourceStreams!$A:$N,DW45,AR$7)=\"\",\"\",INDEX(E_SourceStreams!$A:$N,DW45,AR$7)))","v":""},{"$f":"IF($E45=\"\",\"\",IF(INDEX(E_SourceStreams!$A:$N,DX45,AS$7)=\"\",\"\",INDEX(E_SourceStreams!$A:$N,DX45,AS$7)))","v":""},{"$f":"IF($E45=\"\",\"\",IF(INDEX(E_SourceStreams!$A:$N,DY45,AT$7)=\"\",\"\",INDEX(E_SourceStreams!$A:$N,DY45,AT$7)))","v":""},{"$f":"IF($E45=\"\",\"\",IF(INDEX(E_SourceStreams!$A:$N,DZ45,AU$7)=\"\",\"\",INDEX(E_SourceStreams!$A:$N,DZ45,AU$7)))","v":""},{"$f":"IF($E45=\"\",\"\",IF(INDEX(E_SourceStreams!$A:$N,EA45,AV$7)=\"\",\"\",INDEX(E_SourceStreams!$A:$N,EA45,AV$7)))","v":""},{"$f":"IF($E45=\"\",\"\",IF(INDEX(E_SourceStreams!$A:$N,EB45,AW$7)=\"\",\"\",INDEX(E_SourceStreams!$A:$N,EB45,AW$7)))","v":""},{"$f":"IF($E45=\"\",\"\",IF(INDEX(E_SourceStreams!$A:$N,EC45,AX$7)=\"\",\"\",INDEX(E_SourceStreams!$A:$N,EC45,AX$7)))","v":""},{"$f":"IF($E45=\"\",\"\",IF(INDEX(E_SourceStreams!$A:$N,ED45,AY$7)=\"\",\"\",INDEX(E_SourceStreams!$A:$N,ED45,AY$7)))","v":""},{"$f":"IF($E45=\"\",\"\",IF(INDEX(E_SourceStreams!$A:$N,EE45,AZ$7)=\"\",\"\",INDEX(E_SourceStreams!$A:$N,EE45,AZ$7)))","v":""},{"$f":"IF($E45=\"\",\"\",IF(INDEX(E_SourceStreams!$A:$N,EF45,BA$7)=\"\",\"\",INDEX(E_SourceStreams!$A:$N,EF45,BA$7)))","v":""},{"$f":"IF($E45=\"\",\"\",IF(INDEX(E_SourceStreams!$A:$N,EG45,BB$7)=\"\",\"\",INDEX(E_SourceStreams!$A:$N,EG45,BB$7)))","v":""},{"$f":"IF($E45=\"\",\"\",IF(INDEX(E_SourceStreams!$A:$N,EH45,BC$7)=\"\",\"\",INDEX(E_SourceStreams!$A:$N,EH45,BC$7)))","v":""},{"$f":"IF($E45=\"\",\"\",IF(INDEX(E_SourceStreams!$A:$N,EI45,BD$7)=\"\",\"\",INDEX(E_SourceStreams!$A:$N,EI45,BD$7)))","v":""},{"$f":"IF($E45=\"\",\"\",IF(INDEX(E_SourceStreams!$A:$N,EJ45,BE$7)=\"\",\"\",INDEX(E_SourceStreams!$A:$N,EJ45,BE$7)))","v":""},{"$f":"IF($E45=\"\",\"\",IF(INDEX(E_SourceStreams!$A:$N,EK45,BF$7)=\"\",\"\",INDEX(E_SourceStreams!$A:$N,EK45,BF$7)))","v":""},{"$f":"IF($E45=\"\",\"\",IF(INDEX(E_SourceStreams!$A:$N,EL45,BG$7)=\"\",\"\",INDEX(E_SourceStreams!$A:$N,EL45,BG$7)))","v":""},{"$f":"IF($E45=\"\",\"\",IF(INDEX(E_SourceStreams!$A:$N,EM45,BH$7)=\"\",\"\",INDEX(E_SourceStreams!$A:$N,EM45,BH$7)))","v":""},{"$f":"IF($E45=\"\",\"\",IF(INDEX(E_SourceStreams!$A:$N,EN45,BI$7)=\"\",\"\",INDEX(E_SourceStreams!$A:$N,EN45,BI$7)))","v":""},{"$f":"IF($E45=\"\",\"\",IF(INDEX(E_SourceStreams!$A:$N,EO45,BJ$7)=\"\",\"\",INDEX(E_SourceStreams!$A:$N,EO45,BJ$7)))","v":""},{"$f":"IF($E45=\"\",\"\",IF(INDEX(E_SourceStreams!$A:$N,EP45,BK$7)=\"\",\"\",INDEX(E_SourceStreams!$A:$N,EP45,BK$7)))","v":""},{"$f":"IF($E45=\"\",\"\",IF(INDEX(E_SourceStreams!$A:$N,EQ45,BL$7)=\"\",\"\",INDEX(E_SourceStreams!$A:$N,EQ45,BL$7)))","v":""},{"$f":"IF($E45=\"\",\"\",IF(INDEX(E_SourceStreams!$A:$N,ER45,BM$7)=\"\",\"\",INDEX(E_SourceStreams!$A:$N,ER45,BM$7)))","v":""},{"$f":"IF($E45=\"\",\"\",IF(INDEX(E_SourceStreams!$A:$N,ES45,BN$7)=\"\",\"\",INDEX(E_SourceStreams!$A:$N,ES45,BN$7)))","v":""},{"$f":"IF($E45=\"\",\"\",IF(INDEX(E_SourceStreams!$A:$N,ET45,BO$7)=\"\",\"\",INDEX(E_SourceStreams!$A:$N,ET45,BO$7)))","v":""},{"$f":"IF($E45=\"\",\"\",IF(INDEX(E_SourceStreams!$A:$N,EU45,BP$7)=\"\",\"\",INDEX(E_SourceStreams!$A:$N,EU45,BP$7)))","v":""},{"$f":"IF($E45=\"\",\"\",IF(INDEX(E_SourceStreams!$A:$N,EV45,BQ$7)=\"\",\"\",INDEX(E_SourceStreams!$A:$N,EV45,BQ$7)))","v":""},{"$f":"IF($E45=\"\",\"\",IF(INDEX(E_SourceStreams!$A:$N,EW45,BR$7)=\"\",\"\",INDEX(E_SourceStreams!$A:$N,EW45,BR$7)))","v":""},{"$f":"IF($E45=\"\",\"\",IF(INDEX(E_SourceStreams!$A:$N,EX45,BS$7)=\"\",\"\",INDEX(E_SourceStreams!$A:$N,EX45,BS$7)))","v":""},{"$f":"IF($E45=\"\",\"\",IF(INDEX(E_SourceStreams!$A:$N,EY45,BT$7)=\"\",\"\",INDEX(E_SourceStreams!$A:$N,EY45,BT$7)))","v":""},null,null,null,null,null,null,null,null,null,null,null,null,null,null,null,"SourceCategory_",{"$f":"INDEX(C_InstallationDescription!$A$223:$A$328,ROWS($CI$11:CI45))=\"ausblenden\"","v":true},"SourceStreamName_",null,2378,2380,2382,2384,2386,2388,2390,2390,2390,2390,2390,2393,2397,2398,2399,2406,2416,2416,2416,2416,2416,2416,2416,2407,2417,2417,2417,2417,2417,2417,2417,2408,2418,2418,2418,2418,2418,2418,2418,2409,2419,2419,2419,2419,2419,2419,2419,2410,2420,2420,2420,2420,2420,2420,2420,2411,2421,2421,2421,2421,2421,2421,2421,2427]
[null,{"$f":"IF(COUNTIF($CK$10:CK46,TRUE)>0,\"\",INDEX(C_InstallationDescription!$E$223:$E$239,ROWS($A$11:A46)))","v":""},{"$f":"IF($E46=\"\",\"\",INDEX(C_InstallationDescription!G:G,MATCH($B46,C_InstallationDescription!$E:$E,0)))","v":""},{"$f":"IF($E46=\"\",\"\",INDEX(C_InstallationDescription!I:I,MATCH($B46,C_InstallationDescription!$E:$E,0)))","v":""},{"$f":"IF($B46=\"\",\"\",INDEX(C_InstallationDescription!F:F,MATCH($CJ46,C_InstallationDescription!$Q:$Q,0)))","v":""},{"$f":"IF($E46=\"\",\"\",INDEX(C_InstallationDescription!L:L,MATCH($CJ46,C_InstallationDescription!$Q:$Q,0)))","v":""},{"$f":"IF($E46=\"\",\"\",INDEX(C_InstallationDescription!M:M,MATCH($CJ46,C_InstallationDescription!$Q:$Q,0)))","v":""},{"$f":"IF($E46=\"\",\"\",INDEX(C_InstallationDescription!N:N,MATCH($CJ46,C_InstallationDescription!$Q:$Q,0)))","v":""},{"$f":"IF($E46=\"\",\"\",IF(INDEX(E_SourceStreams!$A:$N,CN46,I$7)=\"\",\"\",INDEX(E_SourceStreams!$A:$N,CN46,I$7)))","v":""},{"$f":"IF($E46=\"\",\"\",IF(INDEX(E_SourceStreams!$A:$N,CO46,J$7)=\"\",\"\",INDEX(E_SourceStreams!$A:$N,CO46,J$7)))","v":""},{"$f":"IF($E46=\"\",\"\",IF(INDEX(E_SourceStreams!$A:$N,CP46,K$7)=\"\",\"\",INDEX(E_SourceStreams!$A:$N,CP46,K$7)))","v":""},{"$f":"IF($E46=\"\",\"\",IF(INDEX(E_SourceStreams!$A:$N,CQ46,L$7)=\"\",\"\",INDEX(E_SourceStreams!$A:$N,CQ46,L$7)))","v":""},{"$f":"IF($E46=\"\",\"\",IF(INDEX(E_SourceStreams!$A:$N,CR46,M$7)=\"\",\"\",INDEX(E_SourceStreams!$A:$N,CR46,M$7)))","v":""},{"$f":"IF($E46=\"\",\"\",IF(INDEX(E_SourceStreams!$A:$N,CS46,N$7)=\"\",\"\",INDEX(E_SourceStreams!$A:$N,CS46,N$7)))","v":""},{"$f":"IF($E46=\"\",\"\",IF(INDEX(E_SourceStreams!$A:$N,CT46,O$7)=\"\",\"\",INDEX(E_SourceStreams!$A:$N,CT46,O$7)))","v":""},{"$f":"IF($E46=\"\",\"\",IF(INDEX(E_SourceStreams!$A:$N,CU46,P$7)=\"\",\"\",INDEX(E_SourceStreams!$A:$N,CU46,P$7)))","v":""},{"$f":"IF($E46=\"\",\"\",IF(INDEX(E_SourceStreams!$A:$N,CV46,Q$7)=\"\",\"\",INDEX(E_SourceStreams!$A:$N,CV46,Q$7)))","v":""},{"$f":"IF($E46=\"\",\"\",IF(INDEX(E_SourceStreams!$A:$N,CW46,R$7)=\"\",\"\",INDEX(E_SourceStreams!$A:$N,CW46,R$7)))","v":""},{"$f":"IF($E46=\"\",\"\",IF(INDEX(E_SourceStreams!$A:$N,CX46,S$7)=\"\",\"\",INDEX(E_SourceStreams!$A:$N,CX46,S$7)))","v":""},{"$f":"IF($E46=\"\",\"\",IF(INDEX(E_SourceStreams!$A:$N,CY46,T$7)=\"\",\"\",INDEX(E_SourceStreams!$A:$N,CY46,T$7)))","v":""},{"$f":"IF($E46=\"\",\"\",IF(INDEX(E_SourceStreams!$A:$N,CZ46,U$7)=\"\",\"\",INDEX(E_SourceStreams!$A:$N,CZ46,U$7)))","v":""},{"$f":"IF($E46=\"\",\"\",IF(INDEX(E_SourceStreams!$A:$N,DA46,V$7)=\"\",\"\",INDEX(E_SourceStreams!$A:$N,DA46,V$7)))","v":""},{"$f":"IF($E46=\"\",\"\",IF(INDEX(E_SourceStreams!$A:$N,DB46,W$7)=\"\",\"\",INDEX(E_SourceStreams!$A:$N,DB46,W$7)))","v":""},{"$f":"IF($E46=\"\",\"\",IF(INDEX(E_SourceStreams!$A:$N,DC46,X$7)=\"\",\"\",INDEX(E_SourceStreams!$A:$N,DC46,X$7)))","v":""},{"$f":"IF($E46=\"\",\"\",IF(INDEX(E_SourceStreams!$A:$N,DD46,Y$7)=\"\",\"\",INDEX(E_SourceStreams!$A:$N,DD46,Y$7)))","v":""},{"$f":"IF($E46=\"\",\"\",IF(INDEX(E_SourceStreams!$A:$N,DE46,Z$7)=\"\",\"\",INDEX(E_SourceStreams!$A:$N,DE46,Z$7)))","v":""},{"$f":"IF($E46=\"\",\"\",IF(INDEX(E_SourceStreams!$A:$N,DF46,AA$7)=\"\",\"\",INDEX(E_SourceStreams!$A:$N,DF46,AA$7)))","v":""},{"$f":"IF($E46=\"\",\"\",IF(INDEX(E_SourceStreams!$A:$N,DG46,AB$7)=\"\",\"\",INDEX(E_SourceStreams!$A:$N,DG46,AB$7)))","v":""},{"$f":"IF($E46=\"\",\"\",IF(INDEX(E_SourceStreams!$A:$N,DH46,AC$7)=\"\",\"\",INDEX(E_SourceStreams!$A:$N,DH46,AC$7)))","v":""},{"$f":"IF($E46=\"\",\"\",IF(INDEX(E_SourceStreams!$A:$N,DI46,AD$7)=\"\",\"\",INDEX(E_SourceStreams!$A:$N,DI46,AD$7)))","v":""},{"$f":"IF($E46=\"\",\"\",IF(INDEX(E_SourceStreams!$A:$N,DJ46,AE$7)=\"\",\"\",INDEX(E_SourceStreams!$A:$N,DJ46,AE$7)))","v":""},{"$f":"IF($E46=\"\",\"\",IF(INDEX(E_SourceStreams!$A:$N,DK46,AF$7)=\"\",\"\",INDEX(E_SourceStreams!$A:$N,DK46,AF$7)))","v":""},{"$f":"IF($E46=\"\",\"\",IF(INDEX(E_SourceStreams!$A:$N,DL46,AG$7)=\"\",\"\",INDEX(E_SourceStreams!$A:$N,DL46,AG$7)))","v":""},{"$f":"IF($E46=\"\",\"\",IF(INDEX(E_SourceStreams!$A:$N,DM46,AH$7)=\"\",\"\",INDEX(E_SourceStreams!$A:$N,DM46,AH$7)))","v":""},{"$f":"IF($E46=\"\",\"\",IF(INDEX(E_SourceStreams!$A:$N,DN46,AI$7)=\"\",\"\",INDEX(E_SourceStreams!$A:$N,DN46,AI$7)))","v":""},{"$f":"IF($E46=\"\",\"\",IF(INDEX(E_SourceStreams!$A:$N,DO46,AJ$7)=\"\",\"\",INDEX(E_SourceStreams!$A:$N,DO46,AJ$7)))","v":""},{"$f":"IF($E46=\"\",\"\",IF(INDEX(E_SourceStreams!$A:$N,DP46,AK$7)=\"\",\"\",INDEX(E_SourceStreams!$A:$N,DP46,AK$7)))","v":""},{"$f":"IF($E46=\"\",\"\",IF(INDEX(E_SourceStreams!$A:$N,DQ46,AL$7)=\"\",\"\",INDEX(E_SourceStreams!$A:$N,DQ46,AL$7)))","v":""},{"$f":"IF($E46=\"\",\"\",IF(INDEX(E_SourceStreams!$A:$N,DR46,AM$7)=\"\",\"\",INDEX(E_SourceStreams!$A:$N,DR46,AM$7)))","v":""},{"$f":"IF($E46=\"\",\"\",IF(INDEX(E_SourceStreams!$A:$N,DS46,AN$7)=\"\",\"\",INDEX(E_SourceStreams!$A:$N,DS46,AN$7)))","v":""},{"$f":"IF($E46=\"\",\"\",IF(INDEX(E_SourceStreams!$A:$N,DT46,AO$7)=\"\",\"\",INDEX(E_SourceStreams!$A:$N,DT46,AO$7)))","v":""},{"$f":"IF($E46=\"\",\"\",IF(INDEX(E_SourceStreams!$A:$N,DU46,AP$7)=\"\",\"\",INDEX(E_SourceStreams!$A:$N,DU46,AP$7)))","v":""},{"$f":"IF($E46=\"\",\"\",IF(INDEX(E_SourceStreams!$A:$N,DV46,AQ$7)=\"\",\"\",INDEX(E_SourceStreams!$A:$N,DV46,AQ$7)))","v":""},{"$f":"IF($E46=\"\",\"\",IF(INDEX(E_SourceStreams!$A:$N,DW46,AR$7)=\"\",\"\",INDEX(E_SourceStreams!$A:$N,DW46,AR$7)))","v":""},{"$f":"IF($E46=\"\",\"\",IF(INDEX(E_SourceStreams!$A:$N,DX46,AS$7)=\"\",\"\",INDEX(E_SourceStreams!$A:$N,DX46,AS$7)))","v":""},{"$f":"IF($E46=\"\",\"\",IF(INDEX(E_SourceStreams!$A:$N,DY46,AT$7)=\"\",\"\",INDEX(E_SourceStreams!$A:$N,DY46,AT$7)))","v":""},{"$f":"IF($E46=\"\",\"\",IF(INDEX(E_SourceStreams!$A:$N,DZ46,AU$7)=\"\",\"\",INDEX(E_SourceStreams!$A:$N,DZ46,AU$7)))","v":""},{"$f":"IF($E46=\"\",\"\",IF(INDEX(E_SourceStreams!$A:$N,EA46,AV$7)=\"\",\"\",INDEX(E_SourceStreams!$A:$N,EA46,AV$7)))","v":""},{"$f":"IF($E46=\"\",\"\",IF(INDEX(E_SourceStreams!$A:$N,EB46,AW$7)=\"\",\"\",INDEX(E_SourceStreams!$A:$N,EB46,AW$7)))","v":""},{"$f":"IF($E46=\"\",\"\",IF(INDEX(E_SourceStreams!$A:$N,EC46,AX$7)=\"\",\"\",INDEX(E_SourceStreams!$A:$N,EC46,AX$7)))","v":""},{"$f":"IF($E46=\"\",\"\",IF(INDEX(E_SourceStreams!$A:$N,ED46,AY$7)=\"\",\"\",INDEX(E_SourceStreams!$A:$N,ED46,AY$7)))","v":""},{"$f":"IF($E46=\"\",\"\",IF(INDEX(E_SourceStreams!$A:$N,EE46,AZ$7)=\"\",\"\",INDEX(E_SourceStreams!$A:$N,EE46,AZ$7)))","v":""},{"$f":"IF($E46=\"\",\"\",IF(INDEX(E_SourceStreams!$A:$N,EF46,BA$7)=\"\",\"\",INDEX(E_SourceStreams!$A:$N,EF46,BA$7)))","v":""},{"$f":"IF($E46=\"\",\"\",IF(INDEX(E_SourceStreams!$A:$N,EG46,BB$7)=\"\",\"\",INDEX(E_SourceStreams!$A:$N,EG46,BB$7)))","v":""},{"$f":"IF($E46=\"\",\"\",IF(INDEX(E_SourceStreams!$A:$N,EH46,BC$7)=\"\",\"\",INDEX(E_SourceStreams!$A:$N,EH46,BC$7)))","v":""},{"$f":"IF($E46=\"\",\"\",IF(INDEX(E_SourceStreams!$A:$N,EI46,BD$7)=\"\",\"\",INDEX(E_SourceStreams!$A:$N,EI46,BD$7)))","v":""},{"$f":"IF($E46=\"\",\"\",IF(INDEX(E_SourceStreams!$A:$N,EJ46,BE$7)=\"\",\"\",INDEX(E_SourceStreams!$A:$N,EJ46,BE$7)))","v":""},{"$f":"IF($E46=\"\",\"\",IF(INDEX(E_SourceStreams!$A:$N,EK46,BF$7)=\"\",\"\",INDEX(E_SourceStreams!$A:$N,EK46,BF$7)))","v":""},{"$f":"IF($E46=\"\",\"\",IF(INDEX(E_SourceStreams!$A:$N,EL46,BG$7)=\"\",\"\",INDEX(E_SourceStreams!$A:$N,EL46,BG$7)))","v":""},{"$f":"IF($E46=\"\",\"\",IF(INDEX(E_SourceStreams!$A:$N,EM46,BH$7)=\"\",\"\",INDEX(E_SourceStreams!$A:$N,EM46,BH$7)))","v":""},{"$f":"IF($E46=\"\",\"\",IF(INDEX(E_SourceStreams!$A:$N,EN46,BI$7)=\"\",\"\",INDEX(E_SourceStreams!$A:$N,EN46,BI$7)))","v":""},{"$f":"IF($E46=\"\",\"\",IF(INDEX(E_SourceStreams!$A:$N,EO46,BJ$7)=\"\",\"\",INDEX(E_SourceStreams!$A:$N,EO46,BJ$7)))","v":""},{"$f":"IF($E46=\"\",\"\",IF(INDEX(E_SourceStreams!$A:$N,EP46,BK$7)=\"\",\"\",INDEX(E_SourceStreams!$A:$N,EP46,BK$7)))","v":""},{"$f":"IF($E46=\"\",\"\",IF(INDEX(E_SourceStreams!$A:$N,EQ46,BL$7)=\"\",\"\",INDEX(E_SourceStreams!$A:$N,EQ46,BL$7)))","v":""},{"$f":"IF($E46=\"\",\"\",IF(INDEX(E_SourceStreams!$A:$N,ER46,BM$7)=\"\",\"\",INDEX(E_SourceStreams!$A:$N,ER46,BM$7)))","v":""},{"$f":"IF($E46=\"\",\"\",IF(INDEX(E_SourceStreams!$A:$N,ES46,BN$7)=\"\",\"\",INDEX(E_SourceStreams!$A:$N,ES46,BN$7)))","v":""},{"$f":"IF($E46=\"\",\"\",IF(INDEX(E_SourceStreams!$A:$N,ET46,BO$7)=\"\",\"\",INDEX(E_SourceStreams!$A:$N,ET46,BO$7)))","v":""},{"$f":"IF($E46=\"\",\"\",IF(INDEX(E_SourceStreams!$A:$N,EU46,BP$7)=\"\",\"\",INDEX(E_SourceStreams!$A:$N,EU46,BP$7)))","v":""},{"$f":"IF($E46=\"\",\"\",IF(INDEX(E_SourceStreams!$A:$N,EV46,BQ$7)=\"\",\"\",INDEX(E_SourceStreams!$A:$N,EV46,BQ$7)))","v":""},{"$f":"IF($E46=\"\",\"\",IF(INDEX(E_SourceStreams!$A:$N,EW46,BR$7)=\"\",\"\",INDEX(E_SourceStreams!$A:$N,EW46,BR$7)))","v":""},{"$f":"IF($E46=\"\",\"\",IF(INDEX(E_SourceStreams!$A:$N,EX46,BS$7)=\"\",\"\",INDEX(E_SourceStreams!$A:$N,EX46,BS$7)))","v":""},{"$f":"IF($E46=\"\",\"\",IF(INDEX(E_SourceStreams!$A:$N,EY46,BT$7)=\"\",\"\",INDEX(E_SourceStreams!$A:$N,EY46,BT$7)))","v":""},null,null,null,null,null,null,null,null,null,null,null,null,null,null,null,"SourceCategory_",{"$f":"INDEX(C_InstallationDescription!$A$223:$A$328,ROWS($CI$11:CI46))=\"ausblenden\"","v":false},"SourceStreamName_",null,2444,2446,2448,2450,2452,2454,2456,2456,2456,2456,2456,2459,2463,2464,2465,2472,2482,2482,2482,2482,2482,2482,2482,2473,2483,2483,2483,2483,2483,2483,2483,2474,2484,2484,2484,2484,2484,2484,2484,2475,2485,2485,2485,2485,2485,2485,2485,2476,2486,2486,2486,2486,2486,2486,2486,2477,2487,2487,2487,2487,2487,2487,2487,2493]
[null,{"$f":"IF(COUNTIF($CK$10:CK47,TRUE)>0,\"\",INDEX(C_InstallationDescription!$E$223:$E$239,ROWS($A$11:A47)))","v":""},{"$f":"IF($E47=\"\",\"\",INDEX(C_InstallationDescription!G:G,MATCH($B47,C_InstallationDescription!$E:$E,0)))","v":""},{"$f":"IF($E47=\"\",\"\",INDEX(C_InstallationDescription!I:I,MATCH($B47,C_InstallationDescription!$E:$E,0)))","v":""},{"$f":"IF($B47=\"\",\"\",INDEX(C_InstallationDescription!F:F,MATCH($CJ47,C_InstallationDescription!$Q:$Q,0)))","v":""},{"$f":"IF($E47=\"\",\"\",INDEX(C_InstallationDescription!L:L,MATCH($CJ47,C_InstallationDescription!$Q:$Q,0)))","v":""},{"$f":"IF($E47=\"\",\"\",INDEX(C_InstallationDescription!M:M,MATCH($CJ47,C_InstallationDescription!$Q:$Q,0)))","v":""},{"$f":"IF($E47=\"\",\"\",INDEX(C_InstallationDescription!N:N,MATCH($CJ47,C_InstallationDescription!$Q:$Q,0)))","v":""},{"$f":"IF($E47=\"\",\"\",IF(INDEX(E_SourceStreams!$A:$N,CN47,I$7)=\"\",\"\",INDEX(E_SourceStreams!$A:$N,CN47,I$7)))","v":""},{"$f":"IF($E47=\"\",\"\",IF(INDEX(E_SourceStreams!$A:$N,CO47,J$7)=\"\",\"\",INDEX(E_SourceStreams!$A:$N,CO47,J$7)))","v":""},{"$f":"IF($E47=\"\",\"\",IF(INDEX(E_SourceStreams!$A:$N,CP47,K$7)=\"\",\"\",INDEX(E_SourceStreams!$A:$N,CP47,K$7)))","v":""},{"$f":"IF($E47=\"\",\"\",IF(INDEX(E_SourceStreams!$A:$N,CQ47,L$7)=\"\",\"\",INDEX(E_SourceStreams!$A:$N,CQ47,L$7)))","v":""},{"$f":"IF($E47=\"\",\"\",IF(INDEX(E_SourceStreams!$A:$N,CR47,M$7)=\"\",\"\",INDEX(E_SourceStreams!$A:$N,CR47,M$7)))","v":""},{"$f":"IF($E47=\"\",\"\",IF(INDEX(E_SourceStreams!$A:$N,CS47,N$7)=\"\",\"\",INDEX(E_SourceStreams!$A:$N,CS47,N$7)))","v":""},{"$f":"IF($E47=\"\",\"\",IF(INDEX(E_SourceStreams!$A:$N,CT47,O$7)=\"\",\"\",INDEX(E_SourceStreams!$A:$N,CT47,O$7)))","v":""},{"$f":"IF($E47=\"\",\"\",IF(INDEX(E_SourceStreams!$A:$N,CU47,P$7)=\"\",\"\",INDEX(E_SourceStreams!$A:$N,CU47,P$7)))","v":""},{"$f":"IF($E47=\"\",\"\",IF(INDEX(E_SourceStreams!$A:$N,CV47,Q$7)=\"\",\"\",INDEX(E_SourceStreams!$A:$N,CV47,Q$7)))","v":""},{"$f":"IF($E47=\"\",\"\",IF(INDEX(E_SourceStreams!$A:$N,CW47,R$7)=\"\",\"\",INDEX(E_SourceStreams!$A:$N,CW47,R$7)))","v":""},{"$f":"IF($E47=\"\",\"\",IF(INDEX(E_SourceStreams!$A:$N,CX47,S$7)=\"\",\"\",INDEX(E_SourceStreams!$A:$N,CX47,S$7)))","v":""},{"$f":"IF($E47=\"\",\"\",IF(INDEX(E_SourceStreams!$A:$N,CY47,T$7)=\"\",\"\",INDEX(E_SourceStreams!$A:$N,CY47,T$7)))","v":""},{"$f":"IF($E47=\"\",\"\",IF(INDEX(E_SourceStreams!$A:$N,CZ47,U$7)=\"\",\"\",INDEX(E_SourceStreams!$A:$N,CZ47,U$7)))","v":""},{"$f":"IF($E47=\"\",\"\",IF(INDEX(E_SourceStreams!$A:$N,DA47,V$7)=\"\",\"\",INDEX(E_SourceStreams!$A:$N,DA47,V$7)))","v":""},{"$f":"IF($E47=\"\",\"\",IF(INDEX(E_SourceStreams!$A:$N,DB47,W$7)=\"\",\"\",INDEX(E_SourceStreams!$A:$N,DB47,W$7)))","v":""},{"$f":"IF($E47=\"\",\"\",IF(INDEX(E_SourceStreams!$A:$N,DC47,X$7)=\"\",\"\",INDEX(E_SourceStreams!$A:$N,DC47,X$7)))","v":""},{"$f":"IF($E47=\"\",\"\",IF(INDEX(E_SourceStreams!$A:$N,DD47,Y$7)=\"\",\"\",INDEX(E_SourceStreams!$A:$N,DD47,Y$7)))","v":""},{"$f":"IF($E47=\"\",\"\",IF(INDEX(E_SourceStreams!$A:$N,DE47,Z$7)=\"\",\"\",INDEX(E_SourceStreams!$A:$N,DE47,Z$7)))","v":""},{"$f":"IF($E47=\"\",\"\",IF(INDEX(E_SourceStreams!$A:$N,DF47,AA$7)=\"\",\"\",INDEX(E_SourceStreams!$A:$N,DF47,AA$7)))","v":""},{"$f":"IF($E47=\"\",\"\",IF(INDEX(E_SourceStreams!$A:$N,DG47,AB$7)=\"\",\"\",INDEX(E_SourceStreams!$A:$N,DG47,AB$7)))","v":""},{"$f":"IF($E47=\"\",\"\",IF(INDEX(E_SourceStreams!$A:$N,DH47,AC$7)=\"\",\"\",INDEX(E_SourceStreams!$A:$N,DH47,AC$7)))","v":""},{"$f":"IF($E47=\"\",\"\",IF(INDEX(E_SourceStreams!$A:$N,DI47,AD$7)=\"\",\"\",INDEX(E_SourceStreams!$A:$N,DI47,AD$7)))","v":""},{"$f":"IF($E47=\"\",\"\",IF(INDEX(E_SourceStreams!$A:$N,DJ47,AE$7)=\"\",\"\",INDEX(E_SourceStreams!$A:$N,DJ47,AE$7)))","v":""},{"$f":"IF($E47=\"\",\"\",IF(INDEX(E_SourceStreams!$A:$N,DK47,AF$7)=\"\",\"\",INDEX(E_SourceStreams!$A:$N,DK47,AF$7)))","v":""},{"$f":"IF($E47=\"\",\"\",IF(INDEX(E_SourceStreams!$A:$N,DL47,AG$7)=\"\",\"\",INDEX(E_SourceStreams!$A:$N,DL47,AG$7)))","v":""},{"$f":"IF($E47=\"\",\"\",IF(INDEX(E_SourceStreams!$A:$N,DM47,AH$7)=\"\",\"\",INDEX(E_SourceStreams!$A:$N,DM47,AH$7)))","v":""},{"$f":"IF($E47=\"\",\"\",IF(INDEX(E_SourceStreams!$A:$N,DN47,AI$7)=\"\",\"\",INDEX(E_SourceStreams!$A:$N,DN47,AI$7)))","v":""},{"$f":"IF($E47=\"\",\"\",IF(INDEX(E_SourceStreams!$A:$N,DO47,AJ$7)=\"\",\"\",INDEX(E_SourceStreams!$A:$N,DO47,AJ$7)))","v":""},{"$f":"IF($E47=\"\",\"\",IF(INDEX(E_SourceStreams!$A:$N,DP47,AK$7)=\"\",\"\",INDEX(E_SourceStreams!$A:$N,DP47,AK$7)))","v":""},{"$f":"IF($E47=\"\",\"\",IF(INDEX(E_SourceStreams!$A:$N,DQ47,AL$7)=\"\",\"\",INDEX(E_SourceStreams!$A:$N,DQ47,AL$7)))","v":""},{"$f":"IF($E47=\"\",\"\",IF(INDEX(E_SourceStreams!$A:$N,DR47,AM$7)=\"\",\"\",INDEX(E_SourceStreams!$A:$N,DR47,AM$7)))","v":""},{"$f":"IF($E47=\"\",\"\",IF(INDEX(E_SourceStreams!$A:$N,DS47,AN$7)=\"\",\"\",INDEX(E_SourceStreams!$A:$N,DS47,AN$7)))","v":""},{"$f":"IF($E47=\"\",\"\",IF(INDEX(E_SourceStreams!$A:$N,DT47,AO$7)=\"\",\"\",INDEX(E_SourceStreams!$A:$N,DT47,AO$7)))","v":""},{"$f":"IF($E47=\"\",\"\",IF(INDEX(E_SourceStreams!$A:$N,DU47,AP$7)=\"\",\"\",INDEX(E_SourceStreams!$A:$N,DU47,AP$7)))","v":""},{"$f":"IF($E47=\"\",\"\",IF(INDEX(E_SourceStreams!$A:$N,DV47,AQ$7)=\"\",\"\",INDEX(E_SourceStreams!$A:$N,DV47,AQ$7)))","v":""},{"$f":"IF($E47=\"\",\"\",IF(INDEX(E_SourceStreams!$A:$N,DW47,AR$7)=\"\",\"\",INDEX(E_SourceStreams!$A:$N,DW47,AR$7)))","v":""},{"$f":"IF($E47=\"\",\"\",IF(INDEX(E_SourceStreams!$A:$N,DX47,AS$7)=\"\",\"\",INDEX(E_SourceStreams!$A:$N,DX47,AS$7)))","v":""},{"$f":"IF($E47=\"\",\"\",IF(INDEX(E_SourceStreams!$A:$N,DY47,AT$7)=\"\",\"\",INDEX(E_SourceStreams!$A:$N,DY47,AT$7)))","v":""},{"$f":"IF($E47=\"\",\"\",IF(INDEX(E_SourceStreams!$A:$N,DZ47,AU$7)=\"\",\"\",INDEX(E_SourceStreams!$A:$N,DZ47,AU$7)))","v":""},{"$f":"IF($E47=\"\",\"\",IF(INDEX(E_SourceStreams!$A:$N,EA47,AV$7)=\"\",\"\",INDEX(E_SourceStreams!$A:$N,EA47,AV$7)))","v":""},{"$f":"IF($E47=\"\",\"\",IF(INDEX(E_SourceStreams!$A:$N,EB47,AW$7)=\"\",\"\",INDEX(E_SourceStreams!$A:$N,EB47,AW$7)))","v":""},{"$f":"IF($E47=\"\",\"\",IF(INDEX(E_SourceStreams!$A:$N,EC47,AX$7)=\"\",\"\",INDEX(E_SourceStreams!$A:$N,EC47,AX$7)))","v":""},{"$f":"IF($E47=\"\",\"\",IF(INDEX(E_SourceStreams!$A:$N,ED47,AY$7)=\"\",\"\",INDEX(E_SourceStreams!$A:$N,ED47,AY$7)))","v":""},{"$f":"IF($E47=\"\",\"\",IF(INDEX(E_SourceStreams!$A:$N,EE47,AZ$7)=\"\",\"\",INDEX(E_SourceStreams!$A:$N,EE47,AZ$7)))","v":""},{"$f":"IF($E47=\"\",\"\",IF(INDEX(E_SourceStreams!$A:$N,EF47,BA$7)=\"\",\"\",INDEX(E_SourceStreams!$A:$N,EF47,BA$7)))","v":""},{"$f":"IF($E47=\"\",\"\",IF(INDEX(E_SourceStreams!$A:$N,EG47,BB$7)=\"\",\"\",INDEX(E_SourceStreams!$A:$N,EG47,BB$7)))","v":""},{"$f":"IF($E47=\"\",\"\",IF(INDEX(E_SourceStreams!$A:$N,EH47,BC$7)=\"\",\"\",INDEX(E_SourceStreams!$A:$N,EH47,BC$7)))","v":""},{"$f":"IF($E47=\"\",\"\",IF(INDEX(E_SourceStreams!$A:$N,EI47,BD$7)=\"\",\"\",INDEX(E_SourceStreams!$A:$N,EI47,BD$7)))","v":""},{"$f":"IF($E47=\"\",\"\",IF(INDEX(E_SourceStreams!$A:$N,EJ47,BE$7)=\"\",\"\",INDEX(E_SourceStreams!$A:$N,EJ47,BE$7)))","v":""},{"$f":"IF($E47=\"\",\"\",IF(INDEX(E_SourceStreams!$A:$N,EK47,BF$7)=\"\",\"\",INDEX(E_SourceStreams!$A:$N,EK47,BF$7)))","v":""},{"$f":"IF($E47=\"\",\"\",IF(INDEX(E_SourceStreams!$A:$N,EL47,BG$7)=\"\",\"\",INDEX(E_SourceStreams!$A:$N,EL47,BG$7)))","v":""},{"$f":"IF($E47=\"\",\"\",IF(INDEX(E_SourceStreams!$A:$N,EM47,BH$7)=\"\",\"\",INDEX(E_SourceStreams!$A:$N,EM47,BH$7)))","v":""},{"$f":"IF($E47=\"\",\"\",IF(INDEX(E_SourceStreams!$A:$N,EN47,BI$7)=\"\",\"\",INDEX(E_SourceStreams!$A:$N,EN47,BI$7)))","v":""},{"$f":"IF($E47=\"\",\"\",IF(INDEX(E_SourceStreams!$A:$N,EO47,BJ$7)=\"\",\"\",INDEX(E_SourceStreams!$A:$N,EO47,BJ$7)))","v":""},{"$f":"IF($E47=\"\",\"\",IF(INDEX(E_SourceStreams!$A:$N,EP47,BK$7)=\"\",\"\",INDEX(E_SourceStreams!$A:$N,EP47,BK$7)))","v":""},{"$f":"IF($E47=\"\",\"\",IF(INDEX(E_SourceStreams!$A:$N,EQ47,BL$7)=\"\",\"\",INDEX(E_SourceStreams!$A:$N,EQ47,BL$7)))","v":""},{"$f":"IF($E47=\"\",\"\",IF(INDEX(E_SourceStreams!$A:$N,ER47,BM$7)=\"\",\"\",INDEX(E_SourceStreams!$A:$N,ER47,BM$7)))","v":""},{"$f":"IF($E47=\"\",\"\",IF(INDEX(E_SourceStreams!$A:$N,ES47,BN$7)=\"\",\"\",INDEX(E_SourceStreams!$A:$N,ES47,BN$7)))","v":""},{"$f":"IF($E47=\"\",\"\",IF(INDEX(E_SourceStreams!$A:$N,ET47,BO$7)=\"\",\"\",INDEX(E_SourceStreams!$A:$N,ET47,BO$7)))","v":""},{"$f":"IF($E47=\"\",\"\",IF(INDEX(E_SourceStreams!$A:$N,EU47,BP$7)=\"\",\"\",INDEX(E_SourceStreams!$A:$N,EU47,BP$7)))","v":""},{"$f":"IF($E47=\"\",\"\",IF(INDEX(E_SourceStreams!$A:$N,EV47,BQ$7)=\"\",\"\",INDEX(E_SourceStreams!$A:$N,EV47,BQ$7)))","v":""},{"$f":"IF($E47=\"\",\"\",IF(INDEX(E_SourceStreams!$A:$N,EW47,BR$7)=\"\",\"\",INDEX(E_SourceStreams!$A:$N,EW47,BR$7)))","v":""},{"$f":"IF($E47=\"\",\"\",IF(INDEX(E_SourceStreams!$A:$N,EX47,BS$7)=\"\",\"\",INDEX(E_SourceStreams!$A:$N,EX47,BS$7)))","v":""},{"$f":"IF($E47=\"\",\"\",IF(INDEX(E_SourceStreams!$A:$N,EY47,BT$7)=\"\",\"\",INDEX(E_SourceStreams!$A:$N,EY47,BT$7)))","v":""},null,null,null,null,null,null,null,null,null,null,null,null,null,null,null,"SourceCategory_",{"$f":"INDEX(C_InstallationDescription!$A$223:$A$328,ROWS($CI$11:CI47))=\"ausblenden\"","v":false},"SourceStreamName_",null,2510,2512,2514,2516,2518,2520,2522,2522,2522,2522,2522,2525,2529,2530,2531,2538,2548,2548,2548,2548,2548,2548,2548,2539,2549,2549,2549,2549,2549,2549,2549,2540,2550,2550,2550,2550,2550,2550,2550,2541,2551,2551,2551,2551,2551,2551,2551,2542,2552,2552,2552,2552,2552,2552,2552,2543,2553,2553,2553,2553,2553,2553,2553,2559]
[null,{"$f":"IF(COUNTIF($CK$10:CK48,TRUE)>0,\"\",INDEX(C_InstallationDescription!$E$223:$E$239,ROWS($A$11:A48)))","v":""},{"$f":"IF($E48=\"\",\"\",INDEX(C_InstallationDescription!G:G,MATCH($B48,C_InstallationDescription!$E:$E,0)))","v":""},{"$f":"IF($E48=\"\",\"\",INDEX(C_InstallationDescription!I:I,MATCH($B48,C_InstallationDescription!$E:$E,0)))","v":""},{"$f":"IF($B48=\"\",\"\",INDEX(C_InstallationDescription!F:F,MATCH($CJ48,C_InstallationDescription!$Q:$Q,0)))","v":""},{"$f":"IF($E48=\"\",\"\",INDEX(C_InstallationDescription!L:L,MATCH($CJ48,C_InstallationDescription!$Q:$Q,0)))","v":""},{"$f":"IF($E48=\"\",\"\",INDEX(C_InstallationDescription!M:M,MATCH($CJ48,C_InstallationDescription!$Q:$Q,0)))","v":""},{"$f":"IF($E48=\"\",\"\",INDEX(C_InstallationDescription!N:N,MATCH($CJ48,C_InstallationDescription!$Q:$Q,0)))","v":""},{"$f":"IF($E48=\"\",\"\",IF(INDEX(E_SourceStreams!$A:$N,CN48,I$7)=\"\",\"\",INDEX(E_SourceStreams!$A:$N,CN48,I$7)))","v":""},{"$f":"IF($E48=\"\",\"\",IF(INDEX(E_SourceStreams!$A:$N,CO48,J$7)=\"\",\"\",INDEX(E_SourceStreams!$A:$N,CO48,J$7)))","v":""},{"$f":"IF($E48=\"\",\"\",IF(INDEX(E_SourceStreams!$A:$N,CP48,K$7)=\"\",\"\",INDEX(E_SourceStreams!$A:$N,CP48,K$7)))","v":""},{"$f":"IF($E48=\"\",\"\",IF(INDEX(E_SourceStreams!$A:$N,CQ48,L$7)=\"\",\"\",INDEX(E_SourceStreams!$A:$N,CQ48,L$7)))","v":""},{"$f":"IF($E48=\"\",\"\",IF(INDEX(E_SourceStreams!$A:$N,CR48,M$7)=\"\",\"\",INDEX(E_SourceStreams!$A:$N,CR48,M$7)))","v":""},{"$f":"IF($E48=\"\",\"\",IF(INDEX(E_SourceStreams!$A:$N,CS48,N$7)=\"\",\"\",INDEX(E_SourceStreams!$A:$N,CS48,N$7)))","v":""},{"$f":"IF($E48=\"\",\"\",IF(INDEX(E_SourceStreams!$A:$N,CT48,O$7)=\"\",\"\",INDEX(E_SourceStreams!$A:$N,CT48,O$7)))","v":""},{"$f":"IF($E48=\"\",\"\",IF(INDEX(E_SourceStreams!$A:$N,CU48,P$7)=\"\",\"\",INDEX(E_SourceStreams!$A:$N,CU48,P$7)))","v":""},{"$f":"IF($E48=\"\",\"\",IF(INDEX(E_SourceStreams!$A:$N,CV48,Q$7)=\"\",\"\",INDEX(E_SourceStreams!$A:$N,CV48,Q$7)))","v":""},{"$f":"IF($E48=\"\",\"\",IF(INDEX(E_SourceStreams!$A:$N,CW48,R$7)=\"\",\"\",INDEX(E_SourceStreams!$A:$N,CW48,R$7)))","v":""},{"$f":"IF($E48=\"\",\"\",IF(INDEX(E_SourceStreams!$A:$N,CX48,S$7)=\"\",\"\",INDEX(E_SourceStreams!$A:$N,CX48,S$7)))","v":""},{"$f":"IF($E48=\"\",\"\",IF(INDEX(E_SourceStreams!$A:$N,CY48,T$7)=\"\",\"\",INDEX(E_SourceStreams!$A:$N,CY48,T$7)))","v":""},{"$f":"IF($E48=\"\",\"\",IF(INDEX(E_SourceStreams!$A:$N,CZ48,U$7)=\"\",\"\",INDEX(E_SourceStreams!$A:$N,CZ48,U$7)))","v":""},{"$f":"IF($E48=\"\",\"\",IF(INDEX(E_SourceStreams!$A:$N,DA48,V$7)=\"\",\"\",INDEX(E_SourceStreams!$A:$N,DA48,V$7)))","v":""},{"$f":"IF($E48=\"\",\"\",IF(INDEX(E_SourceStreams!$A:$N,DB48,W$7)=\"\",\"\",INDEX(E_SourceStreams!$A:$N,DB48,W$7)))","v":""},{"$f":"IF($E48=\"\",\"\",IF(INDEX(E_SourceStreams!$A:$N,DC48,X$7)=\"\",\"\",INDEX(E_SourceStreams!$A:$N,DC48,X$7)))","v":""},{"$f":"IF($E48=\"\",\"\",IF(INDEX(E_SourceStreams!$A:$N,DD48,Y$7)=\"\",\"\",INDEX(E_SourceStreams!$A:$N,DD48,Y$7)))","v":""},{"$f":"IF($E48=\"\",\"\",IF(INDEX(E_SourceStreams!$A:$N,DE48,Z$7)=\"\",\"\",INDEX(E_SourceStreams!$A:$N,DE48,Z$7)))","v":""},{"$f":"IF($E48=\"\",\"\",IF(INDEX(E_SourceStreams!$A:$N,DF48,AA$7)=\"\",\"\",INDEX(E_SourceStreams!$A:$N,DF48,AA$7)))","v":""},{"$f":"IF($E48=\"\",\"\",IF(INDEX(E_SourceStreams!$A:$N,DG48,AB$7)=\"\",\"\",INDEX(E_SourceStreams!$A:$N,DG48,AB$7)))","v":""},{"$f":"IF($E48=\"\",\"\",IF(INDEX(E_SourceStreams!$A:$N,DH48,AC$7)=\"\",\"\",INDEX(E_SourceStreams!$A:$N,DH48,AC$7)))","v":""},{"$f":"IF($E48=\"\",\"\",IF(INDEX(E_SourceStreams!$A:$N,DI48,AD$7)=\"\",\"\",INDEX(E_SourceStreams!$A:$N,DI48,AD$7)))","v":""},{"$f":"IF($E48=\"\",\"\",IF(INDEX(E_SourceStreams!$A:$N,DJ48,AE$7)=\"\",\"\",INDEX(E_SourceStreams!$A:$N,DJ48,AE$7)))","v":""},{"$f":"IF($E48=\"\",\"\",IF(INDEX(E_SourceStreams!$A:$N,DK48,AF$7)=\"\",\"\",INDEX(E_SourceStreams!$A:$N,DK48,AF$7)))","v":""},{"$f":"IF($E48=\"\",\"\",IF(INDEX(E_SourceStreams!$A:$N,DL48,AG$7)=\"\",\"\",INDEX(E_SourceStreams!$A:$N,DL48,AG$7)))","v":""},{"$f":"IF($E48=\"\",\"\",IF(INDEX(E_SourceStreams!$A:$N,DM48,AH$7)=\"\",\"\",INDEX(E_SourceStreams!$A:$N,DM48,AH$7)))","v":""},{"$f":"IF($E48=\"\",\"\",IF(INDEX(E_SourceStreams!$A:$N,DN48,AI$7)=\"\",\"\",INDEX(E_SourceStreams!$A:$N,DN48,AI$7)))","v":""},{"$f":"IF($E48=\"\",\"\",IF(INDEX(E_SourceStreams!$A:$N,DO48,AJ$7)=\"\",\"\",INDEX(E_SourceStreams!$A:$N,DO48,AJ$7)))","v":""},{"$f":"IF($E48=\"\",\"\",IF(INDEX(E_SourceStreams!$A:$N,DP48,AK$7)=\"\",\"\",INDEX(E_SourceStreams!$A:$N,DP48,AK$7)))","v":""},{"$f":"IF($E48=\"\",\"\",IF(INDEX(E_SourceStreams!$A:$N,DQ48,AL$7)=\"\",\"\",INDEX(E_SourceStreams!$A:$N,DQ48,AL$7)))","v":""},{"$f":"IF($E48=\"\",\"\",IF(INDEX(E_SourceStreams!$A:$N,DR48,AM$7)=\"\",\"\",INDEX(E_SourceStreams!$A:$N,DR48,AM$7)))","v":""},{"$f":"IF($E48=\"\",\"\",IF(INDEX(E_SourceStreams!$A:$N,DS48,AN$7)=\"\",\"\",INDEX(E_SourceStreams!$A:$N,DS48,AN$7)))","v":""},{"$f":"IF($E48=\"\",\"\",IF(INDEX(E_SourceStreams!$A:$N,DT48,AO$7)=\"\",\"\",INDEX(E_SourceStreams!$A:$N,DT48,AO$7)))","v":""},{"$f":"IF($E48=\"\",\"\",IF(INDEX(E_SourceStreams!$A:$N,DU48,AP$7)=\"\",\"\",INDEX(E_SourceStreams!$A:$N,DU48,AP$7)))","v":""},{"$f":"IF($E48=\"\",\"\",IF(INDEX(E_SourceStreams!$A:$N,DV48,AQ$7)=\"\",\"\",INDEX(E_SourceStreams!$A:$N,DV48,AQ$7)))","v":""},{"$f":"IF($E48=\"\",\"\",IF(INDEX(E_SourceStreams!$A:$N,DW48,AR$7)=\"\",\"\",INDEX(E_SourceStreams!$A:$N,DW48,AR$7)))","v":""},{"$f":"IF($E48=\"\",\"\",IF(INDEX(E_SourceStreams!$A:$N,DX48,AS$7)=\"\",\"\",INDEX(E_SourceStreams!$A:$N,DX48,AS$7)))","v":""},{"$f":"IF($E48=\"\",\"\",IF(INDEX(E_SourceStreams!$A:$N,DY48,AT$7)=\"\",\"\",INDEX(E_SourceStreams!$A:$N,DY48,AT$7)))","v":""},{"$f":"IF($E48=\"\",\"\",IF(INDEX(E_SourceStreams!$A:$N,DZ48,AU$7)=\"\",\"\",INDEX(E_SourceStreams!$A:$N,DZ48,AU$7)))","v":""},{"$f":"IF($E48=\"\",\"\",IF(INDEX(E_SourceStreams!$A:$N,EA48,AV$7)=\"\",\"\",INDEX(E_SourceStreams!$A:$N,EA48,AV$7)))","v":""},{"$f":"IF($E48=\"\",\"\",IF(INDEX(E_SourceStreams!$A:$N,EB48,AW$7)=\"\",\"\",INDEX(E_SourceStreams!$A:$N,EB48,AW$7)))","v":""},{"$f":"IF($E48=\"\",\"\",IF(INDEX(E_SourceStreams!$A:$N,EC48,AX$7)=\"\",\"\",INDEX(E_SourceStreams!$A:$N,EC48,AX$7)))","v":""},{"$f":"IF($E48=\"\",\"\",IF(INDEX(E_SourceStreams!$A:$N,ED48,AY$7)=\"\",\"\",INDEX(E_SourceStreams!$A:$N,ED48,AY$7)))","v":""},{"$f":"IF($E48=\"\",\"\",IF(INDEX(E_SourceStreams!$A:$N,EE48,AZ$7)=\"\",\"\",INDEX(E_SourceStreams!$A:$N,EE48,AZ$7)))","v":""},{"$f":"IF($E48=\"\",\"\",IF(INDEX(E_SourceStreams!$A:$N,EF48,BA$7)=\"\",\"\",INDEX(E_SourceStreams!$A:$N,EF48,BA$7)))","v":""},{"$f":"IF($E48=\"\",\"\",IF(INDEX(E_SourceStreams!$A:$N,EG48,BB$7)=\"\",\"\",INDEX(E_SourceStreams!$A:$N,EG48,BB$7)))","v":""},{"$f":"IF($E48=\"\",\"\",IF(INDEX(E_SourceStreams!$A:$N,EH48,BC$7)=\"\",\"\",INDEX(E_SourceStreams!$A:$N,EH48,BC$7)))","v":""},{"$f":"IF($E48=\"\",\"\",IF(INDEX(E_SourceStreams!$A:$N,EI48,BD$7)=\"\",\"\",INDEX(E_SourceStreams!$A:$N,EI48,BD$7)))","v":""},{"$f":"IF($E48=\"\",\"\",IF(INDEX(E_SourceStreams!$A:$N,EJ48,BE$7)=\"\",\"\",INDEX(E_SourceStreams!$A:$N,EJ48,BE$7)))","v":""},{"$f":"IF($E48=\"\",\"\",IF(INDEX(E_SourceStreams!$A:$N,EK48,BF$7)=\"\",\"\",INDEX(E_SourceStreams!$A:$N,EK48,BF$7)))","v":""},{"$f":"IF($E48=\"\",\"\",IF(INDEX(E_SourceStreams!$A:$N,EL48,BG$7)=\"\",\"\",INDEX(E_SourceStreams!$A:$N,EL48,BG$7)))","v":""},{"$f":"IF($E48=\"\",\"\",IF(INDEX(E_SourceStreams!$A:$N,EM48,BH$7)=\"\",\"\",INDEX(E_SourceStreams!$A:$N,EM48,BH$7)))","v":""},{"$f":"IF($E48=\"\",\"\",IF(INDEX(E_SourceStreams!$A:$N,EN48,BI$7)=\"\",\"\",INDEX(E_SourceStreams!$A:$N,EN48,BI$7)))","v":""},{"$f":"IF($E48=\"\",\"\",IF(INDEX(E_SourceStreams!$A:$N,EO48,BJ$7)=\"\",\"\",INDEX(E_SourceStreams!$A:$N,EO48,BJ$7)))","v":""},{"$f":"IF($E48=\"\",\"\",IF(INDEX(E_SourceStreams!$A:$N,EP48,BK$7)=\"\",\"\",INDEX(E_SourceStreams!$A:$N,EP48,BK$7)))","v":""},{"$f":"IF($E48=\"\",\"\",IF(INDEX(E_SourceStreams!$A:$N,EQ48,BL$7)=\"\",\"\",INDEX(E_SourceStreams!$A:$N,EQ48,BL$7)))","v":""},{"$f":"IF($E48=\"\",\"\",IF(INDEX(E_SourceStreams!$A:$N,ER48,BM$7)=\"\",\"\",INDEX(E_SourceStreams!$A:$N,ER48,BM$7)))","v":""},{"$f":"IF($E48=\"\",\"\",IF(INDEX(E_SourceStreams!$A:$N,ES48,BN$7)=\"\",\"\",INDEX(E_SourceStreams!$A:$N,ES48,BN$7)))","v":""},{"$f":"IF($E48=\"\",\"\",IF(INDEX(E_SourceStreams!$A:$N,ET48,BO$7)=\"\",\"\",INDEX(E_SourceStreams!$A:$N,ET48,BO$7)))","v":""},{"$f":"IF($E48=\"\",\"\",IF(INDEX(E_SourceStreams!$A:$N,EU48,BP$7)=\"\",\"\",INDEX(E_SourceStreams!$A:$N,EU48,BP$7)))","v":""},{"$f":"IF($E48=\"\",\"\",IF(INDEX(E_SourceStreams!$A:$N,EV48,BQ$7)=\"\",\"\",INDEX(E_SourceStreams!$A:$N,EV48,BQ$7)))","v":""},{"$f":"IF($E48=\"\",\"\",IF(INDEX(E_SourceStreams!$A:$N,EW48,BR$7)=\"\",\"\",INDEX(E_SourceStreams!$A:$N,EW48,BR$7)))","v":""},{"$f":"IF($E48=\"\",\"\",IF(INDEX(E_SourceStreams!$A:$N,EX48,BS$7)=\"\",\"\",INDEX(E_SourceStreams!$A:$N,EX48,BS$7)))","v":""},{"$f":"IF($E48=\"\",\"\",IF(INDEX(E_SourceStreams!$A:$N,EY48,BT$7)=\"\",\"\",INDEX(E_SourceStreams!$A:$N,EY48,BT$7)))","v":""},null,null,null,null,null,null,null,null,null,null,null,null,null,null,null,"SourceCategory_",{"$f":"INDEX(C_InstallationDescription!$A$223:$A$328,ROWS($CI$11:CI48))=\"ausblenden\"","v":false},"SourceStreamName_",null,2576,2578,2580,2582,2584,2586,2588,2588,2588,2588,2588,2591,2595,2596,2597,2604,2614,2614,2614,2614,2614,2614,2614,2605,2615,2615,2615,2615,2615,2615,2615,2606,2616,2616,2616,2616,2616,2616,2616,2607,2617,2617,2617,2617,2617,2617,2617,2608,2618,2618,2618,2618,2618,2618,2618,2609,2619,2619,2619,2619,2619,2619,2619,2625]
[null,{"$f":"IF(COUNTIF($CK$10:CK49,TRUE)>0,\"\",INDEX(C_InstallationDescription!$E$223:$E$239,ROWS($A$11:A49)))","v":""},{"$f":"IF($E49=\"\",\"\",INDEX(C_InstallationDescription!G:G,MATCH($B49,C_InstallationDescription!$E:$E,0)))","v":""},{"$f":"IF($E49=\"\",\"\",INDEX(C_InstallationDescription!I:I,MATCH($B49,C_InstallationDescription!$E:$E,0)))","v":""},{"$f":"IF($B49=\"\",\"\",INDEX(C_InstallationDescription!F:F,MATCH($CJ49,C_InstallationDescription!$Q:$Q,0)))","v":""},{"$f":"IF($E49=\"\",\"\",INDEX(C_InstallationDescription!L:L,MATCH($CJ49,C_InstallationDescription!$Q:$Q,0)))","v":""},{"$f":"IF($E49=\"\",\"\",INDEX(C_InstallationDescription!M:M,MATCH($CJ49,C_InstallationDescription!$Q:$Q,0)))","v":""},{"$f":"IF($E49=\"\",\"\",INDEX(C_InstallationDescription!N:N,MATCH($CJ49,C_InstallationDescription!$Q:$Q,0)))","v":""},{"$f":"IF($E49=\"\",\"\",IF(INDEX(E_SourceStreams!$A:$N,CN49,I$7)=\"\",\"\",INDEX(E_SourceStreams!$A:$N,CN49,I$7)))","v":""},{"$f":"IF($E49=\"\",\"\",IF(INDEX(E_SourceStreams!$A:$N,CO49,J$7)=\"\",\"\",INDEX(E_SourceStreams!$A:$N,CO49,J$7)))","v":""},{"$f":"IF($E49=\"\",\"\",IF(INDEX(E_SourceStreams!$A:$N,CP49,K$7)=\"\",\"\",INDEX(E_SourceStreams!$A:$N,CP49,K$7)))","v":""},{"$f":"IF($E49=\"\",\"\",IF(INDEX(E_SourceStreams!$A:$N,CQ49,L$7)=\"\",\"\",INDEX(E_SourceStreams!$A:$N,CQ49,L$7)))","v":""},{"$f":"IF($E49=\"\",\"\",IF(INDEX(E_SourceStreams!$A:$N,CR49,M$7)=\"\",\"\",INDEX(E_SourceStreams!$A:$N,CR49,M$7)))","v":""},{"$f":"IF($E49=\"\",\"\",IF(INDEX(E_SourceStreams!$A:$N,CS49,N$7)=\"\",\"\",INDEX(E_SourceStreams!$A:$N,CS49,N$7)))","v":""},{"$f":"IF($E49=\"\",\"\",IF(INDEX(E_SourceStreams!$A:$N,CT49,O$7)=\"\",\"\",INDEX(E_SourceStreams!$A:$N,CT49,O$7)))","v":""},{"$f":"IF($E49=\"\",\"\",IF(INDEX(E_SourceStreams!$A:$N,CU49,P$7)=\"\",\"\",INDEX(E_SourceStreams!$A:$N,CU49,P$7)))","v":""},{"$f":"IF($E49=\"\",\"\",IF(INDEX(E_SourceStreams!$A:$N,CV49,Q$7)=\"\",\"\",INDEX(E_SourceStreams!$A:$N,CV49,Q$7)))","v":""},{"$f":"IF($E49=\"\",\"\",IF(INDEX(E_SourceStreams!$A:$N,CW49,R$7)=\"\",\"\",INDEX(E_SourceStreams!$A:$N,CW49,R$7)))","v":""},{"$f":"IF($E49=\"\",\"\",IF(INDEX(E_SourceStreams!$A:$N,CX49,S$7)=\"\",\"\",INDEX(E_SourceStreams!$A:$N,CX49,S$7)))","v":""},{"$f":"IF($E49=\"\",\"\",IF(INDEX(E_SourceStreams!$A:$N,CY49,T$7)=\"\",\"\",INDEX(E_SourceStreams!$A:$N,CY49,T$7)))","v":""},{"$f":"IF($E49=\"\",\"\",IF(INDEX(E_SourceStreams!$A:$N,CZ49,U$7)=\"\",\"\",INDEX(E_SourceStreams!$A:$N,CZ49,U$7)))","v":""},{"$f":"IF($E49=\"\",\"\",IF(INDEX(E_SourceStreams!$A:$N,DA49,V$7)=\"\",\"\",INDEX(E_SourceStreams!$A:$N,DA49,V$7)))","v":""},{"$f":"IF($E49=\"\",\"\",IF(INDEX(E_SourceStreams!$A:$N,DB49,W$7)=\"\",\"\",INDEX(E_SourceStreams!$A:$N,DB49,W$7)))","v":""},{"$f":"IF($E49=\"\",\"\",IF(INDEX(E_SourceStreams!$A:$N,DC49,X$7)=\"\",\"\",INDEX(E_SourceStreams!$A:$N,DC49,X$7)))","v":""},{"$f":"IF($E49=\"\",\"\",IF(INDEX(E_SourceStreams!$A:$N,DD49,Y$7)=\"\",\"\",INDEX(E_SourceStreams!$A:$N,DD49,Y$7)))","v":""},{"$f":"IF($E49=\"\",\"\",IF(INDEX(E_SourceStreams!$A:$N,DE49,Z$7)=\"\",\"\",INDEX(E_SourceStreams!$A:$N,DE49,Z$7)))","v":""},{"$f":"IF($E49=\"\",\"\",IF(INDEX(E_SourceStreams!$A:$N,DF49,AA$7)=\"\",\"\",INDEX(E_SourceStreams!$A:$N,DF49,AA$7)))","v":""},{"$f":"IF($E49=\"\",\"\",IF(INDEX(E_SourceStreams!$A:$N,DG49,AB$7)=\"\",\"\",INDEX(E_SourceStreams!$A:$N,DG49,AB$7)))","v":""},{"$f":"IF($E49=\"\",\"\",IF(INDEX(E_SourceStreams!$A:$N,DH49,AC$7)=\"\",\"\",INDEX(E_SourceStreams!$A:$N,DH49,AC$7)))","v":""},{"$f":"IF($E49=\"\",\"\",IF(INDEX(E_SourceStreams!$A:$N,DI49,AD$7)=\"\",\"\",INDEX(E_SourceStreams!$A:$N,DI49,AD$7)))","v":""},{"$f":"IF($E49=\"\",\"\",IF(INDEX(E_SourceStreams!$A:$N,DJ49,AE$7)=\"\",\"\",INDEX(E_SourceStreams!$A:$N,DJ49,AE$7)))","v":""},{"$f":"IF($E49=\"\",\"\",IF(INDEX(E_SourceStreams!$A:$N,DK49,AF$7)=\"\",\"\",INDEX(E_SourceStreams!$A:$N,DK49,AF$7)))","v":""},{"$f":"IF($E49=\"\",\"\",IF(INDEX(E_SourceStreams!$A:$N,DL49,AG$7)=\"\",\"\",INDEX(E_SourceStreams!$A:$N,DL49,AG$7)))","v":""},{"$f":"IF($E49=\"\",\"\",IF(INDEX(E_SourceStreams!$A:$N,DM49,AH$7)=\"\",\"\",INDEX(E_SourceStreams!$A:$N,DM49,AH$7)))","v":""},{"$f":"IF($E49=\"\",\"\",IF(INDEX(E_SourceStreams!$A:$N,DN49,AI$7)=\"\",\"\",INDEX(E_SourceStreams!$A:$N,DN49,AI$7)))","v":""},{"$f":"IF($E49=\"\",\"\",IF(INDEX(E_SourceStreams!$A:$N,DO49,AJ$7)=\"\",\"\",INDEX(E_SourceStreams!$A:$N,DO49,AJ$7)))","v":""},{"$f":"IF($E49=\"\",\"\",IF(INDEX(E_SourceStreams!$A:$N,DP49,AK$7)=\"\",\"\",INDEX(E_SourceStreams!$A:$N,DP49,AK$7)))","v":""},{"$f":"IF($E49=\"\",\"\",IF(INDEX(E_SourceStreams!$A:$N,DQ49,AL$7)=\"\",\"\",INDEX(E_SourceStreams!$A:$N,DQ49,AL$7)))","v":""},{"$f":"IF($E49=\"\",\"\",IF(INDEX(E_SourceStreams!$A:$N,DR49,AM$7)=\"\",\"\",INDEX(E_SourceStreams!$A:$N,DR49,AM$7)))","v":""},{"$f":"IF($E49=\"\",\"\",IF(INDEX(E_SourceStreams!$A:$N,DS49,AN$7)=\"\",\"\",INDEX(E_SourceStreams!$A:$N,DS49,AN$7)))","v":""},{"$f":"IF($E49=\"\",\"\",IF(INDEX(E_SourceStreams!$A:$N,DT49,AO$7)=\"\",\"\",INDEX(E_SourceStreams!$A:$N,DT49,AO$7)))","v":""},{"$f":"IF($E49=\"\",\"\",IF(INDEX(E_SourceStreams!$A:$N,DU49,AP$7)=\"\",\"\",INDEX(E_SourceStreams!$A:$N,DU49,AP$7)))","v":""},{"$f":"IF($E49=\"\",\"\",IF(INDEX(E_SourceStreams!$A:$N,DV49,AQ$7)=\"\",\"\",INDEX(E_SourceStreams!$A:$N,DV49,AQ$7)))","v":""},{"$f":"IF($E49=\"\",\"\",IF(INDEX(E_SourceStreams!$A:$N,DW49,AR$7)=\"\",\"\",INDEX(E_SourceStreams!$A:$N,DW49,AR$7)))","v":""},{"$f":"IF($E49=\"\",\"\",IF(INDEX(E_SourceStreams!$A:$N,DX49,AS$7)=\"\",\"\",INDEX(E_SourceStreams!$A:$N,DX49,AS$7)))","v":""},{"$f":"IF($E49=\"\",\"\",IF(INDEX(E_SourceStreams!$A:$N,DY49,AT$7)=\"\",\"\",INDEX(E_SourceStreams!$A:$N,DY49,AT$7)))","v":""},{"$f":"IF($E49=\"\",\"\",IF(INDEX(E_SourceStreams!$A:$N,DZ49,AU$7)=\"\",\"\",INDEX(E_SourceStreams!$A:$N,DZ49,AU$7)))","v":""},{"$f":"IF($E49=\"\",\"\",IF(INDEX(E_SourceStreams!$A:$N,EA49,AV$7)=\"\",\"\",INDEX(E_SourceStreams!$A:$N,EA49,AV$7)))","v":""},{"$f":"IF($E49=\"\",\"\",IF(INDEX(E_SourceStreams!$A:$N,EB49,AW$7)=\"\",\"\",INDEX(E_SourceStreams!$A:$N,EB49,AW$7)))","v":""},{"$f":"IF($E49=\"\",\"\",IF(INDEX(E_SourceStreams!$A:$N,EC49,AX$7)=\"\",\"\",INDEX(E_SourceStreams!$A:$N,EC49,AX$7)))","v":""},{"$f":"IF($E49=\"\",\"\",IF(INDEX(E_SourceStreams!$A:$N,ED49,AY$7)=\"\",\"\",INDEX(E_SourceStreams!$A:$N,ED49,AY$7)))","v":""},{"$f":"IF($E49=\"\",\"\",IF(INDEX(E_SourceStreams!$A:$N,EE49,AZ$7)=\"\",\"\",INDEX(E_SourceStreams!$A:$N,EE49,AZ$7)))","v":""},{"$f":"IF($E49=\"\",\"\",IF(INDEX(E_SourceStreams!$A:$N,EF49,BA$7)=\"\",\"\",INDEX(E_SourceStreams!$A:$N,EF49,BA$7)))","v":""},{"$f":"IF($E49=\"\",\"\",IF(INDEX(E_SourceStreams!$A:$N,EG49,BB$7)=\"\",\"\",INDEX(E_SourceStreams!$A:$N,EG49,BB$7)))","v":""},{"$f":"IF($E49=\"\",\"\",IF(INDEX(E_SourceStreams!$A:$N,EH49,BC$7)=\"\",\"\",INDEX(E_SourceStreams!$A:$N,EH49,BC$7)))","v":""},{"$f":"IF($E49=\"\",\"\",IF(INDEX(E_SourceStreams!$A:$N,EI49,BD$7)=\"\",\"\",INDEX(E_SourceStreams!$A:$N,EI49,BD$7)))","v":""},{"$f":"IF($E49=\"\",\"\",IF(INDEX(E_SourceStreams!$A:$N,EJ49,BE$7)=\"\",\"\",INDEX(E_SourceStreams!$A:$N,EJ49,BE$7)))","v":""},{"$f":"IF($E49=\"\",\"\",IF(INDEX(E_SourceStreams!$A:$N,EK49,BF$7)=\"\",\"\",INDEX(E_SourceStreams!$A:$N,EK49,BF$7)))","v":""},{"$f":"IF($E49=\"\",\"\",IF(INDEX(E_SourceStreams!$A:$N,EL49,BG$7)=\"\",\"\",INDEX(E_SourceStreams!$A:$N,EL49,BG$7)))","v":""},{"$f":"IF($E49=\"\",\"\",IF(INDEX(E_SourceStreams!$A:$N,EM49,BH$7)=\"\",\"\",INDEX(E_SourceStreams!$A:$N,EM49,BH$7)))","v":""},{"$f":"IF($E49=\"\",\"\",IF(INDEX(E_SourceStreams!$A:$N,EN49,BI$7)=\"\",\"\",INDEX(E_SourceStreams!$A:$N,EN49,BI$7)))","v":""},{"$f":"IF($E49=\"\",\"\",IF(INDEX(E_SourceStreams!$A:$N,EO49,BJ$7)=\"\",\"\",INDEX(E_SourceStreams!$A:$N,EO49,BJ$7)))","v":""},{"$f":"IF($E49=\"\",\"\",IF(INDEX(E_SourceStreams!$A:$N,EP49,BK$7)=\"\",\"\",INDEX(E_SourceStreams!$A:$N,EP49,BK$7)))","v":""},{"$f":"IF($E49=\"\",\"\",IF(INDEX(E_SourceStreams!$A:$N,EQ49,BL$7)=\"\",\"\",INDEX(E_SourceStreams!$A:$N,EQ49,BL$7)))","v":""},{"$f":"IF($E49=\"\",\"\",IF(INDEX(E_SourceStreams!$A:$N,ER49,BM$7)=\"\",\"\",INDEX(E_SourceStreams!$A:$N,ER49,BM$7)))","v":""},{"$f":"IF($E49=\"\",\"\",IF(INDEX(E_SourceStreams!$A:$N,ES49,BN$7)=\"\",\"\",INDEX(E_SourceStreams!$A:$N,ES49,BN$7)))","v":""},{"$f":"IF($E49=\"\",\"\",IF(INDEX(E_SourceStreams!$A:$N,ET49,BO$7)=\"\",\"\",INDEX(E_SourceStreams!$A:$N,ET49,BO$7)))","v":""},{"$f":"IF($E49=\"\",\"\",IF(INDEX(E_SourceStreams!$A:$N,EU49,BP$7)=\"\",\"\",INDEX(E_SourceStreams!$A:$N,EU49,BP$7)))","v":""},{"$f":"IF($E49=\"\",\"\",IF(INDEX(E_SourceStreams!$A:$N,EV49,BQ$7)=\"\",\"\",INDEX(E_SourceStreams!$A:$N,EV49,BQ$7)))","v":""},{"$f":"IF($E49=\"\",\"\",IF(INDEX(E_SourceStreams!$A:$N,EW49,BR$7)=\"\",\"\",INDEX(E_SourceStreams!$A:$N,EW49,BR$7)))","v":""},{"$f":"IF($E49=\"\",\"\",IF(INDEX(E_SourceStreams!$A:$N,EX49,BS$7)=\"\",\"\",INDEX(E_SourceStreams!$A:$N,EX49,BS$7)))","v":""},{"$f":"IF($E49=\"\",\"\",IF(INDEX(E_SourceStreams!$A:$N,EY49,BT$7)=\"\",\"\",INDEX(E_SourceStreams!$A:$N,EY49,BT$7)))","v":""},null,null,null,null,null,null,null,null,null,null,null,null,null,null,null,"SourceCategory_",{"$f":"INDEX(C_InstallationDescription!$A$223:$A$328,ROWS($CI$11:CI49))=\"ausblenden\"","v":false},"SourceStreamName_",null,2642,2644,2646,2648,2650,2652,2654,2654,2654,2654,2654,2657,2661,2662,2663,2670,2680,2680,2680,2680,2680,2680,2680,2671,2681,2681,2681,2681,2681,2681,2681,2672,2682,2682,2682,2682,2682,2682,2682,2673,2683,2683,2683,2683,2683,2683,2683,2674,2684,2684,2684,2684,2684,2684,2684,2675,2685,2685,2685,2685,2685,2685,2685,2691]
[null,{"$f":"IF(COUNTIF($CK$10:CK50,TRUE)>0,\"\",INDEX(C_InstallationDescription!$E$223:$E$239,ROWS($A$11:A50)))","v":""},{"$f":"IF($E50=\"\",\"\",INDEX(C_InstallationDescription!G:G,MATCH($B50,C_InstallationDescription!$E:$E,0)))","v":""},{"$f":"IF($E50=\"\",\"\",INDEX(C_InstallationDescription!I:I,MATCH($B50,C_InstallationDescription!$E:$E,0)))","v":""},{"$f":"IF($B50=\"\",\"\",INDEX(C_InstallationDescription!F:F,MATCH($CJ50,C_InstallationDescription!$Q:$Q,0)))","v":""},{"$f":"IF($E50=\"\",\"\",INDEX(C_InstallationDescription!L:L,MATCH($CJ50,C_InstallationDescription!$Q:$Q,0)))","v":""},{"$f":"IF($E50=\"\",\"\",INDEX(C_InstallationDescription!M:M,MATCH($CJ50,C_InstallationDescription!$Q:$Q,0)))","v":""},{"$f":"IF($E50=\"\",\"\",INDEX(C_InstallationDescription!N:N,MATCH($CJ50,C_InstallationDescription!$Q:$Q,0)))","v":""},{"$f":"IF($E50=\"\",\"\",IF(INDEX(E_SourceStreams!$A:$N,CN50,I$7)=\"\",\"\",INDEX(E_SourceStreams!$A:$N,CN50,I$7)))","v":""},{"$f":"IF($E50=\"\",\"\",IF(INDEX(E_SourceStreams!$A:$N,CO50,J$7)=\"\",\"\",INDEX(E_SourceStreams!$A:$N,CO50,J$7)))","v":""},{"$f":"IF($E50=\"\",\"\",IF(INDEX(E_SourceStreams!$A:$N,CP50,K$7)=\"\",\"\",INDEX(E_SourceStreams!$A:$N,CP50,K$7)))","v":""},{"$f":"IF($E50=\"\",\"\",IF(INDEX(E_SourceStreams!$A:$N,CQ50,L$7)=\"\",\"\",INDEX(E_SourceStreams!$A:$N,CQ50,L$7)))","v":""},{"$f":"IF($E50=\"\",\"\",IF(INDEX(E_SourceStreams!$A:$N,CR50,M$7)=\"\",\"\",INDEX(E_SourceStreams!$A:$N,CR50,M$7)))","v":""},{"$f":"IF($E50=\"\",\"\",IF(INDEX(E_SourceStreams!$A:$N,CS50,N$7)=\"\",\"\",INDEX(E_SourceStreams!$A:$N,CS50,N$7)))","v":""},{"$f":"IF($E50=\"\",\"\",IF(INDEX(E_SourceStreams!$A:$N,CT50,O$7)=\"\",\"\",INDEX(E_SourceStreams!$A:$N,CT50,O$7)))","v":""},{"$f":"IF($E50=\"\",\"\",IF(INDEX(E_SourceStreams!$A:$N,CU50,P$7)=\"\",\"\",INDEX(E_SourceStreams!$A:$N,CU50,P$7)))","v":""},{"$f":"IF($E50=\"\",\"\",IF(INDEX(E_SourceStreams!$A:$N,CV50,Q$7)=\"\",\"\",INDEX(E_SourceStreams!$A:$N,CV50,Q$7)))","v":""},{"$f":"IF($E50=\"\",\"\",IF(INDEX(E_SourceStreams!$A:$N,CW50,R$7)=\"\",\"\",INDEX(E_SourceStreams!$A:$N,CW50,R$7)))","v":""},{"$f":"IF($E50=\"\",\"\",IF(INDEX(E_SourceStreams!$A:$N,CX50,S$7)=\"\",\"\",INDEX(E_SourceStreams!$A:$N,CX50,S$7)))","v":""},{"$f":"IF($E50=\"\",\"\",IF(INDEX(E_SourceStreams!$A:$N,CY50,T$7)=\"\",\"\",INDEX(E_SourceStreams!$A:$N,CY50,T$7)))","v":""},{"$f":"IF($E50=\"\",\"\",IF(INDEX(E_SourceStreams!$A:$N,CZ50,U$7)=\"\",\"\",INDEX(E_SourceStreams!$A:$N,CZ50,U$7)))","v":""},{"$f":"IF($E50=\"\",\"\",IF(INDEX(E_SourceStreams!$A:$N,DA50,V$7)=\"\",\"\",INDEX(E_SourceStreams!$A:$N,DA50,V$7)))","v":""},{"$f":"IF($E50=\"\",\"\",IF(INDEX(E_SourceStreams!$A:$N,DB50,W$7)=\"\",\"\",INDEX(E_SourceStreams!$A:$N,DB50,W$7)))","v":""},{"$f":"IF($E50=\"\",\"\",IF(INDEX(E_SourceStreams!$A:$N,DC50,X$7)=\"\",\"\",INDEX(E_SourceStreams!$A:$N,DC50,X$7)))","v":""},{"$f":"IF($E50=\"\",\"\",IF(INDEX(E_SourceStreams!$A:$N,DD50,Y$7)=\"\",\"\",INDEX(E_SourceStreams!$A:$N,DD50,Y$7)))","v":""},{"$f":"IF($E50=\"\",\"\",IF(INDEX(E_SourceStreams!$A:$N,DE50,Z$7)=\"\",\"\",INDEX(E_SourceStreams!$A:$N,DE50,Z$7)))","v":""},{"$f":"IF($E50=\"\",\"\",IF(INDEX(E_SourceStreams!$A:$N,DF50,AA$7)=\"\",\"\",INDEX(E_SourceStreams!$A:$N,DF50,AA$7)))","v":""},{"$f":"IF($E50=\"\",\"\",IF(INDEX(E_SourceStreams!$A:$N,DG50,AB$7)=\"\",\"\",INDEX(E_SourceStreams!$A:$N,DG50,AB$7)))","v":""},{"$f":"IF($E50=\"\",\"\",IF(INDEX(E_SourceStreams!$A:$N,DH50,AC$7)=\"\",\"\",INDEX(E_SourceStreams!$A:$N,DH50,AC$7)))","v":""},{"$f":"IF($E50=\"\",\"\",IF(INDEX(E_SourceStreams!$A:$N,DI50,AD$7)=\"\",\"\",INDEX(E_SourceStreams!$A:$N,DI50,AD$7)))","v":""},{"$f":"IF($E50=\"\",\"\",IF(INDEX(E_SourceStreams!$A:$N,DJ50,AE$7)=\"\",\"\",INDEX(E_SourceStreams!$A:$N,DJ50,AE$7)))","v":""},{"$f":"IF($E50=\"\",\"\",IF(INDEX(E_SourceStreams!$A:$N,DK50,AF$7)=\"\",\"\",INDEX(E_SourceStreams!$A:$N,DK50,AF$7)))","v":""},{"$f":"IF($E50=\"\",\"\",IF(INDEX(E_SourceStreams!$A:$N,DL50,AG$7)=\"\",\"\",INDEX(E_SourceStreams!$A:$N,DL50,AG$7)))","v":""},{"$f":"IF($E50=\"\",\"\",IF(INDEX(E_SourceStreams!$A:$N,DM50,AH$7)=\"\",\"\",INDEX(E_SourceStreams!$A:$N,DM50,AH$7)))","v":""},{"$f":"IF($E50=\"\",\"\",IF(INDEX(E_SourceStreams!$A:$N,DN50,AI$7)=\"\",\"\",INDEX(E_SourceStreams!$A:$N,DN50,AI$7)))","v":""},{"$f":"IF($E50=\"\",\"\",IF(INDEX(E_SourceStreams!$A:$N,DO50,AJ$7)=\"\",\"\",INDEX(E_SourceStreams!$A:$N,DO50,AJ$7)))","v":""},{"$f":"IF($E50=\"\",\"\",IF(INDEX(E_SourceStreams!$A:$N,DP50,AK$7)=\"\",\"\",INDEX(E_SourceStreams!$A:$N,DP50,AK$7)))","v":""},{"$f":"IF($E50=\"\",\"\",IF(INDEX(E_SourceStreams!$A:$N,DQ50,AL$7)=\"\",\"\",INDEX(E_SourceStreams!$A:$N,DQ50,AL$7)))","v":""},{"$f":"IF($E50=\"\",\"\",IF(INDEX(E_SourceStreams!$A:$N,DR50,AM$7)=\"\",\"\",INDEX(E_SourceStreams!$A:$N,DR50,AM$7)))","v":""},{"$f":"IF($E50=\"\",\"\",IF(INDEX(E_SourceStreams!$A:$N,DS50,AN$7)=\"\",\"\",INDEX(E_SourceStreams!$A:$N,DS50,AN$7)))","v":""},{"$f":"IF($E50=\"\",\"\",IF(INDEX(E_SourceStreams!$A:$N,DT50,AO$7)=\"\",\"\",INDEX(E_SourceStreams!$A:$N,DT50,AO$7)))","v":""},{"$f":"IF($E50=\"\",\"\",IF(INDEX(E_SourceStreams!$A:$N,DU50,AP$7)=\"\",\"\",INDEX(E_SourceStreams!$A:$N,DU50,AP$7)))","v":""},{"$f":"IF($E50=\"\",\"\",IF(INDEX(E_SourceStreams!$A:$N,DV50,AQ$7)=\"\",\"\",INDEX(E_SourceStreams!$A:$N,DV50,AQ$7)))","v":""},{"$f":"IF($E50=\"\",\"\",IF(INDEX(E_SourceStreams!$A:$N,DW50,AR$7)=\"\",\"\",INDEX(E_SourceStreams!$A:$N,DW50,AR$7)))","v":""},{"$f":"IF($E50=\"\",\"\",IF(INDEX(E_SourceStreams!$A:$N,DX50,AS$7)=\"\",\"\",INDEX(E_SourceStreams!$A:$N,DX50,AS$7)))","v":""},{"$f":"IF($E50=\"\",\"\",IF(INDEX(E_SourceStreams!$A:$N,DY50,AT$7)=\"\",\"\",INDEX(E_SourceStreams!$A:$N,DY50,AT$7)))","v":""},{"$f":"IF($E50=\"\",\"\",IF(INDEX(E_SourceStreams!$A:$N,DZ50,AU$7)=\"\",\"\",INDEX(E_SourceStreams!$A:$N,DZ50,AU$7)))","v":""},{"$f":"IF($E50=\"\",\"\",IF(INDEX(E_SourceStreams!$A:$N,EA50,AV$7)=\"\",\"\",INDEX(E_SourceStreams!$A:$N,EA50,AV$7)))","v":""},{"$f":"IF($E50=\"\",\"\",IF(INDEX(E_SourceStreams!$A:$N,EB50,AW$7)=\"\",\"\",INDEX(E_SourceStreams!$A:$N,EB50,AW$7)))","v":""},{"$f":"IF($E50=\"\",\"\",IF(INDEX(E_SourceStreams!$A:$N,EC50,AX$7)=\"\",\"\",INDEX(E_SourceStreams!$A:$N,EC50,AX$7)))","v":""},{"$f":"IF($E50=\"\",\"\",IF(INDEX(E_SourceStreams!$A:$N,ED50,AY$7)=\"\",\"\",INDEX(E_SourceStreams!$A:$N,ED50,AY$7)))","v":""},{"$f":"IF($E50=\"\",\"\",IF(INDEX(E_SourceStreams!$A:$N,EE50,AZ$7)=\"\",\"\",INDEX(E_SourceStreams!$A:$N,EE50,AZ$7)))","v":""},{"$f":"IF($E50=\"\",\"\",IF(INDEX(E_SourceStreams!$A:$N,EF50,BA$7)=\"\",\"\",INDEX(E_SourceStreams!$A:$N,EF50,BA$7)))","v":""},{"$f":"IF($E50=\"\",\"\",IF(INDEX(E_SourceStreams!$A:$N,EG50,BB$7)=\"\",\"\",INDEX(E_SourceStreams!$A:$N,EG50,BB$7)))","v":""},{"$f":"IF($E50=\"\",\"\",IF(INDEX(E_SourceStreams!$A:$N,EH50,BC$7)=\"\",\"\",INDEX(E_SourceStreams!$A:$N,EH50,BC$7)))","v":""},{"$f":"IF($E50=\"\",\"\",IF(INDEX(E_SourceStreams!$A:$N,EI50,BD$7)=\"\",\"\",INDEX(E_SourceStreams!$A:$N,EI50,BD$7)))","v":""},{"$f":"IF($E50=\"\",\"\",IF(INDEX(E_SourceStreams!$A:$N,EJ50,BE$7)=\"\",\"\",INDEX(E_SourceStreams!$A:$N,EJ50,BE$7)))","v":""},{"$f":"IF($E50=\"\",\"\",IF(INDEX(E_SourceStreams!$A:$N,EK50,BF$7)=\"\",\"\",INDEX(E_SourceStreams!$A:$N,EK50,BF$7)))","v":""},{"$f":"IF($E50=\"\",\"\",IF(INDEX(E_SourceStreams!$A:$N,EL50,BG$7)=\"\",\"\",INDEX(E_SourceStreams!$A:$N,EL50,BG$7)))","v":""},{"$f":"IF($E50=\"\",\"\",IF(INDEX(E_SourceStreams!$A:$N,EM50,BH$7)=\"\",\"\",INDEX(E_SourceStreams!$A:$N,EM50,BH$7)))","v":""},{"$f":"IF($E50=\"\",\"\",IF(INDEX(E_SourceStreams!$A:$N,EN50,BI$7)=\"\",\"\",INDEX(E_SourceStreams!$A:$N,EN50,BI$7)))","v":""},{"$f":"IF($E50=\"\",\"\",IF(INDEX(E_SourceStreams!$A:$N,EO50,BJ$7)=\"\",\"\",INDEX(E_SourceStreams!$A:$N,EO50,BJ$7)))","v":""},{"$f":"IF($E50=\"\",\"\",IF(INDEX(E_SourceStreams!$A:$N,EP50,BK$7)=\"\",\"\",INDEX(E_SourceStreams!$A:$N,EP50,BK$7)))","v":""},{"$f":"IF($E50=\"\",\"\",IF(INDEX(E_SourceStreams!$A:$N,EQ50,BL$7)=\"\",\"\",INDEX(E_SourceStreams!$A:$N,EQ50,BL$7)))","v":""},{"$f":"IF($E50=\"\",\"\",IF(INDEX(E_SourceStreams!$A:$N,ER50,BM$7)=\"\",\"\",INDEX(E_SourceStreams!$A:$N,ER50,BM$7)))","v":""},{"$f":"IF($E50=\"\",\"\",IF(INDEX(E_SourceStreams!$A:$N,ES50,BN$7)=\"\",\"\",INDEX(E_SourceStreams!$A:$N,ES50,BN$7)))","v":""},{"$f":"IF($E50=\"\",\"\",IF(INDEX(E_SourceStreams!$A:$N,ET50,BO$7)=\"\",\"\",INDEX(E_SourceStreams!$A:$N,ET50,BO$7)))","v":""},{"$f":"IF($E50=\"\",\"\",IF(INDEX(E_SourceStreams!$A:$N,EU50,BP$7)=\"\",\"\",INDEX(E_SourceStreams!$A:$N,EU50,BP$7)))","v":""},{"$f":"IF($E50=\"\",\"\",IF(INDEX(E_SourceStreams!$A:$N,EV50,BQ$7)=\"\",\"\",INDEX(E_SourceStreams!$A:$N,EV50,BQ$7)))","v":""},{"$f":"IF($E50=\"\",\"\",IF(INDEX(E_SourceStreams!$A:$N,EW50,BR$7)=\"\",\"\",INDEX(E_SourceStreams!$A:$N,EW50,BR$7)))","v":""},{"$f":"IF($E50=\"\",\"\",IF(INDEX(E_SourceStreams!$A:$N,EX50,BS$7)=\"\",\"\",INDEX(E_SourceStreams!$A:$N,EX50,BS$7)))","v":""},{"$f":"IF($E50=\"\",\"\",IF(INDEX(E_SourceStreams!$A:$N,EY50,BT$7)=\"\",\"\",INDEX(E_SourceStreams!$A:$N,EY50,BT$7)))","v":""},null,null,null,null,null,null,null,null,null,null,null,null,null,null,null,"SourceCategory_",{"$f":"INDEX(C_InstallationDescription!$A$223:$A$328,ROWS($CI$11:CI50))=\"ausblenden\"","v":false},"SourceStreamName_",null,2708,2710,2712,2714,2716,2718,2720,2720,2720,2720,2720,2723,2727,2728,2729,2736,2746,2746,2746,2746,2746,2746,2746,2737,2747,2747,2747,2747,2747,2747,2747,2738,2748,2748,2748,2748,2748,2748,2748,2739,2749,2749,2749,2749,2749,2749,2749,2740,2750,2750,2750,2750,2750,2750,2750,2741,2751,2751,2751,2751,2751,2751,2751,2757]
[null,{"$f":"IF(COUNTIF($CK$10:CK51,TRUE)>0,\"\",INDEX(C_InstallationDescription!$E$223:$E$239,ROWS($A$11:A51)))","v":""},{"$f":"IF($E51=\"\",\"\",INDEX(C_InstallationDescription!G:G,MATCH($B51,C_InstallationDescription!$E:$E,0)))","v":""},{"$f":"IF($E51=\"\",\"\",INDEX(C_InstallationDescription!I:I,MATCH($B51,C_InstallationDescription!$E:$E,0)))","v":""},{"$f":"IF($B51=\"\",\"\",INDEX(C_InstallationDescription!F:F,MATCH($CJ51,C_InstallationDescription!$Q:$Q,0)))","v":""},{"$f":"IF($E51=\"\",\"\",INDEX(C_InstallationDescription!L:L,MATCH($CJ51,C_InstallationDescription!$Q:$Q,0)))","v":""},{"$f":"IF($E51=\"\",\"\",INDEX(C_InstallationDescription!M:M,MATCH($CJ51,C_InstallationDescription!$Q:$Q,0)))","v":""},{"$f":"IF($E51=\"\",\"\",INDEX(C_InstallationDescription!N:N,MATCH($CJ51,C_InstallationDescription!$Q:$Q,0)))","v":""},{"$f":"IF($E51=\"\",\"\",IF(INDEX(E_SourceStreams!$A:$N,CN51,I$7)=\"\",\"\",INDEX(E_SourceStreams!$A:$N,CN51,I$7)))","v":""},{"$f":"IF($E51=\"\",\"\",IF(INDEX(E_SourceStreams!$A:$N,CO51,J$7)=\"\",\"\",INDEX(E_SourceStreams!$A:$N,CO51,J$7)))","v":""},{"$f":"IF($E51=\"\",\"\",IF(INDEX(E_SourceStreams!$A:$N,CP51,K$7)=\"\",\"\",INDEX(E_SourceStreams!$A:$N,CP51,K$7)))","v":""},{"$f":"IF($E51=\"\",\"\",IF(INDEX(E_SourceStreams!$A:$N,CQ51,L$7)=\"\",\"\",INDEX(E_SourceStreams!$A:$N,CQ51,L$7)))","v":""},{"$f":"IF($E51=\"\",\"\",IF(INDEX(E_SourceStreams!$A:$N,CR51,M$7)=\"\",\"\",INDEX(E_SourceStreams!$A:$N,CR51,M$7)))","v":""},{"$f":"IF($E51=\"\",\"\",IF(INDEX(E_SourceStreams!$A:$N,CS51,N$7)=\"\",\"\",INDEX(E_SourceStreams!$A:$N,CS51,N$7)))","v":""},{"$f":"IF($E51=\"\",\"\",IF(INDEX(E_SourceStreams!$A:$N,CT51,O$7)=\"\",\"\",INDEX(E_SourceStreams!$A:$N,CT51,O$7)))","v":""},{"$f":"IF($E51=\"\",\"\",IF(INDEX(E_SourceStreams!$A:$N,CU51,P$7)=\"\",\"\",INDEX(E_SourceStreams!$A:$N,CU51,P$7)))","v":""},{"$f":"IF($E51=\"\",\"\",IF(INDEX(E_SourceStreams!$A:$N,CV51,Q$7)=\"\",\"\",INDEX(E_SourceStreams!$A:$N,CV51,Q$7)))","v":""},{"$f":"IF($E51=\"\",\"\",IF(INDEX(E_SourceStreams!$A:$N,CW51,R$7)=\"\",\"\",INDEX(E_SourceStreams!$A:$N,CW51,R$7)))","v":""},{"$f":"IF($E51=\"\",\"\",IF(INDEX(E_SourceStreams!$A:$N,CX51,S$7)=\"\",\"\",INDEX(E_SourceStreams!$A:$N,CX51,S$7)))","v":""},{"$f":"IF($E51=\"\",\"\",IF(INDEX(E_SourceStreams!$A:$N,CY51,T$7)=\"\",\"\",INDEX(E_SourceStreams!$A:$N,CY51,T$7)))","v":""},{"$f":"IF($E51=\"\",\"\",IF(INDEX(E_SourceStreams!$A:$N,CZ51,U$7)=\"\",\"\",INDEX(E_SourceStreams!$A:$N,CZ51,U$7)))","v":""},{"$f":"IF($E51=\"\",\"\",IF(INDEX(E_SourceStreams!$A:$N,DA51,V$7)=\"\",\"\",INDEX(E_SourceStreams!$A:$N,DA51,V$7)))","v":""},{"$f":"IF($E51=\"\",\"\",IF(INDEX(E_SourceStreams!$A:$N,DB51,W$7)=\"\",\"\",INDEX(E_SourceStreams!$A:$N,DB51,W$7)))","v":""},{"$f":"IF($E51=\"\",\"\",IF(INDEX(E_SourceStreams!$A:$N,DC51,X$7)=\"\",\"\",INDEX(E_SourceStreams!$A:$N,DC51,X$7)))","v":""},{"$f":"IF($E51=\"\",\"\",IF(INDEX(E_SourceStreams!$A:$N,DD51,Y$7)=\"\",\"\",INDEX(E_SourceStreams!$A:$N,DD51,Y$7)))","v":""},{"$f":"IF($E51=\"\",\"\",IF(INDEX(E_SourceStreams!$A:$N,DE51,Z$7)=\"\",\"\",INDEX(E_SourceStreams!$A:$N,DE51,Z$7)))","v":""},{"$f":"IF($E51=\"\",\"\",IF(INDEX(E_SourceStreams!$A:$N,DF51,AA$7)=\"\",\"\",INDEX(E_SourceStreams!$A:$N,DF51,AA$7)))","v":""},{"$f":"IF($E51=\"\",\"\",IF(INDEX(E_SourceStreams!$A:$N,DG51,AB$7)=\"\",\"\",INDEX(E_SourceStreams!$A:$N,DG51,AB$7)))","v":""},{"$f":"IF($E51=\"\",\"\",IF(INDEX(E_SourceStreams!$A:$N,DH51,AC$7)=\"\",\"\",INDEX(E_SourceStreams!$A:$N,DH51,AC$7)))","v":""},{"$f":"IF($E51=\"\",\"\",IF(INDEX(E_SourceStreams!$A:$N,DI51,AD$7)=\"\",\"\",INDEX(E_SourceStreams!$A:$N,DI51,AD$7)))","v":""},{"$f":"IF($E51=\"\",\"\",IF(INDEX(E_SourceStreams!$A:$N,DJ51,AE$7)=\"\",\"\",INDEX(E_SourceStreams!$A:$N,DJ51,AE$7)))","v":""},{"$f":"IF($E51=\"\",\"\",IF(INDEX(E_SourceStreams!$A:$N,DK51,AF$7)=\"\",\"\",INDEX(E_SourceStreams!$A:$N,DK51,AF$7)))","v":""},{"$f":"IF($E51=\"\",\"\",IF(INDEX(E_SourceStreams!$A:$N,DL51,AG$7)=\"\",\"\",INDEX(E_SourceStreams!$A:$N,DL51,AG$7)))","v":""},{"$f":"IF($E51=\"\",\"\",IF(INDEX(E_SourceStreams!$A:$N,DM51,AH$7)=\"\",\"\",INDEX(E_SourceStreams!$A:$N,DM51,AH$7)))","v":""},{"$f":"IF($E51=\"\",\"\",IF(INDEX(E_SourceStreams!$A:$N,DN51,AI$7)=\"\",\"\",INDEX(E_SourceStreams!$A:$N,DN51,AI$7)))","v":""},{"$f":"IF($E51=\"\",\"\",IF(INDEX(E_SourceStreams!$A:$N,DO51,AJ$7)=\"\",\"\",INDEX(E_SourceStreams!$A:$N,DO51,AJ$7)))","v":""},{"$f":"IF($E51=\"\",\"\",IF(INDEX(E_SourceStreams!$A:$N,DP51,AK$7)=\"\",\"\",INDEX(E_SourceStreams!$A:$N,DP51,AK$7)))","v":""},{"$f":"IF($E51=\"\",\"\",IF(INDEX(E_SourceStreams!$A:$N,DQ51,AL$7)=\"\",\"\",INDEX(E_SourceStreams!$A:$N,DQ51,AL$7)))","v":""},{"$f":"IF($E51=\"\",\"\",IF(INDEX(E_SourceStreams!$A:$N,DR51,AM$7)=\"\",\"\",INDEX(E_SourceStreams!$A:$N,DR51,AM$7)))","v":""},{"$f":"IF($E51=\"\",\"\",IF(INDEX(E_SourceStreams!$A:$N,DS51,AN$7)=\"\",\"\",INDEX(E_SourceStreams!$A:$N,DS51,AN$7)))","v":""},{"$f":"IF($E51=\"\",\"\",IF(INDEX(E_SourceStreams!$A:$N,DT51,AO$7)=\"\",\"\",INDEX(E_SourceStreams!$A:$N,DT51,AO$7)))","v":""},{"$f":"IF($E51=\"\",\"\",IF(INDEX(E_SourceStreams!$A:$N,DU51,AP$7)=\"\",\"\",INDEX(E_SourceStreams!$A:$N,DU51,AP$7)))","v":""},{"$f":"IF($E51=\"\",\"\",IF(INDEX(E_SourceStreams!$A:$N,DV51,AQ$7)=\"\",\"\",INDEX(E_SourceStreams!$A:$N,DV51,AQ$7)))","v":""},{"$f":"IF($E51=\"\",\"\",IF(INDEX(E_SourceStreams!$A:$N,DW51,AR$7)=\"\",\"\",INDEX(E_SourceStreams!$A:$N,DW51,AR$7)))","v":""},{"$f":"IF($E51=\"\",\"\",IF(INDEX(E_SourceStreams!$A:$N,DX51,AS$7)=\"\",\"\",INDEX(E_SourceStreams!$A:$N,DX51,AS$7)))","v":""},{"$f":"IF($E51=\"\",\"\",IF(INDEX(E_SourceStreams!$A:$N,DY51,AT$7)=\"\",\"\",INDEX(E_SourceStreams!$A:$N,DY51,AT$7)))","v":""},{"$f":"IF($E51=\"\",\"\",IF(INDEX(E_SourceStreams!$A:$N,DZ51,AU$7)=\"\",\"\",INDEX(E_SourceStreams!$A:$N,DZ51,AU$7)))","v":""},{"$f":"IF($E51=\"\",\"\",IF(INDEX(E_SourceStreams!$A:$N,EA51,AV$7)=\"\",\"\",INDEX(E_SourceStreams!$A:$N,EA51,AV$7)))","v":""},{"$f":"IF($E51=\"\",\"\",IF(INDEX(E_SourceStreams!$A:$N,EB51,AW$7)=\"\",\"\",INDEX(E_SourceStreams!$A:$N,EB51,AW$7)))","v":""},{"$f":"IF($E51=\"\",\"\",IF(INDEX(E_SourceStreams!$A:$N,EC51,AX$7)=\"\",\"\",INDEX(E_SourceStreams!$A:$N,EC51,AX$7)))","v":""},{"$f":"IF($E51=\"\",\"\",IF(INDEX(E_SourceStreams!$A:$N,ED51,AY$7)=\"\",\"\",INDEX(E_SourceStreams!$A:$N,ED51,AY$7)))","v":""},{"$f":"IF($E51=\"\",\"\",IF(INDEX(E_SourceStreams!$A:$N,EE51,AZ$7)=\"\",\"\",INDEX(E_SourceStreams!$A:$N,EE51,AZ$7)))","v":""},{"$f":"IF($E51=\"\",\"\",IF(INDEX(E_SourceStreams!$A:$N,EF51,BA$7)=\"\",\"\",INDEX(E_SourceStreams!$A:$N,EF51,BA$7)))","v":""},{"$f":"IF($E51=\"\",\"\",IF(INDEX(E_SourceStreams!$A:$N,EG51,BB$7)=\"\",\"\",INDEX(E_SourceStreams!$A:$N,EG51,BB$7)))","v":""},{"$f":"IF($E51=\"\",\"\",IF(INDEX(E_SourceStreams!$A:$N,EH51,BC$7)=\"\",\"\",INDEX(E_SourceStreams!$A:$N,EH51,BC$7)))","v":""},{"$f":"IF($E51=\"\",\"\",IF(INDEX(E_SourceStreams!$A:$N,EI51,BD$7)=\"\",\"\",INDEX(E_SourceStreams!$A:$N,EI51,BD$7)))","v":""},{"$f":"IF($E51=\"\",\"\",IF(INDEX(E_SourceStreams!$A:$N,EJ51,BE$7)=\"\",\"\",INDEX(E_SourceStreams!$A:$N,EJ51,BE$7)))","v":""},{"$f":"IF($E51=\"\",\"\",IF(INDEX(E_SourceStreams!$A:$N,EK51,BF$7)=\"\",\"\",INDEX(E_SourceStreams!$A:$N,EK51,BF$7)))","v":""},{"$f":"IF($E51=\"\",\"\",IF(INDEX(E_SourceStreams!$A:$N,EL51,BG$7)=\"\",\"\",INDEX(E_SourceStreams!$A:$N,EL51,BG$7)))","v":""},{"$f":"IF($E51=\"\",\"\",IF(INDEX(E_SourceStreams!$A:$N,EM51,BH$7)=\"\",\"\",INDEX(E_SourceStreams!$A:$N,EM51,BH$7)))","v":""},{"$f":"IF($E51=\"\",\"\",IF(INDEX(E_SourceStreams!$A:$N,EN51,BI$7)=\"\",\"\",INDEX(E_SourceStreams!$A:$N,EN51,BI$7)))","v":""},{"$f":"IF($E51=\"\",\"\",IF(INDEX(E_SourceStreams!$A:$N,EO51,BJ$7)=\"\",\"\",INDEX(E_SourceStreams!$A:$N,EO51,BJ$7)))","v":""},{"$f":"IF($E51=\"\",\"\",IF(INDEX(E_SourceStreams!$A:$N,EP51,BK$7)=\"\",\"\",INDEX(E_SourceStreams!$A:$N,EP51,BK$7)))","v":""},{"$f":"IF($E51=\"\",\"\",IF(INDEX(E_SourceStreams!$A:$N,EQ51,BL$7)=\"\",\"\",INDEX(E_SourceStreams!$A:$N,EQ51,BL$7)))","v":""},{"$f":"IF($E51=\"\",\"\",IF(INDEX(E_SourceStreams!$A:$N,ER51,BM$7)=\"\",\"\",INDEX(E_SourceStreams!$A:$N,ER51,BM$7)))","v":""},{"$f":"IF($E51=\"\",\"\",IF(INDEX(E_SourceStreams!$A:$N,ES51,BN$7)=\"\",\"\",INDEX(E_SourceStreams!$A:$N,ES51,BN$7)))","v":""},{"$f":"IF($E51=\"\",\"\",IF(INDEX(E_SourceStreams!$A:$N,ET51,BO$7)=\"\",\"\",INDEX(E_SourceStreams!$A:$N,ET51,BO$7)))","v":""},{"$f":"IF($E51=\"\",\"\",IF(INDEX(E_SourceStreams!$A:$N,EU51,BP$7)=\"\",\"\",INDEX(E_SourceStreams!$A:$N,EU51,BP$7)))","v":""},{"$f":"IF($E51=\"\",\"\",IF(INDEX(E_SourceStreams!$A:$N,EV51,BQ$7)=\"\",\"\",INDEX(E_SourceStreams!$A:$N,EV51,BQ$7)))","v":""},{"$f":"IF($E51=\"\",\"\",IF(INDEX(E_SourceStreams!$A:$N,EW51,BR$7)=\"\",\"\",INDEX(E_SourceStreams!$A:$N,EW51,BR$7)))","v":""},{"$f":"IF($E51=\"\",\"\",IF(INDEX(E_SourceStreams!$A:$N,EX51,BS$7)=\"\",\"\",INDEX(E_SourceStreams!$A:$N,EX51,BS$7)))","v":""},{"$f":"IF($E51=\"\",\"\",IF(INDEX(E_SourceStreams!$A:$N,EY51,BT$7)=\"\",\"\",INDEX(E_SourceStreams!$A:$N,EY51,BT$7)))","v":""},null,null,null,null,null,null,null,null,null,null,null,null,null,null,null,"SourceCategory_",{"$f":"INDEX(C_InstallationDescription!$A$223:$A$328,ROWS($CI$11:CI51))=\"ausblenden\"","v":false},"SourceStreamName_",null,2774,2776,2778,2780,2782,2784,2786,2786,2786,2786,2786,2789,2793,2794,2795,2802,2812,2812,2812,2812,2812,2812,2812,2803,2813,2813,2813,2813,2813,2813,2813,2804,2814,2814,2814,2814,2814,2814,2814,2805,2815,2815,2815,2815,2815,2815,2815,2806,2816,2816,2816,2816,2816,2816,2816,2807,2817,2817,2817,2817,2817,2817,2817,2823]
[null,{"$f":"IF(COUNTIF($CK$10:CK52,TRUE)>0,\"\",INDEX(C_InstallationDescription!$E$223:$E$239,ROWS($A$11:A52)))","v":""},{"$f":"IF($E52=\"\",\"\",INDEX(C_InstallationDescription!G:G,MATCH($B52,C_InstallationDescription!$E:$E,0)))","v":""},{"$f":"IF($E52=\"\",\"\",INDEX(C_InstallationDescription!I:I,MATCH($B52,C_InstallationDescription!$E:$E,0)))","v":""},{"$f":"IF($B52=\"\",\"\",INDEX(C_InstallationDescription!F:F,MATCH($CJ52,C_InstallationDescription!$Q:$Q,0)))","v":""},{"$f":"IF($E52=\"\",\"\",INDEX(C_InstallationDescription!L:L,MATCH($CJ52,C_InstallationDescription!$Q:$Q,0)))","v":""},{"$f":"IF($E52=\"\",\"\",INDEX(C_InstallationDescription!M:M,MATCH($CJ52,C_InstallationDescription!$Q:$Q,0)))","v":""},{"$f":"IF($E52=\"\",\"\",INDEX(C_InstallationDescription!N:N,MATCH($CJ52,C_InstallationDescription!$Q:$Q,0)))","v":""},{"$f":"IF($E52=\"\",\"\",IF(INDEX(E_SourceStreams!$A:$N,CN52,I$7)=\"\",\"\",INDEX(E_SourceStreams!$A:$N,CN52,I$7)))","v":""},{"$f":"IF($E52=\"\",\"\",IF(INDEX(E_SourceStreams!$A:$N,CO52,J$7)=\"\",\"\",INDEX(E_SourceStreams!$A:$N,CO52,J$7)))","v":""},{"$f":"IF($E52=\"\",\"\",IF(INDEX(E_SourceStreams!$A:$N,CP52,K$7)=\"\",\"\",INDEX(E_SourceStreams!$A:$N,CP52,K$7)))","v":""},{"$f":"IF($E52=\"\",\"\",IF(INDEX(E_SourceStreams!$A:$N,CQ52,L$7)=\"\",\"\",INDEX(E_SourceStreams!$A:$N,CQ52,L$7)))","v":""},{"$f":"IF($E52=\"\",\"\",IF(INDEX(E_SourceStreams!$A:$N,CR52,M$7)=\"\",\"\",INDEX(E_SourceStreams!$A:$N,CR52,M$7)))","v":""},{"$f":"IF($E52=\"\",\"\",IF(INDEX(E_SourceStreams!$A:$N,CS52,N$7)=\"\",\"\",INDEX(E_SourceStreams!$A:$N,CS52,N$7)))","v":""},{"$f":"IF($E52=\"\",\"\",IF(INDEX(E_SourceStreams!$A:$N,CT52,O$7)=\"\",\"\",INDEX(E_SourceStreams!$A:$N,CT52,O$7)))","v":""},{"$f":"IF($E52=\"\",\"\",IF(INDEX(E_SourceStreams!$A:$N,CU52,P$7)=\"\",\"\",INDEX(E_SourceStreams!$A:$N,CU52,P$7)))","v":""},{"$f":"IF($E52=\"\",\"\",IF(INDEX(E_SourceStreams!$A:$N,CV52,Q$7)=\"\",\"\",INDEX(E_SourceStreams!$A:$N,CV52,Q$7)))","v":""},{"$f":"IF($E52=\"\",\"\",IF(INDEX(E_SourceStreams!$A:$N,CW52,R$7)=\"\",\"\",INDEX(E_SourceStreams!$A:$N,CW52,R$7)))","v":""},{"$f":"IF($E52=\"\",\"\",IF(INDEX(E_SourceStreams!$A:$N,CX52,S$7)=\"\",\"\",INDEX(E_SourceStreams!$A:$N,CX52,S$7)))","v":""},{"$f":"IF($E52=\"\",\"\",IF(INDEX(E_SourceStreams!$A:$N,CY52,T$7)=\"\",\"\",INDEX(E_SourceStreams!$A:$N,CY52,T$7)))","v":""},{"$f":"IF($E52=\"\",\"\",IF(INDEX(E_SourceStreams!$A:$N,CZ52,U$7)=\"\",\"\",INDEX(E_SourceStreams!$A:$N,CZ52,U$7)))","v":""},{"$f":"IF($E52=\"\",\"\",IF(INDEX(E_SourceStreams!$A:$N,DA52,V$7)=\"\",\"\",INDEX(E_SourceStreams!$A:$N,DA52,V$7)))","v":""},{"$f":"IF($E52=\"\",\"\",IF(INDEX(E_SourceStreams!$A:$N,DB52,W$7)=\"\",\"\",INDEX(E_SourceStreams!$A:$N,DB52,W$7)))","v":""},{"$f":"IF($E52=\"\",\"\",IF(INDEX(E_SourceStreams!$A:$N,DC52,X$7)=\"\",\"\",INDEX(E_SourceStreams!$A:$N,DC52,X$7)))","v":""},{"$f":"IF($E52=\"\",\"\",IF(INDEX(E_SourceStreams!$A:$N,DD52,Y$7)=\"\",\"\",INDEX(E_SourceStreams!$A:$N,DD52,Y$7)))","v":""},{"$f":"IF($E52=\"\",\"\",IF(INDEX(E_SourceStreams!$A:$N,DE52,Z$7)=\"\",\"\",INDEX(E_SourceStreams!$A:$N,DE52,Z$7)))","v":""},{"$f":"IF($E52=\"\",\"\",IF(INDEX(E_SourceStreams!$A:$N,DF52,AA$7)=\"\",\"\",INDEX(E_SourceStreams!$A:$N,DF52,AA$7)))","v":""},{"$f":"IF($E52=\"\",\"\",IF(INDEX(E_SourceStreams!$A:$N,DG52,AB$7)=\"\",\"\",INDEX(E_SourceStreams!$A:$N,DG52,AB$7)))","v":""},{"$f":"IF($E52=\"\",\"\",IF(INDEX(E_SourceStreams!$A:$N,DH52,AC$7)=\"\",\"\",INDEX(E_SourceStreams!$A:$N,DH52,AC$7)))","v":""},{"$f":"IF($E52=\"\",\"\",IF(INDEX(E_SourceStreams!$A:$N,DI52,AD$7)=\"\",\"\",INDEX(E_SourceStreams!$A:$N,DI52,AD$7)))","v":""},{"$f":"IF($E52=\"\",\"\",IF(INDEX(E_SourceStreams!$A:$N,DJ52,AE$7)=\"\",\"\",INDEX(E_SourceStreams!$A:$N,DJ52,AE$7)))","v":""},{"$f":"IF($E52=\"\",\"\",IF(INDEX(E_SourceStreams!$A:$N,DK52,AF$7)=\"\",\"\",INDEX(E_SourceStreams!$A:$N,DK52,AF$7)))","v":""},{"$f":"IF($E52=\"\",\"\",IF(INDEX(E_SourceStreams!$A:$N,DL52,AG$7)=\"\",\"\",INDEX(E_SourceStreams!$A:$N,DL52,AG$7)))","v":""},{"$f":"IF($E52=\"\",\"\",IF(INDEX(E_SourceStreams!$A:$N,DM52,AH$7)=\"\",\"\",INDEX(E_SourceStreams!$A:$N,DM52,AH$7)))","v":""},{"$f":"IF($E52=\"\",\"\",IF(INDEX(E_SourceStreams!$A:$N,DN52,AI$7)=\"\",\"\",INDEX(E_SourceStreams!$A:$N,DN52,AI$7)))","v":""},{"$f":"IF($E52=\"\",\"\",IF(INDEX(E_SourceStreams!$A:$N,DO52,AJ$7)=\"\",\"\",INDEX(E_SourceStreams!$A:$N,DO52,AJ$7)))","v":""},{"$f":"IF($E52=\"\",\"\",IF(INDEX(E_SourceStreams!$A:$N,DP52,AK$7)=\"\",\"\",INDEX(E_SourceStreams!$A:$N,DP52,AK$7)))","v":""},{"$f":"IF($E52=\"\",\"\",IF(INDEX(E_SourceStreams!$A:$N,DQ52,AL$7)=\"\",\"\",INDEX(E_SourceStreams!$A:$N,DQ52,AL$7)))","v":""},{"$f":"IF($E52=\"\",\"\",IF(INDEX(E_SourceStreams!$A:$N,DR52,AM$7)=\"\",\"\",INDEX(E_SourceStreams!$A:$N,DR52,AM$7)))","v":""},{"$f":"IF($E52=\"\",\"\",IF(INDEX(E_SourceStreams!$A:$N,DS52,AN$7)=\"\",\"\",INDEX(E_SourceStreams!$A:$N,DS52,AN$7)))","v":""},{"$f":"IF($E52=\"\",\"\",IF(INDEX(E_SourceStreams!$A:$N,DT52,AO$7)=\"\",\"\",INDEX(E_SourceStreams!$A:$N,DT52,AO$7)))","v":""},{"$f":"IF($E52=\"\",\"\",IF(INDEX(E_SourceStreams!$A:$N,DU52,AP$7)=\"\",\"\",INDEX(E_SourceStreams!$A:$N,DU52,AP$7)))","v":""},{"$f":"IF($E52=\"\",\"\",IF(INDEX(E_SourceStreams!$A:$N,DV52,AQ$7)=\"\",\"\",INDEX(E_SourceStreams!$A:$N,DV52,AQ$7)))","v":""},{"$f":"IF($E52=\"\",\"\",IF(INDEX(E_SourceStreams!$A:$N,DW52,AR$7)=\"\",\"\",INDEX(E_SourceStreams!$A:$N,DW52,AR$7)))","v":""},{"$f":"IF($E52=\"\",\"\",IF(INDEX(E_SourceStreams!$A:$N,DX52,AS$7)=\"\",\"\",INDEX(E_SourceStreams!$A:$N,DX52,AS$7)))","v":""},{"$f":"IF($E52=\"\",\"\",IF(INDEX(E_SourceStreams!$A:$N,DY52,AT$7)=\"\",\"\",INDEX(E_SourceStreams!$A:$N,DY52,AT$7)))","v":""},{"$f":"IF($E52=\"\",\"\",IF(INDEX(E_SourceStreams!$A:$N,DZ52,AU$7)=\"\",\"\",INDEX(E_SourceStreams!$A:$N,DZ52,AU$7)))","v":""},{"$f":"IF($E52=\"\",\"\",IF(INDEX(E_SourceStreams!$A:$N,EA52,AV$7)=\"\",\"\",INDEX(E_SourceStreams!$A:$N,EA52,AV$7)))","v":""},{"$f":"IF($E52=\"\",\"\",IF(INDEX(E_SourceStreams!$A:$N,EB52,AW$7)=\"\",\"\",INDEX(E_SourceStreams!$A:$N,EB52,AW$7)))","v":""},{"$f":"IF($E52=\"\",\"\",IF(INDEX(E_SourceStreams!$A:$N,EC52,AX$7)=\"\",\"\",INDEX(E_SourceStreams!$A:$N,EC52,AX$7)))","v":""},{"$f":"IF($E52=\"\",\"\",IF(INDEX(E_SourceStreams!$A:$N,ED52,AY$7)=\"\",\"\",INDEX(E_SourceStreams!$A:$N,ED52,AY$7)))","v":""},{"$f":"IF($E52=\"\",\"\",IF(INDEX(E_SourceStreams!$A:$N,EE52,AZ$7)=\"\",\"\",INDEX(E_SourceStreams!$A:$N,EE52,AZ$7)))","v":""},{"$f":"IF($E52=\"\",\"\",IF(INDEX(E_SourceStreams!$A:$N,EF52,BA$7)=\"\",\"\",INDEX(E_SourceStreams!$A:$N,EF52,BA$7)))","v":""},{"$f":"IF($E52=\"\",\"\",IF(INDEX(E_SourceStreams!$A:$N,EG52,BB$7)=\"\",\"\",INDEX(E_SourceStreams!$A:$N,EG52,BB$7)))","v":""},{"$f":"IF($E52=\"\",\"\",IF(INDEX(E_SourceStreams!$A:$N,EH52,BC$7)=\"\",\"\",INDEX(E_SourceStreams!$A:$N,EH52,BC$7)))","v":""},{"$f":"IF($E52=\"\",\"\",IF(INDEX(E_SourceStreams!$A:$N,EI52,BD$7)=\"\",\"\",INDEX(E_SourceStreams!$A:$N,EI52,BD$7)))","v":""},{"$f":"IF($E52=\"\",\"\",IF(INDEX(E_SourceStreams!$A:$N,EJ52,BE$7)=\"\",\"\",INDEX(E_SourceStreams!$A:$N,EJ52,BE$7)))","v":""},{"$f":"IF($E52=\"\",\"\",IF(INDEX(E_SourceStreams!$A:$N,EK52,BF$7)=\"\",\"\",INDEX(E_SourceStreams!$A:$N,EK52,BF$7)))","v":""},{"$f":"IF($E52=\"\",\"\",IF(INDEX(E_SourceStreams!$A:$N,EL52,BG$7)=\"\",\"\",INDEX(E_SourceStreams!$A:$N,EL52,BG$7)))","v":""},{"$f":"IF($E52=\"\",\"\",IF(INDEX(E_SourceStreams!$A:$N,EM52,BH$7)=\"\",\"\",INDEX(E_SourceStreams!$A:$N,EM52,BH$7)))","v":""},{"$f":"IF($E52=\"\",\"\",IF(INDEX(E_SourceStreams!$A:$N,EN52,BI$7)=\"\",\"\",INDEX(E_SourceStreams!$A:$N,EN52,BI$7)))","v":""},{"$f":"IF($E52=\"\",\"\",IF(INDEX(E_SourceStreams!$A:$N,EO52,BJ$7)=\"\",\"\",INDEX(E_SourceStreams!$A:$N,EO52,BJ$7)))","v":""},{"$f":"IF($E52=\"\",\"\",IF(INDEX(E_SourceStreams!$A:$N,EP52,BK$7)=\"\",\"\",INDEX(E_SourceStreams!$A:$N,EP52,BK$7)))","v":""},{"$f":"IF($E52=\"\",\"\",IF(INDEX(E_SourceStreams!$A:$N,EQ52,BL$7)=\"\",\"\",INDEX(E_SourceStreams!$A:$N,EQ52,BL$7)))","v":""},{"$f":"IF($E52=\"\",\"\",IF(INDEX(E_SourceStreams!$A:$N,ER52,BM$7)=\"\",\"\",INDEX(E_SourceStreams!$A:$N,ER52,BM$7)))","v":""},{"$f":"IF($E52=\"\",\"\",IF(INDEX(E_SourceStreams!$A:$N,ES52,BN$7)=\"\",\"\",INDEX(E_SourceStreams!$A:$N,ES52,BN$7)))","v":""},{"$f":"IF($E52=\"\",\"\",IF(INDEX(E_SourceStreams!$A:$N,ET52,BO$7)=\"\",\"\",INDEX(E_SourceStreams!$A:$N,ET52,BO$7)))","v":""},{"$f":"IF($E52=\"\",\"\",IF(INDEX(E_SourceStreams!$A:$N,EU52,BP$7)=\"\",\"\",INDEX(E_SourceStreams!$A:$N,EU52,BP$7)))","v":""},{"$f":"IF($E52=\"\",\"\",IF(INDEX(E_SourceStreams!$A:$N,EV52,BQ$7)=\"\",\"\",INDEX(E_SourceStreams!$A:$N,EV52,BQ$7)))","v":""},{"$f":"IF($E52=\"\",\"\",IF(INDEX(E_SourceStreams!$A:$N,EW52,BR$7)=\"\",\"\",INDEX(E_SourceStreams!$A:$N,EW52,BR$7)))","v":""},{"$f":"IF($E52=\"\",\"\",IF(INDEX(E_SourceStreams!$A:$N,EX52,BS$7)=\"\",\"\",INDEX(E_SourceStreams!$A:$N,EX52,BS$7)))","v":""},{"$f":"IF($E52=\"\",\"\",IF(INDEX(E_SourceStreams!$A:$N,EY52,BT$7)=\"\",\"\",INDEX(E_SourceStreams!$A:$N,EY52,BT$7)))","v":""},null,null,null,null,null,null,null,null,null,null,null,null,null,null,null,"SourceCategory_",{"$f":"INDEX(C_InstallationDescription!$A$223:$A$328,ROWS($CI$11:CI52))=\"ausblenden\"","v":false},"SourceStreamName_",null,2840,2842,2844,2846,2848,2850,2852,2852,2852,2852,2852,2855,2859,2860,2861,2868,2878,2878,2878,2878,2878,2878,2878,2869,2879,2879,2879,2879,2879,2879,2879,2870,2880,2880,2880,2880,2880,2880,2880,2871,2881,2881,2881,2881,2881,2881,2881,2872,2882,2882,2882,2882,2882,2882,2882,2873,2883,2883,2883,2883,2883,2883,2883,2889]
[null,{"$f":"IF(COUNTIF($CK$10:CK53,TRUE)>0,\"\",INDEX(C_InstallationDescription!$E$223:$E$239,ROWS($A$11:A53)))","v":""},{"$f":"IF($E53=\"\",\"\",INDEX(C_InstallationDescription!G:G,MATCH($B53,C_InstallationDescription!$E:$E,0)))","v":""},{"$f":"IF($E53=\"\",\"\",INDEX(C_InstallationDescription!I:I,MATCH($B53,C_InstallationDescription!$E:$E,0)))","v":""},{"$f":"IF($B53=\"\",\"\",INDEX(C_InstallationDescription!F:F,MATCH($CJ53,C_InstallationDescription!$Q:$Q,0)))","v":""},{"$f":"IF($E53=\"\",\"\",INDEX(C_InstallationDescription!L:L,MATCH($CJ53,C_InstallationDescription!$Q:$Q,0)))","v":""},{"$f":"IF($E53=\"\",\"\",INDEX(C_InstallationDescription!M:M,MATCH($CJ53,C_InstallationDescription!$Q:$Q,0)))","v":""},{"$f":"IF($E53=\"\",\"\",INDEX(C_InstallationDescription!N:N,MATCH($CJ53,C_InstallationDescription!$Q:$Q,0)))","v":""},{"$f":"IF($E53=\"\",\"\",IF(INDEX(E_SourceStreams!$A:$N,CN53,I$7)=\"\",\"\",INDEX(E_SourceStreams!$A:$N,CN53,I$7)))","v":""},{"$f":"IF($E53=\"\",\"\",IF(INDEX(E_SourceStreams!$A:$N,CO53,J$7)=\"\",\"\",INDEX(E_SourceStreams!$A:$N,CO53,J$7)))","v":""},{"$f":"IF($E53=\"\",\"\",IF(INDEX(E_SourceStreams!$A:$N,CP53,K$7)=\"\",\"\",INDEX(E_SourceStreams!$A:$N,CP53,K$7)))","v":""},{"$f":"IF($E53=\"\",\"\",IF(INDEX(E_SourceStreams!$A:$N,CQ53,L$7)=\"\",\"\",INDEX(E_SourceStreams!$A:$N,CQ53,L$7)))","v":""},{"$f":"IF($E53=\"\",\"\",IF(INDEX(E_SourceStreams!$A:$N,CR53,M$7)=\"\",\"\",INDEX(E_SourceStreams!$A:$N,CR53,M$7)))","v":""},{"$f":"IF($E53=\"\",\"\",IF(INDEX(E_SourceStreams!$A:$N,CS53,N$7)=\"\",\"\",INDEX(E_SourceStreams!$A:$N,CS53,N$7)))","v":""},{"$f":"IF($E53=\"\",\"\",IF(INDEX(E_SourceStreams!$A:$N,CT53,O$7)=\"\",\"\",INDEX(E_SourceStreams!$A:$N,CT53,O$7)))","v":""},{"$f":"IF($E53=\"\",\"\",IF(INDEX(E_SourceStreams!$A:$N,CU53,P$7)=\"\",\"\",INDEX(E_SourceStreams!$A:$N,CU53,P$7)))","v":""},{"$f":"IF($E53=\"\",\"\",IF(INDEX(E_SourceStreams!$A:$N,CV53,Q$7)=\"\",\"\",INDEX(E_SourceStreams!$A:$N,CV53,Q$7)))","v":""},{"$f":"IF($E53=\"\",\"\",IF(INDEX(E_SourceStreams!$A:$N,CW53,R$7)=\"\",\"\",INDEX(E_SourceStreams!$A:$N,CW53,R$7)))","v":""},{"$f":"IF($E53=\"\",\"\",IF(INDEX(E_SourceStreams!$A:$N,CX53,S$7)=\"\",\"\",INDEX(E_SourceStreams!$A:$N,CX53,S$7)))","v":""},{"$f":"IF($E53=\"\",\"\",IF(INDEX(E_SourceStreams!$A:$N,CY53,T$7)=\"\",\"\",INDEX(E_SourceStreams!$A:$N,CY53,T$7)))","v":""},{"$f":"IF($E53=\"\",\"\",IF(INDEX(E_SourceStreams!$A:$N,CZ53,U$7)=\"\",\"\",INDEX(E_SourceStreams!$A:$N,CZ53,U$7)))","v":""},{"$f":"IF($E53=\"\",\"\",IF(INDEX(E_SourceStreams!$A:$N,DA53,V$7)=\"\",\"\",INDEX(E_SourceStreams!$A:$N,DA53,V$7)))","v":""},{"$f":"IF($E53=\"\",\"\",IF(INDEX(E_SourceStreams!$A:$N,DB53,W$7)=\"\",\"\",INDEX(E_SourceStreams!$A:$N,DB53,W$7)))","v":""},{"$f":"IF($E53=\"\",\"\",IF(INDEX(E_SourceStreams!$A:$N,DC53,X$7)=\"\",\"\",INDEX(E_SourceStreams!$A:$N,DC53,X$7)))","v":""},{"$f":"IF($E53=\"\",\"\",IF(INDEX(E_SourceStreams!$A:$N,DD53,Y$7)=\"\",\"\",INDEX(E_SourceStreams!$A:$N,DD53,Y$7)))","v":""},{"$f":"IF($E53=\"\",\"\",IF(INDEX(E_SourceStreams!$A:$N,DE53,Z$7)=\"\",\"\",INDEX(E_SourceStreams!$A:$N,DE53,Z$7)))","v":""},{"$f":"IF($E53=\"\",\"\",IF(INDEX(E_SourceStreams!$A:$N,DF53,AA$7)=\"\",\"\",INDEX(E_SourceStreams!$A:$N,DF53,AA$7)))","v":""},{"$f":"IF($E53=\"\",\"\",IF(INDEX(E_SourceStreams!$A:$N,DG53,AB$7)=\"\",\"\",INDEX(E_SourceStreams!$A:$N,DG53,AB$7)))","v":""},{"$f":"IF($E53=\"\",\"\",IF(INDEX(E_SourceStreams!$A:$N,DH53,AC$7)=\"\",\"\",INDEX(E_SourceStreams!$A:$N,DH53,AC$7)))","v":""},{"$f":"IF($E53=\"\",\"\",IF(INDEX(E_SourceStreams!$A:$N,DI53,AD$7)=\"\",\"\",INDEX(E_SourceStreams!$A:$N,DI53,AD$7)))","v":""},{"$f":"IF($E53=\"\",\"\",IF(INDEX(E_SourceStreams!$A:$N,DJ53,AE$7)=\"\",\"\",INDEX(E_SourceStreams!$A:$N,DJ53,AE$7)))","v":""},{"$f":"IF($E53=\"\",\"\",IF(INDEX(E_SourceStreams!$A:$N,DK53,AF$7)=\"\",\"\",INDEX(E_SourceStreams!$A:$N,DK53,AF$7)))","v":""},{"$f":"IF($E53=\"\",\"\",IF(INDEX(E_SourceStreams!$A:$N,DL53,AG$7)=\"\",\"\",INDEX(E_SourceStreams!$A:$N,DL53,AG$7)))","v":""},{"$f":"IF($E53=\"\",\"\",IF(INDEX(E_SourceStreams!$A:$N,DM53,AH$7)=\"\",\"\",INDEX(E_SourceStreams!$A:$N,DM53,AH$7)))","v":""},{"$f":"IF($E53=\"\",\"\",IF(INDEX(E_SourceStreams!$A:$N,DN53,AI$7)=\"\",\"\",INDEX(E_SourceStreams!$A:$N,DN53,AI$7)))","v":""},{"$f":"IF($E53=\"\",\"\",IF(INDEX(E_SourceStreams!$A:$N,DO53,AJ$7)=\"\",\"\",INDEX(E_SourceStreams!$A:$N,DO53,AJ$7)))","v":""},{"$f":"IF($E53=\"\",\"\",IF(INDEX(E_SourceStreams!$A:$N,DP53,AK$7)=\"\",\"\",INDEX(E_SourceStreams!$A:$N,DP53,AK$7)))","v":""},{"$f":"IF($E53=\"\",\"\",IF(INDEX(E_SourceStreams!$A:$N,DQ53,AL$7)=\"\",\"\",INDEX(E_SourceStreams!$A:$N,DQ53,AL$7)))","v":""},{"$f":"IF($E53=\"\",\"\",IF(INDEX(E_SourceStreams!$A:$N,DR53,AM$7)=\"\",\"\",INDEX(E_SourceStreams!$A:$N,DR53,AM$7)))","v":""},{"$f":"IF($E53=\"\",\"\",IF(INDEX(E_SourceStreams!$A:$N,DS53,AN$7)=\"\",\"\",INDEX(E_SourceStreams!$A:$N,DS53,AN$7)))","v":""},{"$f":"IF($E53=\"\",\"\",IF(INDEX(E_SourceStreams!$A:$N,DT53,AO$7)=\"\",\"\",INDEX(E_SourceStreams!$A:$N,DT53,AO$7)))","v":""},{"$f":"IF($E53=\"\",\"\",IF(INDEX(E_SourceStreams!$A:$N,DU53,AP$7)=\"\",\"\",INDEX(E_SourceStreams!$A:$N,DU53,AP$7)))","v":""},{"$f":"IF($E53=\"\",\"\",IF(INDEX(E_SourceStreams!$A:$N,DV53,AQ$7)=\"\",\"\",INDEX(E_SourceStreams!$A:$N,DV53,AQ$7)))","v":""},{"$f":"IF($E53=\"\",\"\",IF(INDEX(E_SourceStreams!$A:$N,DW53,AR$7)=\"\",\"\",INDEX(E_SourceStreams!$A:$N,DW53,AR$7)))","v":""},{"$f":"IF($E53=\"\",\"\",IF(INDEX(E_SourceStreams!$A:$N,DX53,AS$7)=\"\",\"\",INDEX(E_SourceStreams!$A:$N,DX53,AS$7)))","v":""},{"$f":"IF($E53=\"\",\"\",IF(INDEX(E_SourceStreams!$A:$N,DY53,AT$7)=\"\",\"\",INDEX(E_SourceStreams!$A:$N,DY53,AT$7)))","v":""},{"$f":"IF($E53=\"\",\"\",IF(INDEX(E_SourceStreams!$A:$N,DZ53,AU$7)=\"\",\"\",INDEX(E_SourceStreams!$A:$N,DZ53,AU$7)))","v":""},{"$f":"IF($E53=\"\",\"\",IF(INDEX(E_SourceStreams!$A:$N,EA53,AV$7)=\"\",\"\",INDEX(E_SourceStreams!$A:$N,EA53,AV$7)))","v":""},{"$f":"IF($E53=\"\",\"\",IF(INDEX(E_SourceStreams!$A:$N,EB53,AW$7)=\"\",\"\",INDEX(E_SourceStreams!$A:$N,EB53,AW$7)))","v":""},{"$f":"IF($E53=\"\",\"\",IF(INDEX(E_SourceStreams!$A:$N,EC53,AX$7)=\"\",\"\",INDEX(E_SourceStreams!$A:$N,EC53,AX$7)))","v":""},{"$f":"IF($E53=\"\",\"\",IF(INDEX(E_SourceStreams!$A:$N,ED53,AY$7)=\"\",\"\",INDEX(E_SourceStreams!$A:$N,ED53,AY$7)))","v":""},{"$f":"IF($E53=\"\",\"\",IF(INDEX(E_SourceStreams!$A:$N,EE53,AZ$7)=\"\",\"\",INDEX(E_SourceStreams!$A:$N,EE53,AZ$7)))","v":""},{"$f":"IF($E53=\"\",\"\",IF(INDEX(E_SourceStreams!$A:$N,EF53,BA$7)=\"\",\"\",INDEX(E_SourceStreams!$A:$N,EF53,BA$7)))","v":""},{"$f":"IF($E53=\"\",\"\",IF(INDEX(E_SourceStreams!$A:$N,EG53,BB$7)=\"\",\"\",INDEX(E_SourceStreams!$A:$N,EG53,BB$7)))","v":""},{"$f":"IF($E53=\"\",\"\",IF(INDEX(E_SourceStreams!$A:$N,EH53,BC$7)=\"\",\"\",INDEX(E_SourceStreams!$A:$N,EH53,BC$7)))","v":""},{"$f":"IF($E53=\"\",\"\",IF(INDEX(E_SourceStreams!$A:$N,EI53,BD$7)=\"\",\"\",INDEX(E_SourceStreams!$A:$N,EI53,BD$7)))","v":""},{"$f":"IF($E53=\"\",\"\",IF(INDEX(E_SourceStreams!$A:$N,EJ53,BE$7)=\"\",\"\",INDEX(E_SourceStreams!$A:$N,EJ53,BE$7)))","v":""},{"$f":"IF($E53=\"\",\"\",IF(INDEX(E_SourceStreams!$A:$N,EK53,BF$7)=\"\",\"\",INDEX(E_SourceStreams!$A:$N,EK53,BF$7)))","v":""},{"$f":"IF($E53=\"\",\"\",IF(INDEX(E_SourceStreams!$A:$N,EL53,BG$7)=\"\",\"\",INDEX(E_SourceStreams!$A:$N,EL53,BG$7)))","v":""},{"$f":"IF($E53=\"\",\"\",IF(INDEX(E_SourceStreams!$A:$N,EM53,BH$7)=\"\",\"\",INDEX(E_SourceStreams!$A:$N,EM53,BH$7)))","v":""},{"$f":"IF($E53=\"\",\"\",IF(INDEX(E_SourceStreams!$A:$N,EN53,BI$7)=\"\",\"\",INDEX(E_SourceStreams!$A:$N,EN53,BI$7)))","v":""},{"$f":"IF($E53=\"\",\"\",IF(INDEX(E_SourceStreams!$A:$N,EO53,BJ$7)=\"\",\"\",INDEX(E_SourceStreams!$A:$N,EO53,BJ$7)))","v":""},{"$f":"IF($E53=\"\",\"\",IF(INDEX(E_SourceStreams!$A:$N,EP53,BK$7)=\"\",\"\",INDEX(E_SourceStreams!$A:$N,EP53,BK$7)))","v":""},{"$f":"IF($E53=\"\",\"\",IF(INDEX(E_SourceStreams!$A:$N,EQ53,BL$7)=\"\",\"\",INDEX(E_SourceStreams!$A:$N,EQ53,BL$7)))","v":""},{"$f":"IF($E53=\"\",\"\",IF(INDEX(E_SourceStreams!$A:$N,ER53,BM$7)=\"\",\"\",INDEX(E_SourceStreams!$A:$N,ER53,BM$7)))","v":""},{"$f":"IF($E53=\"\",\"\",IF(INDEX(E_SourceStreams!$A:$N,ES53,BN$7)=\"\",\"\",INDEX(E_SourceStreams!$A:$N,ES53,BN$7)))","v":""},{"$f":"IF($E53=\"\",\"\",IF(INDEX(E_SourceStreams!$A:$N,ET53,BO$7)=\"\",\"\",INDEX(E_SourceStreams!$A:$N,ET53,BO$7)))","v":""},{"$f":"IF($E53=\"\",\"\",IF(INDEX(E_SourceStreams!$A:$N,EU53,BP$7)=\"\",\"\",INDEX(E_SourceStreams!$A:$N,EU53,BP$7)))","v":""},{"$f":"IF($E53=\"\",\"\",IF(INDEX(E_SourceStreams!$A:$N,EV53,BQ$7)=\"\",\"\",INDEX(E_SourceStreams!$A:$N,EV53,BQ$7)))","v":""},{"$f":"IF($E53=\"\",\"\",IF(INDEX(E_SourceStreams!$A:$N,EW53,BR$7)=\"\",\"\",INDEX(E_SourceStreams!$A:$N,EW53,BR$7)))","v":""},{"$f":"IF($E53=\"\",\"\",IF(INDEX(E_SourceStreams!$A:$N,EX53,BS$7)=\"\",\"\",INDEX(E_SourceStreams!$A:$N,EX53,BS$7)))","v":""},{"$f":"IF($E53=\"\",\"\",IF(INDEX(E_SourceStreams!$A:$N,EY53,BT$7)=\"\",\"\",INDEX(E_SourceStreams!$A:$N,EY53,BT$7)))","v":""},null,null,null,null,null,null,null,null,null,null,null,null,null,null,null,"SourceCategory_",{"$f":"INDEX(C_InstallationDescription!$A$223:$A$328,ROWS($CI$11:CI53))=\"ausblenden\"","v":false},"SourceStreamName_",null,2906,2908,2910,2912,2914,2916,2918,2918,2918,2918,2918,2921,2925,2926,2927,2934,2944,2944,2944,2944,2944,2944,2944,2935,2945,2945,2945,2945,2945,2945,2945,2936,2946,2946,2946,2946,2946,2946,2946,2937,2947,2947,2947,2947,2947,2947,2947,2938,2948,2948,2948,2948,2948,2948,2948,2939,2949,2949,2949,2949,2949,2949,2949,2955]
[null,{"$f":"IF(COUNTIF($CK$10:CK54,TRUE)>0,\"\",INDEX(C_InstallationDescription!$E$223:$E$239,ROWS($A$11:A54)))","v":""},{"$f":"IF($E54=\"\",\"\",INDEX(C_InstallationDescription!G:G,MATCH($B54,C_InstallationDescription!$E:$E,0)))","v":""},{"$f":"IF($E54=\"\",\"\",INDEX(C_InstallationDescription!I:I,MATCH($B54,C_InstallationDescription!$E:$E,0)))","v":""},{"$f":"IF($B54=\"\",\"\",INDEX(C_InstallationDescription!F:F,MATCH($CJ54,C_InstallationDescription!$Q:$Q,0)))","v":""},{"$f":"IF($E54=\"\",\"\",INDEX(C_InstallationDescription!L:L,MATCH($CJ54,C_InstallationDescription!$Q:$Q,0)))","v":""},{"$f":"IF($E54=\"\",\"\",INDEX(C_InstallationDescription!M:M,MATCH($CJ54,C_InstallationDescription!$Q:$Q,0)))","v":""},{"$f":"IF($E54=\"\",\"\",INDEX(C_InstallationDescription!N:N,MATCH($CJ54,C_InstallationDescription!$Q:$Q,0)))","v":""},{"$f":"IF($E54=\"\",\"\",IF(INDEX(E_SourceStreams!$A:$N,CN54,I$7)=\"\",\"\",INDEX(E_SourceStreams!$A:$N,CN54,I$7)))","v":""},{"$f":"IF($E54=\"\",\"\",IF(INDEX(E_SourceStreams!$A:$N,CO54,J$7)=\"\",\"\",INDEX(E_SourceStreams!$A:$N,CO54,J$7)))","v":""},{"$f":"IF($E54=\"\",\"\",IF(INDEX(E_SourceStreams!$A:$N,CP54,K$7)=\"\",\"\",INDEX(E_SourceStreams!$A:$N,CP54,K$7)))","v":""},{"$f":"IF($E54=\"\",\"\",IF(INDEX(E_SourceStreams!$A:$N,CQ54,L$7)=\"\",\"\",INDEX(E_SourceStreams!$A:$N,CQ54,L$7)))","v":""},{"$f":"IF($E54=\"\",\"\",IF(INDEX(E_SourceStreams!$A:$N,CR54,M$7)=\"\",\"\",INDEX(E_SourceStreams!$A:$N,CR54,M$7)))","v":""},{"$f":"IF($E54=\"\",\"\",IF(INDEX(E_SourceStreams!$A:$N,CS54,N$7)=\"\",\"\",INDEX(E_SourceStreams!$A:$N,CS54,N$7)))","v":""},{"$f":"IF($E54=\"\",\"\",IF(INDEX(E_SourceStreams!$A:$N,CT54,O$7)=\"\",\"\",INDEX(E_SourceStreams!$A:$N,CT54,O$7)))","v":""},{"$f":"IF($E54=\"\",\"\",IF(INDEX(E_SourceStreams!$A:$N,CU54,P$7)=\"\",\"\",INDEX(E_SourceStreams!$A:$N,CU54,P$7)))","v":""},{"$f":"IF($E54=\"\",\"\",IF(INDEX(E_SourceStreams!$A:$N,CV54,Q$7)=\"\",\"\",INDEX(E_SourceStreams!$A:$N,CV54,Q$7)))","v":""},{"$f":"IF($E54=\"\",\"\",IF(INDEX(E_SourceStreams!$A:$N,CW54,R$7)=\"\",\"\",INDEX(E_SourceStreams!$A:$N,CW54,R$7)))","v":""},{"$f":"IF($E54=\"\",\"\",IF(INDEX(E_SourceStreams!$A:$N,CX54,S$7)=\"\",\"\",INDEX(E_SourceStreams!$A:$N,CX54,S$7)))","v":""},{"$f":"IF($E54=\"\",\"\",IF(INDEX(E_SourceStreams!$A:$N,CY54,T$7)=\"\",\"\",INDEX(E_SourceStreams!$A:$N,CY54,T$7)))","v":""},{"$f":"IF($E54=\"\",\"\",IF(INDEX(E_SourceStreams!$A:$N,CZ54,U$7)=\"\",\"\",INDEX(E_SourceStreams!$A:$N,CZ54,U$7)))","v":""},{"$f":"IF($E54=\"\",\"\",IF(INDEX(E_SourceStreams!$A:$N,DA54,V$7)=\"\",\"\",INDEX(E_SourceStreams!$A:$N,DA54,V$7)))","v":""},{"$f":"IF($E54=\"\",\"\",IF(INDEX(E_SourceStreams!$A:$N,DB54,W$7)=\"\",\"\",INDEX(E_SourceStreams!$A:$N,DB54,W$7)))","v":""},{"$f":"IF($E54=\"\",\"\",IF(INDEX(E_SourceStreams!$A:$N,DC54,X$7)=\"\",\"\",INDEX(E_SourceStreams!$A:$N,DC54,X$7)))","v":""},{"$f":"IF($E54=\"\",\"\",IF(INDEX(E_SourceStreams!$A:$N,DD54,Y$7)=\"\",\"\",INDEX(E_SourceStreams!$A:$N,DD54,Y$7)))","v":""},{"$f":"IF($E54=\"\",\"\",IF(INDEX(E_SourceStreams!$A:$N,DE54,Z$7)=\"\",\"\",INDEX(E_SourceStreams!$A:$N,DE54,Z$7)))","v":""},{"$f":"IF($E54=\"\",\"\",IF(INDEX(E_SourceStreams!$A:$N,DF54,AA$7)=\"\",\"\",INDEX(E_SourceStreams!$A:$N,DF54,AA$7)))","v":""},{"$f":"IF($E54=\"\",\"\",IF(INDEX(E_SourceStreams!$A:$N,DG54,AB$7)=\"\",\"\",INDEX(E_SourceStreams!$A:$N,DG54,AB$7)))","v":""},{"$f":"IF($E54=\"\",\"\",IF(INDEX(E_SourceStreams!$A:$N,DH54,AC$7)=\"\",\"\",INDEX(E_SourceStreams!$A:$N,DH54,AC$7)))","v":""},{"$f":"IF($E54=\"\",\"\",IF(INDEX(E_SourceStreams!$A:$N,DI54,AD$7)=\"\",\"\",INDEX(E_SourceStreams!$A:$N,DI54,AD$7)))","v":""},{"$f":"IF($E54=\"\",\"\",IF(INDEX(E_SourceStreams!$A:$N,DJ54,AE$7)=\"\",\"\",INDEX(E_SourceStreams!$A:$N,DJ54,AE$7)))","v":""},{"$f":"IF($E54=\"\",\"\",IF(INDEX(E_SourceStreams!$A:$N,DK54,AF$7)=\"\",\"\",INDEX(E_SourceStreams!$A:$N,DK54,AF$7)))","v":""},{"$f":"IF($E54=\"\",\"\",IF(INDEX(E_SourceStreams!$A:$N,DL54,AG$7)=\"\",\"\",INDEX(E_SourceStreams!$A:$N,DL54,AG$7)))","v":""},{"$f":"IF($E54=\"\",\"\",IF(INDEX(E_SourceStreams!$A:$N,DM54,AH$7)=\"\",\"\",INDEX(E_SourceStreams!$A:$N,DM54,AH$7)))","v":""},{"$f":"IF($E54=\"\",\"\",IF(INDEX(E_SourceStreams!$A:$N,DN54,AI$7)=\"\",\"\",INDEX(E_SourceStreams!$A:$N,DN54,AI$7)))","v":""},{"$f":"IF($E54=\"\",\"\",IF(INDEX(E_SourceStreams!$A:$N,DO54,AJ$7)=\"\",\"\",INDEX(E_SourceStreams!$A:$N,DO54,AJ$7)))","v":""},{"$f":"IF($E54=\"\",\"\",IF(INDEX(E_SourceStreams!$A:$N,DP54,AK$7)=\"\",\"\",INDEX(E_SourceStreams!$A:$N,DP54,AK$7)))","v":""},{"$f":"IF($E54=\"\",\"\",IF(INDEX(E_SourceStreams!$A:$N,DQ54,AL$7)=\"\",\"\",INDEX(E_SourceStreams!$A:$N,DQ54,AL$7)))","v":""},{"$f":"IF($E54=\"\",\"\",IF(INDEX(E_SourceStreams!$A:$N,DR54,AM$7)=\"\",\"\",INDEX(E_SourceStreams!$A:$N,DR54,AM$7)))","v":""},{"$f":"IF($E54=\"\",\"\",IF(INDEX(E_SourceStreams!$A:$N,DS54,AN$7)=\"\",\"\",INDEX(E_SourceStreams!$A:$N,DS54,AN$7)))","v":""},{"$f":"IF($E54=\"\",\"\",IF(INDEX(E_SourceStreams!$A:$N,DT54,AO$7)=\"\",\"\",INDEX(E_SourceStreams!$A:$N,DT54,AO$7)))","v":""},{"$f":"IF($E54=\"\",\"\",IF(INDEX(E_SourceStreams!$A:$N,DU54,AP$7)=\"\",\"\",INDEX(E_SourceStreams!$A:$N,DU54,AP$7)))","v":""},{"$f":"IF($E54=\"\",\"\",IF(INDEX(E_SourceStreams!$A:$N,DV54,AQ$7)=\"\",\"\",INDEX(E_SourceStreams!$A:$N,DV54,AQ$7)))","v":""},{"$f":"IF($E54=\"\",\"\",IF(INDEX(E_SourceStreams!$A:$N,DW54,AR$7)=\"\",\"\",INDEX(E_SourceStreams!$A:$N,DW54,AR$7)))","v":""},{"$f":"IF($E54=\"\",\"\",IF(INDEX(E_SourceStreams!$A:$N,DX54,AS$7)=\"\",\"\",INDEX(E_SourceStreams!$A:$N,DX54,AS$7)))","v":""},{"$f":"IF($E54=\"\",\"\",IF(INDEX(E_SourceStreams!$A:$N,DY54,AT$7)=\"\",\"\",INDEX(E_SourceStreams!$A:$N,DY54,AT$7)))","v":""},{"$f":"IF($E54=\"\",\"\",IF(INDEX(E_SourceStreams!$A:$N,DZ54,AU$7)=\"\",\"\",INDEX(E_SourceStreams!$A:$N,DZ54,AU$7)))","v":""},{"$f":"IF($E54=\"\",\"\",IF(INDEX(E_SourceStreams!$A:$N,EA54,AV$7)=\"\",\"\",INDEX(E_SourceStreams!$A:$N,EA54,AV$7)))","v":""},{"$f":"IF($E54=\"\",\"\",IF(INDEX(E_SourceStreams!$A:$N,EB54,AW$7)=\"\",\"\",INDEX(E_SourceStreams!$A:$N,EB54,AW$7)))","v":""},{"$f":"IF($E54=\"\",\"\",IF(INDEX(E_SourceStreams!$A:$N,EC54,AX$7)=\"\",\"\",INDEX(E_SourceStreams!$A:$N,EC54,AX$7)))","v":""},{"$f":"IF($E54=\"\",\"\",IF(INDEX(E_SourceStreams!$A:$N,ED54,AY$7)=\"\",\"\",INDEX(E_SourceStreams!$A:$N,ED54,AY$7)))","v":""},{"$f":"IF($E54=\"\",\"\",IF(INDEX(E_SourceStreams!$A:$N,EE54,AZ$7)=\"\",\"\",INDEX(E_SourceStreams!$A:$N,EE54,AZ$7)))","v":""},{"$f":"IF($E54=\"\",\"\",IF(INDEX(E_SourceStreams!$A:$N,EF54,BA$7)=\"\",\"\",INDEX(E_SourceStreams!$A:$N,EF54,BA$7)))","v":""},{"$f":"IF($E54=\"\",\"\",IF(INDEX(E_SourceStreams!$A:$N,EG54,BB$7)=\"\",\"\",INDEX(E_SourceStreams!$A:$N,EG54,BB$7)))","v":""},{"$f":"IF($E54=\"\",\"\",IF(INDEX(E_SourceStreams!$A:$N,EH54,BC$7)=\"\",\"\",INDEX(E_SourceStreams!$A:$N,EH54,BC$7)))","v":""},{"$f":"IF($E54=\"\",\"\",IF(INDEX(E_SourceStreams!$A:$N,EI54,BD$7)=\"\",\"\",INDEX(E_SourceStreams!$A:$N,EI54,BD$7)))","v":""},{"$f":"IF($E54=\"\",\"\",IF(INDEX(E_SourceStreams!$A:$N,EJ54,BE$7)=\"\",\"\",INDEX(E_SourceStreams!$A:$N,EJ54,BE$7)))","v":""},{"$f":"IF($E54=\"\",\"\",IF(INDEX(E_SourceStreams!$A:$N,EK54,BF$7)=\"\",\"\",INDEX(E_SourceStreams!$A:$N,EK54,BF$7)))","v":""},{"$f":"IF($E54=\"\",\"\",IF(INDEX(E_SourceStreams!$A:$N,EL54,BG$7)=\"\",\"\",INDEX(E_SourceStreams!$A:$N,EL54,BG$7)))","v":""},{"$f":"IF($E54=\"\",\"\",IF(INDEX(E_SourceStreams!$A:$N,EM54,BH$7)=\"\",\"\",INDEX(E_SourceStreams!$A:$N,EM54,BH$7)))","v":""},{"$f":"IF($E54=\"\",\"\",IF(INDEX(E_SourceStreams!$A:$N,EN54,BI$7)=\"\",\"\",INDEX(E_SourceStreams!$A:$N,EN54,BI$7)))","v":""},{"$f":"IF($E54=\"\",\"\",IF(INDEX(E_SourceStreams!$A:$N,EO54,BJ$7)=\"\",\"\",INDEX(E_SourceStreams!$A:$N,EO54,BJ$7)))","v":""},{"$f":"IF($E54=\"\",\"\",IF(INDEX(E_SourceStreams!$A:$N,EP54,BK$7)=\"\",\"\",INDEX(E_SourceStreams!$A:$N,EP54,BK$7)))","v":""},{"$f":"IF($E54=\"\",\"\",IF(INDEX(E_SourceStreams!$A:$N,EQ54,BL$7)=\"\",\"\",INDEX(E_SourceStreams!$A:$N,EQ54,BL$7)))","v":""},{"$f":"IF($E54=\"\",\"\",IF(INDEX(E_SourceStreams!$A:$N,ER54,BM$7)=\"\",\"\",INDEX(E_SourceStreams!$A:$N,ER54,BM$7)))","v":""},{"$f":"IF($E54=\"\",\"\",IF(INDEX(E_SourceStreams!$A:$N,ES54,BN$7)=\"\",\"\",INDEX(E_SourceStreams!$A:$N,ES54,BN$7)))","v":""},{"$f":"IF($E54=\"\",\"\",IF(INDEX(E_SourceStreams!$A:$N,ET54,BO$7)=\"\",\"\",INDEX(E_SourceStreams!$A:$N,ET54,BO$7)))","v":""},{"$f":"IF($E54=\"\",\"\",IF(INDEX(E_SourceStreams!$A:$N,EU54,BP$7)=\"\",\"\",INDEX(E_SourceStreams!$A:$N,EU54,BP$7)))","v":""},{"$f":"IF($E54=\"\",\"\",IF(INDEX(E_SourceStreams!$A:$N,EV54,BQ$7)=\"\",\"\",INDEX(E_SourceStreams!$A:$N,EV54,BQ$7)))","v":""},{"$f":"IF($E54=\"\",\"\",IF(INDEX(E_SourceStreams!$A:$N,EW54,BR$7)=\"\",\"\",INDEX(E_SourceStreams!$A:$N,EW54,BR$7)))","v":""},{"$f":"IF($E54=\"\",\"\",IF(INDEX(E_SourceStreams!$A:$N,EX54,BS$7)=\"\",\"\",INDEX(E_SourceStreams!$A:$N,EX54,BS$7)))","v":""},{"$f":"IF($E54=\"\",\"\",IF(INDEX(E_SourceStreams!$A:$N,EY54,BT$7)=\"\",\"\",INDEX(E_SourceStreams!$A:$N,EY54,BT$7)))","v":""},null,null,null,null,null,null,null,null,null,null,null,null,null,null,null,"SourceCategory_",{"$f":"INDEX(C_InstallationDescription!$A$223:$A$328,ROWS($CI$11:CI54))=\"ausblenden\"","v":true},"SourceStreamName_",null,2972,2974,2976,2978,2980,2982,2984,2984,2984,2984,2984,2987,2991,2992,2993,3000,3010,3010,3010,3010,3010,3010,3010,3001,3011,3011,3011,3011,3011,3011,3011,3002,3012,3012,3012,3012,3012,3012,3012,3003,3013,3013,3013,3013,3013,3013,3013,3004,3014,3014,3014,3014,3014,3014,3014,3005,3015,3015,3015,3015,3015,3015,3015,3021]
[null,{"$f":"IF(COUNTIF($CK$10:CK55,TRUE)>0,\"\",INDEX(C_InstallationDescription!$E$223:$E$239,ROWS($A$11:A55)))","v":""},{"$f":"IF($E55=\"\",\"\",INDEX(C_InstallationDescription!G:G,MATCH($B55,C_InstallationDescription!$E:$E,0)))","v":""},{"$f":"IF($E55=\"\",\"\",INDEX(C_InstallationDescription!I:I,MATCH($B55,C_InstallationDescription!$E:$E,0)))","v":""},{"$f":"IF($B55=\"\",\"\",INDEX(C_InstallationDescription!F:F,MATCH($CJ55,C_InstallationDescription!$Q:$Q,0)))","v":""},{"$f":"IF($E55=\"\",\"\",INDEX(C_InstallationDescription!L:L,MATCH($CJ55,C_InstallationDescription!$Q:$Q,0)))","v":""},{"$f":"IF($E55=\"\",\"\",INDEX(C_InstallationDescription!M:M,MATCH($CJ55,C_InstallationDescription!$Q:$Q,0)))","v":""},{"$f":"IF($E55=\"\",\"\",INDEX(C_InstallationDescription!N:N,MATCH($CJ55,C_InstallationDescription!$Q:$Q,0)))","v":""},{"$f":"IF($E55=\"\",\"\",IF(INDEX(E_SourceStreams!$A:$N,CN55,I$7)=\"\",\"\",INDEX(E_SourceStreams!$A:$N,CN55,I$7)))","v":""},{"$f":"IF($E55=\"\",\"\",IF(INDEX(E_SourceStreams!$A:$N,CO55,J$7)=\"\",\"\",INDEX(E_SourceStreams!$A:$N,CO55,J$7)))","v":""},{"$f":"IF($E55=\"\",\"\",IF(INDEX(E_SourceStreams!$A:$N,CP55,K$7)=\"\",\"\",INDEX(E_SourceStreams!$A:$N,CP55,K$7)))","v":""},{"$f":"IF($E55=\"\",\"\",IF(INDEX(E_SourceStreams!$A:$N,CQ55,L$7)=\"\",\"\",INDEX(E_SourceStreams!$A:$N,CQ55,L$7)))","v":""},{"$f":"IF($E55=\"\",\"\",IF(INDEX(E_SourceStreams!$A:$N,CR55,M$7)=\"\",\"\",INDEX(E_SourceStreams!$A:$N,CR55,M$7)))","v":""},{"$f":"IF($E55=\"\",\"\",IF(INDEX(E_SourceStreams!$A:$N,CS55,N$7)=\"\",\"\",INDEX(E_SourceStreams!$A:$N,CS55,N$7)))","v":""},{"$f":"IF($E55=\"\",\"\",IF(INDEX(E_SourceStreams!$A:$N,CT55,O$7)=\"\",\"\",INDEX(E_SourceStreams!$A:$N,CT55,O$7)))","v":""},{"$f":"IF($E55=\"\",\"\",IF(INDEX(E_SourceStreams!$A:$N,CU55,P$7)=\"\",\"\",INDEX(E_SourceStreams!$A:$N,CU55,P$7)))","v":""},{"$f":"IF($E55=\"\",\"\",IF(INDEX(E_SourceStreams!$A:$N,CV55,Q$7)=\"\",\"\",INDEX(E_SourceStreams!$A:$N,CV55,Q$7)))","v":""},{"$f":"IF($E55=\"\",\"\",IF(INDEX(E_SourceStreams!$A:$N,CW55,R$7)=\"\",\"\",INDEX(E_SourceStreams!$A:$N,CW55,R$7)))","v":""},{"$f":"IF($E55=\"\",\"\",IF(INDEX(E_SourceStreams!$A:$N,CX55,S$7)=\"\",\"\",INDEX(E_SourceStreams!$A:$N,CX55,S$7)))","v":""},{"$f":"IF($E55=\"\",\"\",IF(INDEX(E_SourceStreams!$A:$N,CY55,T$7)=\"\",\"\",INDEX(E_SourceStreams!$A:$N,CY55,T$7)))","v":""},{"$f":"IF($E55=\"\",\"\",IF(INDEX(E_SourceStreams!$A:$N,CZ55,U$7)=\"\",\"\",INDEX(E_SourceStreams!$A:$N,CZ55,U$7)))","v":""},{"$f":"IF($E55=\"\",\"\",IF(INDEX(E_SourceStreams!$A:$N,DA55,V$7)=\"\",\"\",INDEX(E_SourceStreams!$A:$N,DA55,V$7)))","v":""},{"$f":"IF($E55=\"\",\"\",IF(INDEX(E_SourceStreams!$A:$N,DB55,W$7)=\"\",\"\",INDEX(E_SourceStreams!$A:$N,DB55,W$7)))","v":""},{"$f":"IF($E55=\"\",\"\",IF(INDEX(E_SourceStreams!$A:$N,DC55,X$7)=\"\",\"\",INDEX(E_SourceStreams!$A:$N,DC55,X$7)))","v":""},{"$f":"IF($E55=\"\",\"\",IF(INDEX(E_SourceStreams!$A:$N,DD55,Y$7)=\"\",\"\",INDEX(E_SourceStreams!$A:$N,DD55,Y$7)))","v":""},{"$f":"IF($E55=\"\",\"\",IF(INDEX(E_SourceStreams!$A:$N,DE55,Z$7)=\"\",\"\",INDEX(E_SourceStreams!$A:$N,DE55,Z$7)))","v":""},{"$f":"IF($E55=\"\",\"\",IF(INDEX(E_SourceStreams!$A:$N,DF55,AA$7)=\"\",\"\",INDEX(E_SourceStreams!$A:$N,DF55,AA$7)))","v":""},{"$f":"IF($E55=\"\",\"\",IF(INDEX(E_SourceStreams!$A:$N,DG55,AB$7)=\"\",\"\",INDEX(E_SourceStreams!$A:$N,DG55,AB$7)))","v":""},{"$f":"IF($E55=\"\",\"\",IF(INDEX(E_SourceStreams!$A:$N,DH55,AC$7)=\"\",\"\",INDEX(E_SourceStreams!$A:$N,DH55,AC$7)))","v":""},{"$f":"IF($E55=\"\",\"\",IF(INDEX(E_SourceStreams!$A:$N,DI55,AD$7)=\"\",\"\",INDEX(E_SourceStreams!$A:$N,DI55,AD$7)))","v":""},{"$f":"IF($E55=\"\",\"\",IF(INDEX(E_SourceStreams!$A:$N,DJ55,AE$7)=\"\",\"\",INDEX(E_SourceStreams!$A:$N,DJ55,AE$7)))","v":""},{"$f":"IF($E55=\"\",\"\",IF(INDEX(E_SourceStreams!$A:$N,DK55,AF$7)=\"\",\"\",INDEX(E_SourceStreams!$A:$N,DK55,AF$7)))","v":""},{"$f":"IF($E55=\"\",\"\",IF(INDEX(E_SourceStreams!$A:$N,DL55,AG$7)=\"\",\"\",INDEX(E_SourceStreams!$A:$N,DL55,AG$7)))","v":""},{"$f":"IF($E55=\"\",\"\",IF(INDEX(E_SourceStreams!$A:$N,DM55,AH$7)=\"\",\"\",INDEX(E_SourceStreams!$A:$N,DM55,AH$7)))","v":""},{"$f":"IF($E55=\"\",\"\",IF(INDEX(E_SourceStreams!$A:$N,DN55,AI$7)=\"\",\"\",INDEX(E_SourceStreams!$A:$N,DN55,AI$7)))","v":""},{"$f":"IF($E55=\"\",\"\",IF(INDEX(E_SourceStreams!$A:$N,DO55,AJ$7)=\"\",\"\",INDEX(E_SourceStreams!$A:$N,DO55,AJ$7)))","v":""},{"$f":"IF($E55=\"\",\"\",IF(INDEX(E_SourceStreams!$A:$N,DP55,AK$7)=\"\",\"\",INDEX(E_SourceStreams!$A:$N,DP55,AK$7)))","v":""},{"$f":"IF($E55=\"\",\"\",IF(INDEX(E_SourceStreams!$A:$N,DQ55,AL$7)=\"\",\"\",INDEX(E_SourceStreams!$A:$N,DQ55,AL$7)))","v":""},{"$f":"IF($E55=\"\",\"\",IF(INDEX(E_SourceStreams!$A:$N,DR55,AM$7)=\"\",\"\",INDEX(E_SourceStreams!$A:$N,DR55,AM$7)))","v":""},{"$f":"IF($E55=\"\",\"\",IF(INDEX(E_SourceStreams!$A:$N,DS55,AN$7)=\"\",\"\",INDEX(E_SourceStreams!$A:$N,DS55,AN$7)))","v":""},{"$f":"IF($E55=\"\",\"\",IF(INDEX(E_SourceStreams!$A:$N,DT55,AO$7)=\"\",\"\",INDEX(E_SourceStreams!$A:$N,DT55,AO$7)))","v":""},{"$f":"IF($E55=\"\",\"\",IF(INDEX(E_SourceStreams!$A:$N,DU55,AP$7)=\"\",\"\",INDEX(E_SourceStreams!$A:$N,DU55,AP$7)))","v":""},{"$f":"IF($E55=\"\",\"\",IF(INDEX(E_SourceStreams!$A:$N,DV55,AQ$7)=\"\",\"\",INDEX(E_SourceStreams!$A:$N,DV55,AQ$7)))","v":""},{"$f":"IF($E55=\"\",\"\",IF(INDEX(E_SourceStreams!$A:$N,DW55,AR$7)=\"\",\"\",INDEX(E_SourceStreams!$A:$N,DW55,AR$7)))","v":""},{"$f":"IF($E55=\"\",\"\",IF(INDEX(E_SourceStreams!$A:$N,DX55,AS$7)=\"\",\"\",INDEX(E_SourceStreams!$A:$N,DX55,AS$7)))","v":""},{"$f":"IF($E55=\"\",\"\",IF(INDEX(E_SourceStreams!$A:$N,DY55,AT$7)=\"\",\"\",INDEX(E_SourceStreams!$A:$N,DY55,AT$7)))","v":""},{"$f":"IF($E55=\"\",\"\",IF(INDEX(E_SourceStreams!$A:$N,DZ55,AU$7)=\"\",\"\",INDEX(E_SourceStreams!$A:$N,DZ55,AU$7)))","v":""},{"$f":"IF($E55=\"\",\"\",IF(INDEX(E_SourceStreams!$A:$N,EA55,AV$7)=\"\",\"\",INDEX(E_SourceStreams!$A:$N,EA55,AV$7)))","v":""},{"$f":"IF($E55=\"\",\"\",IF(INDEX(E_SourceStreams!$A:$N,EB55,AW$7)=\"\",\"\",INDEX(E_SourceStreams!$A:$N,EB55,AW$7)))","v":""},{"$f":"IF($E55=\"\",\"\",IF(INDEX(E_SourceStreams!$A:$N,EC55,AX$7)=\"\",\"\",INDEX(E_SourceStreams!$A:$N,EC55,AX$7)))","v":""},{"$f":"IF($E55=\"\",\"\",IF(INDEX(E_SourceStreams!$A:$N,ED55,AY$7)=\"\",\"\",INDEX(E_SourceStreams!$A:$N,ED55,AY$7)))","v":""},{"$f":"IF($E55=\"\",\"\",IF(INDEX(E_SourceStreams!$A:$N,EE55,AZ$7)=\"\",\"\",INDEX(E_SourceStreams!$A:$N,EE55,AZ$7)))","v":""},{"$f":"IF($E55=\"\",\"\",IF(INDEX(E_SourceStreams!$A:$N,EF55,BA$7)=\"\",\"\",INDEX(E_SourceStreams!$A:$N,EF55,BA$7)))","v":""},{"$f":"IF($E55=\"\",\"\",IF(INDEX(E_SourceStreams!$A:$N,EG55,BB$7)=\"\",\"\",INDEX(E_SourceStreams!$A:$N,EG55,BB$7)))","v":""},{"$f":"IF($E55=\"\",\"\",IF(INDEX(E_SourceStreams!$A:$N,EH55,BC$7)=\"\",\"\",INDEX(E_SourceStreams!$A:$N,EH55,BC$7)))","v":""},{"$f":"IF($E55=\"\",\"\",IF(INDEX(E_SourceStreams!$A:$N,EI55,BD$7)=\"\",\"\",INDEX(E_SourceStreams!$A:$N,EI55,BD$7)))","v":""},{"$f":"IF($E55=\"\",\"\",IF(INDEX(E_SourceStreams!$A:$N,EJ55,BE$7)=\"\",\"\",INDEX(E_SourceStreams!$A:$N,EJ55,BE$7)))","v":""},{"$f":"IF($E55=\"\",\"\",IF(INDEX(E_SourceStreams!$A:$N,EK55,BF$7)=\"\",\"\",INDEX(E_SourceStreams!$A:$N,EK55,BF$7)))","v":""},{"$f":"IF($E55=\"\",\"\",IF(INDEX(E_SourceStreams!$A:$N,EL55,BG$7)=\"\",\"\",INDEX(E_SourceStreams!$A:$N,EL55,BG$7)))","v":""},{"$f":"IF($E55=\"\",\"\",IF(INDEX(E_SourceStreams!$A:$N,EM55,BH$7)=\"\",\"\",INDEX(E_SourceStreams!$A:$N,EM55,BH$7)))","v":""},{"$f":"IF($E55=\"\",\"\",IF(INDEX(E_SourceStreams!$A:$N,EN55,BI$7)=\"\",\"\",INDEX(E_SourceStreams!$A:$N,EN55,BI$7)))","v":""},{"$f":"IF($E55=\"\",\"\",IF(INDEX(E_SourceStreams!$A:$N,EO55,BJ$7)=\"\",\"\",INDEX(E_SourceStreams!$A:$N,EO55,BJ$7)))","v":""},{"$f":"IF($E55=\"\",\"\",IF(INDEX(E_SourceStreams!$A:$N,EP55,BK$7)=\"\",\"\",INDEX(E_SourceStreams!$A:$N,EP55,BK$7)))","v":""},{"$f":"IF($E55=\"\",\"\",IF(INDEX(E_SourceStreams!$A:$N,EQ55,BL$7)=\"\",\"\",INDEX(E_SourceStreams!$A:$N,EQ55,BL$7)))","v":""},{"$f":"IF($E55=\"\",\"\",IF(INDEX(E_SourceStreams!$A:$N,ER55,BM$7)=\"\",\"\",INDEX(E_SourceStreams!$A:$N,ER55,BM$7)))","v":""},{"$f":"IF($E55=\"\",\"\",IF(INDEX(E_SourceStreams!$A:$N,ES55,BN$7)=\"\",\"\",INDEX(E_SourceStreams!$A:$N,ES55,BN$7)))","v":""},{"$f":"IF($E55=\"\",\"\",IF(INDEX(E_SourceStreams!$A:$N,ET55,BO$7)=\"\",\"\",INDEX(E_SourceStreams!$A:$N,ET55,BO$7)))","v":""},{"$f":"IF($E55=\"\",\"\",IF(INDEX(E_SourceStreams!$A:$N,EU55,BP$7)=\"\",\"\",INDEX(E_SourceStreams!$A:$N,EU55,BP$7)))","v":""},{"$f":"IF($E55=\"\",\"\",IF(INDEX(E_SourceStreams!$A:$N,EV55,BQ$7)=\"\",\"\",INDEX(E_SourceStreams!$A:$N,EV55,BQ$7)))","v":""},{"$f":"IF($E55=\"\",\"\",IF(INDEX(E_SourceStreams!$A:$N,EW55,BR$7)=\"\",\"\",INDEX(E_SourceStreams!$A:$N,EW55,BR$7)))","v":""},{"$f":"IF($E55=\"\",\"\",IF(INDEX(E_SourceStreams!$A:$N,EX55,BS$7)=\"\",\"\",INDEX(E_SourceStreams!$A:$N,EX55,BS$7)))","v":""},{"$f":"IF($E55=\"\",\"\",IF(INDEX(E_SourceStreams!$A:$N,EY55,BT$7)=\"\",\"\",INDEX(E_SourceStreams!$A:$N,EY55,BT$7)))","v":""},null,null,null,null,null,null,null,null,null,null,null,null,null,null,null,"SourceCategory_",{"$f":"INDEX(C_InstallationDescription!$A$223:$A$328,ROWS($CI$11:CI55))=\"ausblenden\"","v":true},"SourceStreamName_",null,3038,3040,3042,3044,3046,3048,3050,3050,3050,3050,3050,3053,3057,3058,3059,3066,3076,3076,3076,3076,3076,3076,3076,3067,3077,3077,3077,3077,3077,3077,3077,3068,3078,3078,3078,3078,3078,3078,3078,3069,3079,3079,3079,3079,3079,3079,3079,3070,3080,3080,3080,3080,3080,3080,3080,3071,3081,3081,3081,3081,3081,3081,3081,3087]
[null,{"$f":"IF(COUNTIF($CK$10:CK56,TRUE)>0,\"\",INDEX(C_InstallationDescription!$E$223:$E$239,ROWS($A$11:A56)))","v":""},{"$f":"IF($E56=\"\",\"\",INDEX(C_InstallationDescription!G:G,MATCH($B56,C_InstallationDescription!$E:$E,0)))","v":""},{"$f":"IF($E56=\"\",\"\",INDEX(C_InstallationDescription!I:I,MATCH($B56,C_InstallationDescription!$E:$E,0)))","v":""},{"$f":"IF($B56=\"\",\"\",INDEX(C_InstallationDescription!F:F,MATCH($CJ56,C_InstallationDescription!$Q:$Q,0)))","v":""},{"$f":"IF($E56=\"\",\"\",INDEX(C_InstallationDescription!L:L,MATCH($CJ56,C_InstallationDescription!$Q:$Q,0)))","v":""},{"$f":"IF($E56=\"\",\"\",INDEX(C_InstallationDescription!M:M,MATCH($CJ56,C_InstallationDescription!$Q:$Q,0)))","v":""},{"$f":"IF($E56=\"\",\"\",INDEX(C_InstallationDescription!N:N,MATCH($CJ56,C_InstallationDescription!$Q:$Q,0)))","v":""},{"$f":"IF($E56=\"\",\"\",IF(INDEX(E_SourceStreams!$A:$N,CN56,I$7)=\"\",\"\",INDEX(E_SourceStreams!$A:$N,CN56,I$7)))","v":""},{"$f":"IF($E56=\"\",\"\",IF(INDEX(E_SourceStreams!$A:$N,CO56,J$7)=\"\",\"\",INDEX(E_SourceStreams!$A:$N,CO56,J$7)))","v":""},{"$f":"IF($E56=\"\",\"\",IF(INDEX(E_SourceStreams!$A:$N,CP56,K$7)=\"\",\"\",INDEX(E_SourceStreams!$A:$N,CP56,K$7)))","v":""},{"$f":"IF($E56=\"\",\"\",IF(INDEX(E_SourceStreams!$A:$N,CQ56,L$7)=\"\",\"\",INDEX(E_SourceStreams!$A:$N,CQ56,L$7)))","v":""},{"$f":"IF($E56=\"\",\"\",IF(INDEX(E_SourceStreams!$A:$N,CR56,M$7)=\"\",\"\",INDEX(E_SourceStreams!$A:$N,CR56,M$7)))","v":""},{"$f":"IF($E56=\"\",\"\",IF(INDEX(E_SourceStreams!$A:$N,CS56,N$7)=\"\",\"\",INDEX(E_SourceStreams!$A:$N,CS56,N$7)))","v":""},{"$f":"IF($E56=\"\",\"\",IF(INDEX(E_SourceStreams!$A:$N,CT56,O$7)=\"\",\"\",INDEX(E_SourceStreams!$A:$N,CT56,O$7)))","v":""},{"$f":"IF($E56=\"\",\"\",IF(INDEX(E_SourceStreams!$A:$N,CU56,P$7)=\"\",\"\",INDEX(E_SourceStreams!$A:$N,CU56,P$7)))","v":""},{"$f":"IF($E56=\"\",\"\",IF(INDEX(E_SourceStreams!$A:$N,CV56,Q$7)=\"\",\"\",INDEX(E_SourceStreams!$A:$N,CV56,Q$7)))","v":""},{"$f":"IF($E56=\"\",\"\",IF(INDEX(E_SourceStreams!$A:$N,CW56,R$7)=\"\",\"\",INDEX(E_SourceStreams!$A:$N,CW56,R$7)))","v":""},{"$f":"IF($E56=\"\",\"\",IF(INDEX(E_SourceStreams!$A:$N,CX56,S$7)=\"\",\"\",INDEX(E_SourceStreams!$A:$N,CX56,S$7)))","v":""},{"$f":"IF($E56=\"\",\"\",IF(INDEX(E_SourceStreams!$A:$N,CY56,T$7)=\"\",\"\",INDEX(E_SourceStreams!$A:$N,CY56,T$7)))","v":""},{"$f":"IF($E56=\"\",\"\",IF(INDEX(E_SourceStreams!$A:$N,CZ56,U$7)=\"\",\"\",INDEX(E_SourceStreams!$A:$N,CZ56,U$7)))","v":""},{"$f":"IF($E56=\"\",\"\",IF(INDEX(E_SourceStreams!$A:$N,DA56,V$7)=\"\",\"\",INDEX(E_SourceStreams!$A:$N,DA56,V$7)))","v":""},{"$f":"IF($E56=\"\",\"\",IF(INDEX(E_SourceStreams!$A:$N,DB56,W$7)=\"\",\"\",INDEX(E_SourceStreams!$A:$N,DB56,W$7)))","v":""},{"$f":"IF($E56=\"\",\"\",IF(INDEX(E_SourceStreams!$A:$N,DC56,X$7)=\"\",\"\",INDEX(E_SourceStreams!$A:$N,DC56,X$7)))","v":""},{"$f":"IF($E56=\"\",\"\",IF(INDEX(E_SourceStreams!$A:$N,DD56,Y$7)=\"\",\"\",INDEX(E_SourceStreams!$A:$N,DD56,Y$7)))","v":""},{"$f":"IF($E56=\"\",\"\",IF(INDEX(E_SourceStreams!$A:$N,DE56,Z$7)=\"\",\"\",INDEX(E_SourceStreams!$A:$N,DE56,Z$7)))","v":""},{"$f":"IF($E56=\"\",\"\",IF(INDEX(E_SourceStreams!$A:$N,DF56,AA$7)=\"\",\"\",INDEX(E_SourceStreams!$A:$N,DF56,AA$7)))","v":""},{"$f":"IF($E56=\"\",\"\",IF(INDEX(E_SourceStreams!$A:$N,DG56,AB$7)=\"\",\"\",INDEX(E_SourceStreams!$A:$N,DG56,AB$7)))","v":""},{"$f":"IF($E56=\"\",\"\",IF(INDEX(E_SourceStreams!$A:$N,DH56,AC$7)=\"\",\"\",INDEX(E_SourceStreams!$A:$N,DH56,AC$7)))","v":""},{"$f":"IF($E56=\"\",\"\",IF(INDEX(E_SourceStreams!$A:$N,DI56,AD$7)=\"\",\"\",INDEX(E_SourceStreams!$A:$N,DI56,AD$7)))","v":""},{"$f":"IF($E56=\"\",\"\",IF(INDEX(E_SourceStreams!$A:$N,DJ56,AE$7)=\"\",\"\",INDEX(E_SourceStreams!$A:$N,DJ56,AE$7)))","v":""},{"$f":"IF($E56=\"\",\"\",IF(INDEX(E_SourceStreams!$A:$N,DK56,AF$7)=\"\",\"\",INDEX(E_SourceStreams!$A:$N,DK56,AF$7)))","v":""},{"$f":"IF($E56=\"\",\"\",IF(INDEX(E_SourceStreams!$A:$N,DL56,AG$7)=\"\",\"\",INDEX(E_SourceStreams!$A:$N,DL56,AG$7)))","v":""},{"$f":"IF($E56=\"\",\"\",IF(INDEX(E_SourceStreams!$A:$N,DM56,AH$7)=\"\",\"\",INDEX(E_SourceStreams!$A:$N,DM56,AH$7)))","v":""},{"$f":"IF($E56=\"\",\"\",IF(INDEX(E_SourceStreams!$A:$N,DN56,AI$7)=\"\",\"\",INDEX(E_SourceStreams!$A:$N,DN56,AI$7)))","v":""},{"$f":"IF($E56=\"\",\"\",IF(INDEX(E_SourceStreams!$A:$N,DO56,AJ$7)=\"\",\"\",INDEX(E_SourceStreams!$A:$N,DO56,AJ$7)))","v":""},{"$f":"IF($E56=\"\",\"\",IF(INDEX(E_SourceStreams!$A:$N,DP56,AK$7)=\"\",\"\",INDEX(E_SourceStreams!$A:$N,DP56,AK$7)))","v":""},{"$f":"IF($E56=\"\",\"\",IF(INDEX(E_SourceStreams!$A:$N,DQ56,AL$7)=\"\",\"\",INDEX(E_SourceStreams!$A:$N,DQ56,AL$7)))","v":""},{"$f":"IF($E56=\"\",\"\",IF(INDEX(E_SourceStreams!$A:$N,DR56,AM$7)=\"\",\"\",INDEX(E_SourceStreams!$A:$N,DR56,AM$7)))","v":""},{"$f":"IF($E56=\"\",\"\",IF(INDEX(E_SourceStreams!$A:$N,DS56,AN$7)=\"\",\"\",INDEX(E_SourceStreams!$A:$N,DS56,AN$7)))","v":""},{"$f":"IF($E56=\"\",\"\",IF(INDEX(E_SourceStreams!$A:$N,DT56,AO$7)=\"\",\"\",INDEX(E_SourceStreams!$A:$N,DT56,AO$7)))","v":""},{"$f":"IF($E56=\"\",\"\",IF(INDEX(E_SourceStreams!$A:$N,DU56,AP$7)=\"\",\"\",INDEX(E_SourceStreams!$A:$N,DU56,AP$7)))","v":""},{"$f":"IF($E56=\"\",\"\",IF(INDEX(E_SourceStreams!$A:$N,DV56,AQ$7)=\"\",\"\",INDEX(E_SourceStreams!$A:$N,DV56,AQ$7)))","v":""},{"$f":"IF($E56=\"\",\"\",IF(INDEX(E_SourceStreams!$A:$N,DW56,AR$7)=\"\",\"\",INDEX(E_SourceStreams!$A:$N,DW56,AR$7)))","v":""},{"$f":"IF($E56=\"\",\"\",IF(INDEX(E_SourceStreams!$A:$N,DX56,AS$7)=\"\",\"\",INDEX(E_SourceStreams!$A:$N,DX56,AS$7)))","v":""},{"$f":"IF($E56=\"\",\"\",IF(INDEX(E_SourceStreams!$A:$N,DY56,AT$7)=\"\",\"\",INDEX(E_SourceStreams!$A:$N,DY56,AT$7)))","v":""},{"$f":"IF($E56=\"\",\"\",IF(INDEX(E_SourceStreams!$A:$N,DZ56,AU$7)=\"\",\"\",INDEX(E_SourceStreams!$A:$N,DZ56,AU$7)))","v":""},{"$f":"IF($E56=\"\",\"\",IF(INDEX(E_SourceStreams!$A:$N,EA56,AV$7)=\"\",\"\",INDEX(E_SourceStreams!$A:$N,EA56,AV$7)))","v":""},{"$f":"IF($E56=\"\",\"\",IF(INDEX(E_SourceStreams!$A:$N,EB56,AW$7)=\"\",\"\",INDEX(E_SourceStreams!$A:$N,EB56,AW$7)))","v":""},{"$f":"IF($E56=\"\",\"\",IF(INDEX(E_SourceStreams!$A:$N,EC56,AX$7)=\"\",\"\",INDEX(E_SourceStreams!$A:$N,EC56,AX$7)))","v":""},{"$f":"IF($E56=\"\",\"\",IF(INDEX(E_SourceStreams!$A:$N,ED56,AY$7)=\"\",\"\",INDEX(E_SourceStreams!$A:$N,ED56,AY$7)))","v":""},{"$f":"IF($E56=\"\",\"\",IF(INDEX(E_SourceStreams!$A:$N,EE56,AZ$7)=\"\",\"\",INDEX(E_SourceStreams!$A:$N,EE56,AZ$7)))","v":""},{"$f":"IF($E56=\"\",\"\",IF(INDEX(E_SourceStreams!$A:$N,EF56,BA$7)=\"\",\"\",INDEX(E_SourceStreams!$A:$N,EF56,BA$7)))","v":""},{"$f":"IF($E56=\"\",\"\",IF(INDEX(E_SourceStreams!$A:$N,EG56,BB$7)=\"\",\"\",INDEX(E_SourceStreams!$A:$N,EG56,BB$7)))","v":""},{"$f":"IF($E56=\"\",\"\",IF(INDEX(E_SourceStreams!$A:$N,EH56,BC$7)=\"\",\"\",INDEX(E_SourceStreams!$A:$N,EH56,BC$7)))","v":""},{"$f":"IF($E56=\"\",\"\",IF(INDEX(E_SourceStreams!$A:$N,EI56,BD$7)=\"\",\"\",INDEX(E_SourceStreams!$A:$N,EI56,BD$7)))","v":""},{"$f":"IF($E56=\"\",\"\",IF(INDEX(E_SourceStreams!$A:$N,EJ56,BE$7)=\"\",\"\",INDEX(E_SourceStreams!$A:$N,EJ56,BE$7)))","v":""},{"$f":"IF($E56=\"\",\"\",IF(INDEX(E_SourceStreams!$A:$N,EK56,BF$7)=\"\",\"\",INDEX(E_SourceStreams!$A:$N,EK56,BF$7)))","v":""},{"$f":"IF($E56=\"\",\"\",IF(INDEX(E_SourceStreams!$A:$N,EL56,BG$7)=\"\",\"\",INDEX(E_SourceStreams!$A:$N,EL56,BG$7)))","v":""},{"$f":"IF($E56=\"\",\"\",IF(INDEX(E_SourceStreams!$A:$N,EM56,BH$7)=\"\",\"\",INDEX(E_SourceStreams!$A:$N,EM56,BH$7)))","v":""},{"$f":"IF($E56=\"\",\"\",IF(INDEX(E_SourceStreams!$A:$N,EN56,BI$7)=\"\",\"\",INDEX(E_SourceStreams!$A:$N,EN56,BI$7)))","v":""},{"$f":"IF($E56=\"\",\"\",IF(INDEX(E_SourceStreams!$A:$N,EO56,BJ$7)=\"\",\"\",INDEX(E_SourceStreams!$A:$N,EO56,BJ$7)))","v":""},{"$f":"IF($E56=\"\",\"\",IF(INDEX(E_SourceStreams!$A:$N,EP56,BK$7)=\"\",\"\",INDEX(E_SourceStreams!$A:$N,EP56,BK$7)))","v":""},{"$f":"IF($E56=\"\",\"\",IF(INDEX(E_SourceStreams!$A:$N,EQ56,BL$7)=\"\",\"\",INDEX(E_SourceStreams!$A:$N,EQ56,BL$7)))","v":""},{"$f":"IF($E56=\"\",\"\",IF(INDEX(E_SourceStreams!$A:$N,ER56,BM$7)=\"\",\"\",INDEX(E_SourceStreams!$A:$N,ER56,BM$7)))","v":""},{"$f":"IF($E56=\"\",\"\",IF(INDEX(E_SourceStreams!$A:$N,ES56,BN$7)=\"\",\"\",INDEX(E_SourceStreams!$A:$N,ES56,BN$7)))","v":""},{"$f":"IF($E56=\"\",\"\",IF(INDEX(E_SourceStreams!$A:$N,ET56,BO$7)=\"\",\"\",INDEX(E_SourceStreams!$A:$N,ET56,BO$7)))","v":""},{"$f":"IF($E56=\"\",\"\",IF(INDEX(E_SourceStreams!$A:$N,EU56,BP$7)=\"\",\"\",INDEX(E_SourceStreams!$A:$N,EU56,BP$7)))","v":""},{"$f":"IF($E56=\"\",\"\",IF(INDEX(E_SourceStreams!$A:$N,EV56,BQ$7)=\"\",\"\",INDEX(E_SourceStreams!$A:$N,EV56,BQ$7)))","v":""},{"$f":"IF($E56=\"\",\"\",IF(INDEX(E_SourceStreams!$A:$N,EW56,BR$7)=\"\",\"\",INDEX(E_SourceStreams!$A:$N,EW56,BR$7)))","v":""},{"$f":"IF($E56=\"\",\"\",IF(INDEX(E_SourceStreams!$A:$N,EX56,BS$7)=\"\",\"\",INDEX(E_SourceStreams!$A:$N,EX56,BS$7)))","v":""},{"$f":"IF($E56=\"\",\"\",IF(INDEX(E_SourceStreams!$A:$N,EY56,BT$7)=\"\",\"\",INDEX(E_SourceStreams!$A:$N,EY56,BT$7)))","v":""},null,null,null,null,null,null,null,null,null,null,null,null,null,null,null,"SourceCategory_",{"$f":"INDEX(C_InstallationDescription!$A$223:$A$328,ROWS($CI$11:CI56))=\"ausblenden\"","v":true},"SourceStreamName_",null,3104,3106,3108,3110,3112,3114,3116,3116,3116,3116,3116,3119,3123,3124,3125,3132,3142,3142,3142,3142,3142,3142,3142,3133,3143,3143,3143,3143,3143,3143,3143,3134,3144,3144,3144,3144,3144,3144,3144,3135,3145,3145,3145,3145,3145,3145,3145,3136,3146,3146,3146,3146,3146,3146,3146,3137,3147,3147,3147,3147,3147,3147,3147,3153]
[null,{"$f":"IF(COUNTIF($CK$10:CK57,TRUE)>0,\"\",INDEX(C_InstallationDescription!$E$223:$E$239,ROWS($A$11:A57)))","v":""},{"$f":"IF($E57=\"\",\"\",INDEX(C_InstallationDescription!G:G,MATCH($B57,C_InstallationDescription!$E:$E,0)))","v":""},{"$f":"IF($E57=\"\",\"\",INDEX(C_InstallationDescription!I:I,MATCH($B57,C_InstallationDescription!$E:$E,0)))","v":""},{"$f":"IF($B57=\"\",\"\",INDEX(C_InstallationDescription!F:F,MATCH($CJ57,C_InstallationDescription!$Q:$Q,0)))","v":""},{"$f":"IF($E57=\"\",\"\",INDEX(C_InstallationDescription!L:L,MATCH($CJ57,C_InstallationDescription!$Q:$Q,0)))","v":""},{"$f":"IF($E57=\"\",\"\",INDEX(C_InstallationDescription!M:M,MATCH($CJ57,C_InstallationDescription!$Q:$Q,0)))","v":""},{"$f":"IF($E57=\"\",\"\",INDEX(C_InstallationDescription!N:N,MATCH($CJ57,C_InstallationDescription!$Q:$Q,0)))","v":""},{"$f":"IF($E57=\"\",\"\",IF(INDEX(E_SourceStreams!$A:$N,CN57,I$7)=\"\",\"\",INDEX(E_SourceStreams!$A:$N,CN57,I$7)))","v":""},{"$f":"IF($E57=\"\",\"\",IF(INDEX(E_SourceStreams!$A:$N,CO57,J$7)=\"\",\"\",INDEX(E_SourceStreams!$A:$N,CO57,J$7)))","v":""},{"$f":"IF($E57=\"\",\"\",IF(INDEX(E_SourceStreams!$A:$N,CP57,K$7)=\"\",\"\",INDEX(E_SourceStreams!$A:$N,CP57,K$7)))","v":""},{"$f":"IF($E57=\"\",\"\",IF(INDEX(E_SourceStreams!$A:$N,CQ57,L$7)=\"\",\"\",INDEX(E_SourceStreams!$A:$N,CQ57,L$7)))","v":""},{"$f":"IF($E57=\"\",\"\",IF(INDEX(E_SourceStreams!$A:$N,CR57,M$7)=\"\",\"\",INDEX(E_SourceStreams!$A:$N,CR57,M$7)))","v":""},{"$f":"IF($E57=\"\",\"\",IF(INDEX(E_SourceStreams!$A:$N,CS57,N$7)=\"\",\"\",INDEX(E_SourceStreams!$A:$N,CS57,N$7)))","v":""},{"$f":"IF($E57=\"\",\"\",IF(INDEX(E_SourceStreams!$A:$N,CT57,O$7)=\"\",\"\",INDEX(E_SourceStreams!$A:$N,CT57,O$7)))","v":""},{"$f":"IF($E57=\"\",\"\",IF(INDEX(E_SourceStreams!$A:$N,CU57,P$7)=\"\",\"\",INDEX(E_SourceStreams!$A:$N,CU57,P$7)))","v":""},{"$f":"IF($E57=\"\",\"\",IF(INDEX(E_SourceStreams!$A:$N,CV57,Q$7)=\"\",\"\",INDEX(E_SourceStreams!$A:$N,CV57,Q$7)))","v":""},{"$f":"IF($E57=\"\",\"\",IF(INDEX(E_SourceStreams!$A:$N,CW57,R$7)=\"\",\"\",INDEX(E_SourceStreams!$A:$N,CW57,R$7)))","v":""},{"$f":"IF($E57=\"\",\"\",IF(INDEX(E_SourceStreams!$A:$N,CX57,S$7)=\"\",\"\",INDEX(E_SourceStreams!$A:$N,CX57,S$7)))","v":""},{"$f":"IF($E57=\"\",\"\",IF(INDEX(E_SourceStreams!$A:$N,CY57,T$7)=\"\",\"\",INDEX(E_SourceStreams!$A:$N,CY57,T$7)))","v":""},{"$f":"IF($E57=\"\",\"\",IF(INDEX(E_SourceStreams!$A:$N,CZ57,U$7)=\"\",\"\",INDEX(E_SourceStreams!$A:$N,CZ57,U$7)))","v":""},{"$f":"IF($E57=\"\",\"\",IF(INDEX(E_SourceStreams!$A:$N,DA57,V$7)=\"\",\"\",INDEX(E_SourceStreams!$A:$N,DA57,V$7)))","v":""},{"$f":"IF($E57=\"\",\"\",IF(INDEX(E_SourceStreams!$A:$N,DB57,W$7)=\"\",\"\",INDEX(E_SourceStreams!$A:$N,DB57,W$7)))","v":""},{"$f":"IF($E57=\"\",\"\",IF(INDEX(E_SourceStreams!$A:$N,DC57,X$7)=\"\",\"\",INDEX(E_SourceStreams!$A:$N,DC57,X$7)))","v":""},{"$f":"IF($E57=\"\",\"\",IF(INDEX(E_SourceStreams!$A:$N,DD57,Y$7)=\"\",\"\",INDEX(E_SourceStreams!$A:$N,DD57,Y$7)))","v":""},{"$f":"IF($E57=\"\",\"\",IF(INDEX(E_SourceStreams!$A:$N,DE57,Z$7)=\"\",\"\",INDEX(E_SourceStreams!$A:$N,DE57,Z$7)))","v":""},{"$f":"IF($E57=\"\",\"\",IF(INDEX(E_SourceStreams!$A:$N,DF57,AA$7)=\"\",\"\",INDEX(E_SourceStreams!$A:$N,DF57,AA$7)))","v":""},{"$f":"IF($E57=\"\",\"\",IF(INDEX(E_SourceStreams!$A:$N,DG57,AB$7)=\"\",\"\",INDEX(E_SourceStreams!$A:$N,DG57,AB$7)))","v":""},{"$f":"IF($E57=\"\",\"\",IF(INDEX(E_SourceStreams!$A:$N,DH57,AC$7)=\"\",\"\",INDEX(E_SourceStreams!$A:$N,DH57,AC$7)))","v":""},{"$f":"IF($E57=\"\",\"\",IF(INDEX(E_SourceStreams!$A:$N,DI57,AD$7)=\"\",\"\",INDEX(E_SourceStreams!$A:$N,DI57,AD$7)))","v":""},{"$f":"IF($E57=\"\",\"\",IF(INDEX(E_SourceStreams!$A:$N,DJ57,AE$7)=\"\",\"\",INDEX(E_SourceStreams!$A:$N,DJ57,AE$7)))","v":""},{"$f":"IF($E57=\"\",\"\",IF(INDEX(E_SourceStreams!$A:$N,DK57,AF$7)=\"\",\"\",INDEX(E_SourceStreams!$A:$N,DK57,AF$7)))","v":""},{"$f":"IF($E57=\"\",\"\",IF(INDEX(E_SourceStreams!$A:$N,DL57,AG$7)=\"\",\"\",INDEX(E_SourceStreams!$A:$N,DL57,AG$7)))","v":""},{"$f":"IF($E57=\"\",\"\",IF(INDEX(E_SourceStreams!$A:$N,DM57,AH$7)=\"\",\"\",INDEX(E_SourceStreams!$A:$N,DM57,AH$7)))","v":""},{"$f":"IF($E57=\"\",\"\",IF(INDEX(E_SourceStreams!$A:$N,DN57,AI$7)=\"\",\"\",INDEX(E_SourceStreams!$A:$N,DN57,AI$7)))","v":""},{"$f":"IF($E57=\"\",\"\",IF(INDEX(E_SourceStreams!$A:$N,DO57,AJ$7)=\"\",\"\",INDEX(E_SourceStreams!$A:$N,DO57,AJ$7)))","v":""},{"$f":"IF($E57=\"\",\"\",IF(INDEX(E_SourceStreams!$A:$N,DP57,AK$7)=\"\",\"\",INDEX(E_SourceStreams!$A:$N,DP57,AK$7)))","v":""},{"$f":"IF($E57=\"\",\"\",IF(INDEX(E_SourceStreams!$A:$N,DQ57,AL$7)=\"\",\"\",INDEX(E_SourceStreams!$A:$N,DQ57,AL$7)))","v":""},{"$f":"IF($E57=\"\",\"\",IF(INDEX(E_SourceStreams!$A:$N,DR57,AM$7)=\"\",\"\",INDEX(E_SourceStreams!$A:$N,DR57,AM$7)))","v":""},{"$f":"IF($E57=\"\",\"\",IF(INDEX(E_SourceStreams!$A:$N,DS57,AN$7)=\"\",\"\",INDEX(E_SourceStreams!$A:$N,DS57,AN$7)))","v":""},{"$f":"IF($E57=\"\",\"\",IF(INDEX(E_SourceStreams!$A:$N,DT57,AO$7)=\"\",\"\",INDEX(E_SourceStreams!$A:$N,DT57,AO$7)))","v":""},{"$f":"IF($E57=\"\",\"\",IF(INDEX(E_SourceStreams!$A:$N,DU57,AP$7)=\"\",\"\",INDEX(E_SourceStreams!$A:$N,DU57,AP$7)))","v":""},{"$f":"IF($E57=\"\",\"\",IF(INDEX(E_SourceStreams!$A:$N,DV57,AQ$7)=\"\",\"\",INDEX(E_SourceStreams!$A:$N,DV57,AQ$7)))","v":""},{"$f":"IF($E57=\"\",\"\",IF(INDEX(E_SourceStreams!$A:$N,DW57,AR$7)=\"\",\"\",INDEX(E_SourceStreams!$A:$N,DW57,AR$7)))","v":""},{"$f":"IF($E57=\"\",\"\",IF(INDEX(E_SourceStreams!$A:$N,DX57,AS$7)=\"\",\"\",INDEX(E_SourceStreams!$A:$N,DX57,AS$7)))","v":""},{"$f":"IF($E57=\"\",\"\",IF(INDEX(E_SourceStreams!$A:$N,DY57,AT$7)=\"\",\"\",INDEX(E_SourceStreams!$A:$N,DY57,AT$7)))","v":""},{"$f":"IF($E57=\"\",\"\",IF(INDEX(E_SourceStreams!$A:$N,DZ57,AU$7)=\"\",\"\",INDEX(E_SourceStreams!$A:$N,DZ57,AU$7)))","v":""},{"$f":"IF($E57=\"\",\"\",IF(INDEX(E_SourceStreams!$A:$N,EA57,AV$7)=\"\",\"\",INDEX(E_SourceStreams!$A:$N,EA57,AV$7)))","v":""},{"$f":"IF($E57=\"\",\"\",IF(INDEX(E_SourceStreams!$A:$N,EB57,AW$7)=\"\",\"\",INDEX(E_SourceStreams!$A:$N,EB57,AW$7)))","v":""},{"$f":"IF($E57=\"\",\"\",IF(INDEX(E_SourceStreams!$A:$N,EC57,AX$7)=\"\",\"\",INDEX(E_SourceStreams!$A:$N,EC57,AX$7)))","v":""},{"$f":"IF($E57=\"\",\"\",IF(INDEX(E_SourceStreams!$A:$N,ED57,AY$7)=\"\",\"\",INDEX(E_SourceStreams!$A:$N,ED57,AY$7)))","v":""},{"$f":"IF($E57=\"\",\"\",IF(INDEX(E_SourceStreams!$A:$N,EE57,AZ$7)=\"\",\"\",INDEX(E_SourceStreams!$A:$N,EE57,AZ$7)))","v":""},{"$f":"IF($E57=\"\",\"\",IF(INDEX(E_SourceStreams!$A:$N,EF57,BA$7)=\"\",\"\",INDEX(E_SourceStreams!$A:$N,EF57,BA$7)))","v":""},{"$f":"IF($E57=\"\",\"\",IF(INDEX(E_SourceStreams!$A:$N,EG57,BB$7)=\"\",\"\",INDEX(E_SourceStreams!$A:$N,EG57,BB$7)))","v":""},{"$f":"IF($E57=\"\",\"\",IF(INDEX(E_SourceStreams!$A:$N,EH57,BC$7)=\"\",\"\",INDEX(E_SourceStreams!$A:$N,EH57,BC$7)))","v":""},{"$f":"IF($E57=\"\",\"\",IF(INDEX(E_SourceStreams!$A:$N,EI57,BD$7)=\"\",\"\",INDEX(E_SourceStreams!$A:$N,EI57,BD$7)))","v":""},{"$f":"IF($E57=\"\",\"\",IF(INDEX(E_SourceStreams!$A:$N,EJ57,BE$7)=\"\",\"\",INDEX(E_SourceStreams!$A:$N,EJ57,BE$7)))","v":""},{"$f":"IF($E57=\"\",\"\",IF(INDEX(E_SourceStreams!$A:$N,EK57,BF$7)=\"\",\"\",INDEX(E_SourceStreams!$A:$N,EK57,BF$7)))","v":""},{"$f":"IF($E57=\"\",\"\",IF(INDEX(E_SourceStreams!$A:$N,EL57,BG$7)=\"\",\"\",INDEX(E_SourceStreams!$A:$N,EL57,BG$7)))","v":""},{"$f":"IF($E57=\"\",\"\",IF(INDEX(E_SourceStreams!$A:$N,EM57,BH$7)=\"\",\"\",INDEX(E_SourceStreams!$A:$N,EM57,BH$7)))","v":""},{"$f":"IF($E57=\"\",\"\",IF(INDEX(E_SourceStreams!$A:$N,EN57,BI$7)=\"\",\"\",INDEX(E_SourceStreams!$A:$N,EN57,BI$7)))","v":""},{"$f":"IF($E57=\"\",\"\",IF(INDEX(E_SourceStreams!$A:$N,EO57,BJ$7)=\"\",\"\",INDEX(E_SourceStreams!$A:$N,EO57,BJ$7)))","v":""},{"$f":"IF($E57=\"\",\"\",IF(INDEX(E_SourceStreams!$A:$N,EP57,BK$7)=\"\",\"\",INDEX(E_SourceStreams!$A:$N,EP57,BK$7)))","v":""},{"$f":"IF($E57=\"\",\"\",IF(INDEX(E_SourceStreams!$A:$N,EQ57,BL$7)=\"\",\"\",INDEX(E_SourceStreams!$A:$N,EQ57,BL$7)))","v":""},{"$f":"IF($E57=\"\",\"\",IF(INDEX(E_SourceStreams!$A:$N,ER57,BM$7)=\"\",\"\",INDEX(E_SourceStreams!$A:$N,ER57,BM$7)))","v":""},{"$f":"IF($E57=\"\",\"\",IF(INDEX(E_SourceStreams!$A:$N,ES57,BN$7)=\"\",\"\",INDEX(E_SourceStreams!$A:$N,ES57,BN$7)))","v":""},{"$f":"IF($E57=\"\",\"\",IF(INDEX(E_SourceStreams!$A:$N,ET57,BO$7)=\"\",\"\",INDEX(E_SourceStreams!$A:$N,ET57,BO$7)))","v":""},{"$f":"IF($E57=\"\",\"\",IF(INDEX(E_SourceStreams!$A:$N,EU57,BP$7)=\"\",\"\",INDEX(E_SourceStreams!$A:$N,EU57,BP$7)))","v":""},{"$f":"IF($E57=\"\",\"\",IF(INDEX(E_SourceStreams!$A:$N,EV57,BQ$7)=\"\",\"\",INDEX(E_SourceStreams!$A:$N,EV57,BQ$7)))","v":""},{"$f":"IF($E57=\"\",\"\",IF(INDEX(E_SourceStreams!$A:$N,EW57,BR$7)=\"\",\"\",INDEX(E_SourceStreams!$A:$N,EW57,BR$7)))","v":""},{"$f":"IF($E57=\"\",\"\",IF(INDEX(E_SourceStreams!$A:$N,EX57,BS$7)=\"\",\"\",INDEX(E_SourceStreams!$A:$N,EX57,BS$7)))","v":""},{"$f":"IF($E57=\"\",\"\",IF(INDEX(E_SourceStreams!$A:$N,EY57,BT$7)=\"\",\"\",INDEX(E_SourceStreams!$A:$N,EY57,BT$7)))","v":""},null,null,null,null,null,null,null,null,null,null,null,null,null,null,null,"SourceCategory_",{"$f":"INDEX(C_InstallationDescription!$A$223:$A$328,ROWS($CI$11:CI57))=\"ausblenden\"","v":true},"SourceStreamName_",null,3170,3172,3174,3176,3178,3180,3182,3182,3182,3182,3182,3185,3189,3190,3191,3198,3208,3208,3208,3208,3208,3208,3208,3199,3209,3209,3209,3209,3209,3209,3209,3200,3210,3210,3210,3210,3210,3210,3210,3201,3211,3211,3211,3211,3211,3211,3211,3202,3212,3212,3212,3212,3212,3212,3212,3203,3213,3213,3213,3213,3213,3213,3213,3219]
[null,{"$f":"IF(COUNTIF($CK$10:CK58,TRUE)>0,\"\",INDEX(C_InstallationDescription!$E$223:$E$239,ROWS($A$11:A58)))","v":""},{"$f":"IF($E58=\"\",\"\",INDEX(C_InstallationDescription!G:G,MATCH($B58,C_InstallationDescription!$E:$E,0)))","v":""},{"$f":"IF($E58=\"\",\"\",INDEX(C_InstallationDescription!I:I,MATCH($B58,C_InstallationDescription!$E:$E,0)))","v":""},{"$f":"IF($B58=\"\",\"\",INDEX(C_InstallationDescription!F:F,MATCH($CJ58,C_InstallationDescription!$Q:$Q,0)))","v":""},{"$f":"IF($E58=\"\",\"\",INDEX(C_InstallationDescription!L:L,MATCH($CJ58,C_InstallationDescription!$Q:$Q,0)))","v":""},{"$f":"IF($E58=\"\",\"\",INDEX(C_InstallationDescription!M:M,MATCH($CJ58,C_InstallationDescription!$Q:$Q,0)))","v":""},{"$f":"IF($E58=\"\",\"\",INDEX(C_InstallationDescription!N:N,MATCH($CJ58,C_InstallationDescription!$Q:$Q,0)))","v":""},{"$f":"IF($E58=\"\",\"\",IF(INDEX(E_SourceStreams!$A:$N,CN58,I$7)=\"\",\"\",INDEX(E_SourceStreams!$A:$N,CN58,I$7)))","v":""},{"$f":"IF($E58=\"\",\"\",IF(INDEX(E_SourceStreams!$A:$N,CO58,J$7)=\"\",\"\",INDEX(E_SourceStreams!$A:$N,CO58,J$7)))","v":""},{"$f":"IF($E58=\"\",\"\",IF(INDEX(E_SourceStreams!$A:$N,CP58,K$7)=\"\",\"\",INDEX(E_SourceStreams!$A:$N,CP58,K$7)))","v":""},{"$f":"IF($E58=\"\",\"\",IF(INDEX(E_SourceStreams!$A:$N,CQ58,L$7)=\"\",\"\",INDEX(E_SourceStreams!$A:$N,CQ58,L$7)))","v":""},{"$f":"IF($E58=\"\",\"\",IF(INDEX(E_SourceStreams!$A:$N,CR58,M$7)=\"\",\"\",INDEX(E_SourceStreams!$A:$N,CR58,M$7)))","v":""},{"$f":"IF($E58=\"\",\"\",IF(INDEX(E_SourceStreams!$A:$N,CS58,N$7)=\"\",\"\",INDEX(E_SourceStreams!$A:$N,CS58,N$7)))","v":""},{"$f":"IF($E58=\"\",\"\",IF(INDEX(E_SourceStreams!$A:$N,CT58,O$7)=\"\",\"\",INDEX(E_SourceStreams!$A:$N,CT58,O$7)))","v":""},{"$f":"IF($E58=\"\",\"\",IF(INDEX(E_SourceStreams!$A:$N,CU58,P$7)=\"\",\"\",INDEX(E_SourceStreams!$A:$N,CU58,P$7)))","v":""},{"$f":"IF($E58=\"\",\"\",IF(INDEX(E_SourceStreams!$A:$N,CV58,Q$7)=\"\",\"\",INDEX(E_SourceStreams!$A:$N,CV58,Q$7)))","v":""},{"$f":"IF($E58=\"\",\"\",IF(INDEX(E_SourceStreams!$A:$N,CW58,R$7)=\"\",\"\",INDEX(E_SourceStreams!$A:$N,CW58,R$7)))","v":""},{"$f":"IF($E58=\"\",\"\",IF(INDEX(E_SourceStreams!$A:$N,CX58,S$7)=\"\",\"\",INDEX(E_SourceStreams!$A:$N,CX58,S$7)))","v":""},{"$f":"IF($E58=\"\",\"\",IF(INDEX(E_SourceStreams!$A:$N,CY58,T$7)=\"\",\"\",INDEX(E_SourceStreams!$A:$N,CY58,T$7)))","v":""},{"$f":"IF($E58=\"\",\"\",IF(INDEX(E_SourceStreams!$A:$N,CZ58,U$7)=\"\",\"\",INDEX(E_SourceStreams!$A:$N,CZ58,U$7)))","v":""},{"$f":"IF($E58=\"\",\"\",IF(INDEX(E_SourceStreams!$A:$N,DA58,V$7)=\"\",\"\",INDEX(E_SourceStreams!$A:$N,DA58,V$7)))","v":""},{"$f":"IF($E58=\"\",\"\",IF(INDEX(E_SourceStreams!$A:$N,DB58,W$7)=\"\",\"\",INDEX(E_SourceStreams!$A:$N,DB58,W$7)))","v":""},{"$f":"IF($E58=\"\",\"\",IF(INDEX(E_SourceStreams!$A:$N,DC58,X$7)=\"\",\"\",INDEX(E_SourceStreams!$A:$N,DC58,X$7)))","v":""},{"$f":"IF($E58=\"\",\"\",IF(INDEX(E_SourceStreams!$A:$N,DD58,Y$7)=\"\",\"\",INDEX(E_SourceStreams!$A:$N,DD58,Y$7)))","v":""},{"$f":"IF($E58=\"\",\"\",IF(INDEX(E_SourceStreams!$A:$N,DE58,Z$7)=\"\",\"\",INDEX(E_SourceStreams!$A:$N,DE58,Z$7)))","v":""},{"$f":"IF($E58=\"\",\"\",IF(INDEX(E_SourceStreams!$A:$N,DF58,AA$7)=\"\",\"\",INDEX(E_SourceStreams!$A:$N,DF58,AA$7)))","v":""},{"$f":"IF($E58=\"\",\"\",IF(INDEX(E_SourceStreams!$A:$N,DG58,AB$7)=\"\",\"\",INDEX(E_SourceStreams!$A:$N,DG58,AB$7)))","v":""},{"$f":"IF($E58=\"\",\"\",IF(INDEX(E_SourceStreams!$A:$N,DH58,AC$7)=\"\",\"\",INDEX(E_SourceStreams!$A:$N,DH58,AC$7)))","v":""},{"$f":"IF($E58=\"\",\"\",IF(INDEX(E_SourceStreams!$A:$N,DI58,AD$7)=\"\",\"\",INDEX(E_SourceStreams!$A:$N,DI58,AD$7)))","v":""},{"$f":"IF($E58=\"\",\"\",IF(INDEX(E_SourceStreams!$A:$N,DJ58,AE$7)=\"\",\"\",INDEX(E_SourceStreams!$A:$N,DJ58,AE$7)))","v":""},{"$f":"IF($E58=\"\",\"\",IF(INDEX(E_SourceStreams!$A:$N,DK58,AF$7)=\"\",\"\",INDEX(E_SourceStreams!$A:$N,DK58,AF$7)))","v":""},{"$f":"IF($E58=\"\",\"\",IF(INDEX(E_SourceStreams!$A:$N,DL58,AG$7)=\"\",\"\",INDEX(E_SourceStreams!$A:$N,DL58,AG$7)))","v":""},{"$f":"IF($E58=\"\",\"\",IF(INDEX(E_SourceStreams!$A:$N,DM58,AH$7)=\"\",\"\",INDEX(E_SourceStreams!$A:$N,DM58,AH$7)))","v":""},{"$f":"IF($E58=\"\",\"\",IF(INDEX(E_SourceStreams!$A:$N,DN58,AI$7)=\"\",\"\",INDEX(E_SourceStreams!$A:$N,DN58,AI$7)))","v":""},{"$f":"IF($E58=\"\",\"\",IF(INDEX(E_SourceStreams!$A:$N,DO58,AJ$7)=\"\",\"\",INDEX(E_SourceStreams!$A:$N,DO58,AJ$7)))","v":""},{"$f":"IF($E58=\"\",\"\",IF(INDEX(E_SourceStreams!$A:$N,DP58,AK$7)=\"\",\"\",INDEX(E_SourceStreams!$A:$N,DP58,AK$7)))","v":""},{"$f":"IF($E58=\"\",\"\",IF(INDEX(E_SourceStreams!$A:$N,DQ58,AL$7)=\"\",\"\",INDEX(E_SourceStreams!$A:$N,DQ58,AL$7)))","v":""},{"$f":"IF($E58=\"\",\"\",IF(INDEX(E_SourceStreams!$A:$N,DR58,AM$7)=\"\",\"\",INDEX(E_SourceStreams!$A:$N,DR58,AM$7)))","v":""},{"$f":"IF($E58=\"\",\"\",IF(INDEX(E_SourceStreams!$A:$N,DS58,AN$7)=\"\",\"\",INDEX(E_SourceStreams!$A:$N,DS58,AN$7)))","v":""},{"$f":"IF($E58=\"\",\"\",IF(INDEX(E_SourceStreams!$A:$N,DT58,AO$7)=\"\",\"\",INDEX(E_SourceStreams!$A:$N,DT58,AO$7)))","v":""},{"$f":"IF($E58=\"\",\"\",IF(INDEX(E_SourceStreams!$A:$N,DU58,AP$7)=\"\",\"\",INDEX(E_SourceStreams!$A:$N,DU58,AP$7)))","v":""},{"$f":"IF($E58=\"\",\"\",IF(INDEX(E_SourceStreams!$A:$N,DV58,AQ$7)=\"\",\"\",INDEX(E_SourceStreams!$A:$N,DV58,AQ$7)))","v":""},{"$f":"IF($E58=\"\",\"\",IF(INDEX(E_SourceStreams!$A:$N,DW58,AR$7)=\"\",\"\",INDEX(E_SourceStreams!$A:$N,DW58,AR$7)))","v":""},{"$f":"IF($E58=\"\",\"\",IF(INDEX(E_SourceStreams!$A:$N,DX58,AS$7)=\"\",\"\",INDEX(E_SourceStreams!$A:$N,DX58,AS$7)))","v":""},{"$f":"IF($E58=\"\",\"\",IF(INDEX(E_SourceStreams!$A:$N,DY58,AT$7)=\"\",\"\",INDEX(E_SourceStreams!$A:$N,DY58,AT$7)))","v":""},{"$f":"IF($E58=\"\",\"\",IF(INDEX(E_SourceStreams!$A:$N,DZ58,AU$7)=\"\",\"\",INDEX(E_SourceStreams!$A:$N,DZ58,AU$7)))","v":""},{"$f":"IF($E58=\"\",\"\",IF(INDEX(E_SourceStreams!$A:$N,EA58,AV$7)=\"\",\"\",INDEX(E_SourceStreams!$A:$N,EA58,AV$7)))","v":""},{"$f":"IF($E58=\"\",\"\",IF(INDEX(E_SourceStreams!$A:$N,EB58,AW$7)=\"\",\"\",INDEX(E_SourceStreams!$A:$N,EB58,AW$7)))","v":""},{"$f":"IF($E58=\"\",\"\",IF(INDEX(E_SourceStreams!$A:$N,EC58,AX$7)=\"\",\"\",INDEX(E_SourceStreams!$A:$N,EC58,AX$7)))","v":""},{"$f":"IF($E58=\"\",\"\",IF(INDEX(E_SourceStreams!$A:$N,ED58,AY$7)=\"\",\"\",INDEX(E_SourceStreams!$A:$N,ED58,AY$7)))","v":""},{"$f":"IF($E58=\"\",\"\",IF(INDEX(E_SourceStreams!$A:$N,EE58,AZ$7)=\"\",\"\",INDEX(E_SourceStreams!$A:$N,EE58,AZ$7)))","v":""},{"$f":"IF($E58=\"\",\"\",IF(INDEX(E_SourceStreams!$A:$N,EF58,BA$7)=\"\",\"\",INDEX(E_SourceStreams!$A:$N,EF58,BA$7)))","v":""},{"$f":"IF($E58=\"\",\"\",IF(INDEX(E_SourceStreams!$A:$N,EG58,BB$7)=\"\",\"\",INDEX(E_SourceStreams!$A:$N,EG58,BB$7)))","v":""},{"$f":"IF($E58=\"\",\"\",IF(INDEX(E_SourceStreams!$A:$N,EH58,BC$7)=\"\",\"\",INDEX(E_SourceStreams!$A:$N,EH58,BC$7)))","v":""},{"$f":"IF($E58=\"\",\"\",IF(INDEX(E_SourceStreams!$A:$N,EI58,BD$7)=\"\",\"\",INDEX(E_SourceStreams!$A:$N,EI58,BD$7)))","v":""},{"$f":"IF($E58=\"\",\"\",IF(INDEX(E_SourceStreams!$A:$N,EJ58,BE$7)=\"\",\"\",INDEX(E_SourceStreams!$A:$N,EJ58,BE$7)))","v":""},{"$f":"IF($E58=\"\",\"\",IF(INDEX(E_SourceStreams!$A:$N,EK58,BF$7)=\"\",\"\",INDEX(E_SourceStreams!$A:$N,EK58,BF$7)))","v":""},{"$f":"IF($E58=\"\",\"\",IF(INDEX(E_SourceStreams!$A:$N,EL58,BG$7)=\"\",\"\",INDEX(E_SourceStreams!$A:$N,EL58,BG$7)))","v":""},{"$f":"IF($E58=\"\",\"\",IF(INDEX(E_SourceStreams!$A:$N,EM58,BH$7)=\"\",\"\",INDEX(E_SourceStreams!$A:$N,EM58,BH$7)))","v":""},{"$f":"IF($E58=\"\",\"\",IF(INDEX(E_SourceStreams!$A:$N,EN58,BI$7)=\"\",\"\",INDEX(E_SourceStreams!$A:$N,EN58,BI$7)))","v":""},{"$f":"IF($E58=\"\",\"\",IF(INDEX(E_SourceStreams!$A:$N,EO58,BJ$7)=\"\",\"\",INDEX(E_SourceStreams!$A:$N,EO58,BJ$7)))","v":""},{"$f":"IF($E58=\"\",\"\",IF(INDEX(E_SourceStreams!$A:$N,EP58,BK$7)=\"\",\"\",INDEX(E_SourceStreams!$A:$N,EP58,BK$7)))","v":""},{"$f":"IF($E58=\"\",\"\",IF(INDEX(E_SourceStreams!$A:$N,EQ58,BL$7)=\"\",\"\",INDEX(E_SourceStreams!$A:$N,EQ58,BL$7)))","v":""},{"$f":"IF($E58=\"\",\"\",IF(INDEX(E_SourceStreams!$A:$N,ER58,BM$7)=\"\",\"\",INDEX(E_SourceStreams!$A:$N,ER58,BM$7)))","v":""},{"$f":"IF($E58=\"\",\"\",IF(INDEX(E_SourceStreams!$A:$N,ES58,BN$7)=\"\",\"\",INDEX(E_SourceStreams!$A:$N,ES58,BN$7)))","v":""},{"$f":"IF($E58=\"\",\"\",IF(INDEX(E_SourceStreams!$A:$N,ET58,BO$7)=\"\",\"\",INDEX(E_SourceStreams!$A:$N,ET58,BO$7)))","v":""},{"$f":"IF($E58=\"\",\"\",IF(INDEX(E_SourceStreams!$A:$N,EU58,BP$7)=\"\",\"\",INDEX(E_SourceStreams!$A:$N,EU58,BP$7)))","v":""},{"$f":"IF($E58=\"\",\"\",IF(INDEX(E_SourceStreams!$A:$N,EV58,BQ$7)=\"\",\"\",INDEX(E_SourceStreams!$A:$N,EV58,BQ$7)))","v":""},{"$f":"IF($E58=\"\",\"\",IF(INDEX(E_SourceStreams!$A:$N,EW58,BR$7)=\"\",\"\",INDEX(E_SourceStreams!$A:$N,EW58,BR$7)))","v":""},{"$f":"IF($E58=\"\",\"\",IF(INDEX(E_SourceStreams!$A:$N,EX58,BS$7)=\"\",\"\",INDEX(E_SourceStreams!$A:$N,EX58,BS$7)))","v":""},{"$f":"IF($E58=\"\",\"\",IF(INDEX(E_SourceStreams!$A:$N,EY58,BT$7)=\"\",\"\",INDEX(E_SourceStreams!$A:$N,EY58,BT$7)))","v":""},null,null,null,null,null,null,null,null,null,null,null,null,null,null,null,"SourceCategory_",{"$f":"INDEX(C_InstallationDescription!$A$223:$A$328,ROWS($CI$11:CI58))=\"ausblenden\"","v":true},"SourceStreamName_",null,3236,3238,3240,3242,3244,3246,3248,3248,3248,3248,3248,3251,3255,3256,3257,3264,3274,3274,3274,3274,3274,3274,3274,3265,3275,3275,3275,3275,3275,3275,3275,3266,3276,3276,3276,3276,3276,3276,3276,3267,3277,3277,3277,3277,3277,3277,3277,3268,3278,3278,3278,3278,3278,3278,3278,3269,3279,3279,3279,3279,3279,3279,3279,3285]
[null,{"$f":"IF(COUNTIF($CK$10:CK59,TRUE)>0,\"\",INDEX(C_InstallationDescription!$E$223:$E$239,ROWS($A$11:A59)))","v":""},{"$f":"IF($E59=\"\",\"\",INDEX(C_InstallationDescription!G:G,MATCH($B59,C_InstallationDescription!$E:$E,0)))","v":""},{"$f":"IF($E59=\"\",\"\",INDEX(C_InstallationDescription!I:I,MATCH($B59,C_InstallationDescription!$E:$E,0)))","v":""},{"$f":"IF($B59=\"\",\"\",INDEX(C_InstallationDescription!F:F,MATCH($CJ59,C_InstallationDescription!$Q:$Q,0)))","v":""},{"$f":"IF($E59=\"\",\"\",INDEX(C_InstallationDescription!L:L,MATCH($CJ59,C_InstallationDescription!$Q:$Q,0)))","v":""},{"$f":"IF($E59=\"\",\"\",INDEX(C_InstallationDescription!M:M,MATCH($CJ59,C_InstallationDescription!$Q:$Q,0)))","v":""},{"$f":"IF($E59=\"\",\"\",INDEX(C_InstallationDescription!N:N,MATCH($CJ59,C_InstallationDescription!$Q:$Q,0)))","v":""},{"$f":"IF($E59=\"\",\"\",IF(INDEX(E_SourceStreams!$A:$N,CN59,I$7)=\"\",\"\",INDEX(E_SourceStreams!$A:$N,CN59,I$7)))","v":""},{"$f":"IF($E59=\"\",\"\",IF(INDEX(E_SourceStreams!$A:$N,CO59,J$7)=\"\",\"\",INDEX(E_SourceStreams!$A:$N,CO59,J$7)))","v":""},{"$f":"IF($E59=\"\",\"\",IF(INDEX(E_SourceStreams!$A:$N,CP59,K$7)=\"\",\"\",INDEX(E_SourceStreams!$A:$N,CP59,K$7)))","v":""},{"$f":"IF($E59=\"\",\"\",IF(INDEX(E_SourceStreams!$A:$N,CQ59,L$7)=\"\",\"\",INDEX(E_SourceStreams!$A:$N,CQ59,L$7)))","v":""},{"$f":"IF($E59=\"\",\"\",IF(INDEX(E_SourceStreams!$A:$N,CR59,M$7)=\"\",\"\",INDEX(E_SourceStreams!$A:$N,CR59,M$7)))","v":""},{"$f":"IF($E59=\"\",\"\",IF(INDEX(E_SourceStreams!$A:$N,CS59,N$7)=\"\",\"\",INDEX(E_SourceStreams!$A:$N,CS59,N$7)))","v":""},{"$f":"IF($E59=\"\",\"\",IF(INDEX(E_SourceStreams!$A:$N,CT59,O$7)=\"\",\"\",INDEX(E_SourceStreams!$A:$N,CT59,O$7)))","v":""},{"$f":"IF($E59=\"\",\"\",IF(INDEX(E_SourceStreams!$A:$N,CU59,P$7)=\"\",\"\",INDEX(E_SourceStreams!$A:$N,CU59,P$7)))","v":""},{"$f":"IF($E59=\"\",\"\",IF(INDEX(E_SourceStreams!$A:$N,CV59,Q$7)=\"\",\"\",INDEX(E_SourceStreams!$A:$N,CV59,Q$7)))","v":""},{"$f":"IF($E59=\"\",\"\",IF(INDEX(E_SourceStreams!$A:$N,CW59,R$7)=\"\",\"\",INDEX(E_SourceStreams!$A:$N,CW59,R$7)))","v":""},{"$f":"IF($E59=\"\",\"\",IF(INDEX(E_SourceStreams!$A:$N,CX59,S$7)=\"\",\"\",INDEX(E_SourceStreams!$A:$N,CX59,S$7)))","v":""},{"$f":"IF($E59=\"\",\"\",IF(INDEX(E_SourceStreams!$A:$N,CY59,T$7)=\"\",\"\",INDEX(E_SourceStreams!$A:$N,CY59,T$7)))","v":""},{"$f":"IF($E59=\"\",\"\",IF(INDEX(E_SourceStreams!$A:$N,CZ59,U$7)=\"\",\"\",INDEX(E_SourceStreams!$A:$N,CZ59,U$7)))","v":""},{"$f":"IF($E59=\"\",\"\",IF(INDEX(E_SourceStreams!$A:$N,DA59,V$7)=\"\",\"\",INDEX(E_SourceStreams!$A:$N,DA59,V$7)))","v":""},{"$f":"IF($E59=\"\",\"\",IF(INDEX(E_SourceStreams!$A:$N,DB59,W$7)=\"\",\"\",INDEX(E_SourceStreams!$A:$N,DB59,W$7)))","v":""},{"$f":"IF($E59=\"\",\"\",IF(INDEX(E_SourceStreams!$A:$N,DC59,X$7)=\"\",\"\",INDEX(E_SourceStreams!$A:$N,DC59,X$7)))","v":""},{"$f":"IF($E59=\"\",\"\",IF(INDEX(E_SourceStreams!$A:$N,DD59,Y$7)=\"\",\"\",INDEX(E_SourceStreams!$A:$N,DD59,Y$7)))","v":""},{"$f":"IF($E59=\"\",\"\",IF(INDEX(E_SourceStreams!$A:$N,DE59,Z$7)=\"\",\"\",INDEX(E_SourceStreams!$A:$N,DE59,Z$7)))","v":""},{"$f":"IF($E59=\"\",\"\",IF(INDEX(E_SourceStreams!$A:$N,DF59,AA$7)=\"\",\"\",INDEX(E_SourceStreams!$A:$N,DF59,AA$7)))","v":""},{"$f":"IF($E59=\"\",\"\",IF(INDEX(E_SourceStreams!$A:$N,DG59,AB$7)=\"\",\"\",INDEX(E_SourceStreams!$A:$N,DG59,AB$7)))","v":""},{"$f":"IF($E59=\"\",\"\",IF(INDEX(E_SourceStreams!$A:$N,DH59,AC$7)=\"\",\"\",INDEX(E_SourceStreams!$A:$N,DH59,AC$7)))","v":""},{"$f":"IF($E59=\"\",\"\",IF(INDEX(E_SourceStreams!$A:$N,DI59,AD$7)=\"\",\"\",INDEX(E_SourceStreams!$A:$N,DI59,AD$7)))","v":""},{"$f":"IF($E59=\"\",\"\",IF(INDEX(E_SourceStreams!$A:$N,DJ59,AE$7)=\"\",\"\",INDEX(E_SourceStreams!$A:$N,DJ59,AE$7)))","v":""},{"$f":"IF($E59=\"\",\"\",IF(INDEX(E_SourceStreams!$A:$N,DK59,AF$7)=\"\",\"\",INDEX(E_SourceStreams!$A:$N,DK59,AF$7)))","v":""},{"$f":"IF($E59=\"\",\"\",IF(INDEX(E_SourceStreams!$A:$N,DL59,AG$7)=\"\",\"\",INDEX(E_SourceStreams!$A:$N,DL59,AG$7)))","v":""},{"$f":"IF($E59=\"\",\"\",IF(INDEX(E_SourceStreams!$A:$N,DM59,AH$7)=\"\",\"\",INDEX(E_SourceStreams!$A:$N,DM59,AH$7)))","v":""},{"$f":"IF($E59=\"\",\"\",IF(INDEX(E_SourceStreams!$A:$N,DN59,AI$7)=\"\",\"\",INDEX(E_SourceStreams!$A:$N,DN59,AI$7)))","v":""},{"$f":"IF($E59=\"\",\"\",IF(INDEX(E_SourceStreams!$A:$N,DO59,AJ$7)=\"\",\"\",INDEX(E_SourceStreams!$A:$N,DO59,AJ$7)))","v":""},{"$f":"IF($E59=\"\",\"\",IF(INDEX(E_SourceStreams!$A:$N,DP59,AK$7)=\"\",\"\",INDEX(E_SourceStreams!$A:$N,DP59,AK$7)))","v":""},{"$f":"IF($E59=\"\",\"\",IF(INDEX(E_SourceStreams!$A:$N,DQ59,AL$7)=\"\",\"\",INDEX(E_SourceStreams!$A:$N,DQ59,AL$7)))","v":""},{"$f":"IF($E59=\"\",\"\",IF(INDEX(E_SourceStreams!$A:$N,DR59,AM$7)=\"\",\"\",INDEX(E_SourceStreams!$A:$N,DR59,AM$7)))","v":""},{"$f":"IF($E59=\"\",\"\",IF(INDEX(E_SourceStreams!$A:$N,DS59,AN$7)=\"\",\"\",INDEX(E_SourceStreams!$A:$N,DS59,AN$7)))","v":""},{"$f":"IF($E59=\"\",\"\",IF(INDEX(E_SourceStreams!$A:$N,DT59,AO$7)=\"\",\"\",INDEX(E_SourceStreams!$A:$N,DT59,AO$7)))","v":""},{"$f":"IF($E59=\"\",\"\",IF(INDEX(E_SourceStreams!$A:$N,DU59,AP$7)=\"\",\"\",INDEX(E_SourceStreams!$A:$N,DU59,AP$7)))","v":""},{"$f":"IF($E59=\"\",\"\",IF(INDEX(E_SourceStreams!$A:$N,DV59,AQ$7)=\"\",\"\",INDEX(E_SourceStreams!$A:$N,DV59,AQ$7)))","v":""},{"$f":"IF($E59=\"\",\"\",IF(INDEX(E_SourceStreams!$A:$N,DW59,AR$7)=\"\",\"\",INDEX(E_SourceStreams!$A:$N,DW59,AR$7)))","v":""},{"$f":"IF($E59=\"\",\"\",IF(INDEX(E_SourceStreams!$A:$N,DX59,AS$7)=\"\",\"\",INDEX(E_SourceStreams!$A:$N,DX59,AS$7)))","v":""},{"$f":"IF($E59=\"\",\"\",IF(INDEX(E_SourceStreams!$A:$N,DY59,AT$7)=\"\",\"\",INDEX(E_SourceStreams!$A:$N,DY59,AT$7)))","v":""},{"$f":"IF($E59=\"\",\"\",IF(INDEX(E_SourceStreams!$A:$N,DZ59,AU$7)=\"\",\"\",INDEX(E_SourceStreams!$A:$N,DZ59,AU$7)))","v":""},{"$f":"IF($E59=\"\",\"\",IF(INDEX(E_SourceStreams!$A:$N,EA59,AV$7)=\"\",\"\",INDEX(E_SourceStreams!$A:$N,EA59,AV$7)))","v":""},{"$f":"IF($E59=\"\",\"\",IF(INDEX(E_SourceStreams!$A:$N,EB59,AW$7)=\"\",\"\",INDEX(E_SourceStreams!$A:$N,EB59,AW$7)))","v":""},{"$f":"IF($E59=\"\",\"\",IF(INDEX(E_SourceStreams!$A:$N,EC59,AX$7)=\"\",\"\",INDEX(E_SourceStreams!$A:$N,EC59,AX$7)))","v":""},{"$f":"IF($E59=\"\",\"\",IF(INDEX(E_SourceStreams!$A:$N,ED59,AY$7)=\"\",\"\",INDEX(E_SourceStreams!$A:$N,ED59,AY$7)))","v":""},{"$f":"IF($E59=\"\",\"\",IF(INDEX(E_SourceStreams!$A:$N,EE59,AZ$7)=\"\",\"\",INDEX(E_SourceStreams!$A:$N,EE59,AZ$7)))","v":""},{"$f":"IF($E59=\"\",\"\",IF(INDEX(E_SourceStreams!$A:$N,EF59,BA$7)=\"\",\"\",INDEX(E_SourceStreams!$A:$N,EF59,BA$7)))","v":""},{"$f":"IF($E59=\"\",\"\",IF(INDEX(E_SourceStreams!$A:$N,EG59,BB$7)=\"\",\"\",INDEX(E_SourceStreams!$A:$N,EG59,BB$7)))","v":""},{"$f":"IF($E59=\"\",\"\",IF(INDEX(E_SourceStreams!$A:$N,EH59,BC$7)=\"\",\"\",INDEX(E_SourceStreams!$A:$N,EH59,BC$7)))","v":""},{"$f":"IF($E59=\"\",\"\",IF(INDEX(E_SourceStreams!$A:$N,EI59,BD$7)=\"\",\"\",INDEX(E_SourceStreams!$A:$N,EI59,BD$7)))","v":""},{"$f":"IF($E59=\"\",\"\",IF(INDEX(E_SourceStreams!$A:$N,EJ59,BE$7)=\"\",\"\",INDEX(E_SourceStreams!$A:$N,EJ59,BE$7)))","v":""},{"$f":"IF($E59=\"\",\"\",IF(INDEX(E_SourceStreams!$A:$N,EK59,BF$7)=\"\",\"\",INDEX(E_SourceStreams!$A:$N,EK59,BF$7)))","v":""},{"$f":"IF($E59=\"\",\"\",IF(INDEX(E_SourceStreams!$A:$N,EL59,BG$7)=\"\",\"\",INDEX(E_SourceStreams!$A:$N,EL59,BG$7)))","v":""},{"$f":"IF($E59=\"\",\"\",IF(INDEX(E_SourceStreams!$A:$N,EM59,BH$7)=\"\",\"\",INDEX(E_SourceStreams!$A:$N,EM59,BH$7)))","v":""},{"$f":"IF($E59=\"\",\"\",IF(INDEX(E_SourceStreams!$A:$N,EN59,BI$7)=\"\",\"\",INDEX(E_SourceStreams!$A:$N,EN59,BI$7)))","v":""},{"$f":"IF($E59=\"\",\"\",IF(INDEX(E_SourceStreams!$A:$N,EO59,BJ$7)=\"\",\"\",INDEX(E_SourceStreams!$A:$N,EO59,BJ$7)))","v":""},{"$f":"IF($E59=\"\",\"\",IF(INDEX(E_SourceStreams!$A:$N,EP59,BK$7)=\"\",\"\",INDEX(E_SourceStreams!$A:$N,EP59,BK$7)))","v":""},{"$f":"IF($E59=\"\",\"\",IF(INDEX(E_SourceStreams!$A:$N,EQ59,BL$7)=\"\",\"\",INDEX(E_SourceStreams!$A:$N,EQ59,BL$7)))","v":""},{"$f":"IF($E59=\"\",\"\",IF(INDEX(E_SourceStreams!$A:$N,ER59,BM$7)=\"\",\"\",INDEX(E_SourceStreams!$A:$N,ER59,BM$7)))","v":""},{"$f":"IF($E59=\"\",\"\",IF(INDEX(E_SourceStreams!$A:$N,ES59,BN$7)=\"\",\"\",INDEX(E_SourceStreams!$A:$N,ES59,BN$7)))","v":""},{"$f":"IF($E59=\"\",\"\",IF(INDEX(E_SourceStreams!$A:$N,ET59,BO$7)=\"\",\"\",INDEX(E_SourceStreams!$A:$N,ET59,BO$7)))","v":""},{"$f":"IF($E59=\"\",\"\",IF(INDEX(E_SourceStreams!$A:$N,EU59,BP$7)=\"\",\"\",INDEX(E_SourceStreams!$A:$N,EU59,BP$7)))","v":""},{"$f":"IF($E59=\"\",\"\",IF(INDEX(E_SourceStreams!$A:$N,EV59,BQ$7)=\"\",\"\",INDEX(E_SourceStreams!$A:$N,EV59,BQ$7)))","v":""},{"$f":"IF($E59=\"\",\"\",IF(INDEX(E_SourceStreams!$A:$N,EW59,BR$7)=\"\",\"\",INDEX(E_SourceStreams!$A:$N,EW59,BR$7)))","v":""},{"$f":"IF($E59=\"\",\"\",IF(INDEX(E_SourceStreams!$A:$N,EX59,BS$7)=\"\",\"\",INDEX(E_SourceStreams!$A:$N,EX59,BS$7)))","v":""},{"$f":"IF($E59=\"\",\"\",IF(INDEX(E_SourceStreams!$A:$N,EY59,BT$7)=\"\",\"\",INDEX(E_SourceStreams!$A:$N,EY59,BT$7)))","v":""},null,null,null,null,null,null,null,null,null,null,null,null,null,null,null,"SourceCategory_",{"$f":"INDEX(C_InstallationDescription!$A$223:$A$328,ROWS($CI$11:CI59))=\"ausblenden\"","v":true},"SourceStreamName_",null,3302,3304,3306,3308,3310,3312,3314,3314,3314,3314,3314,3317,3321,3322,3323,3330,3340,3340,3340,3340,3340,3340,3340,3331,3341,3341,3341,3341,3341,3341,3341,3332,3342,3342,3342,3342,3342,3342,3342,3333,3343,3343,3343,3343,3343,3343,3343,3334,3344,3344,3344,3344,3344,3344,3344,3335,3345,3345,3345,3345,3345,3345,3345,3351]
[null,{"$f":"IF(COUNTIF($CK$10:CK60,TRUE)>0,\"\",INDEX(C_InstallationDescription!$E$223:$E$239,ROWS($A$11:A60)))","v":""},{"$f":"IF($E60=\"\",\"\",INDEX(C_InstallationDescription!G:G,MATCH($B60,C_InstallationDescription!$E:$E,0)))","v":""},{"$f":"IF($E60=\"\",\"\",INDEX(C_InstallationDescription!I:I,MATCH($B60,C_InstallationDescription!$E:$E,0)))","v":""},{"$f":"IF($B60=\"\",\"\",INDEX(C_InstallationDescription!F:F,MATCH($CJ60,C_InstallationDescription!$Q:$Q,0)))","v":""},{"$f":"IF($E60=\"\",\"\",INDEX(C_InstallationDescription!L:L,MATCH($CJ60,C_InstallationDescription!$Q:$Q,0)))","v":""},{"$f":"IF($E60=\"\",\"\",INDEX(C_InstallationDescription!M:M,MATCH($CJ60,C_InstallationDescription!$Q:$Q,0)))","v":""},{"$f":"IF($E60=\"\",\"\",INDEX(C_InstallationDescription!N:N,MATCH($CJ60,C_InstallationDescription!$Q:$Q,0)))","v":""},{"$f":"IF($E60=\"\",\"\",IF(INDEX(E_SourceStreams!$A:$N,CN60,I$7)=\"\",\"\",INDEX(E_SourceStreams!$A:$N,CN60,I$7)))","v":""},{"$f":"IF($E60=\"\",\"\",IF(INDEX(E_SourceStreams!$A:$N,CO60,J$7)=\"\",\"\",INDEX(E_SourceStreams!$A:$N,CO60,J$7)))","v":""},{"$f":"IF($E60=\"\",\"\",IF(INDEX(E_SourceStreams!$A:$N,CP60,K$7)=\"\",\"\",INDEX(E_SourceStreams!$A:$N,CP60,K$7)))","v":""},{"$f":"IF($E60=\"\",\"\",IF(INDEX(E_SourceStreams!$A:$N,CQ60,L$7)=\"\",\"\",INDEX(E_SourceStreams!$A:$N,CQ60,L$7)))","v":""},{"$f":"IF($E60=\"\",\"\",IF(INDEX(E_SourceStreams!$A:$N,CR60,M$7)=\"\",\"\",INDEX(E_SourceStreams!$A:$N,CR60,M$7)))","v":""},{"$f":"IF($E60=\"\",\"\",IF(INDEX(E_SourceStreams!$A:$N,CS60,N$7)=\"\",\"\",INDEX(E_SourceStreams!$A:$N,CS60,N$7)))","v":""},{"$f":"IF($E60=\"\",\"\",IF(INDEX(E_SourceStreams!$A:$N,CT60,O$7)=\"\",\"\",INDEX(E_SourceStreams!$A:$N,CT60,O$7)))","v":""},{"$f":"IF($E60=\"\",\"\",IF(INDEX(E_SourceStreams!$A:$N,CU60,P$7)=\"\",\"\",INDEX(E_SourceStreams!$A:$N,CU60,P$7)))","v":""},{"$f":"IF($E60=\"\",\"\",IF(INDEX(E_SourceStreams!$A:$N,CV60,Q$7)=\"\",\"\",INDEX(E_SourceStreams!$A:$N,CV60,Q$7)))","v":""},{"$f":"IF($E60=\"\",\"\",IF(INDEX(E_SourceStreams!$A:$N,CW60,R$7)=\"\",\"\",INDEX(E_SourceStreams!$A:$N,CW60,R$7)))","v":""},{"$f":"IF($E60=\"\",\"\",IF(INDEX(E_SourceStreams!$A:$N,CX60,S$7)=\"\",\"\",INDEX(E_SourceStreams!$A:$N,CX60,S$7)))","v":""},{"$f":"IF($E60=\"\",\"\",IF(INDEX(E_SourceStreams!$A:$N,CY60,T$7)=\"\",\"\",INDEX(E_SourceStreams!$A:$N,CY60,T$7)))","v":""},{"$f":"IF($E60=\"\",\"\",IF(INDEX(E_SourceStreams!$A:$N,CZ60,U$7)=\"\",\"\",INDEX(E_SourceStreams!$A:$N,CZ60,U$7)))","v":""},{"$f":"IF($E60=\"\",\"\",IF(INDEX(E_SourceStreams!$A:$N,DA60,V$7)=\"\",\"\",INDEX(E_SourceStreams!$A:$N,DA60,V$7)))","v":""},{"$f":"IF($E60=\"\",\"\",IF(INDEX(E_SourceStreams!$A:$N,DB60,W$7)=\"\",\"\",INDEX(E_SourceStreams!$A:$N,DB60,W$7)))","v":""},{"$f":"IF($E60=\"\",\"\",IF(INDEX(E_SourceStreams!$A:$N,DC60,X$7)=\"\",\"\",INDEX(E_SourceStreams!$A:$N,DC60,X$7)))","v":""},{"$f":"IF($E60=\"\",\"\",IF(INDEX(E_SourceStreams!$A:$N,DD60,Y$7)=\"\",\"\",INDEX(E_SourceStreams!$A:$N,DD60,Y$7)))","v":""},{"$f":"IF($E60=\"\",\"\",IF(INDEX(E_SourceStreams!$A:$N,DE60,Z$7)=\"\",\"\",INDEX(E_SourceStreams!$A:$N,DE60,Z$7)))","v":""},{"$f":"IF($E60=\"\",\"\",IF(INDEX(E_SourceStreams!$A:$N,DF60,AA$7)=\"\",\"\",INDEX(E_SourceStreams!$A:$N,DF60,AA$7)))","v":""},{"$f":"IF($E60=\"\",\"\",IF(INDEX(E_SourceStreams!$A:$N,DG60,AB$7)=\"\",\"\",INDEX(E_SourceStreams!$A:$N,DG60,AB$7)))","v":""},{"$f":"IF($E60=\"\",\"\",IF(INDEX(E_SourceStreams!$A:$N,DH60,AC$7)=\"\",\"\",INDEX(E_SourceStreams!$A:$N,DH60,AC$7)))","v":""},{"$f":"IF($E60=\"\",\"\",IF(INDEX(E_SourceStreams!$A:$N,DI60,AD$7)=\"\",\"\",INDEX(E_SourceStreams!$A:$N,DI60,AD$7)))","v":""},{"$f":"IF($E60=\"\",\"\",IF(INDEX(E_SourceStreams!$A:$N,DJ60,AE$7)=\"\",\"\",INDEX(E_SourceStreams!$A:$N,DJ60,AE$7)))","v":""},{"$f":"IF($E60=\"\",\"\",IF(INDEX(E_SourceStreams!$A:$N,DK60,AF$7)=\"\",\"\",INDEX(E_SourceStreams!$A:$N,DK60,AF$7)))","v":""},{"$f":"IF($E60=\"\",\"\",IF(INDEX(E_SourceStreams!$A:$N,DL60,AG$7)=\"\",\"\",INDEX(E_SourceStreams!$A:$N,DL60,AG$7)))","v":""},{"$f":"IF($E60=\"\",\"\",IF(INDEX(E_SourceStreams!$A:$N,DM60,AH$7)=\"\",\"\",INDEX(E_SourceStreams!$A:$N,DM60,AH$7)))","v":""},{"$f":"IF($E60=\"\",\"\",IF(INDEX(E_SourceStreams!$A:$N,DN60,AI$7)=\"\",\"\",INDEX(E_SourceStreams!$A:$N,DN60,AI$7)))","v":""},{"$f":"IF($E60=\"\",\"\",IF(INDEX(E_SourceStreams!$A:$N,DO60,AJ$7)=\"\",\"\",INDEX(E_SourceStreams!$A:$N,DO60,AJ$7)))","v":""},{"$f":"IF($E60=\"\",\"\",IF(INDEX(E_SourceStreams!$A:$N,DP60,AK$7)=\"\",\"\",INDEX(E_SourceStreams!$A:$N,DP60,AK$7)))","v":""},{"$f":"IF($E60=\"\",\"\",IF(INDEX(E_SourceStreams!$A:$N,DQ60,AL$7)=\"\",\"\",INDEX(E_SourceStreams!$A:$N,DQ60,AL$7)))","v":""},{"$f":"IF($E60=\"\",\"\",IF(INDEX(E_SourceStreams!$A:$N,DR60,AM$7)=\"\",\"\",INDEX(E_SourceStreams!$A:$N,DR60,AM$7)))","v":""},{"$f":"IF($E60=\"\",\"\",IF(INDEX(E_SourceStreams!$A:$N,DS60,AN$7)=\"\",\"\",INDEX(E_SourceStreams!$A:$N,DS60,AN$7)))","v":""},{"$f":"IF($E60=\"\",\"\",IF(INDEX(E_SourceStreams!$A:$N,DT60,AO$7)=\"\",\"\",INDEX(E_SourceStreams!$A:$N,DT60,AO$7)))","v":""},{"$f":"IF($E60=\"\",\"\",IF(INDEX(E_SourceStreams!$A:$N,DU60,AP$7)=\"\",\"\",INDEX(E_SourceStreams!$A:$N,DU60,AP$7)))","v":""},{"$f":"IF($E60=\"\",\"\",IF(INDEX(E_SourceStreams!$A:$N,DV60,AQ$7)=\"\",\"\",INDEX(E_SourceStreams!$A:$N,DV60,AQ$7)))","v":""},{"$f":"IF($E60=\"\",\"\",IF(INDEX(E_SourceStreams!$A:$N,DW60,AR$7)=\"\",\"\",INDEX(E_SourceStreams!$A:$N,DW60,AR$7)))","v":""},{"$f":"IF($E60=\"\",\"\",IF(INDEX(E_SourceStreams!$A:$N,DX60,AS$7)=\"\",\"\",INDEX(E_SourceStreams!$A:$N,DX60,AS$7)))","v":""},{"$f":"IF($E60=\"\",\"\",IF(INDEX(E_SourceStreams!$A:$N,DY60,AT$7)=\"\",\"\",INDEX(E_SourceStreams!$A:$N,DY60,AT$7)))","v":""},{"$f":"IF($E60=\"\",\"\",IF(INDEX(E_SourceStreams!$A:$N,DZ60,AU$7)=\"\",\"\",INDEX(E_SourceStreams!$A:$N,DZ60,AU$7)))","v":""},{"$f":"IF($E60=\"\",\"\",IF(INDEX(E_SourceStreams!$A:$N,EA60,AV$7)=\"\",\"\",INDEX(E_SourceStreams!$A:$N,EA60,AV$7)))","v":""},{"$f":"IF($E60=\"\",\"\",IF(INDEX(E_SourceStreams!$A:$N,EB60,AW$7)=\"\",\"\",INDEX(E_SourceStreams!$A:$N,EB60,AW$7)))","v":""},{"$f":"IF($E60=\"\",\"\",IF(INDEX(E_SourceStreams!$A:$N,EC60,AX$7)=\"\",\"\",INDEX(E_SourceStreams!$A:$N,EC60,AX$7)))","v":""},{"$f":"IF($E60=\"\",\"\",IF(INDEX(E_SourceStreams!$A:$N,ED60,AY$7)=\"\",\"\",INDEX(E_SourceStreams!$A:$N,ED60,AY$7)))","v":""},{"$f":"IF($E60=\"\",\"\",IF(INDEX(E_SourceStreams!$A:$N,EE60,AZ$7)=\"\",\"\",INDEX(E_SourceStreams!$A:$N,EE60,AZ$7)))","v":""},{"$f":"IF($E60=\"\",\"\",IF(INDEX(E_SourceStreams!$A:$N,EF60,BA$7)=\"\",\"\",INDEX(E_SourceStreams!$A:$N,EF60,BA$7)))","v":""},{"$f":"IF($E60=\"\",\"\",IF(INDEX(E_SourceStreams!$A:$N,EG60,BB$7)=\"\",\"\",INDEX(E_SourceStreams!$A:$N,EG60,BB$7)))","v":""},{"$f":"IF($E60=\"\",\"\",IF(INDEX(E_SourceStreams!$A:$N,EH60,BC$7)=\"\",\"\",INDEX(E_SourceStreams!$A:$N,EH60,BC$7)))","v":""},{"$f":"IF($E60=\"\",\"\",IF(INDEX(E_SourceStreams!$A:$N,EI60,BD$7)=\"\",\"\",INDEX(E_SourceStreams!$A:$N,EI60,BD$7)))","v":""},{"$f":"IF($E60=\"\",\"\",IF(INDEX(E_SourceStreams!$A:$N,EJ60,BE$7)=\"\",\"\",INDEX(E_SourceStreams!$A:$N,EJ60,BE$7)))","v":""},{"$f":"IF($E60=\"\",\"\",IF(INDEX(E_SourceStreams!$A:$N,EK60,BF$7)=\"\",\"\",INDEX(E_SourceStreams!$A:$N,EK60,BF$7)))","v":""},{"$f":"IF($E60=\"\",\"\",IF(INDEX(E_SourceStreams!$A:$N,EL60,BG$7)=\"\",\"\",INDEX(E_SourceStreams!$A:$N,EL60,BG$7)))","v":""},{"$f":"IF($E60=\"\",\"\",IF(INDEX(E_SourceStreams!$A:$N,EM60,BH$7)=\"\",\"\",INDEX(E_SourceStreams!$A:$N,EM60,BH$7)))","v":""},{"$f":"IF($E60=\"\",\"\",IF(INDEX(E_SourceStreams!$A:$N,EN60,BI$7)=\"\",\"\",INDEX(E_SourceStreams!$A:$N,EN60,BI$7)))","v":""},{"$f":"IF($E60=\"\",\"\",IF(INDEX(E_SourceStreams!$A:$N,EO60,BJ$7)=\"\",\"\",INDEX(E_SourceStreams!$A:$N,EO60,BJ$7)))","v":""},{"$f":"IF($E60=\"\",\"\",IF(INDEX(E_SourceStreams!$A:$N,EP60,BK$7)=\"\",\"\",INDEX(E_SourceStreams!$A:$N,EP60,BK$7)))","v":""},{"$f":"IF($E60=\"\",\"\",IF(INDEX(E_SourceStreams!$A:$N,EQ60,BL$7)=\"\",\"\",INDEX(E_SourceStreams!$A:$N,EQ60,BL$7)))","v":""},{"$f":"IF($E60=\"\",\"\",IF(INDEX(E_SourceStreams!$A:$N,ER60,BM$7)=\"\",\"\",INDEX(E_SourceStreams!$A:$N,ER60,BM$7)))","v":""},{"$f":"IF($E60=\"\",\"\",IF(INDEX(E_SourceStreams!$A:$N,ES60,BN$7)=\"\",\"\",INDEX(E_SourceStreams!$A:$N,ES60,BN$7)))","v":""},{"$f":"IF($E60=\"\",\"\",IF(INDEX(E_SourceStreams!$A:$N,ET60,BO$7)=\"\",\"\",INDEX(E_SourceStreams!$A:$N,ET60,BO$7)))","v":""},{"$f":"IF($E60=\"\",\"\",IF(INDEX(E_SourceStreams!$A:$N,EU60,BP$7)=\"\",\"\",INDEX(E_SourceStreams!$A:$N,EU60,BP$7)))","v":""},{"$f":"IF($E60=\"\",\"\",IF(INDEX(E_SourceStreams!$A:$N,EV60,BQ$7)=\"\",\"\",INDEX(E_SourceStreams!$A:$N,EV60,BQ$7)))","v":""},{"$f":"IF($E60=\"\",\"\",IF(INDEX(E_SourceStreams!$A:$N,EW60,BR$7)=\"\",\"\",INDEX(E_SourceStreams!$A:$N,EW60,BR$7)))","v":""},{"$f":"IF($E60=\"\",\"\",IF(INDEX(E_SourceStreams!$A:$N,EX60,BS$7)=\"\",\"\",INDEX(E_SourceStreams!$A:$N,EX60,BS$7)))","v":""},{"$f":"IF($E60=\"\",\"\",IF(INDEX(E_SourceStreams!$A:$N,EY60,BT$7)=\"\",\"\",INDEX(E_SourceStreams!$A:$N,EY60,BT$7)))","v":""},null,null,null,null,null,null,null,null,null,null,null,null,null,null,null,"SourceCategory_",{"$f":"INDEX(C_InstallationDescription!$A$223:$A$328,ROWS($CI$11:CI60))=\"ausblenden\"","v":true},"SourceStreamName_",null,3368,3370,3372,3374,3376,3378,3380,3380,3380,3380,3380,3383,3387,3388,3389,3396,3406,3406,3406,3406,3406,3406,3406,3397,3407,3407,3407,3407,3407,3407,3407,3398,3408,3408,3408,3408,3408,3408,3408,3399,3409,3409,3409,3409,3409,3409,3409,3400,3410,3410,3410,3410,3410,3410,3410,3401,3411,3411,3411,3411,3411,3411,3411,3417]
[null,{"$f":"IF(COUNTIF($CK$10:CK61,TRUE)>0,\"\",INDEX(C_InstallationDescription!$E$223:$E$239,ROWS($A$11:A61)))","v":""},{"$f":"IF($E61=\"\",\"\",INDEX(C_InstallationDescription!G:G,MATCH($B61,C_InstallationDescription!$E:$E,0)))","v":""},{"$f":"IF($E61=\"\",\"\",INDEX(C_InstallationDescription!I:I,MATCH($B61,C_InstallationDescription!$E:$E,0)))","v":""},{"$f":"IF($B61=\"\",\"\",INDEX(C_InstallationDescription!F:F,MATCH($CJ61,C_InstallationDescription!$Q:$Q,0)))","v":""},{"$f":"IF($E61=\"\",\"\",INDEX(C_InstallationDescription!L:L,MATCH($CJ61,C_InstallationDescription!$Q:$Q,0)))","v":""},{"$f":"IF($E61=\"\",\"\",INDEX(C_InstallationDescription!M:M,MATCH($CJ61,C_InstallationDescription!$Q:$Q,0)))","v":""},{"$f":"IF($E61=\"\",\"\",INDEX(C_InstallationDescription!N:N,MATCH($CJ61,C_InstallationDescription!$Q:$Q,0)))","v":""},{"$f":"IF($E61=\"\",\"\",IF(INDEX(E_SourceStreams!$A:$N,CN61,I$7)=\"\",\"\",INDEX(E_SourceStreams!$A:$N,CN61,I$7)))","v":""},{"$f":"IF($E61=\"\",\"\",IF(INDEX(E_SourceStreams!$A:$N,CO61,J$7)=\"\",\"\",INDEX(E_SourceStreams!$A:$N,CO61,J$7)))","v":""},{"$f":"IF($E61=\"\",\"\",IF(INDEX(E_SourceStreams!$A:$N,CP61,K$7)=\"\",\"\",INDEX(E_SourceStreams!$A:$N,CP61,K$7)))","v":""},{"$f":"IF($E61=\"\",\"\",IF(INDEX(E_SourceStreams!$A:$N,CQ61,L$7)=\"\",\"\",INDEX(E_SourceStreams!$A:$N,CQ61,L$7)))","v":""},{"$f":"IF($E61=\"\",\"\",IF(INDEX(E_SourceStreams!$A:$N,CR61,M$7)=\"\",\"\",INDEX(E_SourceStreams!$A:$N,CR61,M$7)))","v":""},{"$f":"IF($E61=\"\",\"\",IF(INDEX(E_SourceStreams!$A:$N,CS61,N$7)=\"\",\"\",INDEX(E_SourceStreams!$A:$N,CS61,N$7)))","v":""},{"$f":"IF($E61=\"\",\"\",IF(INDEX(E_SourceStreams!$A:$N,CT61,O$7)=\"\",\"\",INDEX(E_SourceStreams!$A:$N,CT61,O$7)))","v":""},{"$f":"IF($E61=\"\",\"\",IF(INDEX(E_SourceStreams!$A:$N,CU61,P$7)=\"\",\"\",INDEX(E_SourceStreams!$A:$N,CU61,P$7)))","v":""},{"$f":"IF($E61=\"\",\"\",IF(INDEX(E_SourceStreams!$A:$N,CV61,Q$7)=\"\",\"\",INDEX(E_SourceStreams!$A:$N,CV61,Q$7)))","v":""},{"$f":"IF($E61=\"\",\"\",IF(INDEX(E_SourceStreams!$A:$N,CW61,R$7)=\"\",\"\",INDEX(E_SourceStreams!$A:$N,CW61,R$7)))","v":""},{"$f":"IF($E61=\"\",\"\",IF(INDEX(E_SourceStreams!$A:$N,CX61,S$7)=\"\",\"\",INDEX(E_SourceStreams!$A:$N,CX61,S$7)))","v":""},{"$f":"IF($E61=\"\",\"\",IF(INDEX(E_SourceStreams!$A:$N,CY61,T$7)=\"\",\"\",INDEX(E_SourceStreams!$A:$N,CY61,T$7)))","v":""},{"$f":"IF($E61=\"\",\"\",IF(INDEX(E_SourceStreams!$A:$N,CZ61,U$7)=\"\",\"\",INDEX(E_SourceStreams!$A:$N,CZ61,U$7)))","v":""},{"$f":"IF($E61=\"\",\"\",IF(INDEX(E_SourceStreams!$A:$N,DA61,V$7)=\"\",\"\",INDEX(E_SourceStreams!$A:$N,DA61,V$7)))","v":""},{"$f":"IF($E61=\"\",\"\",IF(INDEX(E_SourceStreams!$A:$N,DB61,W$7)=\"\",\"\",INDEX(E_SourceStreams!$A:$N,DB61,W$7)))","v":""},{"$f":"IF($E61=\"\",\"\",IF(INDEX(E_SourceStreams!$A:$N,DC61,X$7)=\"\",\"\",INDEX(E_SourceStreams!$A:$N,DC61,X$7)))","v":""},{"$f":"IF($E61=\"\",\"\",IF(INDEX(E_SourceStreams!$A:$N,DD61,Y$7)=\"\",\"\",INDEX(E_SourceStreams!$A:$N,DD61,Y$7)))","v":""},{"$f":"IF($E61=\"\",\"\",IF(INDEX(E_SourceStreams!$A:$N,DE61,Z$7)=\"\",\"\",INDEX(E_SourceStreams!$A:$N,DE61,Z$7)))","v":""},{"$f":"IF($E61=\"\",\"\",IF(INDEX(E_SourceStreams!$A:$N,DF61,AA$7)=\"\",\"\",INDEX(E_SourceStreams!$A:$N,DF61,AA$7)))","v":""},{"$f":"IF($E61=\"\",\"\",IF(INDEX(E_SourceStreams!$A:$N,DG61,AB$7)=\"\",\"\",INDEX(E_SourceStreams!$A:$N,DG61,AB$7)))","v":""},{"$f":"IF($E61=\"\",\"\",IF(INDEX(E_SourceStreams!$A:$N,DH61,AC$7)=\"\",\"\",INDEX(E_SourceStreams!$A:$N,DH61,AC$7)))","v":""},{"$f":"IF($E61=\"\",\"\",IF(INDEX(E_SourceStreams!$A:$N,DI61,AD$7)=\"\",\"\",INDEX(E_SourceStreams!$A:$N,DI61,AD$7)))","v":""},{"$f":"IF($E61=\"\",\"\",IF(INDEX(E_SourceStreams!$A:$N,DJ61,AE$7)=\"\",\"\",INDEX(E_SourceStreams!$A:$N,DJ61,AE$7)))","v":""},{"$f":"IF($E61=\"\",\"\",IF(INDEX(E_SourceStreams!$A:$N,DK61,AF$7)=\"\",\"\",INDEX(E_SourceStreams!$A:$N,DK61,AF$7)))","v":""},{"$f":"IF($E61=\"\",\"\",IF(INDEX(E_SourceStreams!$A:$N,DL61,AG$7)=\"\",\"\",INDEX(E_SourceStreams!$A:$N,DL61,AG$7)))","v":""},{"$f":"IF($E61=\"\",\"\",IF(INDEX(E_SourceStreams!$A:$N,DM61,AH$7)=\"\",\"\",INDEX(E_SourceStreams!$A:$N,DM61,AH$7)))","v":""},{"$f":"IF($E61=\"\",\"\",IF(INDEX(E_SourceStreams!$A:$N,DN61,AI$7)=\"\",\"\",INDEX(E_SourceStreams!$A:$N,DN61,AI$7)))","v":""},{"$f":"IF($E61=\"\",\"\",IF(INDEX(E_SourceStreams!$A:$N,DO61,AJ$7)=\"\",\"\",INDEX(E_SourceStreams!$A:$N,DO61,AJ$7)))","v":""},{"$f":"IF($E61=\"\",\"\",IF(INDEX(E_SourceStreams!$A:$N,DP61,AK$7)=\"\",\"\",INDEX(E_SourceStreams!$A:$N,DP61,AK$7)))","v":""},{"$f":"IF($E61=\"\",\"\",IF(INDEX(E_SourceStreams!$A:$N,DQ61,AL$7)=\"\",\"\",INDEX(E_SourceStreams!$A:$N,DQ61,AL$7)))","v":""},{"$f":"IF($E61=\"\",\"\",IF(INDEX(E_SourceStreams!$A:$N,DR61,AM$7)=\"\",\"\",INDEX(E_SourceStreams!$A:$N,DR61,AM$7)))","v":""},{"$f":"IF($E61=\"\",\"\",IF(INDEX(E_SourceStreams!$A:$N,DS61,AN$7)=\"\",\"\",INDEX(E_SourceStreams!$A:$N,DS61,AN$7)))","v":""},{"$f":"IF($E61=\"\",\"\",IF(INDEX(E_SourceStreams!$A:$N,DT61,AO$7)=\"\",\"\",INDEX(E_SourceStreams!$A:$N,DT61,AO$7)))","v":""},{"$f":"IF($E61=\"\",\"\",IF(INDEX(E_SourceStreams!$A:$N,DU61,AP$7)=\"\",\"\",INDEX(E_SourceStreams!$A:$N,DU61,AP$7)))","v":""},{"$f":"IF($E61=\"\",\"\",IF(INDEX(E_SourceStreams!$A:$N,DV61,AQ$7)=\"\",\"\",INDEX(E_SourceStreams!$A:$N,DV61,AQ$7)))","v":""},{"$f":"IF($E61=\"\",\"\",IF(INDEX(E_SourceStreams!$A:$N,DW61,AR$7)=\"\",\"\",INDEX(E_SourceStreams!$A:$N,DW61,AR$7)))","v":""},{"$f":"IF($E61=\"\",\"\",IF(INDEX(E_SourceStreams!$A:$N,DX61,AS$7)=\"\",\"\",INDEX(E_SourceStreams!$A:$N,DX61,AS$7)))","v":""},{"$f":"IF($E61=\"\",\"\",IF(INDEX(E_SourceStreams!$A:$N,DY61,AT$7)=\"\",\"\",INDEX(E_SourceStreams!$A:$N,DY61,AT$7)))","v":""},{"$f":"IF($E61=\"\",\"\",IF(INDEX(E_SourceStreams!$A:$N,DZ61,AU$7)=\"\",\"\",INDEX(E_SourceStreams!$A:$N,DZ61,AU$7)))","v":""},{"$f":"IF($E61=\"\",\"\",IF(INDEX(E_SourceStreams!$A:$N,EA61,AV$7)=\"\",\"\",INDEX(E_SourceStreams!$A:$N,EA61,AV$7)))","v":""},{"$f":"IF($E61=\"\",\"\",IF(INDEX(E_SourceStreams!$A:$N,EB61,AW$7)=\"\",\"\",INDEX(E_SourceStreams!$A:$N,EB61,AW$7)))","v":""},{"$f":"IF($E61=\"\",\"\",IF(INDEX(E_SourceStreams!$A:$N,EC61,AX$7)=\"\",\"\",INDEX(E_SourceStreams!$A:$N,EC61,AX$7)))","v":""},{"$f":"IF($E61=\"\",\"\",IF(INDEX(E_SourceStreams!$A:$N,ED61,AY$7)=\"\",\"\",INDEX(E_SourceStreams!$A:$N,ED61,AY$7)))","v":""},{"$f":"IF($E61=\"\",\"\",IF(INDEX(E_SourceStreams!$A:$N,EE61,AZ$7)=\"\",\"\",INDEX(E_SourceStreams!$A:$N,EE61,AZ$7)))","v":""},{"$f":"IF($E61=\"\",\"\",IF(INDEX(E_SourceStreams!$A:$N,EF61,BA$7)=\"\",\"\",INDEX(E_SourceStreams!$A:$N,EF61,BA$7)))","v":""},{"$f":"IF($E61=\"\",\"\",IF(INDEX(E_SourceStreams!$A:$N,EG61,BB$7)=\"\",\"\",INDEX(E_SourceStreams!$A:$N,EG61,BB$7)))","v":""},{"$f":"IF($E61=\"\",\"\",IF(INDEX(E_SourceStreams!$A:$N,EH61,BC$7)=\"\",\"\",INDEX(E_SourceStreams!$A:$N,EH61,BC$7)))","v":""},{"$f":"IF($E61=\"\",\"\",IF(INDEX(E_SourceStreams!$A:$N,EI61,BD$7)=\"\",\"\",INDEX(E_SourceStreams!$A:$N,EI61,BD$7)))","v":""},{"$f":"IF($E61=\"\",\"\",IF(INDEX(E_SourceStreams!$A:$N,EJ61,BE$7)=\"\",\"\",INDEX(E_SourceStreams!$A:$N,EJ61,BE$7)))","v":""},{"$f":"IF($E61=\"\",\"\",IF(INDEX(E_SourceStreams!$A:$N,EK61,BF$7)=\"\",\"\",INDEX(E_SourceStreams!$A:$N,EK61,BF$7)))","v":""},{"$f":"IF($E61=\"\",\"\",IF(INDEX(E_SourceStreams!$A:$N,EL61,BG$7)=\"\",\"\",INDEX(E_SourceStreams!$A:$N,EL61,BG$7)))","v":""},{"$f":"IF($E61=\"\",\"\",IF(INDEX(E_SourceStreams!$A:$N,EM61,BH$7)=\"\",\"\",INDEX(E_SourceStreams!$A:$N,EM61,BH$7)))","v":""},{"$f":"IF($E61=\"\",\"\",IF(INDEX(E_SourceStreams!$A:$N,EN61,BI$7)=\"\",\"\",INDEX(E_SourceStreams!$A:$N,EN61,BI$7)))","v":""},{"$f":"IF($E61=\"\",\"\",IF(INDEX(E_SourceStreams!$A:$N,EO61,BJ$7)=\"\",\"\",INDEX(E_SourceStreams!$A:$N,EO61,BJ$7)))","v":""},{"$f":"IF($E61=\"\",\"\",IF(INDEX(E_SourceStreams!$A:$N,EP61,BK$7)=\"\",\"\",INDEX(E_SourceStreams!$A:$N,EP61,BK$7)))","v":""},{"$f":"IF($E61=\"\",\"\",IF(INDEX(E_SourceStreams!$A:$N,EQ61,BL$7)=\"\",\"\",INDEX(E_SourceStreams!$A:$N,EQ61,BL$7)))","v":""},{"$f":"IF($E61=\"\",\"\",IF(INDEX(E_SourceStreams!$A:$N,ER61,BM$7)=\"\",\"\",INDEX(E_SourceStreams!$A:$N,ER61,BM$7)))","v":""},{"$f":"IF($E61=\"\",\"\",IF(INDEX(E_SourceStreams!$A:$N,ES61,BN$7)=\"\",\"\",INDEX(E_SourceStreams!$A:$N,ES61,BN$7)))","v":""},{"$f":"IF($E61=\"\",\"\",IF(INDEX(E_SourceStreams!$A:$N,ET61,BO$7)=\"\",\"\",INDEX(E_SourceStreams!$A:$N,ET61,BO$7)))","v":""},{"$f":"IF($E61=\"\",\"\",IF(INDEX(E_SourceStreams!$A:$N,EU61,BP$7)=\"\",\"\",INDEX(E_SourceStreams!$A:$N,EU61,BP$7)))","v":""},{"$f":"IF($E61=\"\",\"\",IF(INDEX(E_SourceStreams!$A:$N,EV61,BQ$7)=\"\",\"\",INDEX(E_SourceStreams!$A:$N,EV61,BQ$7)))","v":""},{"$f":"IF($E61=\"\",\"\",IF(INDEX(E_SourceStreams!$A:$N,EW61,BR$7)=\"\",\"\",INDEX(E_SourceStreams!$A:$N,EW61,BR$7)))","v":""},{"$f":"IF($E61=\"\",\"\",IF(INDEX(E_SourceStreams!$A:$N,EX61,BS$7)=\"\",\"\",INDEX(E_SourceStreams!$A:$N,EX61,BS$7)))","v":""},{"$f":"IF($E61=\"\",\"\",IF(INDEX(E_SourceStreams!$A:$N,EY61,BT$7)=\"\",\"\",INDEX(E_SourceStreams!$A:$N,EY61,BT$7)))","v":""},null,null,null,null,null,null,null,null,null,null,null,null,null,null,null,"SourceCategory_",{"$f":"INDEX(C_InstallationDescription!$A$223:$A$328,ROWS($CI$11:CI61))=\"ausblenden\"","v":true},"SourceStreamName_",null,3434,3436,3438,3440,3442,3444,3446,3446,3446,3446,3446,3449,3453,3454,3455,3462,3472,3472,3472,3472,3472,3472,3472,3463,3473,3473,3473,3473,3473,3473,3473,3464,3474,3474,3474,3474,3474,3474,3474,3465,3475,3475,3475,3475,3475,3475,3475,3466,3476,3476,3476,3476,3476,3476,3476,3467,3477,3477,3477,3477,3477,3477,3477,3483]
[null,{"$f":"IF(COUNTIF($CK$10:CK62,TRUE)>0,\"\",INDEX(C_InstallationDescription!$E$223:$E$239,ROWS($A$11:A62)))","v":""},{"$f":"IF($E62=\"\",\"\",INDEX(C_InstallationDescription!G:G,MATCH($B62,C_InstallationDescription!$E:$E,0)))","v":""},{"$f":"IF($E62=\"\",\"\",INDEX(C_InstallationDescription!I:I,MATCH($B62,C_InstallationDescription!$E:$E,0)))","v":""},{"$f":"IF($B62=\"\",\"\",INDEX(C_InstallationDescription!F:F,MATCH($CJ62,C_InstallationDescription!$Q:$Q,0)))","v":""},{"$f":"IF($E62=\"\",\"\",INDEX(C_InstallationDescription!L:L,MATCH($CJ62,C_InstallationDescription!$Q:$Q,0)))","v":""},{"$f":"IF($E62=\"\",\"\",INDEX(C_InstallationDescription!M:M,MATCH($CJ62,C_InstallationDescription!$Q:$Q,0)))","v":""},{"$f":"IF($E62=\"\",\"\",INDEX(C_InstallationDescription!N:N,MATCH($CJ62,C_InstallationDescription!$Q:$Q,0)))","v":""},{"$f":"IF($E62=\"\",\"\",IF(INDEX(E_SourceStreams!$A:$N,CN62,I$7)=\"\",\"\",INDEX(E_SourceStreams!$A:$N,CN62,I$7)))","v":""},{"$f":"IF($E62=\"\",\"\",IF(INDEX(E_SourceStreams!$A:$N,CO62,J$7)=\"\",\"\",INDEX(E_SourceStreams!$A:$N,CO62,J$7)))","v":""},{"$f":"IF($E62=\"\",\"\",IF(INDEX(E_SourceStreams!$A:$N,CP62,K$7)=\"\",\"\",INDEX(E_SourceStreams!$A:$N,CP62,K$7)))","v":""},{"$f":"IF($E62=\"\",\"\",IF(INDEX(E_SourceStreams!$A:$N,CQ62,L$7)=\"\",\"\",INDEX(E_SourceStreams!$A:$N,CQ62,L$7)))","v":""},{"$f":"IF($E62=\"\",\"\",IF(INDEX(E_SourceStreams!$A:$N,CR62,M$7)=\"\",\"\",INDEX(E_SourceStreams!$A:$N,CR62,M$7)))","v":""},{"$f":"IF($E62=\"\",\"\",IF(INDEX(E_SourceStreams!$A:$N,CS62,N$7)=\"\",\"\",INDEX(E_SourceStreams!$A:$N,CS62,N$7)))","v":""},{"$f":"IF($E62=\"\",\"\",IF(INDEX(E_SourceStreams!$A:$N,CT62,O$7)=\"\",\"\",INDEX(E_SourceStreams!$A:$N,CT62,O$7)))","v":""},{"$f":"IF($E62=\"\",\"\",IF(INDEX(E_SourceStreams!$A:$N,CU62,P$7)=\"\",\"\",INDEX(E_SourceStreams!$A:$N,CU62,P$7)))","v":""},{"$f":"IF($E62=\"\",\"\",IF(INDEX(E_SourceStreams!$A:$N,CV62,Q$7)=\"\",\"\",INDEX(E_SourceStreams!$A:$N,CV62,Q$7)))","v":""},{"$f":"IF($E62=\"\",\"\",IF(INDEX(E_SourceStreams!$A:$N,CW62,R$7)=\"\",\"\",INDEX(E_SourceStreams!$A:$N,CW62,R$7)))","v":""},{"$f":"IF($E62=\"\",\"\",IF(INDEX(E_SourceStreams!$A:$N,CX62,S$7)=\"\",\"\",INDEX(E_SourceStreams!$A:$N,CX62,S$7)))","v":""},{"$f":"IF($E62=\"\",\"\",IF(INDEX(E_SourceStreams!$A:$N,CY62,T$7)=\"\",\"\",INDEX(E_SourceStreams!$A:$N,CY62,T$7)))","v":""},{"$f":"IF($E62=\"\",\"\",IF(INDEX(E_SourceStreams!$A:$N,CZ62,U$7)=\"\",\"\",INDEX(E_SourceStreams!$A:$N,CZ62,U$7)))","v":""},{"$f":"IF($E62=\"\",\"\",IF(INDEX(E_SourceStreams!$A:$N,DA62,V$7)=\"\",\"\",INDEX(E_SourceStreams!$A:$N,DA62,V$7)))","v":""},{"$f":"IF($E62=\"\",\"\",IF(INDEX(E_SourceStreams!$A:$N,DB62,W$7)=\"\",\"\",INDEX(E_SourceStreams!$A:$N,DB62,W$7)))","v":""},{"$f":"IF($E62=\"\",\"\",IF(INDEX(E_SourceStreams!$A:$N,DC62,X$7)=\"\",\"\",INDEX(E_SourceStreams!$A:$N,DC62,X$7)))","v":""},{"$f":"IF($E62=\"\",\"\",IF(INDEX(E_SourceStreams!$A:$N,DD62,Y$7)=\"\",\"\",INDEX(E_SourceStreams!$A:$N,DD62,Y$7)))","v":""},{"$f":"IF($E62=\"\",\"\",IF(INDEX(E_SourceStreams!$A:$N,DE62,Z$7)=\"\",\"\",INDEX(E_SourceStreams!$A:$N,DE62,Z$7)))","v":""},{"$f":"IF($E62=\"\",\"\",IF(INDEX(E_SourceStreams!$A:$N,DF62,AA$7)=\"\",\"\",INDEX(E_SourceStreams!$A:$N,DF62,AA$7)))","v":""},{"$f":"IF($E62=\"\",\"\",IF(INDEX(E_SourceStreams!$A:$N,DG62,AB$7)=\"\",\"\",INDEX(E_SourceStreams!$A:$N,DG62,AB$7)))","v":""},{"$f":"IF($E62=\"\",\"\",IF(INDEX(E_SourceStreams!$A:$N,DH62,AC$7)=\"\",\"\",INDEX(E_SourceStreams!$A:$N,DH62,AC$7)))","v":""},{"$f":"IF($E62=\"\",\"\",IF(INDEX(E_SourceStreams!$A:$N,DI62,AD$7)=\"\",\"\",INDEX(E_SourceStreams!$A:$N,DI62,AD$7)))","v":""},{"$f":"IF($E62=\"\",\"\",IF(INDEX(E_SourceStreams!$A:$N,DJ62,AE$7)=\"\",\"\",INDEX(E_SourceStreams!$A:$N,DJ62,AE$7)))","v":""},{"$f":"IF($E62=\"\",\"\",IF(INDEX(E_SourceStreams!$A:$N,DK62,AF$7)=\"\",\"\",INDEX(E_SourceStreams!$A:$N,DK62,AF$7)))","v":""},{"$f":"IF($E62=\"\",\"\",IF(INDEX(E_SourceStreams!$A:$N,DL62,AG$7)=\"\",\"\",INDEX(E_SourceStreams!$A:$N,DL62,AG$7)))","v":""},{"$f":"IF($E62=\"\",\"\",IF(INDEX(E_SourceStreams!$A:$N,DM62,AH$7)=\"\",\"\",INDEX(E_SourceStreams!$A:$N,DM62,AH$7)))","v":""},{"$f":"IF($E62=\"\",\"\",IF(INDEX(E_SourceStreams!$A:$N,DN62,AI$7)=\"\",\"\",INDEX(E_SourceStreams!$A:$N,DN62,AI$7)))","v":""},{"$f":"IF($E62=\"\",\"\",IF(INDEX(E_SourceStreams!$A:$N,DO62,AJ$7)=\"\",\"\",INDEX(E_SourceStreams!$A:$N,DO62,AJ$7)))","v":""},{"$f":"IF($E62=\"\",\"\",IF(INDEX(E_SourceStreams!$A:$N,DP62,AK$7)=\"\",\"\",INDEX(E_SourceStreams!$A:$N,DP62,AK$7)))","v":""},{"$f":"IF($E62=\"\",\"\",IF(INDEX(E_SourceStreams!$A:$N,DQ62,AL$7)=\"\",\"\",INDEX(E_SourceStreams!$A:$N,DQ62,AL$7)))","v":""},{"$f":"IF($E62=\"\",\"\",IF(INDEX(E_SourceStreams!$A:$N,DR62,AM$7)=\"\",\"\",INDEX(E_SourceStreams!$A:$N,DR62,AM$7)))","v":""},{"$f":"IF($E62=\"\",\"\",IF(INDEX(E_SourceStreams!$A:$N,DS62,AN$7)=\"\",\"\",INDEX(E_SourceStreams!$A:$N,DS62,AN$7)))","v":""},{"$f":"IF($E62=\"\",\"\",IF(INDEX(E_SourceStreams!$A:$N,DT62,AO$7)=\"\",\"\",INDEX(E_SourceStreams!$A:$N,DT62,AO$7)))","v":""},{"$f":"IF($E62=\"\",\"\",IF(INDEX(E_SourceStreams!$A:$N,DU62,AP$7)=\"\",\"\",INDEX(E_SourceStreams!$A:$N,DU62,AP$7)))","v":""},{"$f":"IF($E62=\"\",\"\",IF(INDEX(E_SourceStreams!$A:$N,DV62,AQ$7)=\"\",\"\",INDEX(E_SourceStreams!$A:$N,DV62,AQ$7)))","v":""},{"$f":"IF($E62=\"\",\"\",IF(INDEX(E_SourceStreams!$A:$N,DW62,AR$7)=\"\",\"\",INDEX(E_SourceStreams!$A:$N,DW62,AR$7)))","v":""},{"$f":"IF($E62=\"\",\"\",IF(INDEX(E_SourceStreams!$A:$N,DX62,AS$7)=\"\",\"\",INDEX(E_SourceStreams!$A:$N,DX62,AS$7)))","v":""},{"$f":"IF($E62=\"\",\"\",IF(INDEX(E_SourceStreams!$A:$N,DY62,AT$7)=\"\",\"\",INDEX(E_SourceStreams!$A:$N,DY62,AT$7)))","v":""},{"$f":"IF($E62=\"\",\"\",IF(INDEX(E_SourceStreams!$A:$N,DZ62,AU$7)=\"\",\"\",INDEX(E_SourceStreams!$A:$N,DZ62,AU$7)))","v":""},{"$f":"IF($E62=\"\",\"\",IF(INDEX(E_SourceStreams!$A:$N,EA62,AV$7)=\"\",\"\",INDEX(E_SourceStreams!$A:$N,EA62,AV$7)))","v":""},{"$f":"IF($E62=\"\",\"\",IF(INDEX(E_SourceStreams!$A:$N,EB62,AW$7)=\"\",\"\",INDEX(E_SourceStreams!$A:$N,EB62,AW$7)))","v":""},{"$f":"IF($E62=\"\",\"\",IF(INDEX(E_SourceStreams!$A:$N,EC62,AX$7)=\"\",\"\",INDEX(E_SourceStreams!$A:$N,EC62,AX$7)))","v":""},{"$f":"IF($E62=\"\",\"\",IF(INDEX(E_SourceStreams!$A:$N,ED62,AY$7)=\"\",\"\",INDEX(E_SourceStreams!$A:$N,ED62,AY$7)))","v":""},{"$f":"IF($E62=\"\",\"\",IF(INDEX(E_SourceStreams!$A:$N,EE62,AZ$7)=\"\",\"\",INDEX(E_SourceStreams!$A:$N,EE62,AZ$7)))","v":""},{"$f":"IF($E62=\"\",\"\",IF(INDEX(E_SourceStreams!$A:$N,EF62,BA$7)=\"\",\"\",INDEX(E_SourceStreams!$A:$N,EF62,BA$7)))","v":""},{"$f":"IF($E62=\"\",\"\",IF(INDEX(E_SourceStreams!$A:$N,EG62,BB$7)=\"\",\"\",INDEX(E_SourceStreams!$A:$N,EG62,BB$7)))","v":""},{"$f":"IF($E62=\"\",\"\",IF(INDEX(E_SourceStreams!$A:$N,EH62,BC$7)=\"\",\"\",INDEX(E_SourceStreams!$A:$N,EH62,BC$7)))","v":""},{"$f":"IF($E62=\"\",\"\",IF(INDEX(E_SourceStreams!$A:$N,EI62,BD$7)=\"\",\"\",INDEX(E_SourceStreams!$A:$N,EI62,BD$7)))","v":""},{"$f":"IF($E62=\"\",\"\",IF(INDEX(E_SourceStreams!$A:$N,EJ62,BE$7)=\"\",\"\",INDEX(E_SourceStreams!$A:$N,EJ62,BE$7)))","v":""},{"$f":"IF($E62=\"\",\"\",IF(INDEX(E_SourceStreams!$A:$N,EK62,BF$7)=\"\",\"\",INDEX(E_SourceStreams!$A:$N,EK62,BF$7)))","v":""},{"$f":"IF($E62=\"\",\"\",IF(INDEX(E_SourceStreams!$A:$N,EL62,BG$7)=\"\",\"\",INDEX(E_SourceStreams!$A:$N,EL62,BG$7)))","v":""},{"$f":"IF($E62=\"\",\"\",IF(INDEX(E_SourceStreams!$A:$N,EM62,BH$7)=\"\",\"\",INDEX(E_SourceStreams!$A:$N,EM62,BH$7)))","v":""},{"$f":"IF($E62=\"\",\"\",IF(INDEX(E_SourceStreams!$A:$N,EN62,BI$7)=\"\",\"\",INDEX(E_SourceStreams!$A:$N,EN62,BI$7)))","v":""},{"$f":"IF($E62=\"\",\"\",IF(INDEX(E_SourceStreams!$A:$N,EO62,BJ$7)=\"\",\"\",INDEX(E_SourceStreams!$A:$N,EO62,BJ$7)))","v":""},{"$f":"IF($E62=\"\",\"\",IF(INDEX(E_SourceStreams!$A:$N,EP62,BK$7)=\"\",\"\",INDEX(E_SourceStreams!$A:$N,EP62,BK$7)))","v":""},{"$f":"IF($E62=\"\",\"\",IF(INDEX(E_SourceStreams!$A:$N,EQ62,BL$7)=\"\",\"\",INDEX(E_SourceStreams!$A:$N,EQ62,BL$7)))","v":""},{"$f":"IF($E62=\"\",\"\",IF(INDEX(E_SourceStreams!$A:$N,ER62,BM$7)=\"\",\"\",INDEX(E_SourceStreams!$A:$N,ER62,BM$7)))","v":""},{"$f":"IF($E62=\"\",\"\",IF(INDEX(E_SourceStreams!$A:$N,ES62,BN$7)=\"\",\"\",INDEX(E_SourceStreams!$A:$N,ES62,BN$7)))","v":""},{"$f":"IF($E62=\"\",\"\",IF(INDEX(E_SourceStreams!$A:$N,ET62,BO$7)=\"\",\"\",INDEX(E_SourceStreams!$A:$N,ET62,BO$7)))","v":""},{"$f":"IF($E62=\"\",\"\",IF(INDEX(E_SourceStreams!$A:$N,EU62,BP$7)=\"\",\"\",INDEX(E_SourceStreams!$A:$N,EU62,BP$7)))","v":""},{"$f":"IF($E62=\"\",\"\",IF(INDEX(E_SourceStreams!$A:$N,EV62,BQ$7)=\"\",\"\",INDEX(E_SourceStreams!$A:$N,EV62,BQ$7)))","v":""},{"$f":"IF($E62=\"\",\"\",IF(INDEX(E_SourceStreams!$A:$N,EW62,BR$7)=\"\",\"\",INDEX(E_SourceStreams!$A:$N,EW62,BR$7)))","v":""},{"$f":"IF($E62=\"\",\"\",IF(INDEX(E_SourceStreams!$A:$N,EX62,BS$7)=\"\",\"\",INDEX(E_SourceStreams!$A:$N,EX62,BS$7)))","v":""},{"$f":"IF($E62=\"\",\"\",IF(INDEX(E_SourceStreams!$A:$N,EY62,BT$7)=\"\",\"\",INDEX(E_SourceStreams!$A:$N,EY62,BT$7)))","v":""},null,null,null,null,null,null,null,null,null,null,null,null,null,null,null,"SourceCategory_",{"$f":"INDEX(C_InstallationDescription!$A$223:$A$328,ROWS($CI$11:CI62))=\"ausblenden\"","v":true},"SourceStreamName_",null,3500,3502,3504,3506,3508,3510,3512,3512,3512,3512,3512,3515,3519,3520,3521,3528,3538,3538,3538,3538,3538,3538,3538,3529,3539,3539,3539,3539,3539,3539,3539,3530,3540,3540,3540,3540,3540,3540,3540,3531,3541,3541,3541,3541,3541,3541,3541,3532,3542,3542,3542,3542,3542,3542,3542,3533,3543,3543,3543,3543,3543,3543,3543,3549]
[null,{"$f":"IF(COUNTIF($CK$10:CK63,TRUE)>0,\"\",INDEX(C_InstallationDescription!$E$223:$E$239,ROWS($A$11:A63)))","v":""},{"$f":"IF($E63=\"\",\"\",INDEX(C_InstallationDescription!G:G,MATCH($B63,C_InstallationDescription!$E:$E,0)))","v":""},{"$f":"IF($E63=\"\",\"\",INDEX(C_InstallationDescription!I:I,MATCH($B63,C_InstallationDescription!$E:$E,0)))","v":""},{"$f":"IF($B63=\"\",\"\",INDEX(C_InstallationDescription!F:F,MATCH($CJ63,C_InstallationDescription!$Q:$Q,0)))","v":""},{"$f":"IF($E63=\"\",\"\",INDEX(C_InstallationDescription!L:L,MATCH($CJ63,C_InstallationDescription!$Q:$Q,0)))","v":""},{"$f":"IF($E63=\"\",\"\",INDEX(C_InstallationDescription!M:M,MATCH($CJ63,C_InstallationDescription!$Q:$Q,0)))","v":""},{"$f":"IF($E63=\"\",\"\",INDEX(C_InstallationDescription!N:N,MATCH($CJ63,C_InstallationDescription!$Q:$Q,0)))","v":""},{"$f":"IF($E63=\"\",\"\",IF(INDEX(E_SourceStreams!$A:$N,CN63,I$7)=\"\",\"\",INDEX(E_SourceStreams!$A:$N,CN63,I$7)))","v":""},{"$f":"IF($E63=\"\",\"\",IF(INDEX(E_SourceStreams!$A:$N,CO63,J$7)=\"\",\"\",INDEX(E_SourceStreams!$A:$N,CO63,J$7)))","v":""},{"$f":"IF($E63=\"\",\"\",IF(INDEX(E_SourceStreams!$A:$N,CP63,K$7)=\"\",\"\",INDEX(E_SourceStreams!$A:$N,CP63,K$7)))","v":""},{"$f":"IF($E63=\"\",\"\",IF(INDEX(E_SourceStreams!$A:$N,CQ63,L$7)=\"\",\"\",INDEX(E_SourceStreams!$A:$N,CQ63,L$7)))","v":""},{"$f":"IF($E63=\"\",\"\",IF(INDEX(E_SourceStreams!$A:$N,CR63,M$7)=\"\",\"\",INDEX(E_SourceStreams!$A:$N,CR63,M$7)))","v":""},{"$f":"IF($E63=\"\",\"\",IF(INDEX(E_SourceStreams!$A:$N,CS63,N$7)=\"\",\"\",INDEX(E_SourceStreams!$A:$N,CS63,N$7)))","v":""},{"$f":"IF($E63=\"\",\"\",IF(INDEX(E_SourceStreams!$A:$N,CT63,O$7)=\"\",\"\",INDEX(E_SourceStreams!$A:$N,CT63,O$7)))","v":""},{"$f":"IF($E63=\"\",\"\",IF(INDEX(E_SourceStreams!$A:$N,CU63,P$7)=\"\",\"\",INDEX(E_SourceStreams!$A:$N,CU63,P$7)))","v":""},{"$f":"IF($E63=\"\",\"\",IF(INDEX(E_SourceStreams!$A:$N,CV63,Q$7)=\"\",\"\",INDEX(E_SourceStreams!$A:$N,CV63,Q$7)))","v":""},{"$f":"IF($E63=\"\",\"\",IF(INDEX(E_SourceStreams!$A:$N,CW63,R$7)=\"\",\"\",INDEX(E_SourceStreams!$A:$N,CW63,R$7)))","v":""},{"$f":"IF($E63=\"\",\"\",IF(INDEX(E_SourceStreams!$A:$N,CX63,S$7)=\"\",\"\",INDEX(E_SourceStreams!$A:$N,CX63,S$7)))","v":""},{"$f":"IF($E63=\"\",\"\",IF(INDEX(E_SourceStreams!$A:$N,CY63,T$7)=\"\",\"\",INDEX(E_SourceStreams!$A:$N,CY63,T$7)))","v":""},{"$f":"IF($E63=\"\",\"\",IF(INDEX(E_SourceStreams!$A:$N,CZ63,U$7)=\"\",\"\",INDEX(E_SourceStreams!$A:$N,CZ63,U$7)))","v":""},{"$f":"IF($E63=\"\",\"\",IF(INDEX(E_SourceStreams!$A:$N,DA63,V$7)=\"\",\"\",INDEX(E_SourceStreams!$A:$N,DA63,V$7)))","v":""},{"$f":"IF($E63=\"\",\"\",IF(INDEX(E_SourceStreams!$A:$N,DB63,W$7)=\"\",\"\",INDEX(E_SourceStreams!$A:$N,DB63,W$7)))","v":""},{"$f":"IF($E63=\"\",\"\",IF(INDEX(E_SourceStreams!$A:$N,DC63,X$7)=\"\",\"\",INDEX(E_SourceStreams!$A:$N,DC63,X$7)))","v":""},{"$f":"IF($E63=\"\",\"\",IF(INDEX(E_SourceStreams!$A:$N,DD63,Y$7)=\"\",\"\",INDEX(E_SourceStreams!$A:$N,DD63,Y$7)))","v":""},{"$f":"IF($E63=\"\",\"\",IF(INDEX(E_SourceStreams!$A:$N,DE63,Z$7)=\"\",\"\",INDEX(E_SourceStreams!$A:$N,DE63,Z$7)))","v":""},{"$f":"IF($E63=\"\",\"\",IF(INDEX(E_SourceStreams!$A:$N,DF63,AA$7)=\"\",\"\",INDEX(E_SourceStreams!$A:$N,DF63,AA$7)))","v":""},{"$f":"IF($E63=\"\",\"\",IF(INDEX(E_SourceStreams!$A:$N,DG63,AB$7)=\"\",\"\",INDEX(E_SourceStreams!$A:$N,DG63,AB$7)))","v":""},{"$f":"IF($E63=\"\",\"\",IF(INDEX(E_SourceStreams!$A:$N,DH63,AC$7)=\"\",\"\",INDEX(E_SourceStreams!$A:$N,DH63,AC$7)))","v":""},{"$f":"IF($E63=\"\",\"\",IF(INDEX(E_SourceStreams!$A:$N,DI63,AD$7)=\"\",\"\",INDEX(E_SourceStreams!$A:$N,DI63,AD$7)))","v":""},{"$f":"IF($E63=\"\",\"\",IF(INDEX(E_SourceStreams!$A:$N,DJ63,AE$7)=\"\",\"\",INDEX(E_SourceStreams!$A:$N,DJ63,AE$7)))","v":""},{"$f":"IF($E63=\"\",\"\",IF(INDEX(E_SourceStreams!$A:$N,DK63,AF$7)=\"\",\"\",INDEX(E_SourceStreams!$A:$N,DK63,AF$7)))","v":""},{"$f":"IF($E63=\"\",\"\",IF(INDEX(E_SourceStreams!$A:$N,DL63,AG$7)=\"\",\"\",INDEX(E_SourceStreams!$A:$N,DL63,AG$7)))","v":""},{"$f":"IF($E63=\"\",\"\",IF(INDEX(E_SourceStreams!$A:$N,DM63,AH$7)=\"\",\"\",INDEX(E_SourceStreams!$A:$N,DM63,AH$7)))","v":""},{"$f":"IF($E63=\"\",\"\",IF(INDEX(E_SourceStreams!$A:$N,DN63,AI$7)=\"\",\"\",INDEX(E_SourceStreams!$A:$N,DN63,AI$7)))","v":""},{"$f":"IF($E63=\"\",\"\",IF(INDEX(E_SourceStreams!$A:$N,DO63,AJ$7)=\"\",\"\",INDEX(E_SourceStreams!$A:$N,DO63,AJ$7)))","v":""},{"$f":"IF($E63=\"\",\"\",IF(INDEX(E_SourceStreams!$A:$N,DP63,AK$7)=\"\",\"\",INDEX(E_SourceStreams!$A:$N,DP63,AK$7)))","v":""},{"$f":"IF($E63=\"\",\"\",IF(INDEX(E_SourceStreams!$A:$N,DQ63,AL$7)=\"\",\"\",INDEX(E_SourceStreams!$A:$N,DQ63,AL$7)))","v":""},{"$f":"IF($E63=\"\",\"\",IF(INDEX(E_SourceStreams!$A:$N,DR63,AM$7)=\"\",\"\",INDEX(E_SourceStreams!$A:$N,DR63,AM$7)))","v":""},{"$f":"IF($E63=\"\",\"\",IF(INDEX(E_SourceStreams!$A:$N,DS63,AN$7)=\"\",\"\",INDEX(E_SourceStreams!$A:$N,DS63,AN$7)))","v":""},{"$f":"IF($E63=\"\",\"\",IF(INDEX(E_SourceStreams!$A:$N,DT63,AO$7)=\"\",\"\",INDEX(E_SourceStreams!$A:$N,DT63,AO$7)))","v":""},{"$f":"IF($E63=\"\",\"\",IF(INDEX(E_SourceStreams!$A:$N,DU63,AP$7)=\"\",\"\",INDEX(E_SourceStreams!$A:$N,DU63,AP$7)))","v":""},{"$f":"IF($E63=\"\",\"\",IF(INDEX(E_SourceStreams!$A:$N,DV63,AQ$7)=\"\",\"\",INDEX(E_SourceStreams!$A:$N,DV63,AQ$7)))","v":""},{"$f":"IF($E63=\"\",\"\",IF(INDEX(E_SourceStreams!$A:$N,DW63,AR$7)=\"\",\"\",INDEX(E_SourceStreams!$A:$N,DW63,AR$7)))","v":""},{"$f":"IF($E63=\"\",\"\",IF(INDEX(E_SourceStreams!$A:$N,DX63,AS$7)=\"\",\"\",INDEX(E_SourceStreams!$A:$N,DX63,AS$7)))","v":""},{"$f":"IF($E63=\"\",\"\",IF(INDEX(E_SourceStreams!$A:$N,DY63,AT$7)=\"\",\"\",INDEX(E_SourceStreams!$A:$N,DY63,AT$7)))","v":""},{"$f":"IF($E63=\"\",\"\",IF(INDEX(E_SourceStreams!$A:$N,DZ63,AU$7)=\"\",\"\",INDEX(E_SourceStreams!$A:$N,DZ63,AU$7)))","v":""},{"$f":"IF($E63=\"\",\"\",IF(INDEX(E_SourceStreams!$A:$N,EA63,AV$7)=\"\",\"\",INDEX(E_SourceStreams!$A:$N,EA63,AV$7)))","v":""},{"$f":"IF($E63=\"\",\"\",IF(INDEX(E_SourceStreams!$A:$N,EB63,AW$7)=\"\",\"\",INDEX(E_SourceStreams!$A:$N,EB63,AW$7)))","v":""},{"$f":"IF($E63=\"\",\"\",IF(INDEX(E_SourceStreams!$A:$N,EC63,AX$7)=\"\",\"\",INDEX(E_SourceStreams!$A:$N,EC63,AX$7)))","v":""},{"$f":"IF($E63=\"\",\"\",IF(INDEX(E_SourceStreams!$A:$N,ED63,AY$7)=\"\",\"\",INDEX(E_SourceStreams!$A:$N,ED63,AY$7)))","v":""},{"$f":"IF($E63=\"\",\"\",IF(INDEX(E_SourceStreams!$A:$N,EE63,AZ$7)=\"\",\"\",INDEX(E_SourceStreams!$A:$N,EE63,AZ$7)))","v":""},{"$f":"IF($E63=\"\",\"\",IF(INDEX(E_SourceStreams!$A:$N,EF63,BA$7)=\"\",\"\",INDEX(E_SourceStreams!$A:$N,EF63,BA$7)))","v":""},{"$f":"IF($E63=\"\",\"\",IF(INDEX(E_SourceStreams!$A:$N,EG63,BB$7)=\"\",\"\",INDEX(E_SourceStreams!$A:$N,EG63,BB$7)))","v":""},{"$f":"IF($E63=\"\",\"\",IF(INDEX(E_SourceStreams!$A:$N,EH63,BC$7)=\"\",\"\",INDEX(E_SourceStreams!$A:$N,EH63,BC$7)))","v":""},{"$f":"IF($E63=\"\",\"\",IF(INDEX(E_SourceStreams!$A:$N,EI63,BD$7)=\"\",\"\",INDEX(E_SourceStreams!$A:$N,EI63,BD$7)))","v":""},{"$f":"IF($E63=\"\",\"\",IF(INDEX(E_SourceStreams!$A:$N,EJ63,BE$7)=\"\",\"\",INDEX(E_SourceStreams!$A:$N,EJ63,BE$7)))","v":""},{"$f":"IF($E63=\"\",\"\",IF(INDEX(E_SourceStreams!$A:$N,EK63,BF$7)=\"\",\"\",INDEX(E_SourceStreams!$A:$N,EK63,BF$7)))","v":""},{"$f":"IF($E63=\"\",\"\",IF(INDEX(E_SourceStreams!$A:$N,EL63,BG$7)=\"\",\"\",INDEX(E_SourceStreams!$A:$N,EL63,BG$7)))","v":""},{"$f":"IF($E63=\"\",\"\",IF(INDEX(E_SourceStreams!$A:$N,EM63,BH$7)=\"\",\"\",INDEX(E_SourceStreams!$A:$N,EM63,BH$7)))","v":""},{"$f":"IF($E63=\"\",\"\",IF(INDEX(E_SourceStreams!$A:$N,EN63,BI$7)=\"\",\"\",INDEX(E_SourceStreams!$A:$N,EN63,BI$7)))","v":""},{"$f":"IF($E63=\"\",\"\",IF(INDEX(E_SourceStreams!$A:$N,EO63,BJ$7)=\"\",\"\",INDEX(E_SourceStreams!$A:$N,EO63,BJ$7)))","v":""},{"$f":"IF($E63=\"\",\"\",IF(INDEX(E_SourceStreams!$A:$N,EP63,BK$7)=\"\",\"\",INDEX(E_SourceStreams!$A:$N,EP63,BK$7)))","v":""},{"$f":"IF($E63=\"\",\"\",IF(INDEX(E_SourceStreams!$A:$N,EQ63,BL$7)=\"\",\"\",INDEX(E_SourceStreams!$A:$N,EQ63,BL$7)))","v":""},{"$f":"IF($E63=\"\",\"\",IF(INDEX(E_SourceStreams!$A:$N,ER63,BM$7)=\"\",\"\",INDEX(E_SourceStreams!$A:$N,ER63,BM$7)))","v":""},{"$f":"IF($E63=\"\",\"\",IF(INDEX(E_SourceStreams!$A:$N,ES63,BN$7)=\"\",\"\",INDEX(E_SourceStreams!$A:$N,ES63,BN$7)))","v":""},{"$f":"IF($E63=\"\",\"\",IF(INDEX(E_SourceStreams!$A:$N,ET63,BO$7)=\"\",\"\",INDEX(E_SourceStreams!$A:$N,ET63,BO$7)))","v":""},{"$f":"IF($E63=\"\",\"\",IF(INDEX(E_SourceStreams!$A:$N,EU63,BP$7)=\"\",\"\",INDEX(E_SourceStreams!$A:$N,EU63,BP$7)))","v":""},{"$f":"IF($E63=\"\",\"\",IF(INDEX(E_SourceStreams!$A:$N,EV63,BQ$7)=\"\",\"\",INDEX(E_SourceStreams!$A:$N,EV63,BQ$7)))","v":""},{"$f":"IF($E63=\"\",\"\",IF(INDEX(E_SourceStreams!$A:$N,EW63,BR$7)=\"\",\"\",INDEX(E_SourceStreams!$A:$N,EW63,BR$7)))","v":""},{"$f":"IF($E63=\"\",\"\",IF(INDEX(E_SourceStreams!$A:$N,EX63,BS$7)=\"\",\"\",INDEX(E_SourceStreams!$A:$N,EX63,BS$7)))","v":""},{"$f":"IF($E63=\"\",\"\",IF(INDEX(E_SourceStreams!$A:$N,EY63,BT$7)=\"\",\"\",INDEX(E_SourceStreams!$A:$N,EY63,BT$7)))","v":""},null,null,null,null,null,null,null,null,null,null,null,null,null,null,null,"SourceCategory_",{"$f":"INDEX(C_InstallationDescription!$A$223:$A$328,ROWS($CI$11:CI63))=\"ausblenden\"","v":true},"SourceStreamName_",null,3566,3568,3570,3572,3574,3576,3578,3578,3578,3578,3578,3581,3585,3586,3587,3594,3604,3604,3604,3604,3604,3604,3604,3595,3605,3605,3605,3605,3605,3605,3605,3596,3606,3606,3606,3606,3606,3606,3606,3597,3607,3607,3607,3607,3607,3607,3607,3598,3608,3608,3608,3608,3608,3608,3608,3599,3609,3609,3609,3609,3609,3609,3609,3615]
[null,{"$f":"IF(COUNTIF($CK$10:CK64,TRUE)>0,\"\",INDEX(C_InstallationDescription!$E$223:$E$239,ROWS($A$11:A64)))","v":""},{"$f":"IF($E64=\"\",\"\",INDEX(C_InstallationDescription!G:G,MATCH($B64,C_InstallationDescription!$E:$E,0)))","v":""},{"$f":"IF($E64=\"\",\"\",INDEX(C_InstallationDescription!I:I,MATCH($B64,C_InstallationDescription!$E:$E,0)))","v":""},{"$f":"IF($B64=\"\",\"\",INDEX(C_InstallationDescription!F:F,MATCH($CJ64,C_InstallationDescription!$Q:$Q,0)))","v":""},{"$f":"IF($E64=\"\",\"\",INDEX(C_InstallationDescription!L:L,MATCH($CJ64,C_InstallationDescription!$Q:$Q,0)))","v":""},{"$f":"IF($E64=\"\",\"\",INDEX(C_InstallationDescription!M:M,MATCH($CJ64,C_InstallationDescription!$Q:$Q,0)))","v":""},{"$f":"IF($E64=\"\",\"\",INDEX(C_InstallationDescription!N:N,MATCH($CJ64,C_InstallationDescription!$Q:$Q,0)))","v":""},{"$f":"IF($E64=\"\",\"\",IF(INDEX(E_SourceStreams!$A:$N,CN64,I$7)=\"\",\"\",INDEX(E_SourceStreams!$A:$N,CN64,I$7)))","v":""},{"$f":"IF($E64=\"\",\"\",IF(INDEX(E_SourceStreams!$A:$N,CO64,J$7)=\"\",\"\",INDEX(E_SourceStreams!$A:$N,CO64,J$7)))","v":""},{"$f":"IF($E64=\"\",\"\",IF(INDEX(E_SourceStreams!$A:$N,CP64,K$7)=\"\",\"\",INDEX(E_SourceStreams!$A:$N,CP64,K$7)))","v":""},{"$f":"IF($E64=\"\",\"\",IF(INDEX(E_SourceStreams!$A:$N,CQ64,L$7)=\"\",\"\",INDEX(E_SourceStreams!$A:$N,CQ64,L$7)))","v":""},{"$f":"IF($E64=\"\",\"\",IF(INDEX(E_SourceStreams!$A:$N,CR64,M$7)=\"\",\"\",INDEX(E_SourceStreams!$A:$N,CR64,M$7)))","v":""},{"$f":"IF($E64=\"\",\"\",IF(INDEX(E_SourceStreams!$A:$N,CS64,N$7)=\"\",\"\",INDEX(E_SourceStreams!$A:$N,CS64,N$7)))","v":""},{"$f":"IF($E64=\"\",\"\",IF(INDEX(E_SourceStreams!$A:$N,CT64,O$7)=\"\",\"\",INDEX(E_SourceStreams!$A:$N,CT64,O$7)))","v":""},{"$f":"IF($E64=\"\",\"\",IF(INDEX(E_SourceStreams!$A:$N,CU64,P$7)=\"\",\"\",INDEX(E_SourceStreams!$A:$N,CU64,P$7)))","v":""},{"$f":"IF($E64=\"\",\"\",IF(INDEX(E_SourceStreams!$A:$N,CV64,Q$7)=\"\",\"\",INDEX(E_SourceStreams!$A:$N,CV64,Q$7)))","v":""},{"$f":"IF($E64=\"\",\"\",IF(INDEX(E_SourceStreams!$A:$N,CW64,R$7)=\"\",\"\",INDEX(E_SourceStreams!$A:$N,CW64,R$7)))","v":""},{"$f":"IF($E64=\"\",\"\",IF(INDEX(E_SourceStreams!$A:$N,CX64,S$7)=\"\",\"\",INDEX(E_SourceStreams!$A:$N,CX64,S$7)))","v":""},{"$f":"IF($E64=\"\",\"\",IF(INDEX(E_SourceStreams!$A:$N,CY64,T$7)=\"\",\"\",INDEX(E_SourceStreams!$A:$N,CY64,T$7)))","v":""},{"$f":"IF($E64=\"\",\"\",IF(INDEX(E_SourceStreams!$A:$N,CZ64,U$7)=\"\",\"\",INDEX(E_SourceStreams!$A:$N,CZ64,U$7)))","v":""},{"$f":"IF($E64=\"\",\"\",IF(INDEX(E_SourceStreams!$A:$N,DA64,V$7)=\"\",\"\",INDEX(E_SourceStreams!$A:$N,DA64,V$7)))","v":""},{"$f":"IF($E64=\"\",\"\",IF(INDEX(E_SourceStreams!$A:$N,DB64,W$7)=\"\",\"\",INDEX(E_SourceStreams!$A:$N,DB64,W$7)))","v":""},{"$f":"IF($E64=\"\",\"\",IF(INDEX(E_SourceStreams!$A:$N,DC64,X$7)=\"\",\"\",INDEX(E_SourceStreams!$A:$N,DC64,X$7)))","v":""},{"$f":"IF($E64=\"\",\"\",IF(INDEX(E_SourceStreams!$A:$N,DD64,Y$7)=\"\",\"\",INDEX(E_SourceStreams!$A:$N,DD64,Y$7)))","v":""},{"$f":"IF($E64=\"\",\"\",IF(INDEX(E_SourceStreams!$A:$N,DE64,Z$7)=\"\",\"\",INDEX(E_SourceStreams!$A:$N,DE64,Z$7)))","v":""},{"$f":"IF($E64=\"\",\"\",IF(INDEX(E_SourceStreams!$A:$N,DF64,AA$7)=\"\",\"\",INDEX(E_SourceStreams!$A:$N,DF64,AA$7)))","v":""},{"$f":"IF($E64=\"\",\"\",IF(INDEX(E_SourceStreams!$A:$N,DG64,AB$7)=\"\",\"\",INDEX(E_SourceStreams!$A:$N,DG64,AB$7)))","v":""},{"$f":"IF($E64=\"\",\"\",IF(INDEX(E_SourceStreams!$A:$N,DH64,AC$7)=\"\",\"\",INDEX(E_SourceStreams!$A:$N,DH64,AC$7)))","v":""},{"$f":"IF($E64=\"\",\"\",IF(INDEX(E_SourceStreams!$A:$N,DI64,AD$7)=\"\",\"\",INDEX(E_SourceStreams!$A:$N,DI64,AD$7)))","v":""},{"$f":"IF($E64=\"\",\"\",IF(INDEX(E_SourceStreams!$A:$N,DJ64,AE$7)=\"\",\"\",INDEX(E_SourceStreams!$A:$N,DJ64,AE$7)))","v":""},{"$f":"IF($E64=\"\",\"\",IF(INDEX(E_SourceStreams!$A:$N,DK64,AF$7)=\"\",\"\",INDEX(E_SourceStreams!$A:$N,DK64,AF$7)))","v":""},{"$f":"IF($E64=\"\",\"\",IF(INDEX(E_SourceStreams!$A:$N,DL64,AG$7)=\"\",\"\",INDEX(E_SourceStreams!$A:$N,DL64,AG$7)))","v":""},{"$f":"IF($E64=\"\",\"\",IF(INDEX(E_SourceStreams!$A:$N,DM64,AH$7)=\"\",\"\",INDEX(E_SourceStreams!$A:$N,DM64,AH$7)))","v":""},{"$f":"IF($E64=\"\",\"\",IF(INDEX(E_SourceStreams!$A:$N,DN64,AI$7)=\"\",\"\",INDEX(E_SourceStreams!$A:$N,DN64,AI$7)))","v":""},{"$f":"IF($E64=\"\",\"\",IF(INDEX(E_SourceStreams!$A:$N,DO64,AJ$7)=\"\",\"\",INDEX(E_SourceStreams!$A:$N,DO64,AJ$7)))","v":""},{"$f":"IF($E64=\"\",\"\",IF(INDEX(E_SourceStreams!$A:$N,DP64,AK$7)=\"\",\"\",INDEX(E_SourceStreams!$A:$N,DP64,AK$7)))","v":""},{"$f":"IF($E64=\"\",\"\",IF(INDEX(E_SourceStreams!$A:$N,DQ64,AL$7)=\"\",\"\",INDEX(E_SourceStreams!$A:$N,DQ64,AL$7)))","v":""},{"$f":"IF($E64=\"\",\"\",IF(INDEX(E_SourceStreams!$A:$N,DR64,AM$7)=\"\",\"\",INDEX(E_SourceStreams!$A:$N,DR64,AM$7)))","v":""},{"$f":"IF($E64=\"\",\"\",IF(INDEX(E_SourceStreams!$A:$N,DS64,AN$7)=\"\",\"\",INDEX(E_SourceStreams!$A:$N,DS64,AN$7)))","v":""},{"$f":"IF($E64=\"\",\"\",IF(INDEX(E_SourceStreams!$A:$N,DT64,AO$7)=\"\",\"\",INDEX(E_SourceStreams!$A:$N,DT64,AO$7)))","v":""},{"$f":"IF($E64=\"\",\"\",IF(INDEX(E_SourceStreams!$A:$N,DU64,AP$7)=\"\",\"\",INDEX(E_SourceStreams!$A:$N,DU64,AP$7)))","v":""},{"$f":"IF($E64=\"\",\"\",IF(INDEX(E_SourceStreams!$A:$N,DV64,AQ$7)=\"\",\"\",INDEX(E_SourceStreams!$A:$N,DV64,AQ$7)))","v":""},{"$f":"IF($E64=\"\",\"\",IF(INDEX(E_SourceStreams!$A:$N,DW64,AR$7)=\"\",\"\",INDEX(E_SourceStreams!$A:$N,DW64,AR$7)))","v":""},{"$f":"IF($E64=\"\",\"\",IF(INDEX(E_SourceStreams!$A:$N,DX64,AS$7)=\"\",\"\",INDEX(E_SourceStreams!$A:$N,DX64,AS$7)))","v":""},{"$f":"IF($E64=\"\",\"\",IF(INDEX(E_SourceStreams!$A:$N,DY64,AT$7)=\"\",\"\",INDEX(E_SourceStreams!$A:$N,DY64,AT$7)))","v":""},{"$f":"IF($E64=\"\",\"\",IF(INDEX(E_SourceStreams!$A:$N,DZ64,AU$7)=\"\",\"\",INDEX(E_SourceStreams!$A:$N,DZ64,AU$7)))","v":""},{"$f":"IF($E64=\"\",\"\",IF(INDEX(E_SourceStreams!$A:$N,EA64,AV$7)=\"\",\"\",INDEX(E_SourceStreams!$A:$N,EA64,AV$7)))","v":""},{"$f":"IF($E64=\"\",\"\",IF(INDEX(E_SourceStreams!$A:$N,EB64,AW$7)=\"\",\"\",INDEX(E_SourceStreams!$A:$N,EB64,AW$7)))","v":""},{"$f":"IF($E64=\"\",\"\",IF(INDEX(E_SourceStreams!$A:$N,EC64,AX$7)=\"\",\"\",INDEX(E_SourceStreams!$A:$N,EC64,AX$7)))","v":""},{"$f":"IF($E64=\"\",\"\",IF(INDEX(E_SourceStreams!$A:$N,ED64,AY$7)=\"\",\"\",INDEX(E_SourceStreams!$A:$N,ED64,AY$7)))","v":""},{"$f":"IF($E64=\"\",\"\",IF(INDEX(E_SourceStreams!$A:$N,EE64,AZ$7)=\"\",\"\",INDEX(E_SourceStreams!$A:$N,EE64,AZ$7)))","v":""},{"$f":"IF($E64=\"\",\"\",IF(INDEX(E_SourceStreams!$A:$N,EF64,BA$7)=\"\",\"\",INDEX(E_SourceStreams!$A:$N,EF64,BA$7)))","v":""},{"$f":"IF($E64=\"\",\"\",IF(INDEX(E_SourceStreams!$A:$N,EG64,BB$7)=\"\",\"\",INDEX(E_SourceStreams!$A:$N,EG64,BB$7)))","v":""},{"$f":"IF($E64=\"\",\"\",IF(INDEX(E_SourceStreams!$A:$N,EH64,BC$7)=\"\",\"\",INDEX(E_SourceStreams!$A:$N,EH64,BC$7)))","v":""},{"$f":"IF($E64=\"\",\"\",IF(INDEX(E_SourceStreams!$A:$N,EI64,BD$7)=\"\",\"\",INDEX(E_SourceStreams!$A:$N,EI64,BD$7)))","v":""},{"$f":"IF($E64=\"\",\"\",IF(INDEX(E_SourceStreams!$A:$N,EJ64,BE$7)=\"\",\"\",INDEX(E_SourceStreams!$A:$N,EJ64,BE$7)))","v":""},{"$f":"IF($E64=\"\",\"\",IF(INDEX(E_SourceStreams!$A:$N,EK64,BF$7)=\"\",\"\",INDEX(E_SourceStreams!$A:$N,EK64,BF$7)))","v":""},{"$f":"IF($E64=\"\",\"\",IF(INDEX(E_SourceStreams!$A:$N,EL64,BG$7)=\"\",\"\",INDEX(E_SourceStreams!$A:$N,EL64,BG$7)))","v":""},{"$f":"IF($E64=\"\",\"\",IF(INDEX(E_SourceStreams!$A:$N,EM64,BH$7)=\"\",\"\",INDEX(E_SourceStreams!$A:$N,EM64,BH$7)))","v":""},{"$f":"IF($E64=\"\",\"\",IF(INDEX(E_SourceStreams!$A:$N,EN64,BI$7)=\"\",\"\",INDEX(E_SourceStreams!$A:$N,EN64,BI$7)))","v":""},{"$f":"IF($E64=\"\",\"\",IF(INDEX(E_SourceStreams!$A:$N,EO64,BJ$7)=\"\",\"\",INDEX(E_SourceStreams!$A:$N,EO64,BJ$7)))","v":""},{"$f":"IF($E64=\"\",\"\",IF(INDEX(E_SourceStreams!$A:$N,EP64,BK$7)=\"\",\"\",INDEX(E_SourceStreams!$A:$N,EP64,BK$7)))","v":""},{"$f":"IF($E64=\"\",\"\",IF(INDEX(E_SourceStreams!$A:$N,EQ64,BL$7)=\"\",\"\",INDEX(E_SourceStreams!$A:$N,EQ64,BL$7)))","v":""},{"$f":"IF($E64=\"\",\"\",IF(INDEX(E_SourceStreams!$A:$N,ER64,BM$7)=\"\",\"\",INDEX(E_SourceStreams!$A:$N,ER64,BM$7)))","v":""},{"$f":"IF($E64=\"\",\"\",IF(INDEX(E_SourceStreams!$A:$N,ES64,BN$7)=\"\",\"\",INDEX(E_SourceStreams!$A:$N,ES64,BN$7)))","v":""},{"$f":"IF($E64=\"\",\"\",IF(INDEX(E_SourceStreams!$A:$N,ET64,BO$7)=\"\",\"\",INDEX(E_SourceStreams!$A:$N,ET64,BO$7)))","v":""},{"$f":"IF($E64=\"\",\"\",IF(INDEX(E_SourceStreams!$A:$N,EU64,BP$7)=\"\",\"\",INDEX(E_SourceStreams!$A:$N,EU64,BP$7)))","v":""},{"$f":"IF($E64=\"\",\"\",IF(INDEX(E_SourceStreams!$A:$N,EV64,BQ$7)=\"\",\"\",INDEX(E_SourceStreams!$A:$N,EV64,BQ$7)))","v":""},{"$f":"IF($E64=\"\",\"\",IF(INDEX(E_SourceStreams!$A:$N,EW64,BR$7)=\"\",\"\",INDEX(E_SourceStreams!$A:$N,EW64,BR$7)))","v":""},{"$f":"IF($E64=\"\",\"\",IF(INDEX(E_SourceStreams!$A:$N,EX64,BS$7)=\"\",\"\",INDEX(E_SourceStreams!$A:$N,EX64,BS$7)))","v":""},{"$f":"IF($E64=\"\",\"\",IF(INDEX(E_SourceStreams!$A:$N,EY64,BT$7)=\"\",\"\",INDEX(E_SourceStreams!$A:$N,EY64,BT$7)))","v":""},null,null,null,null,null,null,null,null,null,null,null,null,null,null,null,"SourceCategory_",{"$f":"INDEX(C_InstallationDescription!$A$223:$A$328,ROWS($CI$11:CI64))=\"ausblenden\"","v":true},"SourceStreamName_",null,3632,3634,3636,3638,3640,3642,3644,3644,3644,3644,3644,3647,3651,3652,3653,3660,3670,3670,3670,3670,3670,3670,3670,3661,3671,3671,3671,3671,3671,3671,3671,3662,3672,3672,3672,3672,3672,3672,3672,3663,3673,3673,3673,3673,3673,3673,3673,3664,3674,3674,3674,3674,3674,3674,3674,3665,3675,3675,3675,3675,3675,3675,3675,3681]
[null,{"$f":"IF(COUNTIF($CK$10:CK65,TRUE)>0,\"\",INDEX(C_InstallationDescription!$E$223:$E$239,ROWS($A$11:A65)))","v":""},{"$f":"IF($E65=\"\",\"\",INDEX(C_InstallationDescription!G:G,MATCH($B65,C_InstallationDescription!$E:$E,0)))","v":""},{"$f":"IF($E65=\"\",\"\",INDEX(C_InstallationDescription!I:I,MATCH($B65,C_InstallationDescription!$E:$E,0)))","v":""},{"$f":"IF($B65=\"\",\"\",INDEX(C_InstallationDescription!F:F,MATCH($CJ65,C_InstallationDescription!$Q:$Q,0)))","v":""},{"$f":"IF($E65=\"\",\"\",INDEX(C_InstallationDescription!L:L,MATCH($CJ65,C_InstallationDescription!$Q:$Q,0)))","v":""},{"$f":"IF($E65=\"\",\"\",INDEX(C_InstallationDescription!M:M,MATCH($CJ65,C_InstallationDescription!$Q:$Q,0)))","v":""},{"$f":"IF($E65=\"\",\"\",INDEX(C_InstallationDescription!N:N,MATCH($CJ65,C_InstallationDescription!$Q:$Q,0)))","v":""},{"$f":"IF($E65=\"\",\"\",IF(INDEX(E_SourceStreams!$A:$N,CN65,I$7)=\"\",\"\",INDEX(E_SourceStreams!$A:$N,CN65,I$7)))","v":""},{"$f":"IF($E65=\"\",\"\",IF(INDEX(E_SourceStreams!$A:$N,CO65,J$7)=\"\",\"\",INDEX(E_SourceStreams!$A:$N,CO65,J$7)))","v":""},{"$f":"IF($E65=\"\",\"\",IF(INDEX(E_SourceStreams!$A:$N,CP65,K$7)=\"\",\"\",INDEX(E_SourceStreams!$A:$N,CP65,K$7)))","v":""},{"$f":"IF($E65=\"\",\"\",IF(INDEX(E_SourceStreams!$A:$N,CQ65,L$7)=\"\",\"\",INDEX(E_SourceStreams!$A:$N,CQ65,L$7)))","v":""},{"$f":"IF($E65=\"\",\"\",IF(INDEX(E_SourceStreams!$A:$N,CR65,M$7)=\"\",\"\",INDEX(E_SourceStreams!$A:$N,CR65,M$7)))","v":""},{"$f":"IF($E65=\"\",\"\",IF(INDEX(E_SourceStreams!$A:$N,CS65,N$7)=\"\",\"\",INDEX(E_SourceStreams!$A:$N,CS65,N$7)))","v":""},{"$f":"IF($E65=\"\",\"\",IF(INDEX(E_SourceStreams!$A:$N,CT65,O$7)=\"\",\"\",INDEX(E_SourceStreams!$A:$N,CT65,O$7)))","v":""},{"$f":"IF($E65=\"\",\"\",IF(INDEX(E_SourceStreams!$A:$N,CU65,P$7)=\"\",\"\",INDEX(E_SourceStreams!$A:$N,CU65,P$7)))","v":""},{"$f":"IF($E65=\"\",\"\",IF(INDEX(E_SourceStreams!$A:$N,CV65,Q$7)=\"\",\"\",INDEX(E_SourceStreams!$A:$N,CV65,Q$7)))","v":""},{"$f":"IF($E65=\"\",\"\",IF(INDEX(E_SourceStreams!$A:$N,CW65,R$7)=\"\",\"\",INDEX(E_SourceStreams!$A:$N,CW65,R$7)))","v":""},{"$f":"IF($E65=\"\",\"\",IF(INDEX(E_SourceStreams!$A:$N,CX65,S$7)=\"\",\"\",INDEX(E_SourceStreams!$A:$N,CX65,S$7)))","v":""},{"$f":"IF($E65=\"\",\"\",IF(INDEX(E_SourceStreams!$A:$N,CY65,T$7)=\"\",\"\",INDEX(E_SourceStreams!$A:$N,CY65,T$7)))","v":""},{"$f":"IF($E65=\"\",\"\",IF(INDEX(E_SourceStreams!$A:$N,CZ65,U$7)=\"\",\"\",INDEX(E_SourceStreams!$A:$N,CZ65,U$7)))","v":""},{"$f":"IF($E65=\"\",\"\",IF(INDEX(E_SourceStreams!$A:$N,DA65,V$7)=\"\",\"\",INDEX(E_SourceStreams!$A:$N,DA65,V$7)))","v":""},{"$f":"IF($E65=\"\",\"\",IF(INDEX(E_SourceStreams!$A:$N,DB65,W$7)=\"\",\"\",INDEX(E_SourceStreams!$A:$N,DB65,W$7)))","v":""},{"$f":"IF($E65=\"\",\"\",IF(INDEX(E_SourceStreams!$A:$N,DC65,X$7)=\"\",\"\",INDEX(E_SourceStreams!$A:$N,DC65,X$7)))","v":""},{"$f":"IF($E65=\"\",\"\",IF(INDEX(E_SourceStreams!$A:$N,DD65,Y$7)=\"\",\"\",INDEX(E_SourceStreams!$A:$N,DD65,Y$7)))","v":""},{"$f":"IF($E65=\"\",\"\",IF(INDEX(E_SourceStreams!$A:$N,DE65,Z$7)=\"\",\"\",INDEX(E_SourceStreams!$A:$N,DE65,Z$7)))","v":""},{"$f":"IF($E65=\"\",\"\",IF(INDEX(E_SourceStreams!$A:$N,DF65,AA$7)=\"\",\"\",INDEX(E_SourceStreams!$A:$N,DF65,AA$7)))","v":""},{"$f":"IF($E65=\"\",\"\",IF(INDEX(E_SourceStreams!$A:$N,DG65,AB$7)=\"\",\"\",INDEX(E_SourceStreams!$A:$N,DG65,AB$7)))","v":""},{"$f":"IF($E65=\"\",\"\",IF(INDEX(E_SourceStreams!$A:$N,DH65,AC$7)=\"\",\"\",INDEX(E_SourceStreams!$A:$N,DH65,AC$7)))","v":""},{"$f":"IF($E65=\"\",\"\",IF(INDEX(E_SourceStreams!$A:$N,DI65,AD$7)=\"\",\"\",INDEX(E_SourceStreams!$A:$N,DI65,AD$7)))","v":""},{"$f":"IF($E65=\"\",\"\",IF(INDEX(E_SourceStreams!$A:$N,DJ65,AE$7)=\"\",\"\",INDEX(E_SourceStreams!$A:$N,DJ65,AE$7)))","v":""},{"$f":"IF($E65=\"\",\"\",IF(INDEX(E_SourceStreams!$A:$N,DK65,AF$7)=\"\",\"\",INDEX(E_SourceStreams!$A:$N,DK65,AF$7)))","v":""},{"$f":"IF($E65=\"\",\"\",IF(INDEX(E_SourceStreams!$A:$N,DL65,AG$7)=\"\",\"\",INDEX(E_SourceStreams!$A:$N,DL65,AG$7)))","v":""},{"$f":"IF($E65=\"\",\"\",IF(INDEX(E_SourceStreams!$A:$N,DM65,AH$7)=\"\",\"\",INDEX(E_SourceStreams!$A:$N,DM65,AH$7)))","v":""},{"$f":"IF($E65=\"\",\"\",IF(INDEX(E_SourceStreams!$A:$N,DN65,AI$7)=\"\",\"\",INDEX(E_SourceStreams!$A:$N,DN65,AI$7)))","v":""},{"$f":"IF($E65=\"\",\"\",IF(INDEX(E_SourceStreams!$A:$N,DO65,AJ$7)=\"\",\"\",INDEX(E_SourceStreams!$A:$N,DO65,AJ$7)))","v":""},{"$f":"IF($E65=\"\",\"\",IF(INDEX(E_SourceStreams!$A:$N,DP65,AK$7)=\"\",\"\",INDEX(E_SourceStreams!$A:$N,DP65,AK$7)))","v":""},{"$f":"IF($E65=\"\",\"\",IF(INDEX(E_SourceStreams!$A:$N,DQ65,AL$7)=\"\",\"\",INDEX(E_SourceStreams!$A:$N,DQ65,AL$7)))","v":""},{"$f":"IF($E65=\"\",\"\",IF(INDEX(E_SourceStreams!$A:$N,DR65,AM$7)=\"\",\"\",INDEX(E_SourceStreams!$A:$N,DR65,AM$7)))","v":""},{"$f":"IF($E65=\"\",\"\",IF(INDEX(E_SourceStreams!$A:$N,DS65,AN$7)=\"\",\"\",INDEX(E_SourceStreams!$A:$N,DS65,AN$7)))","v":""},{"$f":"IF($E65=\"\",\"\",IF(INDEX(E_SourceStreams!$A:$N,DT65,AO$7)=\"\",\"\",INDEX(E_SourceStreams!$A:$N,DT65,AO$7)))","v":""},{"$f":"IF($E65=\"\",\"\",IF(INDEX(E_SourceStreams!$A:$N,DU65,AP$7)=\"\",\"\",INDEX(E_SourceStreams!$A:$N,DU65,AP$7)))","v":""},{"$f":"IF($E65=\"\",\"\",IF(INDEX(E_SourceStreams!$A:$N,DV65,AQ$7)=\"\",\"\",INDEX(E_SourceStreams!$A:$N,DV65,AQ$7)))","v":""},{"$f":"IF($E65=\"\",\"\",IF(INDEX(E_SourceStreams!$A:$N,DW65,AR$7)=\"\",\"\",INDEX(E_SourceStreams!$A:$N,DW65,AR$7)))","v":""},{"$f":"IF($E65=\"\",\"\",IF(INDEX(E_SourceStreams!$A:$N,DX65,AS$7)=\"\",\"\",INDEX(E_SourceStreams!$A:$N,DX65,AS$7)))","v":""},{"$f":"IF($E65=\"\",\"\",IF(INDEX(E_SourceStreams!$A:$N,DY65,AT$7)=\"\",\"\",INDEX(E_SourceStreams!$A:$N,DY65,AT$7)))","v":""},{"$f":"IF($E65=\"\",\"\",IF(INDEX(E_SourceStreams!$A:$N,DZ65,AU$7)=\"\",\"\",INDEX(E_SourceStreams!$A:$N,DZ65,AU$7)))","v":""},{"$f":"IF($E65=\"\",\"\",IF(INDEX(E_SourceStreams!$A:$N,EA65,AV$7)=\"\",\"\",INDEX(E_SourceStreams!$A:$N,EA65,AV$7)))","v":""},{"$f":"IF($E65=\"\",\"\",IF(INDEX(E_SourceStreams!$A:$N,EB65,AW$7)=\"\",\"\",INDEX(E_SourceStreams!$A:$N,EB65,AW$7)))","v":""},{"$f":"IF($E65=\"\",\"\",IF(INDEX(E_SourceStreams!$A:$N,EC65,AX$7)=\"\",\"\",INDEX(E_SourceStreams!$A:$N,EC65,AX$7)))","v":""},{"$f":"IF($E65=\"\",\"\",IF(INDEX(E_SourceStreams!$A:$N,ED65,AY$7)=\"\",\"\",INDEX(E_SourceStreams!$A:$N,ED65,AY$7)))","v":""},{"$f":"IF($E65=\"\",\"\",IF(INDEX(E_SourceStreams!$A:$N,EE65,AZ$7)=\"\",\"\",INDEX(E_SourceStreams!$A:$N,EE65,AZ$7)))","v":""},{"$f":"IF($E65=\"\",\"\",IF(INDEX(E_SourceStreams!$A:$N,EF65,BA$7)=\"\",\"\",INDEX(E_SourceStreams!$A:$N,EF65,BA$7)))","v":""},{"$f":"IF($E65=\"\",\"\",IF(INDEX(E_SourceStreams!$A:$N,EG65,BB$7)=\"\",\"\",INDEX(E_SourceStreams!$A:$N,EG65,BB$7)))","v":""},{"$f":"IF($E65=\"\",\"\",IF(INDEX(E_SourceStreams!$A:$N,EH65,BC$7)=\"\",\"\",INDEX(E_SourceStreams!$A:$N,EH65,BC$7)))","v":""},{"$f":"IF($E65=\"\",\"\",IF(INDEX(E_SourceStreams!$A:$N,EI65,BD$7)=\"\",\"\",INDEX(E_SourceStreams!$A:$N,EI65,BD$7)))","v":""},{"$f":"IF($E65=\"\",\"\",IF(INDEX(E_SourceStreams!$A:$N,EJ65,BE$7)=\"\",\"\",INDEX(E_SourceStreams!$A:$N,EJ65,BE$7)))","v":""},{"$f":"IF($E65=\"\",\"\",IF(INDEX(E_SourceStreams!$A:$N,EK65,BF$7)=\"\",\"\",INDEX(E_SourceStreams!$A:$N,EK65,BF$7)))","v":""},{"$f":"IF($E65=\"\",\"\",IF(INDEX(E_SourceStreams!$A:$N,EL65,BG$7)=\"\",\"\",INDEX(E_SourceStreams!$A:$N,EL65,BG$7)))","v":""},{"$f":"IF($E65=\"\",\"\",IF(INDEX(E_SourceStreams!$A:$N,EM65,BH$7)=\"\",\"\",INDEX(E_SourceStreams!$A:$N,EM65,BH$7)))","v":""},{"$f":"IF($E65=\"\",\"\",IF(INDEX(E_SourceStreams!$A:$N,EN65,BI$7)=\"\",\"\",INDEX(E_SourceStreams!$A:$N,EN65,BI$7)))","v":""},{"$f":"IF($E65=\"\",\"\",IF(INDEX(E_SourceStreams!$A:$N,EO65,BJ$7)=\"\",\"\",INDEX(E_SourceStreams!$A:$N,EO65,BJ$7)))","v":""},{"$f":"IF($E65=\"\",\"\",IF(INDEX(E_SourceStreams!$A:$N,EP65,BK$7)=\"\",\"\",INDEX(E_SourceStreams!$A:$N,EP65,BK$7)))","v":""},{"$f":"IF($E65=\"\",\"\",IF(INDEX(E_SourceStreams!$A:$N,EQ65,BL$7)=\"\",\"\",INDEX(E_SourceStreams!$A:$N,EQ65,BL$7)))","v":""},{"$f":"IF($E65=\"\",\"\",IF(INDEX(E_SourceStreams!$A:$N,ER65,BM$7)=\"\",\"\",INDEX(E_SourceStreams!$A:$N,ER65,BM$7)))","v":""},{"$f":"IF($E65=\"\",\"\",IF(INDEX(E_SourceStreams!$A:$N,ES65,BN$7)=\"\",\"\",INDEX(E_SourceStreams!$A:$N,ES65,BN$7)))","v":""},{"$f":"IF($E65=\"\",\"\",IF(INDEX(E_SourceStreams!$A:$N,ET65,BO$7)=\"\",\"\",INDEX(E_SourceStreams!$A:$N,ET65,BO$7)))","v":""},{"$f":"IF($E65=\"\",\"\",IF(INDEX(E_SourceStreams!$A:$N,EU65,BP$7)=\"\",\"\",INDEX(E_SourceStreams!$A:$N,EU65,BP$7)))","v":""},{"$f":"IF($E65=\"\",\"\",IF(INDEX(E_SourceStreams!$A:$N,EV65,BQ$7)=\"\",\"\",INDEX(E_SourceStreams!$A:$N,EV65,BQ$7)))","v":""},{"$f":"IF($E65=\"\",\"\",IF(INDEX(E_SourceStreams!$A:$N,EW65,BR$7)=\"\",\"\",INDEX(E_SourceStreams!$A:$N,EW65,BR$7)))","v":""},{"$f":"IF($E65=\"\",\"\",IF(INDEX(E_SourceStreams!$A:$N,EX65,BS$7)=\"\",\"\",INDEX(E_SourceStreams!$A:$N,EX65,BS$7)))","v":""},{"$f":"IF($E65=\"\",\"\",IF(INDEX(E_SourceStreams!$A:$N,EY65,BT$7)=\"\",\"\",INDEX(E_SourceStreams!$A:$N,EY65,BT$7)))","v":""},null,null,null,null,null,null,null,null,null,null,null,null,null,null,null,"SourceCategory_",{"$f":"INDEX(C_InstallationDescription!$A$223:$A$328,ROWS($CI$11:CI65))=\"ausblenden\"","v":true},"SourceStreamName_",null,3698,3700,3702,3704,3706,3708,3710,3710,3710,3710,3710,3713,3717,3718,3719,3726,3736,3736,3736,3736,3736,3736,3736,3727,3737,3737,3737,3737,3737,3737,3737,3728,3738,3738,3738,3738,3738,3738,3738,3729,3739,3739,3739,3739,3739,3739,3739,3730,3740,3740,3740,3740,3740,3740,3740,3731,3741,3741,3741,3741,3741,3741,3741,3747]
[null,{"$f":"IF(COUNTIF($CK$10:CK66,TRUE)>0,\"\",INDEX(C_InstallationDescription!$E$223:$E$239,ROWS($A$11:A66)))","v":""},{"$f":"IF($E66=\"\",\"\",INDEX(C_InstallationDescription!G:G,MATCH($B66,C_InstallationDescription!$E:$E,0)))","v":""},{"$f":"IF($E66=\"\",\"\",INDEX(C_InstallationDescription!I:I,MATCH($B66,C_InstallationDescription!$E:$E,0)))","v":""},{"$f":"IF($B66=\"\",\"\",INDEX(C_InstallationDescription!F:F,MATCH($CJ66,C_InstallationDescription!$Q:$Q,0)))","v":""},{"$f":"IF($E66=\"\",\"\",INDEX(C_InstallationDescription!L:L,MATCH($CJ66,C_InstallationDescription!$Q:$Q,0)))","v":""},{"$f":"IF($E66=\"\",\"\",INDEX(C_InstallationDescription!M:M,MATCH($CJ66,C_InstallationDescription!$Q:$Q,0)))","v":""},{"$f":"IF($E66=\"\",\"\",INDEX(C_InstallationDescription!N:N,MATCH($CJ66,C_InstallationDescription!$Q:$Q,0)))","v":""},{"$f":"IF($E66=\"\",\"\",IF(INDEX(E_SourceStreams!$A:$N,CN66,I$7)=\"\",\"\",INDEX(E_SourceStreams!$A:$N,CN66,I$7)))","v":""},{"$f":"IF($E66=\"\",\"\",IF(INDEX(E_SourceStreams!$A:$N,CO66,J$7)=\"\",\"\",INDEX(E_SourceStreams!$A:$N,CO66,J$7)))","v":""},{"$f":"IF($E66=\"\",\"\",IF(INDEX(E_SourceStreams!$A:$N,CP66,K$7)=\"\",\"\",INDEX(E_SourceStreams!$A:$N,CP66,K$7)))","v":""},{"$f":"IF($E66=\"\",\"\",IF(INDEX(E_SourceStreams!$A:$N,CQ66,L$7)=\"\",\"\",INDEX(E_SourceStreams!$A:$N,CQ66,L$7)))","v":""},{"$f":"IF($E66=\"\",\"\",IF(INDEX(E_SourceStreams!$A:$N,CR66,M$7)=\"\",\"\",INDEX(E_SourceStreams!$A:$N,CR66,M$7)))","v":""},{"$f":"IF($E66=\"\",\"\",IF(INDEX(E_SourceStreams!$A:$N,CS66,N$7)=\"\",\"\",INDEX(E_SourceStreams!$A:$N,CS66,N$7)))","v":""},{"$f":"IF($E66=\"\",\"\",IF(INDEX(E_SourceStreams!$A:$N,CT66,O$7)=\"\",\"\",INDEX(E_SourceStreams!$A:$N,CT66,O$7)))","v":""},{"$f":"IF($E66=\"\",\"\",IF(INDEX(E_SourceStreams!$A:$N,CU66,P$7)=\"\",\"\",INDEX(E_SourceStreams!$A:$N,CU66,P$7)))","v":""},{"$f":"IF($E66=\"\",\"\",IF(INDEX(E_SourceStreams!$A:$N,CV66,Q$7)=\"\",\"\",INDEX(E_SourceStreams!$A:$N,CV66,Q$7)))","v":""},{"$f":"IF($E66=\"\",\"\",IF(INDEX(E_SourceStreams!$A:$N,CW66,R$7)=\"\",\"\",INDEX(E_SourceStreams!$A:$N,CW66,R$7)))","v":""},{"$f":"IF($E66=\"\",\"\",IF(INDEX(E_SourceStreams!$A:$N,CX66,S$7)=\"\",\"\",INDEX(E_SourceStreams!$A:$N,CX66,S$7)))","v":""},{"$f":"IF($E66=\"\",\"\",IF(INDEX(E_SourceStreams!$A:$N,CY66,T$7)=\"\",\"\",INDEX(E_SourceStreams!$A:$N,CY66,T$7)))","v":""},{"$f":"IF($E66=\"\",\"\",IF(INDEX(E_SourceStreams!$A:$N,CZ66,U$7)=\"\",\"\",INDEX(E_SourceStreams!$A:$N,CZ66,U$7)))","v":""},{"$f":"IF($E66=\"\",\"\",IF(INDEX(E_SourceStreams!$A:$N,DA66,V$7)=\"\",\"\",INDEX(E_SourceStreams!$A:$N,DA66,V$7)))","v":""},{"$f":"IF($E66=\"\",\"\",IF(INDEX(E_SourceStreams!$A:$N,DB66,W$7)=\"\",\"\",INDEX(E_SourceStreams!$A:$N,DB66,W$7)))","v":""},{"$f":"IF($E66=\"\",\"\",IF(INDEX(E_SourceStreams!$A:$N,DC66,X$7)=\"\",\"\",INDEX(E_SourceStreams!$A:$N,DC66,X$7)))","v":""},{"$f":"IF($E66=\"\",\"\",IF(INDEX(E_SourceStreams!$A:$N,DD66,Y$7)=\"\",\"\",INDEX(E_SourceStreams!$A:$N,DD66,Y$7)))","v":""},{"$f":"IF($E66=\"\",\"\",IF(INDEX(E_SourceStreams!$A:$N,DE66,Z$7)=\"\",\"\",INDEX(E_SourceStreams!$A:$N,DE66,Z$7)))","v":""},{"$f":"IF($E66=\"\",\"\",IF(INDEX(E_SourceStreams!$A:$N,DF66,AA$7)=\"\",\"\",INDEX(E_SourceStreams!$A:$N,DF66,AA$7)))","v":""},{"$f":"IF($E66=\"\",\"\",IF(INDEX(E_SourceStreams!$A:$N,DG66,AB$7)=\"\",\"\",INDEX(E_SourceStreams!$A:$N,DG66,AB$7)))","v":""},{"$f":"IF($E66=\"\",\"\",IF(INDEX(E_SourceStreams!$A:$N,DH66,AC$7)=\"\",\"\",INDEX(E_SourceStreams!$A:$N,DH66,AC$7)))","v":""},{"$f":"IF($E66=\"\",\"\",IF(INDEX(E_SourceStreams!$A:$N,DI66,AD$7)=\"\",\"\",INDEX(E_SourceStreams!$A:$N,DI66,AD$7)))","v":""},{"$f":"IF($E66=\"\",\"\",IF(INDEX(E_SourceStreams!$A:$N,DJ66,AE$7)=\"\",\"\",INDEX(E_SourceStreams!$A:$N,DJ66,AE$7)))","v":""},{"$f":"IF($E66=\"\",\"\",IF(INDEX(E_SourceStreams!$A:$N,DK66,AF$7)=\"\",\"\",INDEX(E_SourceStreams!$A:$N,DK66,AF$7)))","v":""},{"$f":"IF($E66=\"\",\"\",IF(INDEX(E_SourceStreams!$A:$N,DL66,AG$7)=\"\",\"\",INDEX(E_SourceStreams!$A:$N,DL66,AG$7)))","v":""},{"$f":"IF($E66=\"\",\"\",IF(INDEX(E_SourceStreams!$A:$N,DM66,AH$7)=\"\",\"\",INDEX(E_SourceStreams!$A:$N,DM66,AH$7)))","v":""},{"$f":"IF($E66=\"\",\"\",IF(INDEX(E_SourceStreams!$A:$N,DN66,AI$7)=\"\",\"\",INDEX(E_SourceStreams!$A:$N,DN66,AI$7)))","v":""},{"$f":"IF($E66=\"\",\"\",IF(INDEX(E_SourceStreams!$A:$N,DO66,AJ$7)=\"\",\"\",INDEX(E_SourceStreams!$A:$N,DO66,AJ$7)))","v":""},{"$f":"IF($E66=\"\",\"\",IF(INDEX(E_SourceStreams!$A:$N,DP66,AK$7)=\"\",\"\",INDEX(E_SourceStreams!$A:$N,DP66,AK$7)))","v":""},{"$f":"IF($E66=\"\",\"\",IF(INDEX(E_SourceStreams!$A:$N,DQ66,AL$7)=\"\",\"\",INDEX(E_SourceStreams!$A:$N,DQ66,AL$7)))","v":""},{"$f":"IF($E66=\"\",\"\",IF(INDEX(E_SourceStreams!$A:$N,DR66,AM$7)=\"\",\"\",INDEX(E_SourceStreams!$A:$N,DR66,AM$7)))","v":""},{"$f":"IF($E66=\"\",\"\",IF(INDEX(E_SourceStreams!$A:$N,DS66,AN$7)=\"\",\"\",INDEX(E_SourceStreams!$A:$N,DS66,AN$7)))","v":""},{"$f":"IF($E66=\"\",\"\",IF(INDEX(E_SourceStreams!$A:$N,DT66,AO$7)=\"\",\"\",INDEX(E_SourceStreams!$A:$N,DT66,AO$7)))","v":""},{"$f":"IF($E66=\"\",\"\",IF(INDEX(E_SourceStreams!$A:$N,DU66,AP$7)=\"\",\"\",INDEX(E_SourceStreams!$A:$N,DU66,AP$7)))","v":""},{"$f":"IF($E66=\"\",\"\",IF(INDEX(E_SourceStreams!$A:$N,DV66,AQ$7)=\"\",\"\",INDEX(E_SourceStreams!$A:$N,DV66,AQ$7)))","v":""},{"$f":"IF($E66=\"\",\"\",IF(INDEX(E_SourceStreams!$A:$N,DW66,AR$7)=\"\",\"\",INDEX(E_SourceStreams!$A:$N,DW66,AR$7)))","v":""},{"$f":"IF($E66=\"\",\"\",IF(INDEX(E_SourceStreams!$A:$N,DX66,AS$7)=\"\",\"\",INDEX(E_SourceStreams!$A:$N,DX66,AS$7)))","v":""},{"$f":"IF($E66=\"\",\"\",IF(INDEX(E_SourceStreams!$A:$N,DY66,AT$7)=\"\",\"\",INDEX(E_SourceStreams!$A:$N,DY66,AT$7)))","v":""},{"$f":"IF($E66=\"\",\"\",IF(INDEX(E_SourceStreams!$A:$N,DZ66,AU$7)=\"\",\"\",INDEX(E_SourceStreams!$A:$N,DZ66,AU$7)))","v":""},{"$f":"IF($E66=\"\",\"\",IF(INDEX(E_SourceStreams!$A:$N,EA66,AV$7)=\"\",\"\",INDEX(E_SourceStreams!$A:$N,EA66,AV$7)))","v":""},{"$f":"IF($E66=\"\",\"\",IF(INDEX(E_SourceStreams!$A:$N,EB66,AW$7)=\"\",\"\",INDEX(E_SourceStreams!$A:$N,EB66,AW$7)))","v":""},{"$f":"IF($E66=\"\",\"\",IF(INDEX(E_SourceStreams!$A:$N,EC66,AX$7)=\"\",\"\",INDEX(E_SourceStreams!$A:$N,EC66,AX$7)))","v":""},{"$f":"IF($E66=\"\",\"\",IF(INDEX(E_SourceStreams!$A:$N,ED66,AY$7)=\"\",\"\",INDEX(E_SourceStreams!$A:$N,ED66,AY$7)))","v":""},{"$f":"IF($E66=\"\",\"\",IF(INDEX(E_SourceStreams!$A:$N,EE66,AZ$7)=\"\",\"\",INDEX(E_SourceStreams!$A:$N,EE66,AZ$7)))","v":""},{"$f":"IF($E66=\"\",\"\",IF(INDEX(E_SourceStreams!$A:$N,EF66,BA$7)=\"\",\"\",INDEX(E_SourceStreams!$A:$N,EF66,BA$7)))","v":""},{"$f":"IF($E66=\"\",\"\",IF(INDEX(E_SourceStreams!$A:$N,EG66,BB$7)=\"\",\"\",INDEX(E_SourceStreams!$A:$N,EG66,BB$7)))","v":""},{"$f":"IF($E66=\"\",\"\",IF(INDEX(E_SourceStreams!$A:$N,EH66,BC$7)=\"\",\"\",INDEX(E_SourceStreams!$A:$N,EH66,BC$7)))","v":""},{"$f":"IF($E66=\"\",\"\",IF(INDEX(E_SourceStreams!$A:$N,EI66,BD$7)=\"\",\"\",INDEX(E_SourceStreams!$A:$N,EI66,BD$7)))","v":""},{"$f":"IF($E66=\"\",\"\",IF(INDEX(E_SourceStreams!$A:$N,EJ66,BE$7)=\"\",\"\",INDEX(E_SourceStreams!$A:$N,EJ66,BE$7)))","v":""},{"$f":"IF($E66=\"\",\"\",IF(INDEX(E_SourceStreams!$A:$N,EK66,BF$7)=\"\",\"\",INDEX(E_SourceStreams!$A:$N,EK66,BF$7)))","v":""},{"$f":"IF($E66=\"\",\"\",IF(INDEX(E_SourceStreams!$A:$N,EL66,BG$7)=\"\",\"\",INDEX(E_SourceStreams!$A:$N,EL66,BG$7)))","v":""},{"$f":"IF($E66=\"\",\"\",IF(INDEX(E_SourceStreams!$A:$N,EM66,BH$7)=\"\",\"\",INDEX(E_SourceStreams!$A:$N,EM66,BH$7)))","v":""},{"$f":"IF($E66=\"\",\"\",IF(INDEX(E_SourceStreams!$A:$N,EN66,BI$7)=\"\",\"\",INDEX(E_SourceStreams!$A:$N,EN66,BI$7)))","v":""},{"$f":"IF($E66=\"\",\"\",IF(INDEX(E_SourceStreams!$A:$N,EO66,BJ$7)=\"\",\"\",INDEX(E_SourceStreams!$A:$N,EO66,BJ$7)))","v":""},{"$f":"IF($E66=\"\",\"\",IF(INDEX(E_SourceStreams!$A:$N,EP66,BK$7)=\"\",\"\",INDEX(E_SourceStreams!$A:$N,EP66,BK$7)))","v":""},{"$f":"IF($E66=\"\",\"\",IF(INDEX(E_SourceStreams!$A:$N,EQ66,BL$7)=\"\",\"\",INDEX(E_SourceStreams!$A:$N,EQ66,BL$7)))","v":""},{"$f":"IF($E66=\"\",\"\",IF(INDEX(E_SourceStreams!$A:$N,ER66,BM$7)=\"\",\"\",INDEX(E_SourceStreams!$A:$N,ER66,BM$7)))","v":""},{"$f":"IF($E66=\"\",\"\",IF(INDEX(E_SourceStreams!$A:$N,ES66,BN$7)=\"\",\"\",INDEX(E_SourceStreams!$A:$N,ES66,BN$7)))","v":""},{"$f":"IF($E66=\"\",\"\",IF(INDEX(E_SourceStreams!$A:$N,ET66,BO$7)=\"\",\"\",INDEX(E_SourceStreams!$A:$N,ET66,BO$7)))","v":""},{"$f":"IF($E66=\"\",\"\",IF(INDEX(E_SourceStreams!$A:$N,EU66,BP$7)=\"\",\"\",INDEX(E_SourceStreams!$A:$N,EU66,BP$7)))","v":""},{"$f":"IF($E66=\"\",\"\",IF(INDEX(E_SourceStreams!$A:$N,EV66,BQ$7)=\"\",\"\",INDEX(E_SourceStreams!$A:$N,EV66,BQ$7)))","v":""},{"$f":"IF($E66=\"\",\"\",IF(INDEX(E_SourceStreams!$A:$N,EW66,BR$7)=\"\",\"\",INDEX(E_SourceStreams!$A:$N,EW66,BR$7)))","v":""},{"$f":"IF($E66=\"\",\"\",IF(INDEX(E_SourceStreams!$A:$N,EX66,BS$7)=\"\",\"\",INDEX(E_SourceStreams!$A:$N,EX66,BS$7)))","v":""},{"$f":"IF($E66=\"\",\"\",IF(INDEX(E_SourceStreams!$A:$N,EY66,BT$7)=\"\",\"\",INDEX(E_SourceStreams!$A:$N,EY66,BT$7)))","v":""},null,null,null,null,null,null,null,null,null,null,null,null,null,null,null,"SourceCategory_",{"$f":"INDEX(C_InstallationDescription!$A$223:$A$328,ROWS($CI$11:CI66))=\"ausblenden\"","v":true},"SourceStreamName_",null,3764,3766,3768,3770,3772,3774,3776,3776,3776,3776,3776,3779,3783,3784,3785,3792,3802,3802,3802,3802,3802,3802,3802,3793,3803,3803,3803,3803,3803,3803,3803,3794,3804,3804,3804,3804,3804,3804,3804,3795,3805,3805,3805,3805,3805,3805,3805,3796,3806,3806,3806,3806,3806,3806,3806,3797,3807,3807,3807,3807,3807,3807,3807,3813]
[null,{"$f":"IF(COUNTIF($CK$10:CK67,TRUE)>0,\"\",INDEX(C_InstallationDescription!$E$223:$E$239,ROWS($A$11:A67)))","v":""},{"$f":"IF($E67=\"\",\"\",INDEX(C_InstallationDescription!G:G,MATCH($B67,C_InstallationDescription!$E:$E,0)))","v":""},{"$f":"IF($E67=\"\",\"\",INDEX(C_InstallationDescription!I:I,MATCH($B67,C_InstallationDescription!$E:$E,0)))","v":""},{"$f":"IF($B67=\"\",\"\",INDEX(C_InstallationDescription!F:F,MATCH($CJ67,C_InstallationDescription!$Q:$Q,0)))","v":""},{"$f":"IF($E67=\"\",\"\",INDEX(C_InstallationDescription!L:L,MATCH($CJ67,C_InstallationDescription!$Q:$Q,0)))","v":""},{"$f":"IF($E67=\"\",\"\",INDEX(C_InstallationDescription!M:M,MATCH($CJ67,C_InstallationDescription!$Q:$Q,0)))","v":""},{"$f":"IF($E67=\"\",\"\",INDEX(C_InstallationDescription!N:N,MATCH($CJ67,C_InstallationDescription!$Q:$Q,0)))","v":""},{"$f":"IF($E67=\"\",\"\",IF(INDEX(E_SourceStreams!$A:$N,CN67,I$7)=\"\",\"\",INDEX(E_SourceStreams!$A:$N,CN67,I$7)))","v":""},{"$f":"IF($E67=\"\",\"\",IF(INDEX(E_SourceStreams!$A:$N,CO67,J$7)=\"\",\"\",INDEX(E_SourceStreams!$A:$N,CO67,J$7)))","v":""},{"$f":"IF($E67=\"\",\"\",IF(INDEX(E_SourceStreams!$A:$N,CP67,K$7)=\"\",\"\",INDEX(E_SourceStreams!$A:$N,CP67,K$7)))","v":""},{"$f":"IF($E67=\"\",\"\",IF(INDEX(E_SourceStreams!$A:$N,CQ67,L$7)=\"\",\"\",INDEX(E_SourceStreams!$A:$N,CQ67,L$7)))","v":""},{"$f":"IF($E67=\"\",\"\",IF(INDEX(E_SourceStreams!$A:$N,CR67,M$7)=\"\",\"\",INDEX(E_SourceStreams!$A:$N,CR67,M$7)))","v":""},{"$f":"IF($E67=\"\",\"\",IF(INDEX(E_SourceStreams!$A:$N,CS67,N$7)=\"\",\"\",INDEX(E_SourceStreams!$A:$N,CS67,N$7)))","v":""},{"$f":"IF($E67=\"\",\"\",IF(INDEX(E_SourceStreams!$A:$N,CT67,O$7)=\"\",\"\",INDEX(E_SourceStreams!$A:$N,CT67,O$7)))","v":""},{"$f":"IF($E67=\"\",\"\",IF(INDEX(E_SourceStreams!$A:$N,CU67,P$7)=\"\",\"\",INDEX(E_SourceStreams!$A:$N,CU67,P$7)))","v":""},{"$f":"IF($E67=\"\",\"\",IF(INDEX(E_SourceStreams!$A:$N,CV67,Q$7)=\"\",\"\",INDEX(E_SourceStreams!$A:$N,CV67,Q$7)))","v":""},{"$f":"IF($E67=\"\",\"\",IF(INDEX(E_SourceStreams!$A:$N,CW67,R$7)=\"\",\"\",INDEX(E_SourceStreams!$A:$N,CW67,R$7)))","v":""},{"$f":"IF($E67=\"\",\"\",IF(INDEX(E_SourceStreams!$A:$N,CX67,S$7)=\"\",\"\",INDEX(E_SourceStreams!$A:$N,CX67,S$7)))","v":""},{"$f":"IF($E67=\"\",\"\",IF(INDEX(E_SourceStreams!$A:$N,CY67,T$7)=\"\",\"\",INDEX(E_SourceStreams!$A:$N,CY67,T$7)))","v":""},{"$f":"IF($E67=\"\",\"\",IF(INDEX(E_SourceStreams!$A:$N,CZ67,U$7)=\"\",\"\",INDEX(E_SourceStreams!$A:$N,CZ67,U$7)))","v":""},{"$f":"IF($E67=\"\",\"\",IF(INDEX(E_SourceStreams!$A:$N,DA67,V$7)=\"\",\"\",INDEX(E_SourceStreams!$A:$N,DA67,V$7)))","v":""},{"$f":"IF($E67=\"\",\"\",IF(INDEX(E_SourceStreams!$A:$N,DB67,W$7)=\"\",\"\",INDEX(E_SourceStreams!$A:$N,DB67,W$7)))","v":""},{"$f":"IF($E67=\"\",\"\",IF(INDEX(E_SourceStreams!$A:$N,DC67,X$7)=\"\",\"\",INDEX(E_SourceStreams!$A:$N,DC67,X$7)))","v":""},{"$f":"IF($E67=\"\",\"\",IF(INDEX(E_SourceStreams!$A:$N,DD67,Y$7)=\"\",\"\",INDEX(E_SourceStreams!$A:$N,DD67,Y$7)))","v":""},{"$f":"IF($E67=\"\",\"\",IF(INDEX(E_SourceStreams!$A:$N,DE67,Z$7)=\"\",\"\",INDEX(E_SourceStreams!$A:$N,DE67,Z$7)))","v":""},{"$f":"IF($E67=\"\",\"\",IF(INDEX(E_SourceStreams!$A:$N,DF67,AA$7)=\"\",\"\",INDEX(E_SourceStreams!$A:$N,DF67,AA$7)))","v":""},{"$f":"IF($E67=\"\",\"\",IF(INDEX(E_SourceStreams!$A:$N,DG67,AB$7)=\"\",\"\",INDEX(E_SourceStreams!$A:$N,DG67,AB$7)))","v":""},{"$f":"IF($E67=\"\",\"\",IF(INDEX(E_SourceStreams!$A:$N,DH67,AC$7)=\"\",\"\",INDEX(E_SourceStreams!$A:$N,DH67,AC$7)))","v":""},{"$f":"IF($E67=\"\",\"\",IF(INDEX(E_SourceStreams!$A:$N,DI67,AD$7)=\"\",\"\",INDEX(E_SourceStreams!$A:$N,DI67,AD$7)))","v":""},{"$f":"IF($E67=\"\",\"\",IF(INDEX(E_SourceStreams!$A:$N,DJ67,AE$7)=\"\",\"\",INDEX(E_SourceStreams!$A:$N,DJ67,AE$7)))","v":""},{"$f":"IF($E67=\"\",\"\",IF(INDEX(E_SourceStreams!$A:$N,DK67,AF$7)=\"\",\"\",INDEX(E_SourceStreams!$A:$N,DK67,AF$7)))","v":""},{"$f":"IF($E67=\"\",\"\",IF(INDEX(E_SourceStreams!$A:$N,DL67,AG$7)=\"\",\"\",INDEX(E_SourceStreams!$A:$N,DL67,AG$7)))","v":""},{"$f":"IF($E67=\"\",\"\",IF(INDEX(E_SourceStreams!$A:$N,DM67,AH$7)=\"\",\"\",INDEX(E_SourceStreams!$A:$N,DM67,AH$7)))","v":""},{"$f":"IF($E67=\"\",\"\",IF(INDEX(E_SourceStreams!$A:$N,DN67,AI$7)=\"\",\"\",INDEX(E_SourceStreams!$A:$N,DN67,AI$7)))","v":""},{"$f":"IF($E67=\"\",\"\",IF(INDEX(E_SourceStreams!$A:$N,DO67,AJ$7)=\"\",\"\",INDEX(E_SourceStreams!$A:$N,DO67,AJ$7)))","v":""},{"$f":"IF($E67=\"\",\"\",IF(INDEX(E_SourceStreams!$A:$N,DP67,AK$7)=\"\",\"\",INDEX(E_SourceStreams!$A:$N,DP67,AK$7)))","v":""},{"$f":"IF($E67=\"\",\"\",IF(INDEX(E_SourceStreams!$A:$N,DQ67,AL$7)=\"\",\"\",INDEX(E_SourceStreams!$A:$N,DQ67,AL$7)))","v":""},{"$f":"IF($E67=\"\",\"\",IF(INDEX(E_SourceStreams!$A:$N,DR67,AM$7)=\"\",\"\",INDEX(E_SourceStreams!$A:$N,DR67,AM$7)))","v":""},{"$f":"IF($E67=\"\",\"\",IF(INDEX(E_SourceStreams!$A:$N,DS67,AN$7)=\"\",\"\",INDEX(E_SourceStreams!$A:$N,DS67,AN$7)))","v":""},{"$f":"IF($E67=\"\",\"\",IF(INDEX(E_SourceStreams!$A:$N,DT67,AO$7)=\"\",\"\",INDEX(E_SourceStreams!$A:$N,DT67,AO$7)))","v":""},{"$f":"IF($E67=\"\",\"\",IF(INDEX(E_SourceStreams!$A:$N,DU67,AP$7)=\"\",\"\",INDEX(E_SourceStreams!$A:$N,DU67,AP$7)))","v":""},{"$f":"IF($E67=\"\",\"\",IF(INDEX(E_SourceStreams!$A:$N,DV67,AQ$7)=\"\",\"\",INDEX(E_SourceStreams!$A:$N,DV67,AQ$7)))","v":""},{"$f":"IF($E67=\"\",\"\",IF(INDEX(E_SourceStreams!$A:$N,DW67,AR$7)=\"\",\"\",INDEX(E_SourceStreams!$A:$N,DW67,AR$7)))","v":""},{"$f":"IF($E67=\"\",\"\",IF(INDEX(E_SourceStreams!$A:$N,DX67,AS$7)=\"\",\"\",INDEX(E_SourceStreams!$A:$N,DX67,AS$7)))","v":""},{"$f":"IF($E67=\"\",\"\",IF(INDEX(E_SourceStreams!$A:$N,DY67,AT$7)=\"\",\"\",INDEX(E_SourceStreams!$A:$N,DY67,AT$7)))","v":""},{"$f":"IF($E67=\"\",\"\",IF(INDEX(E_SourceStreams!$A:$N,DZ67,AU$7)=\"\",\"\",INDEX(E_SourceStreams!$A:$N,DZ67,AU$7)))","v":""},{"$f":"IF($E67=\"\",\"\",IF(INDEX(E_SourceStreams!$A:$N,EA67,AV$7)=\"\",\"\",INDEX(E_SourceStreams!$A:$N,EA67,AV$7)))","v":""},{"$f":"IF($E67=\"\",\"\",IF(INDEX(E_SourceStreams!$A:$N,EB67,AW$7)=\"\",\"\",INDEX(E_SourceStreams!$A:$N,EB67,AW$7)))","v":""},{"$f":"IF($E67=\"\",\"\",IF(INDEX(E_SourceStreams!$A:$N,EC67,AX$7)=\"\",\"\",INDEX(E_SourceStreams!$A:$N,EC67,AX$7)))","v":""},{"$f":"IF($E67=\"\",\"\",IF(INDEX(E_SourceStreams!$A:$N,ED67,AY$7)=\"\",\"\",INDEX(E_SourceStreams!$A:$N,ED67,AY$7)))","v":""},{"$f":"IF($E67=\"\",\"\",IF(INDEX(E_SourceStreams!$A:$N,EE67,AZ$7)=\"\",\"\",INDEX(E_SourceStreams!$A:$N,EE67,AZ$7)))","v":""},{"$f":"IF($E67=\"\",\"\",IF(INDEX(E_SourceStreams!$A:$N,EF67,BA$7)=\"\",\"\",INDEX(E_SourceStreams!$A:$N,EF67,BA$7)))","v":""},{"$f":"IF($E67=\"\",\"\",IF(INDEX(E_SourceStreams!$A:$N,EG67,BB$7)=\"\",\"\",INDEX(E_SourceStreams!$A:$N,EG67,BB$7)))","v":""},{"$f":"IF($E67=\"\",\"\",IF(INDEX(E_SourceStreams!$A:$N,EH67,BC$7)=\"\",\"\",INDEX(E_SourceStreams!$A:$N,EH67,BC$7)))","v":""},{"$f":"IF($E67=\"\",\"\",IF(INDEX(E_SourceStreams!$A:$N,EI67,BD$7)=\"\",\"\",INDEX(E_SourceStreams!$A:$N,EI67,BD$7)))","v":""},{"$f":"IF($E67=\"\",\"\",IF(INDEX(E_SourceStreams!$A:$N,EJ67,BE$7)=\"\",\"\",INDEX(E_SourceStreams!$A:$N,EJ67,BE$7)))","v":""},{"$f":"IF($E67=\"\",\"\",IF(INDEX(E_SourceStreams!$A:$N,EK67,BF$7)=\"\",\"\",INDEX(E_SourceStreams!$A:$N,EK67,BF$7)))","v":""},{"$f":"IF($E67=\"\",\"\",IF(INDEX(E_SourceStreams!$A:$N,EL67,BG$7)=\"\",\"\",INDEX(E_SourceStreams!$A:$N,EL67,BG$7)))","v":""},{"$f":"IF($E67=\"\",\"\",IF(INDEX(E_SourceStreams!$A:$N,EM67,BH$7)=\"\",\"\",INDEX(E_SourceStreams!$A:$N,EM67,BH$7)))","v":""},{"$f":"IF($E67=\"\",\"\",IF(INDEX(E_SourceStreams!$A:$N,EN67,BI$7)=\"\",\"\",INDEX(E_SourceStreams!$A:$N,EN67,BI$7)))","v":""},{"$f":"IF($E67=\"\",\"\",IF(INDEX(E_SourceStreams!$A:$N,EO67,BJ$7)=\"\",\"\",INDEX(E_SourceStreams!$A:$N,EO67,BJ$7)))","v":""},{"$f":"IF($E67=\"\",\"\",IF(INDEX(E_SourceStreams!$A:$N,EP67,BK$7)=\"\",\"\",INDEX(E_SourceStreams!$A:$N,EP67,BK$7)))","v":""},{"$f":"IF($E67=\"\",\"\",IF(INDEX(E_SourceStreams!$A:$N,EQ67,BL$7)=\"\",\"\",INDEX(E_SourceStreams!$A:$N,EQ67,BL$7)))","v":""},{"$f":"IF($E67=\"\",\"\",IF(INDEX(E_SourceStreams!$A:$N,ER67,BM$7)=\"\",\"\",INDEX(E_SourceStreams!$A:$N,ER67,BM$7)))","v":""},{"$f":"IF($E67=\"\",\"\",IF(INDEX(E_SourceStreams!$A:$N,ES67,BN$7)=\"\",\"\",INDEX(E_SourceStreams!$A:$N,ES67,BN$7)))","v":""},{"$f":"IF($E67=\"\",\"\",IF(INDEX(E_SourceStreams!$A:$N,ET67,BO$7)=\"\",\"\",INDEX(E_SourceStreams!$A:$N,ET67,BO$7)))","v":""},{"$f":"IF($E67=\"\",\"\",IF(INDEX(E_SourceStreams!$A:$N,EU67,BP$7)=\"\",\"\",INDEX(E_SourceStreams!$A:$N,EU67,BP$7)))","v":""},{"$f":"IF($E67=\"\",\"\",IF(INDEX(E_SourceStreams!$A:$N,EV67,BQ$7)=\"\",\"\",INDEX(E_SourceStreams!$A:$N,EV67,BQ$7)))","v":""},{"$f":"IF($E67=\"\",\"\",IF(INDEX(E_SourceStreams!$A:$N,EW67,BR$7)=\"\",\"\",INDEX(E_SourceStreams!$A:$N,EW67,BR$7)))","v":""},{"$f":"IF($E67=\"\",\"\",IF(INDEX(E_SourceStreams!$A:$N,EX67,BS$7)=\"\",\"\",INDEX(E_SourceStreams!$A:$N,EX67,BS$7)))","v":""},{"$f":"IF($E67=\"\",\"\",IF(INDEX(E_SourceStreams!$A:$N,EY67,BT$7)=\"\",\"\",INDEX(E_SourceStreams!$A:$N,EY67,BT$7)))","v":""},null,null,null,null,null,null,null,null,null,null,null,null,null,null,null,"SourceCategory_",{"$f":"INDEX(C_InstallationDescription!$A$223:$A$328,ROWS($CI$11:CI67))=\"ausblenden\"","v":true},"SourceStreamName_",null,3830,3832,3834,3836,3838,3840,3842,3842,3842,3842,3842,3845,3849,3850,3851,3858,3868,3868,3868,3868,3868,3868,3868,3859,3869,3869,3869,3869,3869,3869,3869,3860,3870,3870,3870,3870,3870,3870,3870,3861,3871,3871,3871,3871,3871,3871,3871,3862,3872,3872,3872,3872,3872,3872,3872,3863,3873,3873,3873,3873,3873,3873,3873,3879]
[null,{"$f":"IF(COUNTIF($CK$10:CK68,TRUE)>0,\"\",INDEX(C_InstallationDescription!$E$223:$E$239,ROWS($A$11:A68)))","v":""},{"$f":"IF($E68=\"\",\"\",INDEX(C_InstallationDescription!G:G,MATCH($B68,C_InstallationDescription!$E:$E,0)))","v":""},{"$f":"IF($E68=\"\",\"\",INDEX(C_InstallationDescription!I:I,MATCH($B68,C_InstallationDescription!$E:$E,0)))","v":""},{"$f":"IF($B68=\"\",\"\",INDEX(C_InstallationDescription!F:F,MATCH($CJ68,C_InstallationDescription!$Q:$Q,0)))","v":""},{"$f":"IF($E68=\"\",\"\",INDEX(C_InstallationDescription!L:L,MATCH($CJ68,C_InstallationDescription!$Q:$Q,0)))","v":""},{"$f":"IF($E68=\"\",\"\",INDEX(C_InstallationDescription!M:M,MATCH($CJ68,C_InstallationDescription!$Q:$Q,0)))","v":""},{"$f":"IF($E68=\"\",\"\",INDEX(C_InstallationDescription!N:N,MATCH($CJ68,C_InstallationDescription!$Q:$Q,0)))","v":""},{"$f":"IF($E68=\"\",\"\",IF(INDEX(E_SourceStreams!$A:$N,CN68,I$7)=\"\",\"\",INDEX(E_SourceStreams!$A:$N,CN68,I$7)))","v":""},{"$f":"IF($E68=\"\",\"\",IF(INDEX(E_SourceStreams!$A:$N,CO68,J$7)=\"\",\"\",INDEX(E_SourceStreams!$A:$N,CO68,J$7)))","v":""},{"$f":"IF($E68=\"\",\"\",IF(INDEX(E_SourceStreams!$A:$N,CP68,K$7)=\"\",\"\",INDEX(E_SourceStreams!$A:$N,CP68,K$7)))","v":""},{"$f":"IF($E68=\"\",\"\",IF(INDEX(E_SourceStreams!$A:$N,CQ68,L$7)=\"\",\"\",INDEX(E_SourceStreams!$A:$N,CQ68,L$7)))","v":""},{"$f":"IF($E68=\"\",\"\",IF(INDEX(E_SourceStreams!$A:$N,CR68,M$7)=\"\",\"\",INDEX(E_SourceStreams!$A:$N,CR68,M$7)))","v":""},{"$f":"IF($E68=\"\",\"\",IF(INDEX(E_SourceStreams!$A:$N,CS68,N$7)=\"\",\"\",INDEX(E_SourceStreams!$A:$N,CS68,N$7)))","v":""},{"$f":"IF($E68=\"\",\"\",IF(INDEX(E_SourceStreams!$A:$N,CT68,O$7)=\"\",\"\",INDEX(E_SourceStreams!$A:$N,CT68,O$7)))","v":""},{"$f":"IF($E68=\"\",\"\",IF(INDEX(E_SourceStreams!$A:$N,CU68,P$7)=\"\",\"\",INDEX(E_SourceStreams!$A:$N,CU68,P$7)))","v":""},{"$f":"IF($E68=\"\",\"\",IF(INDEX(E_SourceStreams!$A:$N,CV68,Q$7)=\"\",\"\",INDEX(E_SourceStreams!$A:$N,CV68,Q$7)))","v":""},{"$f":"IF($E68=\"\",\"\",IF(INDEX(E_SourceStreams!$A:$N,CW68,R$7)=\"\",\"\",INDEX(E_SourceStreams!$A:$N,CW68,R$7)))","v":""},{"$f":"IF($E68=\"\",\"\",IF(INDEX(E_SourceStreams!$A:$N,CX68,S$7)=\"\",\"\",INDEX(E_SourceStreams!$A:$N,CX68,S$7)))","v":""},{"$f":"IF($E68=\"\",\"\",IF(INDEX(E_SourceStreams!$A:$N,CY68,T$7)=\"\",\"\",INDEX(E_SourceStreams!$A:$N,CY68,T$7)))","v":""},{"$f":"IF($E68=\"\",\"\",IF(INDEX(E_SourceStreams!$A:$N,CZ68,U$7)=\"\",\"\",INDEX(E_SourceStreams!$A:$N,CZ68,U$7)))","v":""},{"$f":"IF($E68=\"\",\"\",IF(INDEX(E_SourceStreams!$A:$N,DA68,V$7)=\"\",\"\",INDEX(E_SourceStreams!$A:$N,DA68,V$7)))","v":""},{"$f":"IF($E68=\"\",\"\",IF(INDEX(E_SourceStreams!$A:$N,DB68,W$7)=\"\",\"\",INDEX(E_SourceStreams!$A:$N,DB68,W$7)))","v":""},{"$f":"IF($E68=\"\",\"\",IF(INDEX(E_SourceStreams!$A:$N,DC68,X$7)=\"\",\"\",INDEX(E_SourceStreams!$A:$N,DC68,X$7)))","v":""},{"$f":"IF($E68=\"\",\"\",IF(INDEX(E_SourceStreams!$A:$N,DD68,Y$7)=\"\",\"\",INDEX(E_SourceStreams!$A:$N,DD68,Y$7)))","v":""},{"$f":"IF($E68=\"\",\"\",IF(INDEX(E_SourceStreams!$A:$N,DE68,Z$7)=\"\",\"\",INDEX(E_SourceStreams!$A:$N,DE68,Z$7)))","v":""},{"$f":"IF($E68=\"\",\"\",IF(INDEX(E_SourceStreams!$A:$N,DF68,AA$7)=\"\",\"\",INDEX(E_SourceStreams!$A:$N,DF68,AA$7)))","v":""},{"$f":"IF($E68=\"\",\"\",IF(INDEX(E_SourceStreams!$A:$N,DG68,AB$7)=\"\",\"\",INDEX(E_SourceStreams!$A:$N,DG68,AB$7)))","v":""},{"$f":"IF($E68=\"\",\"\",IF(INDEX(E_SourceStreams!$A:$N,DH68,AC$7)=\"\",\"\",INDEX(E_SourceStreams!$A:$N,DH68,AC$7)))","v":""},{"$f":"IF($E68=\"\",\"\",IF(INDEX(E_SourceStreams!$A:$N,DI68,AD$7)=\"\",\"\",INDEX(E_SourceStreams!$A:$N,DI68,AD$7)))","v":""},{"$f":"IF($E68=\"\",\"\",IF(INDEX(E_SourceStreams!$A:$N,DJ68,AE$7)=\"\",\"\",INDEX(E_SourceStreams!$A:$N,DJ68,AE$7)))","v":""},{"$f":"IF($E68=\"\",\"\",IF(INDEX(E_SourceStreams!$A:$N,DK68,AF$7)=\"\",\"\",INDEX(E_SourceStreams!$A:$N,DK68,AF$7)))","v":""},{"$f":"IF($E68=\"\",\"\",IF(INDEX(E_SourceStreams!$A:$N,DL68,AG$7)=\"\",\"\",INDEX(E_SourceStreams!$A:$N,DL68,AG$7)))","v":""},{"$f":"IF($E68=\"\",\"\",IF(INDEX(E_SourceStreams!$A:$N,DM68,AH$7)=\"\",\"\",INDEX(E_SourceStreams!$A:$N,DM68,AH$7)))","v":""},{"$f":"IF($E68=\"\",\"\",IF(INDEX(E_SourceStreams!$A:$N,DN68,AI$7)=\"\",\"\",INDEX(E_SourceStreams!$A:$N,DN68,AI$7)))","v":""},{"$f":"IF($E68=\"\",\"\",IF(INDEX(E_SourceStreams!$A:$N,DO68,AJ$7)=\"\",\"\",INDEX(E_SourceStreams!$A:$N,DO68,AJ$7)))","v":""},{"$f":"IF($E68=\"\",\"\",IF(INDEX(E_SourceStreams!$A:$N,DP68,AK$7)=\"\",\"\",INDEX(E_SourceStreams!$A:$N,DP68,AK$7)))","v":""},{"$f":"IF($E68=\"\",\"\",IF(INDEX(E_SourceStreams!$A:$N,DQ68,AL$7)=\"\",\"\",INDEX(E_SourceStreams!$A:$N,DQ68,AL$7)))","v":""},{"$f":"IF($E68=\"\",\"\",IF(INDEX(E_SourceStreams!$A:$N,DR68,AM$7)=\"\",\"\",INDEX(E_SourceStreams!$A:$N,DR68,AM$7)))","v":""},{"$f":"IF($E68=\"\",\"\",IF(INDEX(E_SourceStreams!$A:$N,DS68,AN$7)=\"\",\"\",INDEX(E_SourceStreams!$A:$N,DS68,AN$7)))","v":""},{"$f":"IF($E68=\"\",\"\",IF(INDEX(E_SourceStreams!$A:$N,DT68,AO$7)=\"\",\"\",INDEX(E_SourceStreams!$A:$N,DT68,AO$7)))","v":""},{"$f":"IF($E68=\"\",\"\",IF(INDEX(E_SourceStreams!$A:$N,DU68,AP$7)=\"\",\"\",INDEX(E_SourceStreams!$A:$N,DU68,AP$7)))","v":""},{"$f":"IF($E68=\"\",\"\",IF(INDEX(E_SourceStreams!$A:$N,DV68,AQ$7)=\"\",\"\",INDEX(E_SourceStreams!$A:$N,DV68,AQ$7)))","v":""},{"$f":"IF($E68=\"\",\"\",IF(INDEX(E_SourceStreams!$A:$N,DW68,AR$7)=\"\",\"\",INDEX(E_SourceStreams!$A:$N,DW68,AR$7)))","v":""},{"$f":"IF($E68=\"\",\"\",IF(INDEX(E_SourceStreams!$A:$N,DX68,AS$7)=\"\",\"\",INDEX(E_SourceStreams!$A:$N,DX68,AS$7)))","v":""},{"$f":"IF($E68=\"\",\"\",IF(INDEX(E_SourceStreams!$A:$N,DY68,AT$7)=\"\",\"\",INDEX(E_SourceStreams!$A:$N,DY68,AT$7)))","v":""},{"$f":"IF($E68=\"\",\"\",IF(INDEX(E_SourceStreams!$A:$N,DZ68,AU$7)=\"\",\"\",INDEX(E_SourceStreams!$A:$N,DZ68,AU$7)))","v":""},{"$f":"IF($E68=\"\",\"\",IF(INDEX(E_SourceStreams!$A:$N,EA68,AV$7)=\"\",\"\",INDEX(E_SourceStreams!$A:$N,EA68,AV$7)))","v":""},{"$f":"IF($E68=\"\",\"\",IF(INDEX(E_SourceStreams!$A:$N,EB68,AW$7)=\"\",\"\",INDEX(E_SourceStreams!$A:$N,EB68,AW$7)))","v":""},{"$f":"IF($E68=\"\",\"\",IF(INDEX(E_SourceStreams!$A:$N,EC68,AX$7)=\"\",\"\",INDEX(E_SourceStreams!$A:$N,EC68,AX$7)))","v":""},{"$f":"IF($E68=\"\",\"\",IF(INDEX(E_SourceStreams!$A:$N,ED68,AY$7)=\"\",\"\",INDEX(E_SourceStreams!$A:$N,ED68,AY$7)))","v":""},{"$f":"IF($E68=\"\",\"\",IF(INDEX(E_SourceStreams!$A:$N,EE68,AZ$7)=\"\",\"\",INDEX(E_SourceStreams!$A:$N,EE68,AZ$7)))","v":""},{"$f":"IF($E68=\"\",\"\",IF(INDEX(E_SourceStreams!$A:$N,EF68,BA$7)=\"\",\"\",INDEX(E_SourceStreams!$A:$N,EF68,BA$7)))","v":""},{"$f":"IF($E68=\"\",\"\",IF(INDEX(E_SourceStreams!$A:$N,EG68,BB$7)=\"\",\"\",INDEX(E_SourceStreams!$A:$N,EG68,BB$7)))","v":""},{"$f":"IF($E68=\"\",\"\",IF(INDEX(E_SourceStreams!$A:$N,EH68,BC$7)=\"\",\"\",INDEX(E_SourceStreams!$A:$N,EH68,BC$7)))","v":""},{"$f":"IF($E68=\"\",\"\",IF(INDEX(E_SourceStreams!$A:$N,EI68,BD$7)=\"\",\"\",INDEX(E_SourceStreams!$A:$N,EI68,BD$7)))","v":""},{"$f":"IF($E68=\"\",\"\",IF(INDEX(E_SourceStreams!$A:$N,EJ68,BE$7)=\"\",\"\",INDEX(E_SourceStreams!$A:$N,EJ68,BE$7)))","v":""},{"$f":"IF($E68=\"\",\"\",IF(INDEX(E_SourceStreams!$A:$N,EK68,BF$7)=\"\",\"\",INDEX(E_SourceStreams!$A:$N,EK68,BF$7)))","v":""},{"$f":"IF($E68=\"\",\"\",IF(INDEX(E_SourceStreams!$A:$N,EL68,BG$7)=\"\",\"\",INDEX(E_SourceStreams!$A:$N,EL68,BG$7)))","v":""},{"$f":"IF($E68=\"\",\"\",IF(INDEX(E_SourceStreams!$A:$N,EM68,BH$7)=\"\",\"\",INDEX(E_SourceStreams!$A:$N,EM68,BH$7)))","v":""},{"$f":"IF($E68=\"\",\"\",IF(INDEX(E_SourceStreams!$A:$N,EN68,BI$7)=\"\",\"\",INDEX(E_SourceStreams!$A:$N,EN68,BI$7)))","v":""},{"$f":"IF($E68=\"\",\"\",IF(INDEX(E_SourceStreams!$A:$N,EO68,BJ$7)=\"\",\"\",INDEX(E_SourceStreams!$A:$N,EO68,BJ$7)))","v":""},{"$f":"IF($E68=\"\",\"\",IF(INDEX(E_SourceStreams!$A:$N,EP68,BK$7)=\"\",\"\",INDEX(E_SourceStreams!$A:$N,EP68,BK$7)))","v":""},{"$f":"IF($E68=\"\",\"\",IF(INDEX(E_SourceStreams!$A:$N,EQ68,BL$7)=\"\",\"\",INDEX(E_SourceStreams!$A:$N,EQ68,BL$7)))","v":""},{"$f":"IF($E68=\"\",\"\",IF(INDEX(E_SourceStreams!$A:$N,ER68,BM$7)=\"\",\"\",INDEX(E_SourceStreams!$A:$N,ER68,BM$7)))","v":""},{"$f":"IF($E68=\"\",\"\",IF(INDEX(E_SourceStreams!$A:$N,ES68,BN$7)=\"\",\"\",INDEX(E_SourceStreams!$A:$N,ES68,BN$7)))","v":""},{"$f":"IF($E68=\"\",\"\",IF(INDEX(E_SourceStreams!$A:$N,ET68,BO$7)=\"\",\"\",INDEX(E_SourceStreams!$A:$N,ET68,BO$7)))","v":""},{"$f":"IF($E68=\"\",\"\",IF(INDEX(E_SourceStreams!$A:$N,EU68,BP$7)=\"\",\"\",INDEX(E_SourceStreams!$A:$N,EU68,BP$7)))","v":""},{"$f":"IF($E68=\"\",\"\",IF(INDEX(E_SourceStreams!$A:$N,EV68,BQ$7)=\"\",\"\",INDEX(E_SourceStreams!$A:$N,EV68,BQ$7)))","v":""},{"$f":"IF($E68=\"\",\"\",IF(INDEX(E_SourceStreams!$A:$N,EW68,BR$7)=\"\",\"\",INDEX(E_SourceStreams!$A:$N,EW68,BR$7)))","v":""},{"$f":"IF($E68=\"\",\"\",IF(INDEX(E_SourceStreams!$A:$N,EX68,BS$7)=\"\",\"\",INDEX(E_SourceStreams!$A:$N,EX68,BS$7)))","v":""},{"$f":"IF($E68=\"\",\"\",IF(INDEX(E_SourceStreams!$A:$N,EY68,BT$7)=\"\",\"\",INDEX(E_SourceStreams!$A:$N,EY68,BT$7)))","v":""},null,null,null,null,null,null,null,null,null,null,null,null,null,null,null,"SourceCategory_",{"$f":"INDEX(C_InstallationDescription!$A$223:$A$328,ROWS($CI$11:CI68))=\"ausblenden\"","v":true},"SourceStreamName_",null,3896,3898,3900,3902,3904,3906,3908,3908,3908,3908,3908,3911,3915,3916,3917,3924,3934,3934,3934,3934,3934,3934,3934,3925,3935,3935,3935,3935,3935,3935,3935,3926,3936,3936,3936,3936,3936,3936,3936,3927,3937,3937,3937,3937,3937,3937,3937,3928,3938,3938,3938,3938,3938,3938,3938,3929,3939,3939,3939,3939,3939,3939,3939,3945]
[null,{"$f":"IF(COUNTIF($CK$10:CK69,TRUE)>0,\"\",INDEX(C_InstallationDescription!$E$223:$E$239,ROWS($A$11:A69)))","v":""},{"$f":"IF($E69=\"\",\"\",INDEX(C_InstallationDescription!G:G,MATCH($B69,C_InstallationDescription!$E:$E,0)))","v":""},{"$f":"IF($E69=\"\",\"\",INDEX(C_InstallationDescription!I:I,MATCH($B69,C_InstallationDescription!$E:$E,0)))","v":""},{"$f":"IF($B69=\"\",\"\",INDEX(C_InstallationDescription!F:F,MATCH($CJ69,C_InstallationDescription!$Q:$Q,0)))","v":""},{"$f":"IF($E69=\"\",\"\",INDEX(C_InstallationDescription!L:L,MATCH($CJ69,C_InstallationDescription!$Q:$Q,0)))","v":""},{"$f":"IF($E69=\"\",\"\",INDEX(C_InstallationDescription!M:M,MATCH($CJ69,C_InstallationDescription!$Q:$Q,0)))","v":""},{"$f":"IF($E69=\"\",\"\",INDEX(C_InstallationDescription!N:N,MATCH($CJ69,C_InstallationDescription!$Q:$Q,0)))","v":""},{"$f":"IF($E69=\"\",\"\",IF(INDEX(E_SourceStreams!$A:$N,CN69,I$7)=\"\",\"\",INDEX(E_SourceStreams!$A:$N,CN69,I$7)))","v":""},{"$f":"IF($E69=\"\",\"\",IF(INDEX(E_SourceStreams!$A:$N,CO69,J$7)=\"\",\"\",INDEX(E_SourceStreams!$A:$N,CO69,J$7)))","v":""},{"$f":"IF($E69=\"\",\"\",IF(INDEX(E_SourceStreams!$A:$N,CP69,K$7)=\"\",\"\",INDEX(E_SourceStreams!$A:$N,CP69,K$7)))","v":""},{"$f":"IF($E69=\"\",\"\",IF(INDEX(E_SourceStreams!$A:$N,CQ69,L$7)=\"\",\"\",INDEX(E_SourceStreams!$A:$N,CQ69,L$7)))","v":""},{"$f":"IF($E69=\"\",\"\",IF(INDEX(E_SourceStreams!$A:$N,CR69,M$7)=\"\",\"\",INDEX(E_SourceStreams!$A:$N,CR69,M$7)))","v":""},{"$f":"IF($E69=\"\",\"\",IF(INDEX(E_SourceStreams!$A:$N,CS69,N$7)=\"\",\"\",INDEX(E_SourceStreams!$A:$N,CS69,N$7)))","v":""},{"$f":"IF($E69=\"\",\"\",IF(INDEX(E_SourceStreams!$A:$N,CT69,O$7)=\"\",\"\",INDEX(E_SourceStreams!$A:$N,CT69,O$7)))","v":""},{"$f":"IF($E69=\"\",\"\",IF(INDEX(E_SourceStreams!$A:$N,CU69,P$7)=\"\",\"\",INDEX(E_SourceStreams!$A:$N,CU69,P$7)))","v":""},{"$f":"IF($E69=\"\",\"\",IF(INDEX(E_SourceStreams!$A:$N,CV69,Q$7)=\"\",\"\",INDEX(E_SourceStreams!$A:$N,CV69,Q$7)))","v":""},{"$f":"IF($E69=\"\",\"\",IF(INDEX(E_SourceStreams!$A:$N,CW69,R$7)=\"\",\"\",INDEX(E_SourceStreams!$A:$N,CW69,R$7)))","v":""},{"$f":"IF($E69=\"\",\"\",IF(INDEX(E_SourceStreams!$A:$N,CX69,S$7)=\"\",\"\",INDEX(E_SourceStreams!$A:$N,CX69,S$7)))","v":""},{"$f":"IF($E69=\"\",\"\",IF(INDEX(E_SourceStreams!$A:$N,CY69,T$7)=\"\",\"\",INDEX(E_SourceStreams!$A:$N,CY69,T$7)))","v":""},{"$f":"IF($E69=\"\",\"\",IF(INDEX(E_SourceStreams!$A:$N,CZ69,U$7)=\"\",\"\",INDEX(E_SourceStreams!$A:$N,CZ69,U$7)))","v":""},{"$f":"IF($E69=\"\",\"\",IF(INDEX(E_SourceStreams!$A:$N,DA69,V$7)=\"\",\"\",INDEX(E_SourceStreams!$A:$N,DA69,V$7)))","v":""},{"$f":"IF($E69=\"\",\"\",IF(INDEX(E_SourceStreams!$A:$N,DB69,W$7)=\"\",\"\",INDEX(E_SourceStreams!$A:$N,DB69,W$7)))","v":""},{"$f":"IF($E69=\"\",\"\",IF(INDEX(E_SourceStreams!$A:$N,DC69,X$7)=\"\",\"\",INDEX(E_SourceStreams!$A:$N,DC69,X$7)))","v":""},{"$f":"IF($E69=\"\",\"\",IF(INDEX(E_SourceStreams!$A:$N,DD69,Y$7)=\"\",\"\",INDEX(E_SourceStreams!$A:$N,DD69,Y$7)))","v":""},{"$f":"IF($E69=\"\",\"\",IF(INDEX(E_SourceStreams!$A:$N,DE69,Z$7)=\"\",\"\",INDEX(E_SourceStreams!$A:$N,DE69,Z$7)))","v":""},{"$f":"IF($E69=\"\",\"\",IF(INDEX(E_SourceStreams!$A:$N,DF69,AA$7)=\"\",\"\",INDEX(E_SourceStreams!$A:$N,DF69,AA$7)))","v":""},{"$f":"IF($E69=\"\",\"\",IF(INDEX(E_SourceStreams!$A:$N,DG69,AB$7)=\"\",\"\",INDEX(E_SourceStreams!$A:$N,DG69,AB$7)))","v":""},{"$f":"IF($E69=\"\",\"\",IF(INDEX(E_SourceStreams!$A:$N,DH69,AC$7)=\"\",\"\",INDEX(E_SourceStreams!$A:$N,DH69,AC$7)))","v":""},{"$f":"IF($E69=\"\",\"\",IF(INDEX(E_SourceStreams!$A:$N,DI69,AD$7)=\"\",\"\",INDEX(E_SourceStreams!$A:$N,DI69,AD$7)))","v":""},{"$f":"IF($E69=\"\",\"\",IF(INDEX(E_SourceStreams!$A:$N,DJ69,AE$7)=\"\",\"\",INDEX(E_SourceStreams!$A:$N,DJ69,AE$7)))","v":""},{"$f":"IF($E69=\"\",\"\",IF(INDEX(E_SourceStreams!$A:$N,DK69,AF$7)=\"\",\"\",INDEX(E_SourceStreams!$A:$N,DK69,AF$7)))","v":""},{"$f":"IF($E69=\"\",\"\",IF(INDEX(E_SourceStreams!$A:$N,DL69,AG$7)=\"\",\"\",INDEX(E_SourceStreams!$A:$N,DL69,AG$7)))","v":""},{"$f":"IF($E69=\"\",\"\",IF(INDEX(E_SourceStreams!$A:$N,DM69,AH$7)=\"\",\"\",INDEX(E_SourceStreams!$A:$N,DM69,AH$7)))","v":""},{"$f":"IF($E69=\"\",\"\",IF(INDEX(E_SourceStreams!$A:$N,DN69,AI$7)=\"\",\"\",INDEX(E_SourceStreams!$A:$N,DN69,AI$7)))","v":""},{"$f":"IF($E69=\"\",\"\",IF(INDEX(E_SourceStreams!$A:$N,DO69,AJ$7)=\"\",\"\",INDEX(E_SourceStreams!$A:$N,DO69,AJ$7)))","v":""},{"$f":"IF($E69=\"\",\"\",IF(INDEX(E_SourceStreams!$A:$N,DP69,AK$7)=\"\",\"\",INDEX(E_SourceStreams!$A:$N,DP69,AK$7)))","v":""},{"$f":"IF($E69=\"\",\"\",IF(INDEX(E_SourceStreams!$A:$N,DQ69,AL$7)=\"\",\"\",INDEX(E_SourceStreams!$A:$N,DQ69,AL$7)))","v":""},{"$f":"IF($E69=\"\",\"\",IF(INDEX(E_SourceStreams!$A:$N,DR69,AM$7)=\"\",\"\",INDEX(E_SourceStreams!$A:$N,DR69,AM$7)))","v":""},{"$f":"IF($E69=\"\",\"\",IF(INDEX(E_SourceStreams!$A:$N,DS69,AN$7)=\"\",\"\",INDEX(E_SourceStreams!$A:$N,DS69,AN$7)))","v":""},{"$f":"IF($E69=\"\",\"\",IF(INDEX(E_SourceStreams!$A:$N,DT69,AO$7)=\"\",\"\",INDEX(E_SourceStreams!$A:$N,DT69,AO$7)))","v":""},{"$f":"IF($E69=\"\",\"\",IF(INDEX(E_SourceStreams!$A:$N,DU69,AP$7)=\"\",\"\",INDEX(E_SourceStreams!$A:$N,DU69,AP$7)))","v":""},{"$f":"IF($E69=\"\",\"\",IF(INDEX(E_SourceStreams!$A:$N,DV69,AQ$7)=\"\",\"\",INDEX(E_SourceStreams!$A:$N,DV69,AQ$7)))","v":""},{"$f":"IF($E69=\"\",\"\",IF(INDEX(E_SourceStreams!$A:$N,DW69,AR$7)=\"\",\"\",INDEX(E_SourceStreams!$A:$N,DW69,AR$7)))","v":""},{"$f":"IF($E69=\"\",\"\",IF(INDEX(E_SourceStreams!$A:$N,DX69,AS$7)=\"\",\"\",INDEX(E_SourceStreams!$A:$N,DX69,AS$7)))","v":""},{"$f":"IF($E69=\"\",\"\",IF(INDEX(E_SourceStreams!$A:$N,DY69,AT$7)=\"\",\"\",INDEX(E_SourceStreams!$A:$N,DY69,AT$7)))","v":""},{"$f":"IF($E69=\"\",\"\",IF(INDEX(E_SourceStreams!$A:$N,DZ69,AU$7)=\"\",\"\",INDEX(E_SourceStreams!$A:$N,DZ69,AU$7)))","v":""},{"$f":"IF($E69=\"\",\"\",IF(INDEX(E_SourceStreams!$A:$N,EA69,AV$7)=\"\",\"\",INDEX(E_SourceStreams!$A:$N,EA69,AV$7)))","v":""},{"$f":"IF($E69=\"\",\"\",IF(INDEX(E_SourceStreams!$A:$N,EB69,AW$7)=\"\",\"\",INDEX(E_SourceStreams!$A:$N,EB69,AW$7)))","v":""},{"$f":"IF($E69=\"\",\"\",IF(INDEX(E_SourceStreams!$A:$N,EC69,AX$7)=\"\",\"\",INDEX(E_SourceStreams!$A:$N,EC69,AX$7)))","v":""},{"$f":"IF($E69=\"\",\"\",IF(INDEX(E_SourceStreams!$A:$N,ED69,AY$7)=\"\",\"\",INDEX(E_SourceStreams!$A:$N,ED69,AY$7)))","v":""},{"$f":"IF($E69=\"\",\"\",IF(INDEX(E_SourceStreams!$A:$N,EE69,AZ$7)=\"\",\"\",INDEX(E_SourceStreams!$A:$N,EE69,AZ$7)))","v":""},{"$f":"IF($E69=\"\",\"\",IF(INDEX(E_SourceStreams!$A:$N,EF69,BA$7)=\"\",\"\",INDEX(E_SourceStreams!$A:$N,EF69,BA$7)))","v":""},{"$f":"IF($E69=\"\",\"\",IF(INDEX(E_SourceStreams!$A:$N,EG69,BB$7)=\"\",\"\",INDEX(E_SourceStreams!$A:$N,EG69,BB$7)))","v":""},{"$f":"IF($E69=\"\",\"\",IF(INDEX(E_SourceStreams!$A:$N,EH69,BC$7)=\"\",\"\",INDEX(E_SourceStreams!$A:$N,EH69,BC$7)))","v":""},{"$f":"IF($E69=\"\",\"\",IF(INDEX(E_SourceStreams!$A:$N,EI69,BD$7)=\"\",\"\",INDEX(E_SourceStreams!$A:$N,EI69,BD$7)))","v":""},{"$f":"IF($E69=\"\",\"\",IF(INDEX(E_SourceStreams!$A:$N,EJ69,BE$7)=\"\",\"\",INDEX(E_SourceStreams!$A:$N,EJ69,BE$7)))","v":""},{"$f":"IF($E69=\"\",\"\",IF(INDEX(E_SourceStreams!$A:$N,EK69,BF$7)=\"\",\"\",INDEX(E_SourceStreams!$A:$N,EK69,BF$7)))","v":""},{"$f":"IF($E69=\"\",\"\",IF(INDEX(E_SourceStreams!$A:$N,EL69,BG$7)=\"\",\"\",INDEX(E_SourceStreams!$A:$N,EL69,BG$7)))","v":""},{"$f":"IF($E69=\"\",\"\",IF(INDEX(E_SourceStreams!$A:$N,EM69,BH$7)=\"\",\"\",INDEX(E_SourceStreams!$A:$N,EM69,BH$7)))","v":""},{"$f":"IF($E69=\"\",\"\",IF(INDEX(E_SourceStreams!$A:$N,EN69,BI$7)=\"\",\"\",INDEX(E_SourceStreams!$A:$N,EN69,BI$7)))","v":""},{"$f":"IF($E69=\"\",\"\",IF(INDEX(E_SourceStreams!$A:$N,EO69,BJ$7)=\"\",\"\",INDEX(E_SourceStreams!$A:$N,EO69,BJ$7)))","v":""},{"$f":"IF($E69=\"\",\"\",IF(INDEX(E_SourceStreams!$A:$N,EP69,BK$7)=\"\",\"\",INDEX(E_SourceStreams!$A:$N,EP69,BK$7)))","v":""},{"$f":"IF($E69=\"\",\"\",IF(INDEX(E_SourceStreams!$A:$N,EQ69,BL$7)=\"\",\"\",INDEX(E_SourceStreams!$A:$N,EQ69,BL$7)))","v":""},{"$f":"IF($E69=\"\",\"\",IF(INDEX(E_SourceStreams!$A:$N,ER69,BM$7)=\"\",\"\",INDEX(E_SourceStreams!$A:$N,ER69,BM$7)))","v":""},{"$f":"IF($E69=\"\",\"\",IF(INDEX(E_SourceStreams!$A:$N,ES69,BN$7)=\"\",\"\",INDEX(E_SourceStreams!$A:$N,ES69,BN$7)))","v":""},{"$f":"IF($E69=\"\",\"\",IF(INDEX(E_SourceStreams!$A:$N,ET69,BO$7)=\"\",\"\",INDEX(E_SourceStreams!$A:$N,ET69,BO$7)))","v":""},{"$f":"IF($E69=\"\",\"\",IF(INDEX(E_SourceStreams!$A:$N,EU69,BP$7)=\"\",\"\",INDEX(E_SourceStreams!$A:$N,EU69,BP$7)))","v":""},{"$f":"IF($E69=\"\",\"\",IF(INDEX(E_SourceStreams!$A:$N,EV69,BQ$7)=\"\",\"\",INDEX(E_SourceStreams!$A:$N,EV69,BQ$7)))","v":""},{"$f":"IF($E69=\"\",\"\",IF(INDEX(E_SourceStreams!$A:$N,EW69,BR$7)=\"\",\"\",INDEX(E_SourceStreams!$A:$N,EW69,BR$7)))","v":""},{"$f":"IF($E69=\"\",\"\",IF(INDEX(E_SourceStreams!$A:$N,EX69,BS$7)=\"\",\"\",INDEX(E_SourceStreams!$A:$N,EX69,BS$7)))","v":""},{"$f":"IF($E69=\"\",\"\",IF(INDEX(E_SourceStreams!$A:$N,EY69,BT$7)=\"\",\"\",INDEX(E_SourceStreams!$A:$N,EY69,BT$7)))","v":""},null,null,null,null,null,null,null,null,null,null,null,null,null,null,null,"SourceCategory_",{"$f":"INDEX(C_InstallationDescription!$A$223:$A$328,ROWS($CI$11:CI69))=\"ausblenden\"","v":true},"SourceStreamName_",null,3962,3964,3966,3968,3970,3972,3974,3974,3974,3974,3974,3977,3981,3982,3983,3990,4000,4000,4000,4000,4000,4000,4000,3991,4001,4001,4001,4001,4001,4001,4001,3992,4002,4002,4002,4002,4002,4002,4002,3993,4003,4003,4003,4003,4003,4003,4003,3994,4004,4004,4004,4004,4004,4004,4004,3995,4005,4005,4005,4005,4005,4005,4005,4011]
[null,{"$f":"IF(COUNTIF($CK$10:CK70,TRUE)>0,\"\",INDEX(C_InstallationDescription!$E$223:$E$239,ROWS($A$11:A70)))","v":""},{"$f":"IF($E70=\"\",\"\",INDEX(C_InstallationDescription!G:G,MATCH($B70,C_InstallationDescription!$E:$E,0)))","v":""},{"$f":"IF($E70=\"\",\"\",INDEX(C_InstallationDescription!I:I,MATCH($B70,C_InstallationDescription!$E:$E,0)))","v":""},{"$f":"IF($B70=\"\",\"\",INDEX(C_InstallationDescription!F:F,MATCH($CJ70,C_InstallationDescription!$Q:$Q,0)))","v":""},{"$f":"IF($E70=\"\",\"\",INDEX(C_InstallationDescription!L:L,MATCH($CJ70,C_InstallationDescription!$Q:$Q,0)))","v":""},{"$f":"IF($E70=\"\",\"\",INDEX(C_InstallationDescription!M:M,MATCH($CJ70,C_InstallationDescription!$Q:$Q,0)))","v":""},{"$f":"IF($E70=\"\",\"\",INDEX(C_InstallationDescription!N:N,MATCH($CJ70,C_InstallationDescription!$Q:$Q,0)))","v":""},{"$f":"IF($E70=\"\",\"\",IF(INDEX(E_SourceStreams!$A:$N,CN70,I$7)=\"\",\"\",INDEX(E_SourceStreams!$A:$N,CN70,I$7)))","v":""},{"$f":"IF($E70=\"\",\"\",IF(INDEX(E_SourceStreams!$A:$N,CO70,J$7)=\"\",\"\",INDEX(E_SourceStreams!$A:$N,CO70,J$7)))","v":""},{"$f":"IF($E70=\"\",\"\",IF(INDEX(E_SourceStreams!$A:$N,CP70,K$7)=\"\",\"\",INDEX(E_SourceStreams!$A:$N,CP70,K$7)))","v":""},{"$f":"IF($E70=\"\",\"\",IF(INDEX(E_SourceStreams!$A:$N,CQ70,L$7)=\"\",\"\",INDEX(E_SourceStreams!$A:$N,CQ70,L$7)))","v":""},{"$f":"IF($E70=\"\",\"\",IF(INDEX(E_SourceStreams!$A:$N,CR70,M$7)=\"\",\"\",INDEX(E_SourceStreams!$A:$N,CR70,M$7)))","v":""},{"$f":"IF($E70=\"\",\"\",IF(INDEX(E_SourceStreams!$A:$N,CS70,N$7)=\"\",\"\",INDEX(E_SourceStreams!$A:$N,CS70,N$7)))","v":""},{"$f":"IF($E70=\"\",\"\",IF(INDEX(E_SourceStreams!$A:$N,CT70,O$7)=\"\",\"\",INDEX(E_SourceStreams!$A:$N,CT70,O$7)))","v":""},{"$f":"IF($E70=\"\",\"\",IF(INDEX(E_SourceStreams!$A:$N,CU70,P$7)=\"\",\"\",INDEX(E_SourceStreams!$A:$N,CU70,P$7)))","v":""},{"$f":"IF($E70=\"\",\"\",IF(INDEX(E_SourceStreams!$A:$N,CV70,Q$7)=\"\",\"\",INDEX(E_SourceStreams!$A:$N,CV70,Q$7)))","v":""},{"$f":"IF($E70=\"\",\"\",IF(INDEX(E_SourceStreams!$A:$N,CW70,R$7)=\"\",\"\",INDEX(E_SourceStreams!$A:$N,CW70,R$7)))","v":""},{"$f":"IF($E70=\"\",\"\",IF(INDEX(E_SourceStreams!$A:$N,CX70,S$7)=\"\",\"\",INDEX(E_SourceStreams!$A:$N,CX70,S$7)))","v":""},{"$f":"IF($E70=\"\",\"\",IF(INDEX(E_SourceStreams!$A:$N,CY70,T$7)=\"\",\"\",INDEX(E_SourceStreams!$A:$N,CY70,T$7)))","v":""},{"$f":"IF($E70=\"\",\"\",IF(INDEX(E_SourceStreams!$A:$N,CZ70,U$7)=\"\",\"\",INDEX(E_SourceStreams!$A:$N,CZ70,U$7)))","v":""},{"$f":"IF($E70=\"\",\"\",IF(INDEX(E_SourceStreams!$A:$N,DA70,V$7)=\"\",\"\",INDEX(E_SourceStreams!$A:$N,DA70,V$7)))","v":""},{"$f":"IF($E70=\"\",\"\",IF(INDEX(E_SourceStreams!$A:$N,DB70,W$7)=\"\",\"\",INDEX(E_SourceStreams!$A:$N,DB70,W$7)))","v":""},{"$f":"IF($E70=\"\",\"\",IF(INDEX(E_SourceStreams!$A:$N,DC70,X$7)=\"\",\"\",INDEX(E_SourceStreams!$A:$N,DC70,X$7)))","v":""},{"$f":"IF($E70=\"\",\"\",IF(INDEX(E_SourceStreams!$A:$N,DD70,Y$7)=\"\",\"\",INDEX(E_SourceStreams!$A:$N,DD70,Y$7)))","v":""},{"$f":"IF($E70=\"\",\"\",IF(INDEX(E_SourceStreams!$A:$N,DE70,Z$7)=\"\",\"\",INDEX(E_SourceStreams!$A:$N,DE70,Z$7)))","v":""},{"$f":"IF($E70=\"\",\"\",IF(INDEX(E_SourceStreams!$A:$N,DF70,AA$7)=\"\",\"\",INDEX(E_SourceStreams!$A:$N,DF70,AA$7)))","v":""},{"$f":"IF($E70=\"\",\"\",IF(INDEX(E_SourceStreams!$A:$N,DG70,AB$7)=\"\",\"\",INDEX(E_SourceStreams!$A:$N,DG70,AB$7)))","v":""},{"$f":"IF($E70=\"\",\"\",IF(INDEX(E_SourceStreams!$A:$N,DH70,AC$7)=\"\",\"\",INDEX(E_SourceStreams!$A:$N,DH70,AC$7)))","v":""},{"$f":"IF($E70=\"\",\"\",IF(INDEX(E_SourceStreams!$A:$N,DI70,AD$7)=\"\",\"\",INDEX(E_SourceStreams!$A:$N,DI70,AD$7)))","v":""},{"$f":"IF($E70=\"\",\"\",IF(INDEX(E_SourceStreams!$A:$N,DJ70,AE$7)=\"\",\"\",INDEX(E_SourceStreams!$A:$N,DJ70,AE$7)))","v":""},{"$f":"IF($E70=\"\",\"\",IF(INDEX(E_SourceStreams!$A:$N,DK70,AF$7)=\"\",\"\",INDEX(E_SourceStreams!$A:$N,DK70,AF$7)))","v":""},{"$f":"IF($E70=\"\",\"\",IF(INDEX(E_SourceStreams!$A:$N,DL70,AG$7)=\"\",\"\",INDEX(E_SourceStreams!$A:$N,DL70,AG$7)))","v":""},{"$f":"IF($E70=\"\",\"\",IF(INDEX(E_SourceStreams!$A:$N,DM70,AH$7)=\"\",\"\",INDEX(E_SourceStreams!$A:$N,DM70,AH$7)))","v":""},{"$f":"IF($E70=\"\",\"\",IF(INDEX(E_SourceStreams!$A:$N,DN70,AI$7)=\"\",\"\",INDEX(E_SourceStreams!$A:$N,DN70,AI$7)))","v":""},{"$f":"IF($E70=\"\",\"\",IF(INDEX(E_SourceStreams!$A:$N,DO70,AJ$7)=\"\",\"\",INDEX(E_SourceStreams!$A:$N,DO70,AJ$7)))","v":""},{"$f":"IF($E70=\"\",\"\",IF(INDEX(E_SourceStreams!$A:$N,DP70,AK$7)=\"\",\"\",INDEX(E_SourceStreams!$A:$N,DP70,AK$7)))","v":""},{"$f":"IF($E70=\"\",\"\",IF(INDEX(E_SourceStreams!$A:$N,DQ70,AL$7)=\"\",\"\",INDEX(E_SourceStreams!$A:$N,DQ70,AL$7)))","v":""},{"$f":"IF($E70=\"\",\"\",IF(INDEX(E_SourceStreams!$A:$N,DR70,AM$7)=\"\",\"\",INDEX(E_SourceStreams!$A:$N,DR70,AM$7)))","v":""},{"$f":"IF($E70=\"\",\"\",IF(INDEX(E_SourceStreams!$A:$N,DS70,AN$7)=\"\",\"\",INDEX(E_SourceStreams!$A:$N,DS70,AN$7)))","v":""},{"$f":"IF($E70=\"\",\"\",IF(INDEX(E_SourceStreams!$A:$N,DT70,AO$7)=\"\",\"\",INDEX(E_SourceStreams!$A:$N,DT70,AO$7)))","v":""},{"$f":"IF($E70=\"\",\"\",IF(INDEX(E_SourceStreams!$A:$N,DU70,AP$7)=\"\",\"\",INDEX(E_SourceStreams!$A:$N,DU70,AP$7)))","v":""},{"$f":"IF($E70=\"\",\"\",IF(INDEX(E_SourceStreams!$A:$N,DV70,AQ$7)=\"\",\"\",INDEX(E_SourceStreams!$A:$N,DV70,AQ$7)))","v":""},{"$f":"IF($E70=\"\",\"\",IF(INDEX(E_SourceStreams!$A:$N,DW70,AR$7)=\"\",\"\",INDEX(E_SourceStreams!$A:$N,DW70,AR$7)))","v":""},{"$f":"IF($E70=\"\",\"\",IF(INDEX(E_SourceStreams!$A:$N,DX70,AS$7)=\"\",\"\",INDEX(E_SourceStreams!$A:$N,DX70,AS$7)))","v":""},{"$f":"IF($E70=\"\",\"\",IF(INDEX(E_SourceStreams!$A:$N,DY70,AT$7)=\"\",\"\",INDEX(E_SourceStreams!$A:$N,DY70,AT$7)))","v":""},{"$f":"IF($E70=\"\",\"\",IF(INDEX(E_SourceStreams!$A:$N,DZ70,AU$7)=\"\",\"\",INDEX(E_SourceStreams!$A:$N,DZ70,AU$7)))","v":""},{"$f":"IF($E70=\"\",\"\",IF(INDEX(E_SourceStreams!$A:$N,EA70,AV$7)=\"\",\"\",INDEX(E_SourceStreams!$A:$N,EA70,AV$7)))","v":""},{"$f":"IF($E70=\"\",\"\",IF(INDEX(E_SourceStreams!$A:$N,EB70,AW$7)=\"\",\"\",INDEX(E_SourceStreams!$A:$N,EB70,AW$7)))","v":""},{"$f":"IF($E70=\"\",\"\",IF(INDEX(E_SourceStreams!$A:$N,EC70,AX$7)=\"\",\"\",INDEX(E_SourceStreams!$A:$N,EC70,AX$7)))","v":""},{"$f":"IF($E70=\"\",\"\",IF(INDEX(E_SourceStreams!$A:$N,ED70,AY$7)=\"\",\"\",INDEX(E_SourceStreams!$A:$N,ED70,AY$7)))","v":""},{"$f":"IF($E70=\"\",\"\",IF(INDEX(E_SourceStreams!$A:$N,EE70,AZ$7)=\"\",\"\",INDEX(E_SourceStreams!$A:$N,EE70,AZ$7)))","v":""},{"$f":"IF($E70=\"\",\"\",IF(INDEX(E_SourceStreams!$A:$N,EF70,BA$7)=\"\",\"\",INDEX(E_SourceStreams!$A:$N,EF70,BA$7)))","v":""},{"$f":"IF($E70=\"\",\"\",IF(INDEX(E_SourceStreams!$A:$N,EG70,BB$7)=\"\",\"\",INDEX(E_SourceStreams!$A:$N,EG70,BB$7)))","v":""},{"$f":"IF($E70=\"\",\"\",IF(INDEX(E_SourceStreams!$A:$N,EH70,BC$7)=\"\",\"\",INDEX(E_SourceStreams!$A:$N,EH70,BC$7)))","v":""},{"$f":"IF($E70=\"\",\"\",IF(INDEX(E_SourceStreams!$A:$N,EI70,BD$7)=\"\",\"\",INDEX(E_SourceStreams!$A:$N,EI70,BD$7)))","v":""},{"$f":"IF($E70=\"\",\"\",IF(INDEX(E_SourceStreams!$A:$N,EJ70,BE$7)=\"\",\"\",INDEX(E_SourceStreams!$A:$N,EJ70,BE$7)))","v":""},{"$f":"IF($E70=\"\",\"\",IF(INDEX(E_SourceStreams!$A:$N,EK70,BF$7)=\"\",\"\",INDEX(E_SourceStreams!$A:$N,EK70,BF$7)))","v":""},{"$f":"IF($E70=\"\",\"\",IF(INDEX(E_SourceStreams!$A:$N,EL70,BG$7)=\"\",\"\",INDEX(E_SourceStreams!$A:$N,EL70,BG$7)))","v":""},{"$f":"IF($E70=\"\",\"\",IF(INDEX(E_SourceStreams!$A:$N,EM70,BH$7)=\"\",\"\",INDEX(E_SourceStreams!$A:$N,EM70,BH$7)))","v":""},{"$f":"IF($E70=\"\",\"\",IF(INDEX(E_SourceStreams!$A:$N,EN70,BI$7)=\"\",\"\",INDEX(E_SourceStreams!$A:$N,EN70,BI$7)))","v":""},{"$f":"IF($E70=\"\",\"\",IF(INDEX(E_SourceStreams!$A:$N,EO70,BJ$7)=\"\",\"\",INDEX(E_SourceStreams!$A:$N,EO70,BJ$7)))","v":""},{"$f":"IF($E70=\"\",\"\",IF(INDEX(E_SourceStreams!$A:$N,EP70,BK$7)=\"\",\"\",INDEX(E_SourceStreams!$A:$N,EP70,BK$7)))","v":""},{"$f":"IF($E70=\"\",\"\",IF(INDEX(E_SourceStreams!$A:$N,EQ70,BL$7)=\"\",\"\",INDEX(E_SourceStreams!$A:$N,EQ70,BL$7)))","v":""},{"$f":"IF($E70=\"\",\"\",IF(INDEX(E_SourceStreams!$A:$N,ER70,BM$7)=\"\",\"\",INDEX(E_SourceStreams!$A:$N,ER70,BM$7)))","v":""},{"$f":"IF($E70=\"\",\"\",IF(INDEX(E_SourceStreams!$A:$N,ES70,BN$7)=\"\",\"\",INDEX(E_SourceStreams!$A:$N,ES70,BN$7)))","v":""},{"$f":"IF($E70=\"\",\"\",IF(INDEX(E_SourceStreams!$A:$N,ET70,BO$7)=\"\",\"\",INDEX(E_SourceStreams!$A:$N,ET70,BO$7)))","v":""},{"$f":"IF($E70=\"\",\"\",IF(INDEX(E_SourceStreams!$A:$N,EU70,BP$7)=\"\",\"\",INDEX(E_SourceStreams!$A:$N,EU70,BP$7)))","v":""},{"$f":"IF($E70=\"\",\"\",IF(INDEX(E_SourceStreams!$A:$N,EV70,BQ$7)=\"\",\"\",INDEX(E_SourceStreams!$A:$N,EV70,BQ$7)))","v":""},{"$f":"IF($E70=\"\",\"\",IF(INDEX(E_SourceStreams!$A:$N,EW70,BR$7)=\"\",\"\",INDEX(E_SourceStreams!$A:$N,EW70,BR$7)))","v":""},{"$f":"IF($E70=\"\",\"\",IF(INDEX(E_SourceStreams!$A:$N,EX70,BS$7)=\"\",\"\",INDEX(E_SourceStreams!$A:$N,EX70,BS$7)))","v":""},{"$f":"IF($E70=\"\",\"\",IF(INDEX(E_SourceStreams!$A:$N,EY70,BT$7)=\"\",\"\",INDEX(E_SourceStreams!$A:$N,EY70,BT$7)))","v":""},null,null,null,null,null,null,null,null,null,null,null,null,null,null,null,"SourceCategory_",{"$f":"INDEX(C_InstallationDescription!$A$223:$A$328,ROWS($CI$11:CI70))=\"ausblenden\"","v":true},"SourceStreamName_",null,4028,4030,4032,4034,4036,4038,4040,4040,4040,4040,4040,4043,4047,4048,4049,4056,4066,4066,4066,4066,4066,4066,4066,4057,4067,4067,4067,4067,4067,4067,4067,4058,4068,4068,4068,4068,4068,4068,4068,4059,4069,4069,4069,4069,4069,4069,4069,4060,4070,4070,4070,4070,4070,4070,4070,4061,4071,4071,4071,4071,4071,4071,4071,4077]
[null,{"$f":"IF(COUNTIF($CK$10:CK71,TRUE)>0,\"\",INDEX(C_InstallationDescription!$E$223:$E$239,ROWS($A$11:A71)))","v":""},{"$f":"IF($E71=\"\",\"\",INDEX(C_InstallationDescription!G:G,MATCH($B71,C_InstallationDescription!$E:$E,0)))","v":""},{"$f":"IF($E71=\"\",\"\",INDEX(C_InstallationDescription!I:I,MATCH($B71,C_InstallationDescription!$E:$E,0)))","v":""},{"$f":"IF($B71=\"\",\"\",INDEX(C_InstallationDescription!F:F,MATCH($CJ71,C_InstallationDescription!$Q:$Q,0)))","v":""},{"$f":"IF($E71=\"\",\"\",INDEX(C_InstallationDescription!L:L,MATCH($CJ71,C_InstallationDescription!$Q:$Q,0)))","v":""},{"$f":"IF($E71=\"\",\"\",INDEX(C_InstallationDescription!M:M,MATCH($CJ71,C_InstallationDescription!$Q:$Q,0)))","v":""},{"$f":"IF($E71=\"\",\"\",INDEX(C_InstallationDescription!N:N,MATCH($CJ71,C_InstallationDescription!$Q:$Q,0)))","v":""},{"$f":"IF($E71=\"\",\"\",IF(INDEX(E_SourceStreams!$A:$N,CN71,I$7)=\"\",\"\",INDEX(E_SourceStreams!$A:$N,CN71,I$7)))","v":""},{"$f":"IF($E71=\"\",\"\",IF(INDEX(E_SourceStreams!$A:$N,CO71,J$7)=\"\",\"\",INDEX(E_SourceStreams!$A:$N,CO71,J$7)))","v":""},{"$f":"IF($E71=\"\",\"\",IF(INDEX(E_SourceStreams!$A:$N,CP71,K$7)=\"\",\"\",INDEX(E_SourceStreams!$A:$N,CP71,K$7)))","v":""},{"$f":"IF($E71=\"\",\"\",IF(INDEX(E_SourceStreams!$A:$N,CQ71,L$7)=\"\",\"\",INDEX(E_SourceStreams!$A:$N,CQ71,L$7)))","v":""},{"$f":"IF($E71=\"\",\"\",IF(INDEX(E_SourceStreams!$A:$N,CR71,M$7)=\"\",\"\",INDEX(E_SourceStreams!$A:$N,CR71,M$7)))","v":""},{"$f":"IF($E71=\"\",\"\",IF(INDEX(E_SourceStreams!$A:$N,CS71,N$7)=\"\",\"\",INDEX(E_SourceStreams!$A:$N,CS71,N$7)))","v":""},{"$f":"IF($E71=\"\",\"\",IF(INDEX(E_SourceStreams!$A:$N,CT71,O$7)=\"\",\"\",INDEX(E_SourceStreams!$A:$N,CT71,O$7)))","v":""},{"$f":"IF($E71=\"\",\"\",IF(INDEX(E_SourceStreams!$A:$N,CU71,P$7)=\"\",\"\",INDEX(E_SourceStreams!$A:$N,CU71,P$7)))","v":""},{"$f":"IF($E71=\"\",\"\",IF(INDEX(E_SourceStreams!$A:$N,CV71,Q$7)=\"\",\"\",INDEX(E_SourceStreams!$A:$N,CV71,Q$7)))","v":""},{"$f":"IF($E71=\"\",\"\",IF(INDEX(E_SourceStreams!$A:$N,CW71,R$7)=\"\",\"\",INDEX(E_SourceStreams!$A:$N,CW71,R$7)))","v":""},{"$f":"IF($E71=\"\",\"\",IF(INDEX(E_SourceStreams!$A:$N,CX71,S$7)=\"\",\"\",INDEX(E_SourceStreams!$A:$N,CX71,S$7)))","v":""},{"$f":"IF($E71=\"\",\"\",IF(INDEX(E_SourceStreams!$A:$N,CY71,T$7)=\"\",\"\",INDEX(E_SourceStreams!$A:$N,CY71,T$7)))","v":""},{"$f":"IF($E71=\"\",\"\",IF(INDEX(E_SourceStreams!$A:$N,CZ71,U$7)=\"\",\"\",INDEX(E_SourceStreams!$A:$N,CZ71,U$7)))","v":""},{"$f":"IF($E71=\"\",\"\",IF(INDEX(E_SourceStreams!$A:$N,DA71,V$7)=\"\",\"\",INDEX(E_SourceStreams!$A:$N,DA71,V$7)))","v":""},{"$f":"IF($E71=\"\",\"\",IF(INDEX(E_SourceStreams!$A:$N,DB71,W$7)=\"\",\"\",INDEX(E_SourceStreams!$A:$N,DB71,W$7)))","v":""},{"$f":"IF($E71=\"\",\"\",IF(INDEX(E_SourceStreams!$A:$N,DC71,X$7)=\"\",\"\",INDEX(E_SourceStreams!$A:$N,DC71,X$7)))","v":""},{"$f":"IF($E71=\"\",\"\",IF(INDEX(E_SourceStreams!$A:$N,DD71,Y$7)=\"\",\"\",INDEX(E_SourceStreams!$A:$N,DD71,Y$7)))","v":""},{"$f":"IF($E71=\"\",\"\",IF(INDEX(E_SourceStreams!$A:$N,DE71,Z$7)=\"\",\"\",INDEX(E_SourceStreams!$A:$N,DE71,Z$7)))","v":""},{"$f":"IF($E71=\"\",\"\",IF(INDEX(E_SourceStreams!$A:$N,DF71,AA$7)=\"\",\"\",INDEX(E_SourceStreams!$A:$N,DF71,AA$7)))","v":""},{"$f":"IF($E71=\"\",\"\",IF(INDEX(E_SourceStreams!$A:$N,DG71,AB$7)=\"\",\"\",INDEX(E_SourceStreams!$A:$N,DG71,AB$7)))","v":""},{"$f":"IF($E71=\"\",\"\",IF(INDEX(E_SourceStreams!$A:$N,DH71,AC$7)=\"\",\"\",INDEX(E_SourceStreams!$A:$N,DH71,AC$7)))","v":""},{"$f":"IF($E71=\"\",\"\",IF(INDEX(E_SourceStreams!$A:$N,DI71,AD$7)=\"\",\"\",INDEX(E_SourceStreams!$A:$N,DI71,AD$7)))","v":""},{"$f":"IF($E71=\"\",\"\",IF(INDEX(E_SourceStreams!$A:$N,DJ71,AE$7)=\"\",\"\",INDEX(E_SourceStreams!$A:$N,DJ71,AE$7)))","v":""},{"$f":"IF($E71=\"\",\"\",IF(INDEX(E_SourceStreams!$A:$N,DK71,AF$7)=\"\",\"\",INDEX(E_SourceStreams!$A:$N,DK71,AF$7)))","v":""},{"$f":"IF($E71=\"\",\"\",IF(INDEX(E_SourceStreams!$A:$N,DL71,AG$7)=\"\",\"\",INDEX(E_SourceStreams!$A:$N,DL71,AG$7)))","v":""},{"$f":"IF($E71=\"\",\"\",IF(INDEX(E_SourceStreams!$A:$N,DM71,AH$7)=\"\",\"\",INDEX(E_SourceStreams!$A:$N,DM71,AH$7)))","v":""},{"$f":"IF($E71=\"\",\"\",IF(INDEX(E_SourceStreams!$A:$N,DN71,AI$7)=\"\",\"\",INDEX(E_SourceStreams!$A:$N,DN71,AI$7)))","v":""},{"$f":"IF($E71=\"\",\"\",IF(INDEX(E_SourceStreams!$A:$N,DO71,AJ$7)=\"\",\"\",INDEX(E_SourceStreams!$A:$N,DO71,AJ$7)))","v":""},{"$f":"IF($E71=\"\",\"\",IF(INDEX(E_SourceStreams!$A:$N,DP71,AK$7)=\"\",\"\",INDEX(E_SourceStreams!$A:$N,DP71,AK$7)))","v":""},{"$f":"IF($E71=\"\",\"\",IF(INDEX(E_SourceStreams!$A:$N,DQ71,AL$7)=\"\",\"\",INDEX(E_SourceStreams!$A:$N,DQ71,AL$7)))","v":""},{"$f":"IF($E71=\"\",\"\",IF(INDEX(E_SourceStreams!$A:$N,DR71,AM$7)=\"\",\"\",INDEX(E_SourceStreams!$A:$N,DR71,AM$7)))","v":""},{"$f":"IF($E71=\"\",\"\",IF(INDEX(E_SourceStreams!$A:$N,DS71,AN$7)=\"\",\"\",INDEX(E_SourceStreams!$A:$N,DS71,AN$7)))","v":""},{"$f":"IF($E71=\"\",\"\",IF(INDEX(E_SourceStreams!$A:$N,DT71,AO$7)=\"\",\"\",INDEX(E_SourceStreams!$A:$N,DT71,AO$7)))","v":""},{"$f":"IF($E71=\"\",\"\",IF(INDEX(E_SourceStreams!$A:$N,DU71,AP$7)=\"\",\"\",INDEX(E_SourceStreams!$A:$N,DU71,AP$7)))","v":""},{"$f":"IF($E71=\"\",\"\",IF(INDEX(E_SourceStreams!$A:$N,DV71,AQ$7)=\"\",\"\",INDEX(E_SourceStreams!$A:$N,DV71,AQ$7)))","v":""},{"$f":"IF($E71=\"\",\"\",IF(INDEX(E_SourceStreams!$A:$N,DW71,AR$7)=\"\",\"\",INDEX(E_SourceStreams!$A:$N,DW71,AR$7)))","v":""},{"$f":"IF($E71=\"\",\"\",IF(INDEX(E_SourceStreams!$A:$N,DX71,AS$7)=\"\",\"\",INDEX(E_SourceStreams!$A:$N,DX71,AS$7)))","v":""},{"$f":"IF($E71=\"\",\"\",IF(INDEX(E_SourceStreams!$A:$N,DY71,AT$7)=\"\",\"\",INDEX(E_SourceStreams!$A:$N,DY71,AT$7)))","v":""},{"$f":"IF($E71=\"\",\"\",IF(INDEX(E_SourceStreams!$A:$N,DZ71,AU$7)=\"\",\"\",INDEX(E_SourceStreams!$A:$N,DZ71,AU$7)))","v":""},{"$f":"IF($E71=\"\",\"\",IF(INDEX(E_SourceStreams!$A:$N,EA71,AV$7)=\"\",\"\",INDEX(E_SourceStreams!$A:$N,EA71,AV$7)))","v":""},{"$f":"IF($E71=\"\",\"\",IF(INDEX(E_SourceStreams!$A:$N,EB71,AW$7)=\"\",\"\",INDEX(E_SourceStreams!$A:$N,EB71,AW$7)))","v":""},{"$f":"IF($E71=\"\",\"\",IF(INDEX(E_SourceStreams!$A:$N,EC71,AX$7)=\"\",\"\",INDEX(E_SourceStreams!$A:$N,EC71,AX$7)))","v":""},{"$f":"IF($E71=\"\",\"\",IF(INDEX(E_SourceStreams!$A:$N,ED71,AY$7)=\"\",\"\",INDEX(E_SourceStreams!$A:$N,ED71,AY$7)))","v":""},{"$f":"IF($E71=\"\",\"\",IF(INDEX(E_SourceStreams!$A:$N,EE71,AZ$7)=\"\",\"\",INDEX(E_SourceStreams!$A:$N,EE71,AZ$7)))","v":""},{"$f":"IF($E71=\"\",\"\",IF(INDEX(E_SourceStreams!$A:$N,EF71,BA$7)=\"\",\"\",INDEX(E_SourceStreams!$A:$N,EF71,BA$7)))","v":""},{"$f":"IF($E71=\"\",\"\",IF(INDEX(E_SourceStreams!$A:$N,EG71,BB$7)=\"\",\"\",INDEX(E_SourceStreams!$A:$N,EG71,BB$7)))","v":""},{"$f":"IF($E71=\"\",\"\",IF(INDEX(E_SourceStreams!$A:$N,EH71,BC$7)=\"\",\"\",INDEX(E_SourceStreams!$A:$N,EH71,BC$7)))","v":""},{"$f":"IF($E71=\"\",\"\",IF(INDEX(E_SourceStreams!$A:$N,EI71,BD$7)=\"\",\"\",INDEX(E_SourceStreams!$A:$N,EI71,BD$7)))","v":""},{"$f":"IF($E71=\"\",\"\",IF(INDEX(E_SourceStreams!$A:$N,EJ71,BE$7)=\"\",\"\",INDEX(E_SourceStreams!$A:$N,EJ71,BE$7)))","v":""},{"$f":"IF($E71=\"\",\"\",IF(INDEX(E_SourceStreams!$A:$N,EK71,BF$7)=\"\",\"\",INDEX(E_SourceStreams!$A:$N,EK71,BF$7)))","v":""},{"$f":"IF($E71=\"\",\"\",IF(INDEX(E_SourceStreams!$A:$N,EL71,BG$7)=\"\",\"\",INDEX(E_SourceStreams!$A:$N,EL71,BG$7)))","v":""},{"$f":"IF($E71=\"\",\"\",IF(INDEX(E_SourceStreams!$A:$N,EM71,BH$7)=\"\",\"\",INDEX(E_SourceStreams!$A:$N,EM71,BH$7)))","v":""},{"$f":"IF($E71=\"\",\"\",IF(INDEX(E_SourceStreams!$A:$N,EN71,BI$7)=\"\",\"\",INDEX(E_SourceStreams!$A:$N,EN71,BI$7)))","v":""},{"$f":"IF($E71=\"\",\"\",IF(INDEX(E_SourceStreams!$A:$N,EO71,BJ$7)=\"\",\"\",INDEX(E_SourceStreams!$A:$N,EO71,BJ$7)))","v":""},{"$f":"IF($E71=\"\",\"\",IF(INDEX(E_SourceStreams!$A:$N,EP71,BK$7)=\"\",\"\",INDEX(E_SourceStreams!$A:$N,EP71,BK$7)))","v":""},{"$f":"IF($E71=\"\",\"\",IF(INDEX(E_SourceStreams!$A:$N,EQ71,BL$7)=\"\",\"\",INDEX(E_SourceStreams!$A:$N,EQ71,BL$7)))","v":""},{"$f":"IF($E71=\"\",\"\",IF(INDEX(E_SourceStreams!$A:$N,ER71,BM$7)=\"\",\"\",INDEX(E_SourceStreams!$A:$N,ER71,BM$7)))","v":""},{"$f":"IF($E71=\"\",\"\",IF(INDEX(E_SourceStreams!$A:$N,ES71,BN$7)=\"\",\"\",INDEX(E_SourceStreams!$A:$N,ES71,BN$7)))","v":""},{"$f":"IF($E71=\"\",\"\",IF(INDEX(E_SourceStreams!$A:$N,ET71,BO$7)=\"\",\"\",INDEX(E_SourceStreams!$A:$N,ET71,BO$7)))","v":""},{"$f":"IF($E71=\"\",\"\",IF(INDEX(E_SourceStreams!$A:$N,EU71,BP$7)=\"\",\"\",INDEX(E_SourceStreams!$A:$N,EU71,BP$7)))","v":""},{"$f":"IF($E71=\"\",\"\",IF(INDEX(E_SourceStreams!$A:$N,EV71,BQ$7)=\"\",\"\",INDEX(E_SourceStreams!$A:$N,EV71,BQ$7)))","v":""},{"$f":"IF($E71=\"\",\"\",IF(INDEX(E_SourceStreams!$A:$N,EW71,BR$7)=\"\",\"\",INDEX(E_SourceStreams!$A:$N,EW71,BR$7)))","v":""},{"$f":"IF($E71=\"\",\"\",IF(INDEX(E_SourceStreams!$A:$N,EX71,BS$7)=\"\",\"\",INDEX(E_SourceStreams!$A:$N,EX71,BS$7)))","v":""},{"$f":"IF($E71=\"\",\"\",IF(INDEX(E_SourceStreams!$A:$N,EY71,BT$7)=\"\",\"\",INDEX(E_SourceStreams!$A:$N,EY71,BT$7)))","v":""},null,null,null,null,null,null,null,null,null,null,null,null,null,null,null,"SourceCategory_",{"$f":"INDEX(C_InstallationDescription!$A$223:$A$328,ROWS($CI$11:CI71))=\"ausblenden\"","v":true},"SourceStreamName_",null,4094,4096,4098,4100,4102,4104,4106,4106,4106,4106,4106,4109,4113,4114,4115,4122,4132,4132,4132,4132,4132,4132,4132,4123,4133,4133,4133,4133,4133,4133,4133,4124,4134,4134,4134,4134,4134,4134,4134,4125,4135,4135,4135,4135,4135,4135,4135,4126,4136,4136,4136,4136,4136,4136,4136,4127,4137,4137,4137,4137,4137,4137,4137,4143]
[null,{"$f":"IF(COUNTIF($CK$10:CK72,TRUE)>0,\"\",INDEX(C_InstallationDescription!$E$223:$E$239,ROWS($A$11:A72)))","v":""},{"$f":"IF($E72=\"\",\"\",INDEX(C_InstallationDescription!G:G,MATCH($B72,C_InstallationDescription!$E:$E,0)))","v":""},{"$f":"IF($E72=\"\",\"\",INDEX(C_InstallationDescription!I:I,MATCH($B72,C_InstallationDescription!$E:$E,0)))","v":""},{"$f":"IF($B72=\"\",\"\",INDEX(C_InstallationDescription!F:F,MATCH($CJ72,C_InstallationDescription!$Q:$Q,0)))","v":""},{"$f":"IF($E72=\"\",\"\",INDEX(C_InstallationDescription!L:L,MATCH($CJ72,C_InstallationDescription!$Q:$Q,0)))","v":""},{"$f":"IF($E72=\"\",\"\",INDEX(C_InstallationDescription!M:M,MATCH($CJ72,C_InstallationDescription!$Q:$Q,0)))","v":""},{"$f":"IF($E72=\"\",\"\",INDEX(C_InstallationDescription!N:N,MATCH($CJ72,C_InstallationDescription!$Q:$Q,0)))","v":""},{"$f":"IF($E72=\"\",\"\",IF(INDEX(E_SourceStreams!$A:$N,CN72,I$7)=\"\",\"\",INDEX(E_SourceStreams!$A:$N,CN72,I$7)))","v":""},{"$f":"IF($E72=\"\",\"\",IF(INDEX(E_SourceStreams!$A:$N,CO72,J$7)=\"\",\"\",INDEX(E_SourceStreams!$A:$N,CO72,J$7)))","v":""},{"$f":"IF($E72=\"\",\"\",IF(INDEX(E_SourceStreams!$A:$N,CP72,K$7)=\"\",\"\",INDEX(E_SourceStreams!$A:$N,CP72,K$7)))","v":""},{"$f":"IF($E72=\"\",\"\",IF(INDEX(E_SourceStreams!$A:$N,CQ72,L$7)=\"\",\"\",INDEX(E_SourceStreams!$A:$N,CQ72,L$7)))","v":""},{"$f":"IF($E72=\"\",\"\",IF(INDEX(E_SourceStreams!$A:$N,CR72,M$7)=\"\",\"\",INDEX(E_SourceStreams!$A:$N,CR72,M$7)))","v":""},{"$f":"IF($E72=\"\",\"\",IF(INDEX(E_SourceStreams!$A:$N,CS72,N$7)=\"\",\"\",INDEX(E_SourceStreams!$A:$N,CS72,N$7)))","v":""},{"$f":"IF($E72=\"\",\"\",IF(INDEX(E_SourceStreams!$A:$N,CT72,O$7)=\"\",\"\",INDEX(E_SourceStreams!$A:$N,CT72,O$7)))","v":""},{"$f":"IF($E72=\"\",\"\",IF(INDEX(E_SourceStreams!$A:$N,CU72,P$7)=\"\",\"\",INDEX(E_SourceStreams!$A:$N,CU72,P$7)))","v":""},{"$f":"IF($E72=\"\",\"\",IF(INDEX(E_SourceStreams!$A:$N,CV72,Q$7)=\"\",\"\",INDEX(E_SourceStreams!$A:$N,CV72,Q$7)))","v":""},{"$f":"IF($E72=\"\",\"\",IF(INDEX(E_SourceStreams!$A:$N,CW72,R$7)=\"\",\"\",INDEX(E_SourceStreams!$A:$N,CW72,R$7)))","v":""},{"$f":"IF($E72=\"\",\"\",IF(INDEX(E_SourceStreams!$A:$N,CX72,S$7)=\"\",\"\",INDEX(E_SourceStreams!$A:$N,CX72,S$7)))","v":""},{"$f":"IF($E72=\"\",\"\",IF(INDEX(E_SourceStreams!$A:$N,CY72,T$7)=\"\",\"\",INDEX(E_SourceStreams!$A:$N,CY72,T$7)))","v":""},{"$f":"IF($E72=\"\",\"\",IF(INDEX(E_SourceStreams!$A:$N,CZ72,U$7)=\"\",\"\",INDEX(E_SourceStreams!$A:$N,CZ72,U$7)))","v":""},{"$f":"IF($E72=\"\",\"\",IF(INDEX(E_SourceStreams!$A:$N,DA72,V$7)=\"\",\"\",INDEX(E_SourceStreams!$A:$N,DA72,V$7)))","v":""},{"$f":"IF($E72=\"\",\"\",IF(INDEX(E_SourceStreams!$A:$N,DB72,W$7)=\"\",\"\",INDEX(E_SourceStreams!$A:$N,DB72,W$7)))","v":""},{"$f":"IF($E72=\"\",\"\",IF(INDEX(E_SourceStreams!$A:$N,DC72,X$7)=\"\",\"\",INDEX(E_SourceStreams!$A:$N,DC72,X$7)))","v":""},{"$f":"IF($E72=\"\",\"\",IF(INDEX(E_SourceStreams!$A:$N,DD72,Y$7)=\"\",\"\",INDEX(E_SourceStreams!$A:$N,DD72,Y$7)))","v":""},{"$f":"IF($E72=\"\",\"\",IF(INDEX(E_SourceStreams!$A:$N,DE72,Z$7)=\"\",\"\",INDEX(E_SourceStreams!$A:$N,DE72,Z$7)))","v":""},{"$f":"IF($E72=\"\",\"\",IF(INDEX(E_SourceStreams!$A:$N,DF72,AA$7)=\"\",\"\",INDEX(E_SourceStreams!$A:$N,DF72,AA$7)))","v":""},{"$f":"IF($E72=\"\",\"\",IF(INDEX(E_SourceStreams!$A:$N,DG72,AB$7)=\"\",\"\",INDEX(E_SourceStreams!$A:$N,DG72,AB$7)))","v":""},{"$f":"IF($E72=\"\",\"\",IF(INDEX(E_SourceStreams!$A:$N,DH72,AC$7)=\"\",\"\",INDEX(E_SourceStreams!$A:$N,DH72,AC$7)))","v":""},{"$f":"IF($E72=\"\",\"\",IF(INDEX(E_SourceStreams!$A:$N,DI72,AD$7)=\"\",\"\",INDEX(E_SourceStreams!$A:$N,DI72,AD$7)))","v":""},{"$f":"IF($E72=\"\",\"\",IF(INDEX(E_SourceStreams!$A:$N,DJ72,AE$7)=\"\",\"\",INDEX(E_SourceStreams!$A:$N,DJ72,AE$7)))","v":""},{"$f":"IF($E72=\"\",\"\",IF(INDEX(E_SourceStreams!$A:$N,DK72,AF$7)=\"\",\"\",INDEX(E_SourceStreams!$A:$N,DK72,AF$7)))","v":""},{"$f":"IF($E72=\"\",\"\",IF(INDEX(E_SourceStreams!$A:$N,DL72,AG$7)=\"\",\"\",INDEX(E_SourceStreams!$A:$N,DL72,AG$7)))","v":""},{"$f":"IF($E72=\"\",\"\",IF(INDEX(E_SourceStreams!$A:$N,DM72,AH$7)=\"\",\"\",INDEX(E_SourceStreams!$A:$N,DM72,AH$7)))","v":""},{"$f":"IF($E72=\"\",\"\",IF(INDEX(E_SourceStreams!$A:$N,DN72,AI$7)=\"\",\"\",INDEX(E_SourceStreams!$A:$N,DN72,AI$7)))","v":""},{"$f":"IF($E72=\"\",\"\",IF(INDEX(E_SourceStreams!$A:$N,DO72,AJ$7)=\"\",\"\",INDEX(E_SourceStreams!$A:$N,DO72,AJ$7)))","v":""},{"$f":"IF($E72=\"\",\"\",IF(INDEX(E_SourceStreams!$A:$N,DP72,AK$7)=\"\",\"\",INDEX(E_SourceStreams!$A:$N,DP72,AK$7)))","v":""},{"$f":"IF($E72=\"\",\"\",IF(INDEX(E_SourceStreams!$A:$N,DQ72,AL$7)=\"\",\"\",INDEX(E_SourceStreams!$A:$N,DQ72,AL$7)))","v":""},{"$f":"IF($E72=\"\",\"\",IF(INDEX(E_SourceStreams!$A:$N,DR72,AM$7)=\"\",\"\",INDEX(E_SourceStreams!$A:$N,DR72,AM$7)))","v":""},{"$f":"IF($E72=\"\",\"\",IF(INDEX(E_SourceStreams!$A:$N,DS72,AN$7)=\"\",\"\",INDEX(E_SourceStreams!$A:$N,DS72,AN$7)))","v":""},{"$f":"IF($E72=\"\",\"\",IF(INDEX(E_SourceStreams!$A:$N,DT72,AO$7)=\"\",\"\",INDEX(E_SourceStreams!$A:$N,DT72,AO$7)))","v":""},{"$f":"IF($E72=\"\",\"\",IF(INDEX(E_SourceStreams!$A:$N,DU72,AP$7)=\"\",\"\",INDEX(E_SourceStreams!$A:$N,DU72,AP$7)))","v":""},{"$f":"IF($E72=\"\",\"\",IF(INDEX(E_SourceStreams!$A:$N,DV72,AQ$7)=\"\",\"\",INDEX(E_SourceStreams!$A:$N,DV72,AQ$7)))","v":""},{"$f":"IF($E72=\"\",\"\",IF(INDEX(E_SourceStreams!$A:$N,DW72,AR$7)=\"\",\"\",INDEX(E_SourceStreams!$A:$N,DW72,AR$7)))","v":""},{"$f":"IF($E72=\"\",\"\",IF(INDEX(E_SourceStreams!$A:$N,DX72,AS$7)=\"\",\"\",INDEX(E_SourceStreams!$A:$N,DX72,AS$7)))","v":""},{"$f":"IF($E72=\"\",\"\",IF(INDEX(E_SourceStreams!$A:$N,DY72,AT$7)=\"\",\"\",INDEX(E_SourceStreams!$A:$N,DY72,AT$7)))","v":""},{"$f":"IF($E72=\"\",\"\",IF(INDEX(E_SourceStreams!$A:$N,DZ72,AU$7)=\"\",\"\",INDEX(E_SourceStreams!$A:$N,DZ72,AU$7)))","v":""},{"$f":"IF($E72=\"\",\"\",IF(INDEX(E_SourceStreams!$A:$N,EA72,AV$7)=\"\",\"\",INDEX(E_SourceStreams!$A:$N,EA72,AV$7)))","v":""},{"$f":"IF($E72=\"\",\"\",IF(INDEX(E_SourceStreams!$A:$N,EB72,AW$7)=\"\",\"\",INDEX(E_SourceStreams!$A:$N,EB72,AW$7)))","v":""},{"$f":"IF($E72=\"\",\"\",IF(INDEX(E_SourceStreams!$A:$N,EC72,AX$7)=\"\",\"\",INDEX(E_SourceStreams!$A:$N,EC72,AX$7)))","v":""},{"$f":"IF($E72=\"\",\"\",IF(INDEX(E_SourceStreams!$A:$N,ED72,AY$7)=\"\",\"\",INDEX(E_SourceStreams!$A:$N,ED72,AY$7)))","v":""},{"$f":"IF($E72=\"\",\"\",IF(INDEX(E_SourceStreams!$A:$N,EE72,AZ$7)=\"\",\"\",INDEX(E_SourceStreams!$A:$N,EE72,AZ$7)))","v":""},{"$f":"IF($E72=\"\",\"\",IF(INDEX(E_SourceStreams!$A:$N,EF72,BA$7)=\"\",\"\",INDEX(E_SourceStreams!$A:$N,EF72,BA$7)))","v":""},{"$f":"IF($E72=\"\",\"\",IF(INDEX(E_SourceStreams!$A:$N,EG72,BB$7)=\"\",\"\",INDEX(E_SourceStreams!$A:$N,EG72,BB$7)))","v":""},{"$f":"IF($E72=\"\",\"\",IF(INDEX(E_SourceStreams!$A:$N,EH72,BC$7)=\"\",\"\",INDEX(E_SourceStreams!$A:$N,EH72,BC$7)))","v":""},{"$f":"IF($E72=\"\",\"\",IF(INDEX(E_SourceStreams!$A:$N,EI72,BD$7)=\"\",\"\",INDEX(E_SourceStreams!$A:$N,EI72,BD$7)))","v":""},{"$f":"IF($E72=\"\",\"\",IF(INDEX(E_SourceStreams!$A:$N,EJ72,BE$7)=\"\",\"\",INDEX(E_SourceStreams!$A:$N,EJ72,BE$7)))","v":""},{"$f":"IF($E72=\"\",\"\",IF(INDEX(E_SourceStreams!$A:$N,EK72,BF$7)=\"\",\"\",INDEX(E_SourceStreams!$A:$N,EK72,BF$7)))","v":""},{"$f":"IF($E72=\"\",\"\",IF(INDEX(E_SourceStreams!$A:$N,EL72,BG$7)=\"\",\"\",INDEX(E_SourceStreams!$A:$N,EL72,BG$7)))","v":""},{"$f":"IF($E72=\"\",\"\",IF(INDEX(E_SourceStreams!$A:$N,EM72,BH$7)=\"\",\"\",INDEX(E_SourceStreams!$A:$N,EM72,BH$7)))","v":""},{"$f":"IF($E72=\"\",\"\",IF(INDEX(E_SourceStreams!$A:$N,EN72,BI$7)=\"\",\"\",INDEX(E_SourceStreams!$A:$N,EN72,BI$7)))","v":""},{"$f":"IF($E72=\"\",\"\",IF(INDEX(E_SourceStreams!$A:$N,EO72,BJ$7)=\"\",\"\",INDEX(E_SourceStreams!$A:$N,EO72,BJ$7)))","v":""},{"$f":"IF($E72=\"\",\"\",IF(INDEX(E_SourceStreams!$A:$N,EP72,BK$7)=\"\",\"\",INDEX(E_SourceStreams!$A:$N,EP72,BK$7)))","v":""},{"$f":"IF($E72=\"\",\"\",IF(INDEX(E_SourceStreams!$A:$N,EQ72,BL$7)=\"\",\"\",INDEX(E_SourceStreams!$A:$N,EQ72,BL$7)))","v":""},{"$f":"IF($E72=\"\",\"\",IF(INDEX(E_SourceStreams!$A:$N,ER72,BM$7)=\"\",\"\",INDEX(E_SourceStreams!$A:$N,ER72,BM$7)))","v":""},{"$f":"IF($E72=\"\",\"\",IF(INDEX(E_SourceStreams!$A:$N,ES72,BN$7)=\"\",\"\",INDEX(E_SourceStreams!$A:$N,ES72,BN$7)))","v":""},{"$f":"IF($E72=\"\",\"\",IF(INDEX(E_SourceStreams!$A:$N,ET72,BO$7)=\"\",\"\",INDEX(E_SourceStreams!$A:$N,ET72,BO$7)))","v":""},{"$f":"IF($E72=\"\",\"\",IF(INDEX(E_SourceStreams!$A:$N,EU72,BP$7)=\"\",\"\",INDEX(E_SourceStreams!$A:$N,EU72,BP$7)))","v":""},{"$f":"IF($E72=\"\",\"\",IF(INDEX(E_SourceStreams!$A:$N,EV72,BQ$7)=\"\",\"\",INDEX(E_SourceStreams!$A:$N,EV72,BQ$7)))","v":""},{"$f":"IF($E72=\"\",\"\",IF(INDEX(E_SourceStreams!$A:$N,EW72,BR$7)=\"\",\"\",INDEX(E_SourceStreams!$A:$N,EW72,BR$7)))","v":""},{"$f":"IF($E72=\"\",\"\",IF(INDEX(E_SourceStreams!$A:$N,EX72,BS$7)=\"\",\"\",INDEX(E_SourceStreams!$A:$N,EX72,BS$7)))","v":""},{"$f":"IF($E72=\"\",\"\",IF(INDEX(E_SourceStreams!$A:$N,EY72,BT$7)=\"\",\"\",INDEX(E_SourceStreams!$A:$N,EY72,BT$7)))","v":""},null,null,null,null,null,null,null,null,null,null,null,null,null,null,null,"SourceCategory_",{"$f":"INDEX(C_InstallationDescription!$A$223:$A$328,ROWS($CI$11:CI72))=\"ausblenden\"","v":true},"SourceStreamName_",null,4160,4162,4164,4166,4168,4170,4172,4172,4172,4172,4172,4175,4179,4180,4181,4188,4198,4198,4198,4198,4198,4198,4198,4189,4199,4199,4199,4199,4199,4199,4199,4190,4200,4200,4200,4200,4200,4200,4200,4191,4201,4201,4201,4201,4201,4201,4201,4192,4202,4202,4202,4202,4202,4202,4202,4193,4203,4203,4203,4203,4203,4203,4203,4209]
[null,{"$f":"IF(COUNTIF($CK$10:CK73,TRUE)>0,\"\",INDEX(C_InstallationDescription!$E$223:$E$239,ROWS($A$11:A73)))","v":""},{"$f":"IF($E73=\"\",\"\",INDEX(C_InstallationDescription!G:G,MATCH($B73,C_InstallationDescription!$E:$E,0)))","v":""},{"$f":"IF($E73=\"\",\"\",INDEX(C_InstallationDescription!I:I,MATCH($B73,C_InstallationDescription!$E:$E,0)))","v":""},{"$f":"IF($B73=\"\",\"\",INDEX(C_InstallationDescription!F:F,MATCH($CJ73,C_InstallationDescription!$Q:$Q,0)))","v":""},{"$f":"IF($E73=\"\",\"\",INDEX(C_InstallationDescription!L:L,MATCH($CJ73,C_InstallationDescription!$Q:$Q,0)))","v":""},{"$f":"IF($E73=\"\",\"\",INDEX(C_InstallationDescription!M:M,MATCH($CJ73,C_InstallationDescription!$Q:$Q,0)))","v":""},{"$f":"IF($E73=\"\",\"\",INDEX(C_InstallationDescription!N:N,MATCH($CJ73,C_InstallationDescription!$Q:$Q,0)))","v":""},{"$f":"IF($E73=\"\",\"\",IF(INDEX(E_SourceStreams!$A:$N,CN73,I$7)=\"\",\"\",INDEX(E_SourceStreams!$A:$N,CN73,I$7)))","v":""},{"$f":"IF($E73=\"\",\"\",IF(INDEX(E_SourceStreams!$A:$N,CO73,J$7)=\"\",\"\",INDEX(E_SourceStreams!$A:$N,CO73,J$7)))","v":""},{"$f":"IF($E73=\"\",\"\",IF(INDEX(E_SourceStreams!$A:$N,CP73,K$7)=\"\",\"\",INDEX(E_SourceStreams!$A:$N,CP73,K$7)))","v":""},{"$f":"IF($E73=\"\",\"\",IF(INDEX(E_SourceStreams!$A:$N,CQ73,L$7)=\"\",\"\",INDEX(E_SourceStreams!$A:$N,CQ73,L$7)))","v":""},{"$f":"IF($E73=\"\",\"\",IF(INDEX(E_SourceStreams!$A:$N,CR73,M$7)=\"\",\"\",INDEX(E_SourceStreams!$A:$N,CR73,M$7)))","v":""},{"$f":"IF($E73=\"\",\"\",IF(INDEX(E_SourceStreams!$A:$N,CS73,N$7)=\"\",\"\",INDEX(E_SourceStreams!$A:$N,CS73,N$7)))","v":""},{"$f":"IF($E73=\"\",\"\",IF(INDEX(E_SourceStreams!$A:$N,CT73,O$7)=\"\",\"\",INDEX(E_SourceStreams!$A:$N,CT73,O$7)))","v":""},{"$f":"IF($E73=\"\",\"\",IF(INDEX(E_SourceStreams!$A:$N,CU73,P$7)=\"\",\"\",INDEX(E_SourceStreams!$A:$N,CU73,P$7)))","v":""},{"$f":"IF($E73=\"\",\"\",IF(INDEX(E_SourceStreams!$A:$N,CV73,Q$7)=\"\",\"\",INDEX(E_SourceStreams!$A:$N,CV73,Q$7)))","v":""},{"$f":"IF($E73=\"\",\"\",IF(INDEX(E_SourceStreams!$A:$N,CW73,R$7)=\"\",\"\",INDEX(E_SourceStreams!$A:$N,CW73,R$7)))","v":""},{"$f":"IF($E73=\"\",\"\",IF(INDEX(E_SourceStreams!$A:$N,CX73,S$7)=\"\",\"\",INDEX(E_SourceStreams!$A:$N,CX73,S$7)))","v":""},{"$f":"IF($E73=\"\",\"\",IF(INDEX(E_SourceStreams!$A:$N,CY73,T$7)=\"\",\"\",INDEX(E_SourceStreams!$A:$N,CY73,T$7)))","v":""},{"$f":"IF($E73=\"\",\"\",IF(INDEX(E_SourceStreams!$A:$N,CZ73,U$7)=\"\",\"\",INDEX(E_SourceStreams!$A:$N,CZ73,U$7)))","v":""},{"$f":"IF($E73=\"\",\"\",IF(INDEX(E_SourceStreams!$A:$N,DA73,V$7)=\"\",\"\",INDEX(E_SourceStreams!$A:$N,DA73,V$7)))","v":""},{"$f":"IF($E73=\"\",\"\",IF(INDEX(E_SourceStreams!$A:$N,DB73,W$7)=\"\",\"\",INDEX(E_SourceStreams!$A:$N,DB73,W$7)))","v":""},{"$f":"IF($E73=\"\",\"\",IF(INDEX(E_SourceStreams!$A:$N,DC73,X$7)=\"\",\"\",INDEX(E_SourceStreams!$A:$N,DC73,X$7)))","v":""},{"$f":"IF($E73=\"\",\"\",IF(INDEX(E_SourceStreams!$A:$N,DD73,Y$7)=\"\",\"\",INDEX(E_SourceStreams!$A:$N,DD73,Y$7)))","v":""},{"$f":"IF($E73=\"\",\"\",IF(INDEX(E_SourceStreams!$A:$N,DE73,Z$7)=\"\",\"\",INDEX(E_SourceStreams!$A:$N,DE73,Z$7)))","v":""},{"$f":"IF($E73=\"\",\"\",IF(INDEX(E_SourceStreams!$A:$N,DF73,AA$7)=\"\",\"\",INDEX(E_SourceStreams!$A:$N,DF73,AA$7)))","v":""},{"$f":"IF($E73=\"\",\"\",IF(INDEX(E_SourceStreams!$A:$N,DG73,AB$7)=\"\",\"\",INDEX(E_SourceStreams!$A:$N,DG73,AB$7)))","v":""},{"$f":"IF($E73=\"\",\"\",IF(INDEX(E_SourceStreams!$A:$N,DH73,AC$7)=\"\",\"\",INDEX(E_SourceStreams!$A:$N,DH73,AC$7)))","v":""},{"$f":"IF($E73=\"\",\"\",IF(INDEX(E_SourceStreams!$A:$N,DI73,AD$7)=\"\",\"\",INDEX(E_SourceStreams!$A:$N,DI73,AD$7)))","v":""},{"$f":"IF($E73=\"\",\"\",IF(INDEX(E_SourceStreams!$A:$N,DJ73,AE$7)=\"\",\"\",INDEX(E_SourceStreams!$A:$N,DJ73,AE$7)))","v":""},{"$f":"IF($E73=\"\",\"\",IF(INDEX(E_SourceStreams!$A:$N,DK73,AF$7)=\"\",\"\",INDEX(E_SourceStreams!$A:$N,DK73,AF$7)))","v":""},{"$f":"IF($E73=\"\",\"\",IF(INDEX(E_SourceStreams!$A:$N,DL73,AG$7)=\"\",\"\",INDEX(E_SourceStreams!$A:$N,DL73,AG$7)))","v":""},{"$f":"IF($E73=\"\",\"\",IF(INDEX(E_SourceStreams!$A:$N,DM73,AH$7)=\"\",\"\",INDEX(E_SourceStreams!$A:$N,DM73,AH$7)))","v":""},{"$f":"IF($E73=\"\",\"\",IF(INDEX(E_SourceStreams!$A:$N,DN73,AI$7)=\"\",\"\",INDEX(E_SourceStreams!$A:$N,DN73,AI$7)))","v":""},{"$f":"IF($E73=\"\",\"\",IF(INDEX(E_SourceStreams!$A:$N,DO73,AJ$7)=\"\",\"\",INDEX(E_SourceStreams!$A:$N,DO73,AJ$7)))","v":""},{"$f":"IF($E73=\"\",\"\",IF(INDEX(E_SourceStreams!$A:$N,DP73,AK$7)=\"\",\"\",INDEX(E_SourceStreams!$A:$N,DP73,AK$7)))","v":""},{"$f":"IF($E73=\"\",\"\",IF(INDEX(E_SourceStreams!$A:$N,DQ73,AL$7)=\"\",\"\",INDEX(E_SourceStreams!$A:$N,DQ73,AL$7)))","v":""},{"$f":"IF($E73=\"\",\"\",IF(INDEX(E_SourceStreams!$A:$N,DR73,AM$7)=\"\",\"\",INDEX(E_SourceStreams!$A:$N,DR73,AM$7)))","v":""},{"$f":"IF($E73=\"\",\"\",IF(INDEX(E_SourceStreams!$A:$N,DS73,AN$7)=\"\",\"\",INDEX(E_SourceStreams!$A:$N,DS73,AN$7)))","v":""},{"$f":"IF($E73=\"\",\"\",IF(INDEX(E_SourceStreams!$A:$N,DT73,AO$7)=\"\",\"\",INDEX(E_SourceStreams!$A:$N,DT73,AO$7)))","v":""},{"$f":"IF($E73=\"\",\"\",IF(INDEX(E_SourceStreams!$A:$N,DU73,AP$7)=\"\",\"\",INDEX(E_SourceStreams!$A:$N,DU73,AP$7)))","v":""},{"$f":"IF($E73=\"\",\"\",IF(INDEX(E_SourceStreams!$A:$N,DV73,AQ$7)=\"\",\"\",INDEX(E_SourceStreams!$A:$N,DV73,AQ$7)))","v":""},{"$f":"IF($E73=\"\",\"\",IF(INDEX(E_SourceStreams!$A:$N,DW73,AR$7)=\"\",\"\",INDEX(E_SourceStreams!$A:$N,DW73,AR$7)))","v":""},{"$f":"IF($E73=\"\",\"\",IF(INDEX(E_SourceStreams!$A:$N,DX73,AS$7)=\"\",\"\",INDEX(E_SourceStreams!$A:$N,DX73,AS$7)))","v":""},{"$f":"IF($E73=\"\",\"\",IF(INDEX(E_SourceStreams!$A:$N,DY73,AT$7)=\"\",\"\",INDEX(E_SourceStreams!$A:$N,DY73,AT$7)))","v":""},{"$f":"IF($E73=\"\",\"\",IF(INDEX(E_SourceStreams!$A:$N,DZ73,AU$7)=\"\",\"\",INDEX(E_SourceStreams!$A:$N,DZ73,AU$7)))","v":""},{"$f":"IF($E73=\"\",\"\",IF(INDEX(E_SourceStreams!$A:$N,EA73,AV$7)=\"\",\"\",INDEX(E_SourceStreams!$A:$N,EA73,AV$7)))","v":""},{"$f":"IF($E73=\"\",\"\",IF(INDEX(E_SourceStreams!$A:$N,EB73,AW$7)=\"\",\"\",INDEX(E_SourceStreams!$A:$N,EB73,AW$7)))","v":""},{"$f":"IF($E73=\"\",\"\",IF(INDEX(E_SourceStreams!$A:$N,EC73,AX$7)=\"\",\"\",INDEX(E_SourceStreams!$A:$N,EC73,AX$7)))","v":""},{"$f":"IF($E73=\"\",\"\",IF(INDEX(E_SourceStreams!$A:$N,ED73,AY$7)=\"\",\"\",INDEX(E_SourceStreams!$A:$N,ED73,AY$7)))","v":""},{"$f":"IF($E73=\"\",\"\",IF(INDEX(E_SourceStreams!$A:$N,EE73,AZ$7)=\"\",\"\",INDEX(E_SourceStreams!$A:$N,EE73,AZ$7)))","v":""},{"$f":"IF($E73=\"\",\"\",IF(INDEX(E_SourceStreams!$A:$N,EF73,BA$7)=\"\",\"\",INDEX(E_SourceStreams!$A:$N,EF73,BA$7)))","v":""},{"$f":"IF($E73=\"\",\"\",IF(INDEX(E_SourceStreams!$A:$N,EG73,BB$7)=\"\",\"\",INDEX(E_SourceStreams!$A:$N,EG73,BB$7)))","v":""},{"$f":"IF($E73=\"\",\"\",IF(INDEX(E_SourceStreams!$A:$N,EH73,BC$7)=\"\",\"\",INDEX(E_SourceStreams!$A:$N,EH73,BC$7)))","v":""},{"$f":"IF($E73=\"\",\"\",IF(INDEX(E_SourceStreams!$A:$N,EI73,BD$7)=\"\",\"\",INDEX(E_SourceStreams!$A:$N,EI73,BD$7)))","v":""},{"$f":"IF($E73=\"\",\"\",IF(INDEX(E_SourceStreams!$A:$N,EJ73,BE$7)=\"\",\"\",INDEX(E_SourceStreams!$A:$N,EJ73,BE$7)))","v":""},{"$f":"IF($E73=\"\",\"\",IF(INDEX(E_SourceStreams!$A:$N,EK73,BF$7)=\"\",\"\",INDEX(E_SourceStreams!$A:$N,EK73,BF$7)))","v":""},{"$f":"IF($E73=\"\",\"\",IF(INDEX(E_SourceStreams!$A:$N,EL73,BG$7)=\"\",\"\",INDEX(E_SourceStreams!$A:$N,EL73,BG$7)))","v":""},{"$f":"IF($E73=\"\",\"\",IF(INDEX(E_SourceStreams!$A:$N,EM73,BH$7)=\"\",\"\",INDEX(E_SourceStreams!$A:$N,EM73,BH$7)))","v":""},{"$f":"IF($E73=\"\",\"\",IF(INDEX(E_SourceStreams!$A:$N,EN73,BI$7)=\"\",\"\",INDEX(E_SourceStreams!$A:$N,EN73,BI$7)))","v":""},{"$f":"IF($E73=\"\",\"\",IF(INDEX(E_SourceStreams!$A:$N,EO73,BJ$7)=\"\",\"\",INDEX(E_SourceStreams!$A:$N,EO73,BJ$7)))","v":""},{"$f":"IF($E73=\"\",\"\",IF(INDEX(E_SourceStreams!$A:$N,EP73,BK$7)=\"\",\"\",INDEX(E_SourceStreams!$A:$N,EP73,BK$7)))","v":""},{"$f":"IF($E73=\"\",\"\",IF(INDEX(E_SourceStreams!$A:$N,EQ73,BL$7)=\"\",\"\",INDEX(E_SourceStreams!$A:$N,EQ73,BL$7)))","v":""},{"$f":"IF($E73=\"\",\"\",IF(INDEX(E_SourceStreams!$A:$N,ER73,BM$7)=\"\",\"\",INDEX(E_SourceStreams!$A:$N,ER73,BM$7)))","v":""},{"$f":"IF($E73=\"\",\"\",IF(INDEX(E_SourceStreams!$A:$N,ES73,BN$7)=\"\",\"\",INDEX(E_SourceStreams!$A:$N,ES73,BN$7)))","v":""},{"$f":"IF($E73=\"\",\"\",IF(INDEX(E_SourceStreams!$A:$N,ET73,BO$7)=\"\",\"\",INDEX(E_SourceStreams!$A:$N,ET73,BO$7)))","v":""},{"$f":"IF($E73=\"\",\"\",IF(INDEX(E_SourceStreams!$A:$N,EU73,BP$7)=\"\",\"\",INDEX(E_SourceStreams!$A:$N,EU73,BP$7)))","v":""},{"$f":"IF($E73=\"\",\"\",IF(INDEX(E_SourceStreams!$A:$N,EV73,BQ$7)=\"\",\"\",INDEX(E_SourceStreams!$A:$N,EV73,BQ$7)))","v":""},{"$f":"IF($E73=\"\",\"\",IF(INDEX(E_SourceStreams!$A:$N,EW73,BR$7)=\"\",\"\",INDEX(E_SourceStreams!$A:$N,EW73,BR$7)))","v":""},{"$f":"IF($E73=\"\",\"\",IF(INDEX(E_SourceStreams!$A:$N,EX73,BS$7)=\"\",\"\",INDEX(E_SourceStreams!$A:$N,EX73,BS$7)))","v":""},{"$f":"IF($E73=\"\",\"\",IF(INDEX(E_SourceStreams!$A:$N,EY73,BT$7)=\"\",\"\",INDEX(E_SourceStreams!$A:$N,EY73,BT$7)))","v":""},null,null,null,null,null,null,null,null,null,null,null,null,null,null,null,"SourceCategory_",{"$f":"INDEX(C_InstallationDescription!$A$223:$A$328,ROWS($CI$11:CI73))=\"ausblenden\"","v":true},"SourceStreamName_",null,4226,4228,4230,4232,4234,4236,4238,4238,4238,4238,4238,4241,4245,4246,4247,4254,4264,4264,4264,4264,4264,4264,4264,4255,4265,4265,4265,4265,4265,4265,4265,4256,4266,4266,4266,4266,4266,4266,4266,4257,4267,4267,4267,4267,4267,4267,4267,4258,4268,4268,4268,4268,4268,4268,4268,4259,4269,4269,4269,4269,4269,4269,4269,4275]
[null,{"$f":"IF(COUNTIF($CK$10:CK74,TRUE)>0,\"\",INDEX(C_InstallationDescription!$E$223:$E$239,ROWS($A$11:A74)))","v":""},{"$f":"IF($E74=\"\",\"\",INDEX(C_InstallationDescription!G:G,MATCH($B74,C_InstallationDescription!$E:$E,0)))","v":""},{"$f":"IF($E74=\"\",\"\",INDEX(C_InstallationDescription!I:I,MATCH($B74,C_InstallationDescription!$E:$E,0)))","v":""},{"$f":"IF($B74=\"\",\"\",INDEX(C_InstallationDescription!F:F,MATCH($CJ74,C_InstallationDescription!$Q:$Q,0)))","v":""},{"$f":"IF($E74=\"\",\"\",INDEX(C_InstallationDescription!L:L,MATCH($CJ74,C_InstallationDescription!$Q:$Q,0)))","v":""},{"$f":"IF($E74=\"\",\"\",INDEX(C_InstallationDescription!M:M,MATCH($CJ74,C_InstallationDescription!$Q:$Q,0)))","v":""},{"$f":"IF($E74=\"\",\"\",INDEX(C_InstallationDescription!N:N,MATCH($CJ74,C_InstallationDescription!$Q:$Q,0)))","v":""},{"$f":"IF($E74=\"\",\"\",IF(INDEX(E_SourceStreams!$A:$N,CN74,I$7)=\"\",\"\",INDEX(E_SourceStreams!$A:$N,CN74,I$7)))","v":""},{"$f":"IF($E74=\"\",\"\",IF(INDEX(E_SourceStreams!$A:$N,CO74,J$7)=\"\",\"\",INDEX(E_SourceStreams!$A:$N,CO74,J$7)))","v":""},{"$f":"IF($E74=\"\",\"\",IF(INDEX(E_SourceStreams!$A:$N,CP74,K$7)=\"\",\"\",INDEX(E_SourceStreams!$A:$N,CP74,K$7)))","v":""},{"$f":"IF($E74=\"\",\"\",IF(INDEX(E_SourceStreams!$A:$N,CQ74,L$7)=\"\",\"\",INDEX(E_SourceStreams!$A:$N,CQ74,L$7)))","v":""},{"$f":"IF($E74=\"\",\"\",IF(INDEX(E_SourceStreams!$A:$N,CR74,M$7)=\"\",\"\",INDEX(E_SourceStreams!$A:$N,CR74,M$7)))","v":""},{"$f":"IF($E74=\"\",\"\",IF(INDEX(E_SourceStreams!$A:$N,CS74,N$7)=\"\",\"\",INDEX(E_SourceStreams!$A:$N,CS74,N$7)))","v":""},{"$f":"IF($E74=\"\",\"\",IF(INDEX(E_SourceStreams!$A:$N,CT74,O$7)=\"\",\"\",INDEX(E_SourceStreams!$A:$N,CT74,O$7)))","v":""},{"$f":"IF($E74=\"\",\"\",IF(INDEX(E_SourceStreams!$A:$N,CU74,P$7)=\"\",\"\",INDEX(E_SourceStreams!$A:$N,CU74,P$7)))","v":""},{"$f":"IF($E74=\"\",\"\",IF(INDEX(E_SourceStreams!$A:$N,CV74,Q$7)=\"\",\"\",INDEX(E_SourceStreams!$A:$N,CV74,Q$7)))","v":""},{"$f":"IF($E74=\"\",\"\",IF(INDEX(E_SourceStreams!$A:$N,CW74,R$7)=\"\",\"\",INDEX(E_SourceStreams!$A:$N,CW74,R$7)))","v":""},{"$f":"IF($E74=\"\",\"\",IF(INDEX(E_SourceStreams!$A:$N,CX74,S$7)=\"\",\"\",INDEX(E_SourceStreams!$A:$N,CX74,S$7)))","v":""},{"$f":"IF($E74=\"\",\"\",IF(INDEX(E_SourceStreams!$A:$N,CY74,T$7)=\"\",\"\",INDEX(E_SourceStreams!$A:$N,CY74,T$7)))","v":""},{"$f":"IF($E74=\"\",\"\",IF(INDEX(E_SourceStreams!$A:$N,CZ74,U$7)=\"\",\"\",INDEX(E_SourceStreams!$A:$N,CZ74,U$7)))","v":""},{"$f":"IF($E74=\"\",\"\",IF(INDEX(E_SourceStreams!$A:$N,DA74,V$7)=\"\",\"\",INDEX(E_SourceStreams!$A:$N,DA74,V$7)))","v":""},{"$f":"IF($E74=\"\",\"\",IF(INDEX(E_SourceStreams!$A:$N,DB74,W$7)=\"\",\"\",INDEX(E_SourceStreams!$A:$N,DB74,W$7)))","v":""},{"$f":"IF($E74=\"\",\"\",IF(INDEX(E_SourceStreams!$A:$N,DC74,X$7)=\"\",\"\",INDEX(E_SourceStreams!$A:$N,DC74,X$7)))","v":""},{"$f":"IF($E74=\"\",\"\",IF(INDEX(E_SourceStreams!$A:$N,DD74,Y$7)=\"\",\"\",INDEX(E_SourceStreams!$A:$N,DD74,Y$7)))","v":""},{"$f":"IF($E74=\"\",\"\",IF(INDEX(E_SourceStreams!$A:$N,DE74,Z$7)=\"\",\"\",INDEX(E_SourceStreams!$A:$N,DE74,Z$7)))","v":""},{"$f":"IF($E74=\"\",\"\",IF(INDEX(E_SourceStreams!$A:$N,DF74,AA$7)=\"\",\"\",INDEX(E_SourceStreams!$A:$N,DF74,AA$7)))","v":""},{"$f":"IF($E74=\"\",\"\",IF(INDEX(E_SourceStreams!$A:$N,DG74,AB$7)=\"\",\"\",INDEX(E_SourceStreams!$A:$N,DG74,AB$7)))","v":""},{"$f":"IF($E74=\"\",\"\",IF(INDEX(E_SourceStreams!$A:$N,DH74,AC$7)=\"\",\"\",INDEX(E_SourceStreams!$A:$N,DH74,AC$7)))","v":""},{"$f":"IF($E74=\"\",\"\",IF(INDEX(E_SourceStreams!$A:$N,DI74,AD$7)=\"\",\"\",INDEX(E_SourceStreams!$A:$N,DI74,AD$7)))","v":""},{"$f":"IF($E74=\"\",\"\",IF(INDEX(E_SourceStreams!$A:$N,DJ74,AE$7)=\"\",\"\",INDEX(E_SourceStreams!$A:$N,DJ74,AE$7)))","v":""},{"$f":"IF($E74=\"\",\"\",IF(INDEX(E_SourceStreams!$A:$N,DK74,AF$7)=\"\",\"\",INDEX(E_SourceStreams!$A:$N,DK74,AF$7)))","v":""},{"$f":"IF($E74=\"\",\"\",IF(INDEX(E_SourceStreams!$A:$N,DL74,AG$7)=\"\",\"\",INDEX(E_SourceStreams!$A:$N,DL74,AG$7)))","v":""},{"$f":"IF($E74=\"\",\"\",IF(INDEX(E_SourceStreams!$A:$N,DM74,AH$7)=\"\",\"\",INDEX(E_SourceStreams!$A:$N,DM74,AH$7)))","v":""},{"$f":"IF($E74=\"\",\"\",IF(INDEX(E_SourceStreams!$A:$N,DN74,AI$7)=\"\",\"\",INDEX(E_SourceStreams!$A:$N,DN74,AI$7)))","v":""},{"$f":"IF($E74=\"\",\"\",IF(INDEX(E_SourceStreams!$A:$N,DO74,AJ$7)=\"\",\"\",INDEX(E_SourceStreams!$A:$N,DO74,AJ$7)))","v":""},{"$f":"IF($E74=\"\",\"\",IF(INDEX(E_SourceStreams!$A:$N,DP74,AK$7)=\"\",\"\",INDEX(E_SourceStreams!$A:$N,DP74,AK$7)))","v":""},{"$f":"IF($E74=\"\",\"\",IF(INDEX(E_SourceStreams!$A:$N,DQ74,AL$7)=\"\",\"\",INDEX(E_SourceStreams!$A:$N,DQ74,AL$7)))","v":""},{"$f":"IF($E74=\"\",\"\",IF(INDEX(E_SourceStreams!$A:$N,DR74,AM$7)=\"\",\"\",INDEX(E_SourceStreams!$A:$N,DR74,AM$7)))","v":""},{"$f":"IF($E74=\"\",\"\",IF(INDEX(E_SourceStreams!$A:$N,DS74,AN$7)=\"\",\"\",INDEX(E_SourceStreams!$A:$N,DS74,AN$7)))","v":""},{"$f":"IF($E74=\"\",\"\",IF(INDEX(E_SourceStreams!$A:$N,DT74,AO$7)=\"\",\"\",INDEX(E_SourceStreams!$A:$N,DT74,AO$7)))","v":""},{"$f":"IF($E74=\"\",\"\",IF(INDEX(E_SourceStreams!$A:$N,DU74,AP$7)=\"\",\"\",INDEX(E_SourceStreams!$A:$N,DU74,AP$7)))","v":""},{"$f":"IF($E74=\"\",\"\",IF(INDEX(E_SourceStreams!$A:$N,DV74,AQ$7)=\"\",\"\",INDEX(E_SourceStreams!$A:$N,DV74,AQ$7)))","v":""},{"$f":"IF($E74=\"\",\"\",IF(INDEX(E_SourceStreams!$A:$N,DW74,AR$7)=\"\",\"\",INDEX(E_SourceStreams!$A:$N,DW74,AR$7)))","v":""},{"$f":"IF($E74=\"\",\"\",IF(INDEX(E_SourceStreams!$A:$N,DX74,AS$7)=\"\",\"\",INDEX(E_SourceStreams!$A:$N,DX74,AS$7)))","v":""},{"$f":"IF($E74=\"\",\"\",IF(INDEX(E_SourceStreams!$A:$N,DY74,AT$7)=\"\",\"\",INDEX(E_SourceStreams!$A:$N,DY74,AT$7)))","v":""},{"$f":"IF($E74=\"\",\"\",IF(INDEX(E_SourceStreams!$A:$N,DZ74,AU$7)=\"\",\"\",INDEX(E_SourceStreams!$A:$N,DZ74,AU$7)))","v":""},{"$f":"IF($E74=\"\",\"\",IF(INDEX(E_SourceStreams!$A:$N,EA74,AV$7)=\"\",\"\",INDEX(E_SourceStreams!$A:$N,EA74,AV$7)))","v":""},{"$f":"IF($E74=\"\",\"\",IF(INDEX(E_SourceStreams!$A:$N,EB74,AW$7)=\"\",\"\",INDEX(E_SourceStreams!$A:$N,EB74,AW$7)))","v":""},{"$f":"IF($E74=\"\",\"\",IF(INDEX(E_SourceStreams!$A:$N,EC74,AX$7)=\"\",\"\",INDEX(E_SourceStreams!$A:$N,EC74,AX$7)))","v":""},{"$f":"IF($E74=\"\",\"\",IF(INDEX(E_SourceStreams!$A:$N,ED74,AY$7)=\"\",\"\",INDEX(E_SourceStreams!$A:$N,ED74,AY$7)))","v":""},{"$f":"IF($E74=\"\",\"\",IF(INDEX(E_SourceStreams!$A:$N,EE74,AZ$7)=\"\",\"\",INDEX(E_SourceStreams!$A:$N,EE74,AZ$7)))","v":""},{"$f":"IF($E74=\"\",\"\",IF(INDEX(E_SourceStreams!$A:$N,EF74,BA$7)=\"\",\"\",INDEX(E_SourceStreams!$A:$N,EF74,BA$7)))","v":""},{"$f":"IF($E74=\"\",\"\",IF(INDEX(E_SourceStreams!$A:$N,EG74,BB$7)=\"\",\"\",INDEX(E_SourceStreams!$A:$N,EG74,BB$7)))","v":""},{"$f":"IF($E74=\"\",\"\",IF(INDEX(E_SourceStreams!$A:$N,EH74,BC$7)=\"\",\"\",INDEX(E_SourceStreams!$A:$N,EH74,BC$7)))","v":""},{"$f":"IF($E74=\"\",\"\",IF(INDEX(E_SourceStreams!$A:$N,EI74,BD$7)=\"\",\"\",INDEX(E_SourceStreams!$A:$N,EI74,BD$7)))","v":""},{"$f":"IF($E74=\"\",\"\",IF(INDEX(E_SourceStreams!$A:$N,EJ74,BE$7)=\"\",\"\",INDEX(E_SourceStreams!$A:$N,EJ74,BE$7)))","v":""},{"$f":"IF($E74=\"\",\"\",IF(INDEX(E_SourceStreams!$A:$N,EK74,BF$7)=\"\",\"\",INDEX(E_SourceStreams!$A:$N,EK74,BF$7)))","v":""},{"$f":"IF($E74=\"\",\"\",IF(INDEX(E_SourceStreams!$A:$N,EL74,BG$7)=\"\",\"\",INDEX(E_SourceStreams!$A:$N,EL74,BG$7)))","v":""},{"$f":"IF($E74=\"\",\"\",IF(INDEX(E_SourceStreams!$A:$N,EM74,BH$7)=\"\",\"\",INDEX(E_SourceStreams!$A:$N,EM74,BH$7)))","v":""},{"$f":"IF($E74=\"\",\"\",IF(INDEX(E_SourceStreams!$A:$N,EN74,BI$7)=\"\",\"\",INDEX(E_SourceStreams!$A:$N,EN74,BI$7)))","v":""},{"$f":"IF($E74=\"\",\"\",IF(INDEX(E_SourceStreams!$A:$N,EO74,BJ$7)=\"\",\"\",INDEX(E_SourceStreams!$A:$N,EO74,BJ$7)))","v":""},{"$f":"IF($E74=\"\",\"\",IF(INDEX(E_SourceStreams!$A:$N,EP74,BK$7)=\"\",\"\",INDEX(E_SourceStreams!$A:$N,EP74,BK$7)))","v":""},{"$f":"IF($E74=\"\",\"\",IF(INDEX(E_SourceStreams!$A:$N,EQ74,BL$7)=\"\",\"\",INDEX(E_SourceStreams!$A:$N,EQ74,BL$7)))","v":""},{"$f":"IF($E74=\"\",\"\",IF(INDEX(E_SourceStreams!$A:$N,ER74,BM$7)=\"\",\"\",INDEX(E_SourceStreams!$A:$N,ER74,BM$7)))","v":""},{"$f":"IF($E74=\"\",\"\",IF(INDEX(E_SourceStreams!$A:$N,ES74,BN$7)=\"\",\"\",INDEX(E_SourceStreams!$A:$N,ES74,BN$7)))","v":""},{"$f":"IF($E74=\"\",\"\",IF(INDEX(E_SourceStreams!$A:$N,ET74,BO$7)=\"\",\"\",INDEX(E_SourceStreams!$A:$N,ET74,BO$7)))","v":""},{"$f":"IF($E74=\"\",\"\",IF(INDEX(E_SourceStreams!$A:$N,EU74,BP$7)=\"\",\"\",INDEX(E_SourceStreams!$A:$N,EU74,BP$7)))","v":""},{"$f":"IF($E74=\"\",\"\",IF(INDEX(E_SourceStreams!$A:$N,EV74,BQ$7)=\"\",\"\",INDEX(E_SourceStreams!$A:$N,EV74,BQ$7)))","v":""},{"$f":"IF($E74=\"\",\"\",IF(INDEX(E_SourceStreams!$A:$N,EW74,BR$7)=\"\",\"\",INDEX(E_SourceStreams!$A:$N,EW74,BR$7)))","v":""},{"$f":"IF($E74=\"\",\"\",IF(INDEX(E_SourceStreams!$A:$N,EX74,BS$7)=\"\",\"\",INDEX(E_SourceStreams!$A:$N,EX74,BS$7)))","v":""},{"$f":"IF($E74=\"\",\"\",IF(INDEX(E_SourceStreams!$A:$N,EY74,BT$7)=\"\",\"\",INDEX(E_SourceStreams!$A:$N,EY74,BT$7)))","v":""},null,null,null,null,null,null,null,null,null,null,null,null,null,null,null,"SourceCategory_",{"$f":"INDEX(C_InstallationDescription!$A$223:$A$328,ROWS($CI$11:CI74))=\"ausblenden\"","v":true},"SourceStreamName_",null,4292,4294,4296,4298,4300,4302,4304,4304,4304,4304,4304,4307,4311,4312,4313,4320,4330,4330,4330,4330,4330,4330,4330,4321,4331,4331,4331,4331,4331,4331,4331,4322,4332,4332,4332,4332,4332,4332,4332,4323,4333,4333,4333,4333,4333,4333,4333,4324,4334,4334,4334,4334,4334,4334,4334,4325,4335,4335,4335,4335,4335,4335,4335,4341]
[null,{"$f":"IF(COUNTIF($CK$10:CK75,TRUE)>0,\"\",INDEX(C_InstallationDescription!$E$223:$E$239,ROWS($A$11:A75)))","v":""},{"$f":"IF($E75=\"\",\"\",INDEX(C_InstallationDescription!G:G,MATCH($B75,C_InstallationDescription!$E:$E,0)))","v":""},{"$f":"IF($E75=\"\",\"\",INDEX(C_InstallationDescription!I:I,MATCH($B75,C_InstallationDescription!$E:$E,0)))","v":""},{"$f":"IF($B75=\"\",\"\",INDEX(C_InstallationDescription!F:F,MATCH($CJ75,C_InstallationDescription!$Q:$Q,0)))","v":""},{"$f":"IF($E75=\"\",\"\",INDEX(C_InstallationDescription!L:L,MATCH($CJ75,C_InstallationDescription!$Q:$Q,0)))","v":""},{"$f":"IF($E75=\"\",\"\",INDEX(C_InstallationDescription!M:M,MATCH($CJ75,C_InstallationDescription!$Q:$Q,0)))","v":""},{"$f":"IF($E75=\"\",\"\",INDEX(C_InstallationDescription!N:N,MATCH($CJ75,C_InstallationDescription!$Q:$Q,0)))","v":""},{"$f":"IF($E75=\"\",\"\",IF(INDEX(E_SourceStreams!$A:$N,CN75,I$7)=\"\",\"\",INDEX(E_SourceStreams!$A:$N,CN75,I$7)))","v":""},{"$f":"IF($E75=\"\",\"\",IF(INDEX(E_SourceStreams!$A:$N,CO75,J$7)=\"\",\"\",INDEX(E_SourceStreams!$A:$N,CO75,J$7)))","v":""},{"$f":"IF($E75=\"\",\"\",IF(INDEX(E_SourceStreams!$A:$N,CP75,K$7)=\"\",\"\",INDEX(E_SourceStreams!$A:$N,CP75,K$7)))","v":""},{"$f":"IF($E75=\"\",\"\",IF(INDEX(E_SourceStreams!$A:$N,CQ75,L$7)=\"\",\"\",INDEX(E_SourceStreams!$A:$N,CQ75,L$7)))","v":""},{"$f":"IF($E75=\"\",\"\",IF(INDEX(E_SourceStreams!$A:$N,CR75,M$7)=\"\",\"\",INDEX(E_SourceStreams!$A:$N,CR75,M$7)))","v":""},{"$f":"IF($E75=\"\",\"\",IF(INDEX(E_SourceStreams!$A:$N,CS75,N$7)=\"\",\"\",INDEX(E_SourceStreams!$A:$N,CS75,N$7)))","v":""},{"$f":"IF($E75=\"\",\"\",IF(INDEX(E_SourceStreams!$A:$N,CT75,O$7)=\"\",\"\",INDEX(E_SourceStreams!$A:$N,CT75,O$7)))","v":""},{"$f":"IF($E75=\"\",\"\",IF(INDEX(E_SourceStreams!$A:$N,CU75,P$7)=\"\",\"\",INDEX(E_SourceStreams!$A:$N,CU75,P$7)))","v":""},{"$f":"IF($E75=\"\",\"\",IF(INDEX(E_SourceStreams!$A:$N,CV75,Q$7)=\"\",\"\",INDEX(E_SourceStreams!$A:$N,CV75,Q$7)))","v":""},{"$f":"IF($E75=\"\",\"\",IF(INDEX(E_SourceStreams!$A:$N,CW75,R$7)=\"\",\"\",INDEX(E_SourceStreams!$A:$N,CW75,R$7)))","v":""},{"$f":"IF($E75=\"\",\"\",IF(INDEX(E_SourceStreams!$A:$N,CX75,S$7)=\"\",\"\",INDEX(E_SourceStreams!$A:$N,CX75,S$7)))","v":""},{"$f":"IF($E75=\"\",\"\",IF(INDEX(E_SourceStreams!$A:$N,CY75,T$7)=\"\",\"\",INDEX(E_SourceStreams!$A:$N,CY75,T$7)))","v":""},{"$f":"IF($E75=\"\",\"\",IF(INDEX(E_SourceStreams!$A:$N,CZ75,U$7)=\"\",\"\",INDEX(E_SourceStreams!$A:$N,CZ75,U$7)))","v":""},{"$f":"IF($E75=\"\",\"\",IF(INDEX(E_SourceStreams!$A:$N,DA75,V$7)=\"\",\"\",INDEX(E_SourceStreams!$A:$N,DA75,V$7)))","v":""},{"$f":"IF($E75=\"\",\"\",IF(INDEX(E_SourceStreams!$A:$N,DB75,W$7)=\"\",\"\",INDEX(E_SourceStreams!$A:$N,DB75,W$7)))","v":""},{"$f":"IF($E75=\"\",\"\",IF(INDEX(E_SourceStreams!$A:$N,DC75,X$7)=\"\",\"\",INDEX(E_SourceStreams!$A:$N,DC75,X$7)))","v":""},{"$f":"IF($E75=\"\",\"\",IF(INDEX(E_SourceStreams!$A:$N,DD75,Y$7)=\"\",\"\",INDEX(E_SourceStreams!$A:$N,DD75,Y$7)))","v":""},{"$f":"IF($E75=\"\",\"\",IF(INDEX(E_SourceStreams!$A:$N,DE75,Z$7)=\"\",\"\",INDEX(E_SourceStreams!$A:$N,DE75,Z$7)))","v":""},{"$f":"IF($E75=\"\",\"\",IF(INDEX(E_SourceStreams!$A:$N,DF75,AA$7)=\"\",\"\",INDEX(E_SourceStreams!$A:$N,DF75,AA$7)))","v":""},{"$f":"IF($E75=\"\",\"\",IF(INDEX(E_SourceStreams!$A:$N,DG75,AB$7)=\"\",\"\",INDEX(E_SourceStreams!$A:$N,DG75,AB$7)))","v":""},{"$f":"IF($E75=\"\",\"\",IF(INDEX(E_SourceStreams!$A:$N,DH75,AC$7)=\"\",\"\",INDEX(E_SourceStreams!$A:$N,DH75,AC$7)))","v":""},{"$f":"IF($E75=\"\",\"\",IF(INDEX(E_SourceStreams!$A:$N,DI75,AD$7)=\"\",\"\",INDEX(E_SourceStreams!$A:$N,DI75,AD$7)))","v":""},{"$f":"IF($E75=\"\",\"\",IF(INDEX(E_SourceStreams!$A:$N,DJ75,AE$7)=\"\",\"\",INDEX(E_SourceStreams!$A:$N,DJ75,AE$7)))","v":""},{"$f":"IF($E75=\"\",\"\",IF(INDEX(E_SourceStreams!$A:$N,DK75,AF$7)=\"\",\"\",INDEX(E_SourceStreams!$A:$N,DK75,AF$7)))","v":""},{"$f":"IF($E75=\"\",\"\",IF(INDEX(E_SourceStreams!$A:$N,DL75,AG$7)=\"\",\"\",INDEX(E_SourceStreams!$A:$N,DL75,AG$7)))","v":""},{"$f":"IF($E75=\"\",\"\",IF(INDEX(E_SourceStreams!$A:$N,DM75,AH$7)=\"\",\"\",INDEX(E_SourceStreams!$A:$N,DM75,AH$7)))","v":""},{"$f":"IF($E75=\"\",\"\",IF(INDEX(E_SourceStreams!$A:$N,DN75,AI$7)=\"\",\"\",INDEX(E_SourceStreams!$A:$N,DN75,AI$7)))","v":""},{"$f":"IF($E75=\"\",\"\",IF(INDEX(E_SourceStreams!$A:$N,DO75,AJ$7)=\"\",\"\",INDEX(E_SourceStreams!$A:$N,DO75,AJ$7)))","v":""},{"$f":"IF($E75=\"\",\"\",IF(INDEX(E_SourceStreams!$A:$N,DP75,AK$7)=\"\",\"\",INDEX(E_SourceStreams!$A:$N,DP75,AK$7)))","v":""},{"$f":"IF($E75=\"\",\"\",IF(INDEX(E_SourceStreams!$A:$N,DQ75,AL$7)=\"\",\"\",INDEX(E_SourceStreams!$A:$N,DQ75,AL$7)))","v":""},{"$f":"IF($E75=\"\",\"\",IF(INDEX(E_SourceStreams!$A:$N,DR75,AM$7)=\"\",\"\",INDEX(E_SourceStreams!$A:$N,DR75,AM$7)))","v":""},{"$f":"IF($E75=\"\",\"\",IF(INDEX(E_SourceStreams!$A:$N,DS75,AN$7)=\"\",\"\",INDEX(E_SourceStreams!$A:$N,DS75,AN$7)))","v":""},{"$f":"IF($E75=\"\",\"\",IF(INDEX(E_SourceStreams!$A:$N,DT75,AO$7)=\"\",\"\",INDEX(E_SourceStreams!$A:$N,DT75,AO$7)))","v":""},{"$f":"IF($E75=\"\",\"\",IF(INDEX(E_SourceStreams!$A:$N,DU75,AP$7)=\"\",\"\",INDEX(E_SourceStreams!$A:$N,DU75,AP$7)))","v":""},{"$f":"IF($E75=\"\",\"\",IF(INDEX(E_SourceStreams!$A:$N,DV75,AQ$7)=\"\",\"\",INDEX(E_SourceStreams!$A:$N,DV75,AQ$7)))","v":""},{"$f":"IF($E75=\"\",\"\",IF(INDEX(E_SourceStreams!$A:$N,DW75,AR$7)=\"\",\"\",INDEX(E_SourceStreams!$A:$N,DW75,AR$7)))","v":""},{"$f":"IF($E75=\"\",\"\",IF(INDEX(E_SourceStreams!$A:$N,DX75,AS$7)=\"\",\"\",INDEX(E_SourceStreams!$A:$N,DX75,AS$7)))","v":""},{"$f":"IF($E75=\"\",\"\",IF(INDEX(E_SourceStreams!$A:$N,DY75,AT$7)=\"\",\"\",INDEX(E_SourceStreams!$A:$N,DY75,AT$7)))","v":""},{"$f":"IF($E75=\"\",\"\",IF(INDEX(E_SourceStreams!$A:$N,DZ75,AU$7)=\"\",\"\",INDEX(E_SourceStreams!$A:$N,DZ75,AU$7)))","v":""},{"$f":"IF($E75=\"\",\"\",IF(INDEX(E_SourceStreams!$A:$N,EA75,AV$7)=\"\",\"\",INDEX(E_SourceStreams!$A:$N,EA75,AV$7)))","v":""},{"$f":"IF($E75=\"\",\"\",IF(INDEX(E_SourceStreams!$A:$N,EB75,AW$7)=\"\",\"\",INDEX(E_SourceStreams!$A:$N,EB75,AW$7)))","v":""},{"$f":"IF($E75=\"\",\"\",IF(INDEX(E_SourceStreams!$A:$N,EC75,AX$7)=\"\",\"\",INDEX(E_SourceStreams!$A:$N,EC75,AX$7)))","v":""},{"$f":"IF($E75=\"\",\"\",IF(INDEX(E_SourceStreams!$A:$N,ED75,AY$7)=\"\",\"\",INDEX(E_SourceStreams!$A:$N,ED75,AY$7)))","v":""},{"$f":"IF($E75=\"\",\"\",IF(INDEX(E_SourceStreams!$A:$N,EE75,AZ$7)=\"\",\"\",INDEX(E_SourceStreams!$A:$N,EE75,AZ$7)))","v":""},{"$f":"IF($E75=\"\",\"\",IF(INDEX(E_SourceStreams!$A:$N,EF75,BA$7)=\"\",\"\",INDEX(E_SourceStreams!$A:$N,EF75,BA$7)))","v":""},{"$f":"IF($E75=\"\",\"\",IF(INDEX(E_SourceStreams!$A:$N,EG75,BB$7)=\"\",\"\",INDEX(E_SourceStreams!$A:$N,EG75,BB$7)))","v":""},{"$f":"IF($E75=\"\",\"\",IF(INDEX(E_SourceStreams!$A:$N,EH75,BC$7)=\"\",\"\",INDEX(E_SourceStreams!$A:$N,EH75,BC$7)))","v":""},{"$f":"IF($E75=\"\",\"\",IF(INDEX(E_SourceStreams!$A:$N,EI75,BD$7)=\"\",\"\",INDEX(E_SourceStreams!$A:$N,EI75,BD$7)))","v":""},{"$f":"IF($E75=\"\",\"\",IF(INDEX(E_SourceStreams!$A:$N,EJ75,BE$7)=\"\",\"\",INDEX(E_SourceStreams!$A:$N,EJ75,BE$7)))","v":""},{"$f":"IF($E75=\"\",\"\",IF(INDEX(E_SourceStreams!$A:$N,EK75,BF$7)=\"\",\"\",INDEX(E_SourceStreams!$A:$N,EK75,BF$7)))","v":""},{"$f":"IF($E75=\"\",\"\",IF(INDEX(E_SourceStreams!$A:$N,EL75,BG$7)=\"\",\"\",INDEX(E_SourceStreams!$A:$N,EL75,BG$7)))","v":""},{"$f":"IF($E75=\"\",\"\",IF(INDEX(E_SourceStreams!$A:$N,EM75,BH$7)=\"\",\"\",INDEX(E_SourceStreams!$A:$N,EM75,BH$7)))","v":""},{"$f":"IF($E75=\"\",\"\",IF(INDEX(E_SourceStreams!$A:$N,EN75,BI$7)=\"\",\"\",INDEX(E_SourceStreams!$A:$N,EN75,BI$7)))","v":""},{"$f":"IF($E75=\"\",\"\",IF(INDEX(E_SourceStreams!$A:$N,EO75,BJ$7)=\"\",\"\",INDEX(E_SourceStreams!$A:$N,EO75,BJ$7)))","v":""},{"$f":"IF($E75=\"\",\"\",IF(INDEX(E_SourceStreams!$A:$N,EP75,BK$7)=\"\",\"\",INDEX(E_SourceStreams!$A:$N,EP75,BK$7)))","v":""},{"$f":"IF($E75=\"\",\"\",IF(INDEX(E_SourceStreams!$A:$N,EQ75,BL$7)=\"\",\"\",INDEX(E_SourceStreams!$A:$N,EQ75,BL$7)))","v":""},{"$f":"IF($E75=\"\",\"\",IF(INDEX(E_SourceStreams!$A:$N,ER75,BM$7)=\"\",\"\",INDEX(E_SourceStreams!$A:$N,ER75,BM$7)))","v":""},{"$f":"IF($E75=\"\",\"\",IF(INDEX(E_SourceStreams!$A:$N,ES75,BN$7)=\"\",\"\",INDEX(E_SourceStreams!$A:$N,ES75,BN$7)))","v":""},{"$f":"IF($E75=\"\",\"\",IF(INDEX(E_SourceStreams!$A:$N,ET75,BO$7)=\"\",\"\",INDEX(E_SourceStreams!$A:$N,ET75,BO$7)))","v":""},{"$f":"IF($E75=\"\",\"\",IF(INDEX(E_SourceStreams!$A:$N,EU75,BP$7)=\"\",\"\",INDEX(E_SourceStreams!$A:$N,EU75,BP$7)))","v":""},{"$f":"IF($E75=\"\",\"\",IF(INDEX(E_SourceStreams!$A:$N,EV75,BQ$7)=\"\",\"\",INDEX(E_SourceStreams!$A:$N,EV75,BQ$7)))","v":""},{"$f":"IF($E75=\"\",\"\",IF(INDEX(E_SourceStreams!$A:$N,EW75,BR$7)=\"\",\"\",INDEX(E_SourceStreams!$A:$N,EW75,BR$7)))","v":""},{"$f":"IF($E75=\"\",\"\",IF(INDEX(E_SourceStreams!$A:$N,EX75,BS$7)=\"\",\"\",INDEX(E_SourceStreams!$A:$N,EX75,BS$7)))","v":""},{"$f":"IF($E75=\"\",\"\",IF(INDEX(E_SourceStreams!$A:$N,EY75,BT$7)=\"\",\"\",INDEX(E_SourceStreams!$A:$N,EY75,BT$7)))","v":""},null,null,null,null,null,null,null,null,null,null,null,null,null,null,null,{"$f":"EUconst_CNTR_SourceCategory&B75","v":"SourceCategory_"},{"$f":"INDEX(C_InstallationDescription!$A$223:$A$328,ROWS($CI$11:CI75))=\"ausblenden\"","v":true},{"$f":"EUconst_CNTR_SourceStreamName&B75","v":"SourceStreamName_"},null,4358,4360,4362,4364,4366,4368,4370,4370,4370,4370,4370,4373,4377,4378,4379,4386,4396,4396,4396,4396,4396,4396,4396,4387,4397,4397,4397,4397,4397,4397,4397,4388,4398,4398,4398,4398,4398,4398,4398,4389,4399,4399,4399,4399,4399,4399,4399,4390,4400,4400,4400,4400,4400,4400,4400,4391,4401,4401,4401,4401,4401,4401,4401,4407]
[null,{"$f":"IF(COUNTIF($CK$10:CK76,TRUE)>0,\"\",INDEX(C_InstallationDescription!$E$223:$E$239,ROWS($A$11:A76)))","v":""},{"$f":"IF($E76=\"\",\"\",INDEX(C_InstallationDescription!G:G,MATCH($B76,C_InstallationDescription!$E:$E,0)))","v":""},{"$f":"IF($E76=\"\",\"\",INDEX(C_InstallationDescription!I:I,MATCH($B76,C_InstallationDescription!$E:$E,0)))","v":""},{"$f":"IF($B76=\"\",\"\",INDEX(C_InstallationDescription!F:F,MATCH($CJ76,C_InstallationDescription!$Q:$Q,0)))","v":""},{"$f":"IF($E76=\"\",\"\",INDEX(C_InstallationDescription!L:L,MATCH($CJ76,C_InstallationDescription!$Q:$Q,0)))","v":""},{"$f":"IF($E76=\"\",\"\",INDEX(C_InstallationDescription!M:M,MATCH($CJ76,C_InstallationDescription!$Q:$Q,0)))","v":""},{"$f":"IF($E76=\"\",\"\",INDEX(C_InstallationDescription!N:N,MATCH($CJ76,C_InstallationDescription!$Q:$Q,0)))","v":""},{"$f":"IF($E76=\"\",\"\",IF(INDEX(E_SourceStreams!$A:$N,CN76,I$7)=\"\",\"\",INDEX(E_SourceStreams!$A:$N,CN76,I$7)))","v":""},{"$f":"IF($E76=\"\",\"\",IF(INDEX(E_SourceStreams!$A:$N,CO76,J$7)=\"\",\"\",INDEX(E_SourceStreams!$A:$N,CO76,J$7)))","v":""},{"$f":"IF($E76=\"\",\"\",IF(INDEX(E_SourceStreams!$A:$N,CP76,K$7)=\"\",\"\",INDEX(E_SourceStreams!$A:$N,CP76,K$7)))","v":""},{"$f":"IF($E76=\"\",\"\",IF(INDEX(E_SourceStreams!$A:$N,CQ76,L$7)=\"\",\"\",INDEX(E_SourceStreams!$A:$N,CQ76,L$7)))","v":""},{"$f":"IF($E76=\"\",\"\",IF(INDEX(E_SourceStreams!$A:$N,CR76,M$7)=\"\",\"\",INDEX(E_SourceStreams!$A:$N,CR76,M$7)))","v":""},{"$f":"IF($E76=\"\",\"\",IF(INDEX(E_SourceStreams!$A:$N,CS76,N$7)=\"\",\"\",INDEX(E_SourceStreams!$A:$N,CS76,N$7)))","v":""},{"$f":"IF($E76=\"\",\"\",IF(INDEX(E_SourceStreams!$A:$N,CT76,O$7)=\"\",\"\",INDEX(E_SourceStreams!$A:$N,CT76,O$7)))","v":""},{"$f":"IF($E76=\"\",\"\",IF(INDEX(E_SourceStreams!$A:$N,CU76,P$7)=\"\",\"\",INDEX(E_SourceStreams!$A:$N,CU76,P$7)))","v":""},{"$f":"IF($E76=\"\",\"\",IF(INDEX(E_SourceStreams!$A:$N,CV76,Q$7)=\"\",\"\",INDEX(E_SourceStreams!$A:$N,CV76,Q$7)))","v":""},{"$f":"IF($E76=\"\",\"\",IF(INDEX(E_SourceStreams!$A:$N,CW76,R$7)=\"\",\"\",INDEX(E_SourceStreams!$A:$N,CW76,R$7)))","v":""},{"$f":"IF($E76=\"\",\"\",IF(INDEX(E_SourceStreams!$A:$N,CX76,S$7)=\"\",\"\",INDEX(E_SourceStreams!$A:$N,CX76,S$7)))","v":""},{"$f":"IF($E76=\"\",\"\",IF(INDEX(E_SourceStreams!$A:$N,CY76,T$7)=\"\",\"\",INDEX(E_SourceStreams!$A:$N,CY76,T$7)))","v":""},{"$f":"IF($E76=\"\",\"\",IF(INDEX(E_SourceStreams!$A:$N,CZ76,U$7)=\"\",\"\",INDEX(E_SourceStreams!$A:$N,CZ76,U$7)))","v":""},{"$f":"IF($E76=\"\",\"\",IF(INDEX(E_SourceStreams!$A:$N,DA76,V$7)=\"\",\"\",INDEX(E_SourceStreams!$A:$N,DA76,V$7)))","v":""},{"$f":"IF($E76=\"\",\"\",IF(INDEX(E_SourceStreams!$A:$N,DB76,W$7)=\"\",\"\",INDEX(E_SourceStreams!$A:$N,DB76,W$7)))","v":""},{"$f":"IF($E76=\"\",\"\",IF(INDEX(E_SourceStreams!$A:$N,DC76,X$7)=\"\",\"\",INDEX(E_SourceStreams!$A:$N,DC76,X$7)))","v":""},{"$f":"IF($E76=\"\",\"\",IF(INDEX(E_SourceStreams!$A:$N,DD76,Y$7)=\"\",\"\",INDEX(E_SourceStreams!$A:$N,DD76,Y$7)))","v":""},{"$f":"IF($E76=\"\",\"\",IF(INDEX(E_SourceStreams!$A:$N,DE76,Z$7)=\"\",\"\",INDEX(E_SourceStreams!$A:$N,DE76,Z$7)))","v":""},{"$f":"IF($E76=\"\",\"\",IF(INDEX(E_SourceStreams!$A:$N,DF76,AA$7)=\"\",\"\",INDEX(E_SourceStreams!$A:$N,DF76,AA$7)))","v":""},{"$f":"IF($E76=\"\",\"\",IF(INDEX(E_SourceStreams!$A:$N,DG76,AB$7)=\"\",\"\",INDEX(E_SourceStreams!$A:$N,DG76,AB$7)))","v":""},{"$f":"IF($E76=\"\",\"\",IF(INDEX(E_SourceStreams!$A:$N,DH76,AC$7)=\"\",\"\",INDEX(E_SourceStreams!$A:$N,DH76,AC$7)))","v":""},{"$f":"IF($E76=\"\",\"\",IF(INDEX(E_SourceStreams!$A:$N,DI76,AD$7)=\"\",\"\",INDEX(E_SourceStreams!$A:$N,DI76,AD$7)))","v":""},{"$f":"IF($E76=\"\",\"\",IF(INDEX(E_SourceStreams!$A:$N,DJ76,AE$7)=\"\",\"\",INDEX(E_SourceStreams!$A:$N,DJ76,AE$7)))","v":""},{"$f":"IF($E76=\"\",\"\",IF(INDEX(E_SourceStreams!$A:$N,DK76,AF$7)=\"\",\"\",INDEX(E_SourceStreams!$A:$N,DK76,AF$7)))","v":""},{"$f":"IF($E76=\"\",\"\",IF(INDEX(E_SourceStreams!$A:$N,DL76,AG$7)=\"\",\"\",INDEX(E_SourceStreams!$A:$N,DL76,AG$7)))","v":""},{"$f":"IF($E76=\"\",\"\",IF(INDEX(E_SourceStreams!$A:$N,DM76,AH$7)=\"\",\"\",INDEX(E_SourceStreams!$A:$N,DM76,AH$7)))","v":""},{"$f":"IF($E76=\"\",\"\",IF(INDEX(E_SourceStreams!$A:$N,DN76,AI$7)=\"\",\"\",INDEX(E_SourceStreams!$A:$N,DN76,AI$7)))","v":""},{"$f":"IF($E76=\"\",\"\",IF(INDEX(E_SourceStreams!$A:$N,DO76,AJ$7)=\"\",\"\",INDEX(E_SourceStreams!$A:$N,DO76,AJ$7)))","v":""},{"$f":"IF($E76=\"\",\"\",IF(INDEX(E_SourceStreams!$A:$N,DP76,AK$7)=\"\",\"\",INDEX(E_SourceStreams!$A:$N,DP76,AK$7)))","v":""},{"$f":"IF($E76=\"\",\"\",IF(INDEX(E_SourceStreams!$A:$N,DQ76,AL$7)=\"\",\"\",INDEX(E_SourceStreams!$A:$N,DQ76,AL$7)))","v":""},{"$f":"IF($E76=\"\",\"\",IF(INDEX(E_SourceStreams!$A:$N,DR76,AM$7)=\"\",\"\",INDEX(E_SourceStreams!$A:$N,DR76,AM$7)))","v":""},{"$f":"IF($E76=\"\",\"\",IF(INDEX(E_SourceStreams!$A:$N,DS76,AN$7)=\"\",\"\",INDEX(E_SourceStreams!$A:$N,DS76,AN$7)))","v":""},{"$f":"IF($E76=\"\",\"\",IF(INDEX(E_SourceStreams!$A:$N,DT76,AO$7)=\"\",\"\",INDEX(E_SourceStreams!$A:$N,DT76,AO$7)))","v":""},{"$f":"IF($E76=\"\",\"\",IF(INDEX(E_SourceStreams!$A:$N,DU76,AP$7)=\"\",\"\",INDEX(E_SourceStreams!$A:$N,DU76,AP$7)))","v":""},{"$f":"IF($E76=\"\",\"\",IF(INDEX(E_SourceStreams!$A:$N,DV76,AQ$7)=\"\",\"\",INDEX(E_SourceStreams!$A:$N,DV76,AQ$7)))","v":""},{"$f":"IF($E76=\"\",\"\",IF(INDEX(E_SourceStreams!$A:$N,DW76,AR$7)=\"\",\"\",INDEX(E_SourceStreams!$A:$N,DW76,AR$7)))","v":""},{"$f":"IF($E76=\"\",\"\",IF(INDEX(E_SourceStreams!$A:$N,DX76,AS$7)=\"\",\"\",INDEX(E_SourceStreams!$A:$N,DX76,AS$7)))","v":""},{"$f":"IF($E76=\"\",\"\",IF(INDEX(E_SourceStreams!$A:$N,DY76,AT$7)=\"\",\"\",INDEX(E_SourceStreams!$A:$N,DY76,AT$7)))","v":""},{"$f":"IF($E76=\"\",\"\",IF(INDEX(E_SourceStreams!$A:$N,DZ76,AU$7)=\"\",\"\",INDEX(E_SourceStreams!$A:$N,DZ76,AU$7)))","v":""},{"$f":"IF($E76=\"\",\"\",IF(INDEX(E_SourceStreams!$A:$N,EA76,AV$7)=\"\",\"\",INDEX(E_SourceStreams!$A:$N,EA76,AV$7)))","v":""},{"$f":"IF($E76=\"\",\"\",IF(INDEX(E_SourceStreams!$A:$N,EB76,AW$7)=\"\",\"\",INDEX(E_SourceStreams!$A:$N,EB76,AW$7)))","v":""},{"$f":"IF($E76=\"\",\"\",IF(INDEX(E_SourceStreams!$A:$N,EC76,AX$7)=\"\",\"\",INDEX(E_SourceStreams!$A:$N,EC76,AX$7)))","v":""},{"$f":"IF($E76=\"\",\"\",IF(INDEX(E_SourceStreams!$A:$N,ED76,AY$7)=\"\",\"\",INDEX(E_SourceStreams!$A:$N,ED76,AY$7)))","v":""},{"$f":"IF($E76=\"\",\"\",IF(INDEX(E_SourceStreams!$A:$N,EE76,AZ$7)=\"\",\"\",INDEX(E_SourceStreams!$A:$N,EE76,AZ$7)))","v":""},{"$f":"IF($E76=\"\",\"\",IF(INDEX(E_SourceStreams!$A:$N,EF76,BA$7)=\"\",\"\",INDEX(E_SourceStreams!$A:$N,EF76,BA$7)))","v":""},{"$f":"IF($E76=\"\",\"\",IF(INDEX(E_SourceStreams!$A:$N,EG76,BB$7)=\"\",\"\",INDEX(E_SourceStreams!$A:$N,EG76,BB$7)))","v":""},{"$f":"IF($E76=\"\",\"\",IF(INDEX(E_SourceStreams!$A:$N,EH76,BC$7)=\"\",\"\",INDEX(E_SourceStreams!$A:$N,EH76,BC$7)))","v":""},{"$f":"IF($E76=\"\",\"\",IF(INDEX(E_SourceStreams!$A:$N,EI76,BD$7)=\"\",\"\",INDEX(E_SourceStreams!$A:$N,EI76,BD$7)))","v":""},{"$f":"IF($E76=\"\",\"\",IF(INDEX(E_SourceStreams!$A:$N,EJ76,BE$7)=\"\",\"\",INDEX(E_SourceStreams!$A:$N,EJ76,BE$7)))","v":""},{"$f":"IF($E76=\"\",\"\",IF(INDEX(E_SourceStreams!$A:$N,EK76,BF$7)=\"\",\"\",INDEX(E_SourceStreams!$A:$N,EK76,BF$7)))","v":""},{"$f":"IF($E76=\"\",\"\",IF(INDEX(E_SourceStreams!$A:$N,EL76,BG$7)=\"\",\"\",INDEX(E_SourceStreams!$A:$N,EL76,BG$7)))","v":""},{"$f":"IF($E76=\"\",\"\",IF(INDEX(E_SourceStreams!$A:$N,EM76,BH$7)=\"\",\"\",INDEX(E_SourceStreams!$A:$N,EM76,BH$7)))","v":""},{"$f":"IF($E76=\"\",\"\",IF(INDEX(E_SourceStreams!$A:$N,EN76,BI$7)=\"\",\"\",INDEX(E_SourceStreams!$A:$N,EN76,BI$7)))","v":""},{"$f":"IF($E76=\"\",\"\",IF(INDEX(E_SourceStreams!$A:$N,EO76,BJ$7)=\"\",\"\",INDEX(E_SourceStreams!$A:$N,EO76,BJ$7)))","v":""},{"$f":"IF($E76=\"\",\"\",IF(INDEX(E_SourceStreams!$A:$N,EP76,BK$7)=\"\",\"\",INDEX(E_SourceStreams!$A:$N,EP76,BK$7)))","v":""},{"$f":"IF($E76=\"\",\"\",IF(INDEX(E_SourceStreams!$A:$N,EQ76,BL$7)=\"\",\"\",INDEX(E_SourceStreams!$A:$N,EQ76,BL$7)))","v":""},{"$f":"IF($E76=\"\",\"\",IF(INDEX(E_SourceStreams!$A:$N,ER76,BM$7)=\"\",\"\",INDEX(E_SourceStreams!$A:$N,ER76,BM$7)))","v":""},{"$f":"IF($E76=\"\",\"\",IF(INDEX(E_SourceStreams!$A:$N,ES76,BN$7)=\"\",\"\",INDEX(E_SourceStreams!$A:$N,ES76,BN$7)))","v":""},{"$f":"IF($E76=\"\",\"\",IF(INDEX(E_SourceStreams!$A:$N,ET76,BO$7)=\"\",\"\",INDEX(E_SourceStreams!$A:$N,ET76,BO$7)))","v":""},{"$f":"IF($E76=\"\",\"\",IF(INDEX(E_SourceStreams!$A:$N,EU76,BP$7)=\"\",\"\",INDEX(E_SourceStreams!$A:$N,EU76,BP$7)))","v":""},{"$f":"IF($E76=\"\",\"\",IF(INDEX(E_SourceStreams!$A:$N,EV76,BQ$7)=\"\",\"\",INDEX(E_SourceStreams!$A:$N,EV76,BQ$7)))","v":""},{"$f":"IF($E76=\"\",\"\",IF(INDEX(E_SourceStreams!$A:$N,EW76,BR$7)=\"\",\"\",INDEX(E_SourceStreams!$A:$N,EW76,BR$7)))","v":""},{"$f":"IF($E76=\"\",\"\",IF(INDEX(E_SourceStreams!$A:$N,EX76,BS$7)=\"\",\"\",INDEX(E_SourceStreams!$A:$N,EX76,BS$7)))","v":""},{"$f":"IF($E76=\"\",\"\",IF(INDEX(E_SourceStreams!$A:$N,EY76,BT$7)=\"\",\"\",INDEX(E_SourceStreams!$A:$N,EY76,BT$7)))","v":""},null,null,null,null,null,null,null,null,null,null,null,null,null,null,null,"SourceCategory_",{"$f":"INDEX(C_InstallationDescription!$A$223:$A$328,ROWS($CI$11:CI76))=\"ausblenden\"","v":true},"SourceStreamName_",null,4424,4426,4428,4430,4432,4434,4436,4436,4436,4436,4436,4439,4443,4444,4445,4452,4462,4462,4462,4462,4462,4462,4462,4453,4463,4463,4463,4463,4463,4463,4463,4454,4464,4464,4464,4464,4464,4464,4464,4455,4465,4465,4465,4465,4465,4465,4465,4456,4466,4466,4466,4466,4466,4466,4466,4457,4467,4467,4467,4467,4467,4467,4467,4473]
[null,{"$f":"IF(COUNTIF($CK$10:CK77,TRUE)>0,\"\",INDEX(C_InstallationDescription!$E$223:$E$239,ROWS($A$11:A77)))","v":""},{"$f":"IF($E77=\"\",\"\",INDEX(C_InstallationDescription!G:G,MATCH($B77,C_InstallationDescription!$E:$E,0)))","v":""},{"$f":"IF($E77=\"\",\"\",INDEX(C_InstallationDescription!I:I,MATCH($B77,C_InstallationDescription!$E:$E,0)))","v":""},{"$f":"IF($B77=\"\",\"\",INDEX(C_InstallationDescription!F:F,MATCH($CJ77,C_InstallationDescription!$Q:$Q,0)))","v":""},{"$f":"IF($E77=\"\",\"\",INDEX(C_InstallationDescription!L:L,MATCH($CJ77,C_InstallationDescription!$Q:$Q,0)))","v":""},{"$f":"IF($E77=\"\",\"\",INDEX(C_InstallationDescription!M:M,MATCH($CJ77,C_InstallationDescription!$Q:$Q,0)))","v":""},{"$f":"IF($E77=\"\",\"\",INDEX(C_InstallationDescription!N:N,MATCH($CJ77,C_InstallationDescription!$Q:$Q,0)))","v":""},{"$f":"IF($E77=\"\",\"\",IF(INDEX(E_SourceStreams!$A:$N,CN77,I$7)=\"\",\"\",INDEX(E_SourceStreams!$A:$N,CN77,I$7)))","v":""},{"$f":"IF($E77=\"\",\"\",IF(INDEX(E_SourceStreams!$A:$N,CO77,J$7)=\"\",\"\",INDEX(E_SourceStreams!$A:$N,CO77,J$7)))","v":""},{"$f":"IF($E77=\"\",\"\",IF(INDEX(E_SourceStreams!$A:$N,CP77,K$7)=\"\",\"\",INDEX(E_SourceStreams!$A:$N,CP77,K$7)))","v":""},{"$f":"IF($E77=\"\",\"\",IF(INDEX(E_SourceStreams!$A:$N,CQ77,L$7)=\"\",\"\",INDEX(E_SourceStreams!$A:$N,CQ77,L$7)))","v":""},{"$f":"IF($E77=\"\",\"\",IF(INDEX(E_SourceStreams!$A:$N,CR77,M$7)=\"\",\"\",INDEX(E_SourceStreams!$A:$N,CR77,M$7)))","v":""},{"$f":"IF($E77=\"\",\"\",IF(INDEX(E_SourceStreams!$A:$N,CS77,N$7)=\"\",\"\",INDEX(E_SourceStreams!$A:$N,CS77,N$7)))","v":""},{"$f":"IF($E77=\"\",\"\",IF(INDEX(E_SourceStreams!$A:$N,CT77,O$7)=\"\",\"\",INDEX(E_SourceStreams!$A:$N,CT77,O$7)))","v":""},{"$f":"IF($E77=\"\",\"\",IF(INDEX(E_SourceStreams!$A:$N,CU77,P$7)=\"\",\"\",INDEX(E_SourceStreams!$A:$N,CU77,P$7)))","v":""},{"$f":"IF($E77=\"\",\"\",IF(INDEX(E_SourceStreams!$A:$N,CV77,Q$7)=\"\",\"\",INDEX(E_SourceStreams!$A:$N,CV77,Q$7)))","v":""},{"$f":"IF($E77=\"\",\"\",IF(INDEX(E_SourceStreams!$A:$N,CW77,R$7)=\"\",\"\",INDEX(E_SourceStreams!$A:$N,CW77,R$7)))","v":""},{"$f":"IF($E77=\"\",\"\",IF(INDEX(E_SourceStreams!$A:$N,CX77,S$7)=\"\",\"\",INDEX(E_SourceStreams!$A:$N,CX77,S$7)))","v":""},{"$f":"IF($E77=\"\",\"\",IF(INDEX(E_SourceStreams!$A:$N,CY77,T$7)=\"\",\"\",INDEX(E_SourceStreams!$A:$N,CY77,T$7)))","v":""},{"$f":"IF($E77=\"\",\"\",IF(INDEX(E_SourceStreams!$A:$N,CZ77,U$7)=\"\",\"\",INDEX(E_SourceStreams!$A:$N,CZ77,U$7)))","v":""},{"$f":"IF($E77=\"\",\"\",IF(INDEX(E_SourceStreams!$A:$N,DA77,V$7)=\"\",\"\",INDEX(E_SourceStreams!$A:$N,DA77,V$7)))","v":""},{"$f":"IF($E77=\"\",\"\",IF(INDEX(E_SourceStreams!$A:$N,DB77,W$7)=\"\",\"\",INDEX(E_SourceStreams!$A:$N,DB77,W$7)))","v":""},{"$f":"IF($E77=\"\",\"\",IF(INDEX(E_SourceStreams!$A:$N,DC77,X$7)=\"\",\"\",INDEX(E_SourceStreams!$A:$N,DC77,X$7)))","v":""},{"$f":"IF($E77=\"\",\"\",IF(INDEX(E_SourceStreams!$A:$N,DD77,Y$7)=\"\",\"\",INDEX(E_SourceStreams!$A:$N,DD77,Y$7)))","v":""},{"$f":"IF($E77=\"\",\"\",IF(INDEX(E_SourceStreams!$A:$N,DE77,Z$7)=\"\",\"\",INDEX(E_SourceStreams!$A:$N,DE77,Z$7)))","v":""},{"$f":"IF($E77=\"\",\"\",IF(INDEX(E_SourceStreams!$A:$N,DF77,AA$7)=\"\",\"\",INDEX(E_SourceStreams!$A:$N,DF77,AA$7)))","v":""},{"$f":"IF($E77=\"\",\"\",IF(INDEX(E_SourceStreams!$A:$N,DG77,AB$7)=\"\",\"\",INDEX(E_SourceStreams!$A:$N,DG77,AB$7)))","v":""},{"$f":"IF($E77=\"\",\"\",IF(INDEX(E_SourceStreams!$A:$N,DH77,AC$7)=\"\",\"\",INDEX(E_SourceStreams!$A:$N,DH77,AC$7)))","v":""},{"$f":"IF($E77=\"\",\"\",IF(INDEX(E_SourceStreams!$A:$N,DI77,AD$7)=\"\",\"\",INDEX(E_SourceStreams!$A:$N,DI77,AD$7)))","v":""},{"$f":"IF($E77=\"\",\"\",IF(INDEX(E_SourceStreams!$A:$N,DJ77,AE$7)=\"\",\"\",INDEX(E_SourceStreams!$A:$N,DJ77,AE$7)))","v":""},{"$f":"IF($E77=\"\",\"\",IF(INDEX(E_SourceStreams!$A:$N,DK77,AF$7)=\"\",\"\",INDEX(E_SourceStreams!$A:$N,DK77,AF$7)))","v":""},{"$f":"IF($E77=\"\",\"\",IF(INDEX(E_SourceStreams!$A:$N,DL77,AG$7)=\"\",\"\",INDEX(E_SourceStreams!$A:$N,DL77,AG$7)))","v":""},{"$f":"IF($E77=\"\",\"\",IF(INDEX(E_SourceStreams!$A:$N,DM77,AH$7)=\"\",\"\",INDEX(E_SourceStreams!$A:$N,DM77,AH$7)))","v":""},{"$f":"IF($E77=\"\",\"\",IF(INDEX(E_SourceStreams!$A:$N,DN77,AI$7)=\"\",\"\",INDEX(E_SourceStreams!$A:$N,DN77,AI$7)))","v":""},{"$f":"IF($E77=\"\",\"\",IF(INDEX(E_SourceStreams!$A:$N,DO77,AJ$7)=\"\",\"\",INDEX(E_SourceStreams!$A:$N,DO77,AJ$7)))","v":""},{"$f":"IF($E77=\"\",\"\",IF(INDEX(E_SourceStreams!$A:$N,DP77,AK$7)=\"\",\"\",INDEX(E_SourceStreams!$A:$N,DP77,AK$7)))","v":""},{"$f":"IF($E77=\"\",\"\",IF(INDEX(E_SourceStreams!$A:$N,DQ77,AL$7)=\"\",\"\",INDEX(E_SourceStreams!$A:$N,DQ77,AL$7)))","v":""},{"$f":"IF($E77=\"\",\"\",IF(INDEX(E_SourceStreams!$A:$N,DR77,AM$7)=\"\",\"\",INDEX(E_SourceStreams!$A:$N,DR77,AM$7)))","v":""},{"$f":"IF($E77=\"\",\"\",IF(INDEX(E_SourceStreams!$A:$N,DS77,AN$7)=\"\",\"\",INDEX(E_SourceStreams!$A:$N,DS77,AN$7)))","v":""},{"$f":"IF($E77=\"\",\"\",IF(INDEX(E_SourceStreams!$A:$N,DT77,AO$7)=\"\",\"\",INDEX(E_SourceStreams!$A:$N,DT77,AO$7)))","v":""},{"$f":"IF($E77=\"\",\"\",IF(INDEX(E_SourceStreams!$A:$N,DU77,AP$7)=\"\",\"\",INDEX(E_SourceStreams!$A:$N,DU77,AP$7)))","v":""},{"$f":"IF($E77=\"\",\"\",IF(INDEX(E_SourceStreams!$A:$N,DV77,AQ$7)=\"\",\"\",INDEX(E_SourceStreams!$A:$N,DV77,AQ$7)))","v":""},{"$f":"IF($E77=\"\",\"\",IF(INDEX(E_SourceStreams!$A:$N,DW77,AR$7)=\"\",\"\",INDEX(E_SourceStreams!$A:$N,DW77,AR$7)))","v":""},{"$f":"IF($E77=\"\",\"\",IF(INDEX(E_SourceStreams!$A:$N,DX77,AS$7)=\"\",\"\",INDEX(E_SourceStreams!$A:$N,DX77,AS$7)))","v":""},{"$f":"IF($E77=\"\",\"\",IF(INDEX(E_SourceStreams!$A:$N,DY77,AT$7)=\"\",\"\",INDEX(E_SourceStreams!$A:$N,DY77,AT$7)))","v":""},{"$f":"IF($E77=\"\",\"\",IF(INDEX(E_SourceStreams!$A:$N,DZ77,AU$7)=\"\",\"\",INDEX(E_SourceStreams!$A:$N,DZ77,AU$7)))","v":""},{"$f":"IF($E77=\"\",\"\",IF(INDEX(E_SourceStreams!$A:$N,EA77,AV$7)=\"\",\"\",INDEX(E_SourceStreams!$A:$N,EA77,AV$7)))","v":""},{"$f":"IF($E77=\"\",\"\",IF(INDEX(E_SourceStreams!$A:$N,EB77,AW$7)=\"\",\"\",INDEX(E_SourceStreams!$A:$N,EB77,AW$7)))","v":""},{"$f":"IF($E77=\"\",\"\",IF(INDEX(E_SourceStreams!$A:$N,EC77,AX$7)=\"\",\"\",INDEX(E_SourceStreams!$A:$N,EC77,AX$7)))","v":""},{"$f":"IF($E77=\"\",\"\",IF(INDEX(E_SourceStreams!$A:$N,ED77,AY$7)=\"\",\"\",INDEX(E_SourceStreams!$A:$N,ED77,AY$7)))","v":""},{"$f":"IF($E77=\"\",\"\",IF(INDEX(E_SourceStreams!$A:$N,EE77,AZ$7)=\"\",\"\",INDEX(E_SourceStreams!$A:$N,EE77,AZ$7)))","v":""},{"$f":"IF($E77=\"\",\"\",IF(INDEX(E_SourceStreams!$A:$N,EF77,BA$7)=\"\",\"\",INDEX(E_SourceStreams!$A:$N,EF77,BA$7)))","v":""},{"$f":"IF($E77=\"\",\"\",IF(INDEX(E_SourceStreams!$A:$N,EG77,BB$7)=\"\",\"\",INDEX(E_SourceStreams!$A:$N,EG77,BB$7)))","v":""},{"$f":"IF($E77=\"\",\"\",IF(INDEX(E_SourceStreams!$A:$N,EH77,BC$7)=\"\",\"\",INDEX(E_SourceStreams!$A:$N,EH77,BC$7)))","v":""},{"$f":"IF($E77=\"\",\"\",IF(INDEX(E_SourceStreams!$A:$N,EI77,BD$7)=\"\",\"\",INDEX(E_SourceStreams!$A:$N,EI77,BD$7)))","v":""},{"$f":"IF($E77=\"\",\"\",IF(INDEX(E_SourceStreams!$A:$N,EJ77,BE$7)=\"\",\"\",INDEX(E_SourceStreams!$A:$N,EJ77,BE$7)))","v":""},{"$f":"IF($E77=\"\",\"\",IF(INDEX(E_SourceStreams!$A:$N,EK77,BF$7)=\"\",\"\",INDEX(E_SourceStreams!$A:$N,EK77,BF$7)))","v":""},{"$f":"IF($E77=\"\",\"\",IF(INDEX(E_SourceStreams!$A:$N,EL77,BG$7)=\"\",\"\",INDEX(E_SourceStreams!$A:$N,EL77,BG$7)))","v":""},{"$f":"IF($E77=\"\",\"\",IF(INDEX(E_SourceStreams!$A:$N,EM77,BH$7)=\"\",\"\",INDEX(E_SourceStreams!$A:$N,EM77,BH$7)))","v":""},{"$f":"IF($E77=\"\",\"\",IF(INDEX(E_SourceStreams!$A:$N,EN77,BI$7)=\"\",\"\",INDEX(E_SourceStreams!$A:$N,EN77,BI$7)))","v":""},{"$f":"IF($E77=\"\",\"\",IF(INDEX(E_SourceStreams!$A:$N,EO77,BJ$7)=\"\",\"\",INDEX(E_SourceStreams!$A:$N,EO77,BJ$7)))","v":""},{"$f":"IF($E77=\"\",\"\",IF(INDEX(E_SourceStreams!$A:$N,EP77,BK$7)=\"\",\"\",INDEX(E_SourceStreams!$A:$N,EP77,BK$7)))","v":""},{"$f":"IF($E77=\"\",\"\",IF(INDEX(E_SourceStreams!$A:$N,EQ77,BL$7)=\"\",\"\",INDEX(E_SourceStreams!$A:$N,EQ77,BL$7)))","v":""},{"$f":"IF($E77=\"\",\"\",IF(INDEX(E_SourceStreams!$A:$N,ER77,BM$7)=\"\",\"\",INDEX(E_SourceStreams!$A:$N,ER77,BM$7)))","v":""},{"$f":"IF($E77=\"\",\"\",IF(INDEX(E_SourceStreams!$A:$N,ES77,BN$7)=\"\",\"\",INDEX(E_SourceStreams!$A:$N,ES77,BN$7)))","v":""},{"$f":"IF($E77=\"\",\"\",IF(INDEX(E_SourceStreams!$A:$N,ET77,BO$7)=\"\",\"\",INDEX(E_SourceStreams!$A:$N,ET77,BO$7)))","v":""},{"$f":"IF($E77=\"\",\"\",IF(INDEX(E_SourceStreams!$A:$N,EU77,BP$7)=\"\",\"\",INDEX(E_SourceStreams!$A:$N,EU77,BP$7)))","v":""},{"$f":"IF($E77=\"\",\"\",IF(INDEX(E_SourceStreams!$A:$N,EV77,BQ$7)=\"\",\"\",INDEX(E_SourceStreams!$A:$N,EV77,BQ$7)))","v":""},{"$f":"IF($E77=\"\",\"\",IF(INDEX(E_SourceStreams!$A:$N,EW77,BR$7)=\"\",\"\",INDEX(E_SourceStreams!$A:$N,EW77,BR$7)))","v":""},{"$f":"IF($E77=\"\",\"\",IF(INDEX(E_SourceStreams!$A:$N,EX77,BS$7)=\"\",\"\",INDEX(E_SourceStreams!$A:$N,EX77,BS$7)))","v":""},{"$f":"IF($E77=\"\",\"\",IF(INDEX(E_SourceStreams!$A:$N,EY77,BT$7)=\"\",\"\",INDEX(E_SourceStreams!$A:$N,EY77,BT$7)))","v":""},null,null,null,null,null,null,null,null,null,null,null,null,null,null,null,"SourceCategory_",{"$f":"INDEX(C_InstallationDescription!$A$223:$A$328,ROWS($CI$11:CI77))=\"ausblenden\"","v":true},"SourceStreamName_",null,4490,{"$f":"CO76+66","v":4492},{"$f":"CP76+66","v":4494},{"$f":"CQ76+66","v":4496},{"$f":"CR76+66","v":4498},{"$f":"CS76+66","v":4500},{"$f":"CT76+66","v":4502},{"$f":"CU76+66","v":4502},{"$f":"CV76+66","v":4502},{"$f":"CW76+66","v":4502},{"$f":"CX76+66","v":4502},{"$f":"CY76+66","v":4505},{"$f":"CZ76+66","v":4509},{"$f":"DA76+66","v":4510},{"$f":"DB76+66","v":4511},{"$f":"DC76+66","v":4518},{"$f":"DD76+66","v":4528},{"$f":"DE76+66","v":4528},{"$f":"DF76+66","v":4528},{"$f":"DG76+66","v":4528},{"$f":"DH76+66","v":4528},{"$f":"DI76+66","v":4528},{"$f":"DJ76+66","v":4528},{"$f":"DK76+66","v":4519},{"$f":"DL76+66","v":4529},{"$f":"DM76+66","v":4529},{"$f":"DN76+66","v":4529},{"$f":"DO76+66","v":4529},{"$f":"DP76+66","v":4529},{"$f":"DQ76+66","v":4529},{"$f":"DR76+66","v":4529},{"$f":"DS76+66","v":4520},{"$f":"DT76+66","v":4530},{"$f":"DU76+66","v":4530},{"$f":"DV76+66","v":4530},{"$f":"DW76+66","v":4530},{"$f":"DX76+66","v":4530},{"$f":"DY76+66","v":4530},{"$f":"DZ76+66","v":4530},{"$f":"EA76+66","v":4521},{"$f":"EB76+66","v":4531},{"$f":"EC76+66","v":4531},{"$f":"ED76+66","v":4531},{"$f":"EE76+66","v":4531},{"$f":"EF76+66","v":4531},{"$f":"EG76+66","v":4531},{"$f":"EH76+66","v":4531},{"$f":"EI76+66","v":4522},{"$f":"EJ76+66","v":4532},{"$f":"EK76+66","v":4532},{"$f":"EL76+66","v":4532},{"$f":"EM76+66","v":4532},{"$f":"EN76+66","v":4532},{"$f":"EO76+66","v":4532},{"$f":"EP76+66","v":4532},{"$f":"EQ76+66","v":4523},{"$f":"ER76+66","v":4533},{"$f":"ES76+66","v":4533},{"$f":"ET76+66","v":4533},{"$f":"EU76+66","v":4533},{"$f":"EV76+66","v":4533},{"$f":"EW76+66","v":4533},{"$f":"EX76+66","v":4533},{"$f":"EY76+66","v":4539}]
[null,{"$f":"IF(COUNTIF($CK$10:CK78,TRUE)>0,\"\",INDEX(C_InstallationDescription!$E$223:$E$239,ROWS($A$11:A78)))","v":""},{"$f":"IF($E78=\"\",\"\",INDEX(C_InstallationDescription!G:G,MATCH($B78,C_InstallationDescription!$E:$E,0)))","v":""},{"$f":"IF($E78=\"\",\"\",INDEX(C_InstallationDescription!I:I,MATCH($B78,C_InstallationDescription!$E:$E,0)))","v":""},{"$f":"IF($B78=\"\",\"\",INDEX(C_InstallationDescription!F:F,MATCH($CJ78,C_InstallationDescription!$Q:$Q,0)))","v":""},{"$f":"IF($E78=\"\",\"\",INDEX(C_InstallationDescription!L:L,MATCH($CJ78,C_InstallationDescription!$Q:$Q,0)))","v":""},{"$f":"IF($E78=\"\",\"\",INDEX(C_InstallationDescription!M:M,MATCH($CJ78,C_InstallationDescription!$Q:$Q,0)))","v":""},{"$f":"IF($E78=\"\",\"\",INDEX(C_InstallationDescription!N:N,MATCH($CJ78,C_InstallationDescription!$Q:$Q,0)))","v":""},{"$f":"IF($E78=\"\",\"\",IF(INDEX(E_SourceStreams!$A:$N,CN78,I$7)=\"\",\"\",INDEX(E_SourceStreams!$A:$N,CN78,I$7)))","v":""},{"$f":"IF($E78=\"\",\"\",IF(INDEX(E_SourceStreams!$A:$N,CO78,J$7)=\"\",\"\",INDEX(E_SourceStreams!$A:$N,CO78,J$7)))","v":""},{"$f":"IF($E78=\"\",\"\",IF(INDEX(E_SourceStreams!$A:$N,CP78,K$7)=\"\",\"\",INDEX(E_SourceStreams!$A:$N,CP78,K$7)))","v":""},{"$f":"IF($E78=\"\",\"\",IF(INDEX(E_SourceStreams!$A:$N,CQ78,L$7)=\"\",\"\",INDEX(E_SourceStreams!$A:$N,CQ78,L$7)))","v":""},{"$f":"IF($E78=\"\",\"\",IF(INDEX(E_SourceStreams!$A:$N,CR78,M$7)=\"\",\"\",INDEX(E_SourceStreams!$A:$N,CR78,M$7)))","v":""},{"$f":"IF($E78=\"\",\"\",IF(INDEX(E_SourceStreams!$A:$N,CS78,N$7)=\"\",\"\",INDEX(E_SourceStreams!$A:$N,CS78,N$7)))","v":""},{"$f":"IF($E78=\"\",\"\",IF(INDEX(E_SourceStreams!$A:$N,CT78,O$7)=\"\",\"\",INDEX(E_SourceStreams!$A:$N,CT78,O$7)))","v":""},{"$f":"IF($E78=\"\",\"\",IF(INDEX(E_SourceStreams!$A:$N,CU78,P$7)=\"\",\"\",INDEX(E_SourceStreams!$A:$N,CU78,P$7)))","v":""},{"$f":"IF($E78=\"\",\"\",IF(INDEX(E_SourceStreams!$A:$N,CV78,Q$7)=\"\",\"\",INDEX(E_SourceStreams!$A:$N,CV78,Q$7)))","v":""},{"$f":"IF($E78=\"\",\"\",IF(INDEX(E_SourceStreams!$A:$N,CW78,R$7)=\"\",\"\",INDEX(E_SourceStreams!$A:$N,CW78,R$7)))","v":""},{"$f":"IF($E78=\"\",\"\",IF(INDEX(E_SourceStreams!$A:$N,CX78,S$7)=\"\",\"\",INDEX(E_SourceStreams!$A:$N,CX78,S$7)))","v":""},{"$f":"IF($E78=\"\",\"\",IF(INDEX(E_SourceStreams!$A:$N,CY78,T$7)=\"\",\"\",INDEX(E_SourceStreams!$A:$N,CY78,T$7)))","v":""},{"$f":"IF($E78=\"\",\"\",IF(INDEX(E_SourceStreams!$A:$N,CZ78,U$7)=\"\",\"\",INDEX(E_SourceStreams!$A:$N,CZ78,U$7)))","v":""},{"$f":"IF($E78=\"\",\"\",IF(INDEX(E_SourceStreams!$A:$N,DA78,V$7)=\"\",\"\",INDEX(E_SourceStreams!$A:$N,DA78,V$7)))","v":""},{"$f":"IF($E78=\"\",\"\",IF(INDEX(E_SourceStreams!$A:$N,DB78,W$7)=\"\",\"\",INDEX(E_SourceStreams!$A:$N,DB78,W$7)))","v":""},{"$f":"IF($E78=\"\",\"\",IF(INDEX(E_SourceStreams!$A:$N,DC78,X$7)=\"\",\"\",INDEX(E_SourceStreams!$A:$N,DC78,X$7)))","v":""},{"$f":"IF($E78=\"\",\"\",IF(INDEX(E_SourceStreams!$A:$N,DD78,Y$7)=\"\",\"\",INDEX(E_SourceStreams!$A:$N,DD78,Y$7)))","v":""},{"$f":"IF($E78=\"\",\"\",IF(INDEX(E_SourceStreams!$A:$N,DE78,Z$7)=\"\",\"\",INDEX(E_SourceStreams!$A:$N,DE78,Z$7)))","v":""},{"$f":"IF($E78=\"\",\"\",IF(INDEX(E_SourceStreams!$A:$N,DF78,AA$7)=\"\",\"\",INDEX(E_SourceStreams!$A:$N,DF78,AA$7)))","v":""},{"$f":"IF($E78=\"\",\"\",IF(INDEX(E_SourceStreams!$A:$N,DG78,AB$7)=\"\",\"\",INDEX(E_SourceStreams!$A:$N,DG78,AB$7)))","v":""},{"$f":"IF($E78=\"\",\"\",IF(INDEX(E_SourceStreams!$A:$N,DH78,AC$7)=\"\",\"\",INDEX(E_SourceStreams!$A:$N,DH78,AC$7)))","v":""},{"$f":"IF($E78=\"\",\"\",IF(INDEX(E_SourceStreams!$A:$N,DI78,AD$7)=\"\",\"\",INDEX(E_SourceStreams!$A:$N,DI78,AD$7)))","v":""},{"$f":"IF($E78=\"\",\"\",IF(INDEX(E_SourceStreams!$A:$N,DJ78,AE$7)=\"\",\"\",INDEX(E_SourceStreams!$A:$N,DJ78,AE$7)))","v":""},{"$f":"IF($E78=\"\",\"\",IF(INDEX(E_SourceStreams!$A:$N,DK78,AF$7)=\"\",\"\",INDEX(E_SourceStreams!$A:$N,DK78,AF$7)))","v":""},{"$f":"IF($E78=\"\",\"\",IF(INDEX(E_SourceStreams!$A:$N,DL78,AG$7)=\"\",\"\",INDEX(E_SourceStreams!$A:$N,DL78,AG$7)))","v":""},{"$f":"IF($E78=\"\",\"\",IF(INDEX(E_SourceStreams!$A:$N,DM78,AH$7)=\"\",\"\",INDEX(E_SourceStreams!$A:$N,DM78,AH$7)))","v":""},{"$f":"IF($E78=\"\",\"\",IF(INDEX(E_SourceStreams!$A:$N,DN78,AI$7)=\"\",\"\",INDEX(E_SourceStreams!$A:$N,DN78,AI$7)))","v":""},{"$f":"IF($E78=\"\",\"\",IF(INDEX(E_SourceStreams!$A:$N,DO78,AJ$7)=\"\",\"\",INDEX(E_SourceStreams!$A:$N,DO78,AJ$7)))","v":""},{"$f":"IF($E78=\"\",\"\",IF(INDEX(E_SourceStreams!$A:$N,DP78,AK$7)=\"\",\"\",INDEX(E_SourceStreams!$A:$N,DP78,AK$7)))","v":""},{"$f":"IF($E78=\"\",\"\",IF(INDEX(E_SourceStreams!$A:$N,DQ78,AL$7)=\"\",\"\",INDEX(E_SourceStreams!$A:$N,DQ78,AL$7)))","v":""},{"$f":"IF($E78=\"\",\"\",IF(INDEX(E_SourceStreams!$A:$N,DR78,AM$7)=\"\",\"\",INDEX(E_SourceStreams!$A:$N,DR78,AM$7)))","v":""},{"$f":"IF($E78=\"\",\"\",IF(INDEX(E_SourceStreams!$A:$N,DS78,AN$7)=\"\",\"\",INDEX(E_SourceStreams!$A:$N,DS78,AN$7)))","v":""},{"$f":"IF($E78=\"\",\"\",IF(INDEX(E_SourceStreams!$A:$N,DT78,AO$7)=\"\",\"\",INDEX(E_SourceStreams!$A:$N,DT78,AO$7)))","v":""},{"$f":"IF($E78=\"\",\"\",IF(INDEX(E_SourceStreams!$A:$N,DU78,AP$7)=\"\",\"\",INDEX(E_SourceStreams!$A:$N,DU78,AP$7)))","v":""},{"$f":"IF($E78=\"\",\"\",IF(INDEX(E_SourceStreams!$A:$N,DV78,AQ$7)=\"\",\"\",INDEX(E_SourceStreams!$A:$N,DV78,AQ$7)))","v":""},{"$f":"IF($E78=\"\",\"\",IF(INDEX(E_SourceStreams!$A:$N,DW78,AR$7)=\"\",\"\",INDEX(E_SourceStreams!$A:$N,DW78,AR$7)))","v":""},{"$f":"IF($E78=\"\",\"\",IF(INDEX(E_SourceStreams!$A:$N,DX78,AS$7)=\"\",\"\",INDEX(E_SourceStreams!$A:$N,DX78,AS$7)))","v":""},{"$f":"IF($E78=\"\",\"\",IF(INDEX(E_SourceStreams!$A:$N,DY78,AT$7)=\"\",\"\",INDEX(E_SourceStreams!$A:$N,DY78,AT$7)))","v":""},{"$f":"IF($E78=\"\",\"\",IF(INDEX(E_SourceStreams!$A:$N,DZ78,AU$7)=\"\",\"\",INDEX(E_SourceStreams!$A:$N,DZ78,AU$7)))","v":""},{"$f":"IF($E78=\"\",\"\",IF(INDEX(E_SourceStreams!$A:$N,EA78,AV$7)=\"\",\"\",INDEX(E_SourceStreams!$A:$N,EA78,AV$7)))","v":""},{"$f":"IF($E78=\"\",\"\",IF(INDEX(E_SourceStreams!$A:$N,EB78,AW$7)=\"\",\"\",INDEX(E_SourceStreams!$A:$N,EB78,AW$7)))","v":""},{"$f":"IF($E78=\"\",\"\",IF(INDEX(E_SourceStreams!$A:$N,EC78,AX$7)=\"\",\"\",INDEX(E_SourceStreams!$A:$N,EC78,AX$7)))","v":""},{"$f":"IF($E78=\"\",\"\",IF(INDEX(E_SourceStreams!$A:$N,ED78,AY$7)=\"\",\"\",INDEX(E_SourceStreams!$A:$N,ED78,AY$7)))","v":""},{"$f":"IF($E78=\"\",\"\",IF(INDEX(E_SourceStreams!$A:$N,EE78,AZ$7)=\"\",\"\",INDEX(E_SourceStreams!$A:$N,EE78,AZ$7)))","v":""},{"$f":"IF($E78=\"\",\"\",IF(INDEX(E_SourceStreams!$A:$N,EF78,BA$7)=\"\",\"\",INDEX(E_SourceStreams!$A:$N,EF78,BA$7)))","v":""},{"$f":"IF($E78=\"\",\"\",IF(INDEX(E_SourceStreams!$A:$N,EG78,BB$7)=\"\",\"\",INDEX(E_SourceStreams!$A:$N,EG78,BB$7)))","v":""},{"$f":"IF($E78=\"\",\"\",IF(INDEX(E_SourceStreams!$A:$N,EH78,BC$7)=\"\",\"\",INDEX(E_SourceStreams!$A:$N,EH78,BC$7)))","v":""},{"$f":"IF($E78=\"\",\"\",IF(INDEX(E_SourceStreams!$A:$N,EI78,BD$7)=\"\",\"\",INDEX(E_SourceStreams!$A:$N,EI78,BD$7)))","v":""},{"$f":"IF($E78=\"\",\"\",IF(INDEX(E_SourceStreams!$A:$N,EJ78,BE$7)=\"\",\"\",INDEX(E_SourceStreams!$A:$N,EJ78,BE$7)))","v":""},{"$f":"IF($E78=\"\",\"\",IF(INDEX(E_SourceStreams!$A:$N,EK78,BF$7)=\"\",\"\",INDEX(E_SourceStreams!$A:$N,EK78,BF$7)))","v":""},{"$f":"IF($E78=\"\",\"\",IF(INDEX(E_SourceStreams!$A:$N,EL78,BG$7)=\"\",\"\",INDEX(E_SourceStreams!$A:$N,EL78,BG$7)))","v":""},{"$f":"IF($E78=\"\",\"\",IF(INDEX(E_SourceStreams!$A:$N,EM78,BH$7)=\"\",\"\",INDEX(E_SourceStreams!$A:$N,EM78,BH$7)))","v":""},{"$f":"IF($E78=\"\",\"\",IF(INDEX(E_SourceStreams!$A:$N,EN78,BI$7)=\"\",\"\",INDEX(E_SourceStreams!$A:$N,EN78,BI$7)))","v":""},{"$f":"IF($E78=\"\",\"\",IF(INDEX(E_SourceStreams!$A:$N,EO78,BJ$7)=\"\",\"\",INDEX(E_SourceStreams!$A:$N,EO78,BJ$7)))","v":""},{"$f":"IF($E78=\"\",\"\",IF(INDEX(E_SourceStreams!$A:$N,EP78,BK$7)=\"\",\"\",INDEX(E_SourceStreams!$A:$N,EP78,BK$7)))","v":""},{"$f":"IF($E78=\"\",\"\",IF(INDEX(E_SourceStreams!$A:$N,EQ78,BL$7)=\"\",\"\",INDEX(E_SourceStreams!$A:$N,EQ78,BL$7)))","v":""},{"$f":"IF($E78=\"\",\"\",IF(INDEX(E_SourceStreams!$A:$N,ER78,BM$7)=\"\",\"\",INDEX(E_SourceStreams!$A:$N,ER78,BM$7)))","v":""},{"$f":"IF($E78=\"\",\"\",IF(INDEX(E_SourceStreams!$A:$N,ES78,BN$7)=\"\",\"\",INDEX(E_SourceStreams!$A:$N,ES78,BN$7)))","v":""},{"$f":"IF($E78=\"\",\"\",IF(INDEX(E_SourceStreams!$A:$N,ET78,BO$7)=\"\",\"\",INDEX(E_SourceStreams!$A:$N,ET78,BO$7)))","v":""},{"$f":"IF($E78=\"\",\"\",IF(INDEX(E_SourceStreams!$A:$N,EU78,BP$7)=\"\",\"\",INDEX(E_SourceStreams!$A:$N,EU78,BP$7)))","v":""},{"$f":"IF($E78=\"\",\"\",IF(INDEX(E_SourceStreams!$A:$N,EV78,BQ$7)=\"\",\"\",INDEX(E_SourceStreams!$A:$N,EV78,BQ$7)))","v":""},{"$f":"IF($E78=\"\",\"\",IF(INDEX(E_SourceStreams!$A:$N,EW78,BR$7)=\"\",\"\",INDEX(E_SourceStreams!$A:$N,EW78,BR$7)))","v":""},{"$f":"IF($E78=\"\",\"\",IF(INDEX(E_SourceStreams!$A:$N,EX78,BS$7)=\"\",\"\",INDEX(E_SourceStreams!$A:$N,EX78,BS$7)))","v":""},{"$f":"IF($E78=\"\",\"\",IF(INDEX(E_SourceStreams!$A:$N,EY78,BT$7)=\"\",\"\",INDEX(E_SourceStreams!$A:$N,EY78,BT$7)))","v":""},null,null,null,null,null,null,null,null,null,null,null,null,null,null,null,"SourceCategory_",{"$f":"INDEX(C_InstallationDescription!$A$223:$A$328,ROWS($CI$11:CI78))=\"ausblenden\"","v":true},"SourceStreamName_",null,{"$f":"CN77+66","v":4556},4558,4560,4562,4564,4566,4568,4568,4568,4568,4568,4571,4575,4576,4577,4584,4594,4594,4594,4594,4594,4594,4594,4585,4595,4595,4595,4595,4595,4595,4595,4586,4596,4596,4596,4596,4596,4596,4596,4587,4597,4597,4597,4597,4597,4597,4597,4588,4598,4598,4598,4598,4598,4598,4598,4589,4599,4599,4599,4599,4599,4599,4599,4605]
[null,{"$f":"IF(COUNTIF($CK$10:CK79,TRUE)>0,\"\",INDEX(C_InstallationDescription!$E$223:$E$239,ROWS($A$11:A79)))","v":""},{"$f":"IF($E79=\"\",\"\",INDEX(C_InstallationDescription!G:G,MATCH($B79,C_InstallationDescription!$E:$E,0)))","v":""},{"$f":"IF($E79=\"\",\"\",INDEX(C_InstallationDescription!I:I,MATCH($B79,C_InstallationDescription!$E:$E,0)))","v":""},{"$f":"IF($B79=\"\",\"\",INDEX(C_InstallationDescription!F:F,MATCH($CJ79,C_InstallationDescription!$Q:$Q,0)))","v":""},{"$f":"IF($E79=\"\",\"\",INDEX(C_InstallationDescription!L:L,MATCH($CJ79,C_InstallationDescription!$Q:$Q,0)))","v":""},{"$f":"IF($E79=\"\",\"\",INDEX(C_InstallationDescription!M:M,MATCH($CJ79,C_InstallationDescription!$Q:$Q,0)))","v":""},{"$f":"IF($E79=\"\",\"\",INDEX(C_InstallationDescription!N:N,MATCH($CJ79,C_InstallationDescription!$Q:$Q,0)))","v":""},{"$f":"IF($E79=\"\",\"\",IF(INDEX(E_SourceStreams!$A:$N,CN79,I$7)=\"\",\"\",INDEX(E_SourceStreams!$A:$N,CN79,I$7)))","v":""},{"$f":"IF($E79=\"\",\"\",IF(INDEX(E_SourceStreams!$A:$N,CO79,J$7)=\"\",\"\",INDEX(E_SourceStreams!$A:$N,CO79,J$7)))","v":""},{"$f":"IF($E79=\"\",\"\",IF(INDEX(E_SourceStreams!$A:$N,CP79,K$7)=\"\",\"\",INDEX(E_SourceStreams!$A:$N,CP79,K$7)))","v":""},{"$f":"IF($E79=\"\",\"\",IF(INDEX(E_SourceStreams!$A:$N,CQ79,L$7)=\"\",\"\",INDEX(E_SourceStreams!$A:$N,CQ79,L$7)))","v":""},{"$f":"IF($E79=\"\",\"\",IF(INDEX(E_SourceStreams!$A:$N,CR79,M$7)=\"\",\"\",INDEX(E_SourceStreams!$A:$N,CR79,M$7)))","v":""},{"$f":"IF($E79=\"\",\"\",IF(INDEX(E_SourceStreams!$A:$N,CS79,N$7)=\"\",\"\",INDEX(E_SourceStreams!$A:$N,CS79,N$7)))","v":""},{"$f":"IF($E79=\"\",\"\",IF(INDEX(E_SourceStreams!$A:$N,CT79,O$7)=\"\",\"\",INDEX(E_SourceStreams!$A:$N,CT79,O$7)))","v":""},{"$f":"IF($E79=\"\",\"\",IF(INDEX(E_SourceStreams!$A:$N,CU79,P$7)=\"\",\"\",INDEX(E_SourceStreams!$A:$N,CU79,P$7)))","v":""},{"$f":"IF($E79=\"\",\"\",IF(INDEX(E_SourceStreams!$A:$N,CV79,Q$7)=\"\",\"\",INDEX(E_SourceStreams!$A:$N,CV79,Q$7)))","v":""},{"$f":"IF($E79=\"\",\"\",IF(INDEX(E_SourceStreams!$A:$N,CW79,R$7)=\"\",\"\",INDEX(E_SourceStreams!$A:$N,CW79,R$7)))","v":""},{"$f":"IF($E79=\"\",\"\",IF(INDEX(E_SourceStreams!$A:$N,CX79,S$7)=\"\",\"\",INDEX(E_SourceStreams!$A:$N,CX79,S$7)))","v":""},{"$f":"IF($E79=\"\",\"\",IF(INDEX(E_SourceStreams!$A:$N,CY79,T$7)=\"\",\"\",INDEX(E_SourceStreams!$A:$N,CY79,T$7)))","v":""},{"$f":"IF($E79=\"\",\"\",IF(INDEX(E_SourceStreams!$A:$N,CZ79,U$7)=\"\",\"\",INDEX(E_SourceStreams!$A:$N,CZ79,U$7)))","v":""},{"$f":"IF($E79=\"\",\"\",IF(INDEX(E_SourceStreams!$A:$N,DA79,V$7)=\"\",\"\",INDEX(E_SourceStreams!$A:$N,DA79,V$7)))","v":""},{"$f":"IF($E79=\"\",\"\",IF(INDEX(E_SourceStreams!$A:$N,DB79,W$7)=\"\",\"\",INDEX(E_SourceStreams!$A:$N,DB79,W$7)))","v":""},{"$f":"IF($E79=\"\",\"\",IF(INDEX(E_SourceStreams!$A:$N,DC79,X$7)=\"\",\"\",INDEX(E_SourceStreams!$A:$N,DC79,X$7)))","v":""},{"$f":"IF($E79=\"\",\"\",IF(INDEX(E_SourceStreams!$A:$N,DD79,Y$7)=\"\",\"\",INDEX(E_SourceStreams!$A:$N,DD79,Y$7)))","v":""},{"$f":"IF($E79=\"\",\"\",IF(INDEX(E_SourceStreams!$A:$N,DE79,Z$7)=\"\",\"\",INDEX(E_SourceStreams!$A:$N,DE79,Z$7)))","v":""},{"$f":"IF($E79=\"\",\"\",IF(INDEX(E_SourceStreams!$A:$N,DF79,AA$7)=\"\",\"\",INDEX(E_SourceStreams!$A:$N,DF79,AA$7)))","v":""},{"$f":"IF($E79=\"\",\"\",IF(INDEX(E_SourceStreams!$A:$N,DG79,AB$7)=\"\",\"\",INDEX(E_SourceStreams!$A:$N,DG79,AB$7)))","v":""},{"$f":"IF($E79=\"\",\"\",IF(INDEX(E_SourceStreams!$A:$N,DH79,AC$7)=\"\",\"\",INDEX(E_SourceStreams!$A:$N,DH79,AC$7)))","v":""},{"$f":"IF($E79=\"\",\"\",IF(INDEX(E_SourceStreams!$A:$N,DI79,AD$7)=\"\",\"\",INDEX(E_SourceStreams!$A:$N,DI79,AD$7)))","v":""},{"$f":"IF($E79=\"\",\"\",IF(INDEX(E_SourceStreams!$A:$N,DJ79,AE$7)=\"\",\"\",INDEX(E_SourceStreams!$A:$N,DJ79,AE$7)))","v":""},{"$f":"IF($E79=\"\",\"\",IF(INDEX(E_SourceStreams!$A:$N,DK79,AF$7)=\"\",\"\",INDEX(E_SourceStreams!$A:$N,DK79,AF$7)))","v":""},{"$f":"IF($E79=\"\",\"\",IF(INDEX(E_SourceStreams!$A:$N,DL79,AG$7)=\"\",\"\",INDEX(E_SourceStreams!$A:$N,DL79,AG$7)))","v":""},{"$f":"IF($E79=\"\",\"\",IF(INDEX(E_SourceStreams!$A:$N,DM79,AH$7)=\"\",\"\",INDEX(E_SourceStreams!$A:$N,DM79,AH$7)))","v":""},{"$f":"IF($E79=\"\",\"\",IF(INDEX(E_SourceStreams!$A:$N,DN79,AI$7)=\"\",\"\",INDEX(E_SourceStreams!$A:$N,DN79,AI$7)))","v":""},{"$f":"IF($E79=\"\",\"\",IF(INDEX(E_SourceStreams!$A:$N,DO79,AJ$7)=\"\",\"\",INDEX(E_SourceStreams!$A:$N,DO79,AJ$7)))","v":""},{"$f":"IF($E79=\"\",\"\",IF(INDEX(E_SourceStreams!$A:$N,DP79,AK$7)=\"\",\"\",INDEX(E_SourceStreams!$A:$N,DP79,AK$7)))","v":""},{"$f":"IF($E79=\"\",\"\",IF(INDEX(E_SourceStreams!$A:$N,DQ79,AL$7)=\"\",\"\",INDEX(E_SourceStreams!$A:$N,DQ79,AL$7)))","v":""},{"$f":"IF($E79=\"\",\"\",IF(INDEX(E_SourceStreams!$A:$N,DR79,AM$7)=\"\",\"\",INDEX(E_SourceStreams!$A:$N,DR79,AM$7)))","v":""},{"$f":"IF($E79=\"\",\"\",IF(INDEX(E_SourceStreams!$A:$N,DS79,AN$7)=\"\",\"\",INDEX(E_SourceStreams!$A:$N,DS79,AN$7)))","v":""},{"$f":"IF($E79=\"\",\"\",IF(INDEX(E_SourceStreams!$A:$N,DT79,AO$7)=\"\",\"\",INDEX(E_SourceStreams!$A:$N,DT79,AO$7)))","v":""},{"$f":"IF($E79=\"\",\"\",IF(INDEX(E_SourceStreams!$A:$N,DU79,AP$7)=\"\",\"\",INDEX(E_SourceStreams!$A:$N,DU79,AP$7)))","v":""},{"$f":"IF($E79=\"\",\"\",IF(INDEX(E_SourceStreams!$A:$N,DV79,AQ$7)=\"\",\"\",INDEX(E_SourceStreams!$A:$N,DV79,AQ$7)))","v":""},{"$f":"IF($E79=\"\",\"\",IF(INDEX(E_SourceStreams!$A:$N,DW79,AR$7)=\"\",\"\",INDEX(E_SourceStreams!$A:$N,DW79,AR$7)))","v":""},{"$f":"IF($E79=\"\",\"\",IF(INDEX(E_SourceStreams!$A:$N,DX79,AS$7)=\"\",\"\",INDEX(E_SourceStreams!$A:$N,DX79,AS$7)))","v":""},{"$f":"IF($E79=\"\",\"\",IF(INDEX(E_SourceStreams!$A:$N,DY79,AT$7)=\"\",\"\",INDEX(E_SourceStreams!$A:$N,DY79,AT$7)))","v":""},{"$f":"IF($E79=\"\",\"\",IF(INDEX(E_SourceStreams!$A:$N,DZ79,AU$7)=\"\",\"\",INDEX(E_SourceStreams!$A:$N,DZ79,AU$7)))","v":""},{"$f":"IF($E79=\"\",\"\",IF(INDEX(E_SourceStreams!$A:$N,EA79,AV$7)=\"\",\"\",INDEX(E_SourceStreams!$A:$N,EA79,AV$7)))","v":""},{"$f":"IF($E79=\"\",\"\",IF(INDEX(E_SourceStreams!$A:$N,EB79,AW$7)=\"\",\"\",INDEX(E_SourceStreams!$A:$N,EB79,AW$7)))","v":""},{"$f":"IF($E79=\"\",\"\",IF(INDEX(E_SourceStreams!$A:$N,EC79,AX$7)=\"\",\"\",INDEX(E_SourceStreams!$A:$N,EC79,AX$7)))","v":""},{"$f":"IF($E79=\"\",\"\",IF(INDEX(E_SourceStreams!$A:$N,ED79,AY$7)=\"\",\"\",INDEX(E_SourceStreams!$A:$N,ED79,AY$7)))","v":""},{"$f":"IF($E79=\"\",\"\",IF(INDEX(E_SourceStreams!$A:$N,EE79,AZ$7)=\"\",\"\",INDEX(E_SourceStreams!$A:$N,EE79,AZ$7)))","v":""},{"$f":"IF($E79=\"\",\"\",IF(INDEX(E_SourceStreams!$A:$N,EF79,BA$7)=\"\",\"\",INDEX(E_SourceStreams!$A:$N,EF79,BA$7)))","v":""},{"$f":"IF($E79=\"\",\"\",IF(INDEX(E_SourceStreams!$A:$N,EG79,BB$7)=\"\",\"\",INDEX(E_SourceStreams!$A:$N,EG79,BB$7)))","v":""},{"$f":"IF($E79=\"\",\"\",IF(INDEX(E_SourceStreams!$A:$N,EH79,BC$7)=\"\",\"\",INDEX(E_SourceStreams!$A:$N,EH79,BC$7)))","v":""},{"$f":"IF($E79=\"\",\"\",IF(INDEX(E_SourceStreams!$A:$N,EI79,BD$7)=\"\",\"\",INDEX(E_SourceStreams!$A:$N,EI79,BD$7)))","v":""},{"$f":"IF($E79=\"\",\"\",IF(INDEX(E_SourceStreams!$A:$N,EJ79,BE$7)=\"\",\"\",INDEX(E_SourceStreams!$A:$N,EJ79,BE$7)))","v":""},{"$f":"IF($E79=\"\",\"\",IF(INDEX(E_SourceStreams!$A:$N,EK79,BF$7)=\"\",\"\",INDEX(E_SourceStreams!$A:$N,EK79,BF$7)))","v":""},{"$f":"IF($E79=\"\",\"\",IF(INDEX(E_SourceStreams!$A:$N,EL79,BG$7)=\"\",\"\",INDEX(E_SourceStreams!$A:$N,EL79,BG$7)))","v":""},{"$f":"IF($E79=\"\",\"\",IF(INDEX(E_SourceStreams!$A:$N,EM79,BH$7)=\"\",\"\",INDEX(E_SourceStreams!$A:$N,EM79,BH$7)))","v":""},{"$f":"IF($E79=\"\",\"\",IF(INDEX(E_SourceStreams!$A:$N,EN79,BI$7)=\"\",\"\",INDEX(E_SourceStreams!$A:$N,EN79,BI$7)))","v":""},{"$f":"IF($E79=\"\",\"\",IF(INDEX(E_SourceStreams!$A:$N,EO79,BJ$7)=\"\",\"\",INDEX(E_SourceStreams!$A:$N,EO79,BJ$7)))","v":""},{"$f":"IF($E79=\"\",\"\",IF(INDEX(E_SourceStreams!$A:$N,EP79,BK$7)=\"\",\"\",INDEX(E_SourceStreams!$A:$N,EP79,BK$7)))","v":""},{"$f":"IF($E79=\"\",\"\",IF(INDEX(E_SourceStreams!$A:$N,EQ79,BL$7)=\"\",\"\",INDEX(E_SourceStreams!$A:$N,EQ79,BL$7)))","v":""},{"$f":"IF($E79=\"\",\"\",IF(INDEX(E_SourceStreams!$A:$N,ER79,BM$7)=\"\",\"\",INDEX(E_SourceStreams!$A:$N,ER79,BM$7)))","v":""},{"$f":"IF($E79=\"\",\"\",IF(INDEX(E_SourceStreams!$A:$N,ES79,BN$7)=\"\",\"\",INDEX(E_SourceStreams!$A:$N,ES79,BN$7)))","v":""},{"$f":"IF($E79=\"\",\"\",IF(INDEX(E_SourceStreams!$A:$N,ET79,BO$7)=\"\",\"\",INDEX(E_SourceStreams!$A:$N,ET79,BO$7)))","v":""},{"$f":"IF($E79=\"\",\"\",IF(INDEX(E_SourceStreams!$A:$N,EU79,BP$7)=\"\",\"\",INDEX(E_SourceStreams!$A:$N,EU79,BP$7)))","v":""},{"$f":"IF($E79=\"\",\"\",IF(INDEX(E_SourceStreams!$A:$N,EV79,BQ$7)=\"\",\"\",INDEX(E_SourceStreams!$A:$N,EV79,BQ$7)))","v":""},{"$f":"IF($E79=\"\",\"\",IF(INDEX(E_SourceStreams!$A:$N,EW79,BR$7)=\"\",\"\",INDEX(E_SourceStreams!$A:$N,EW79,BR$7)))","v":""},{"$f":"IF($E79=\"\",\"\",IF(INDEX(E_SourceStreams!$A:$N,EX79,BS$7)=\"\",\"\",INDEX(E_SourceStreams!$A:$N,EX79,BS$7)))","v":""},{"$f":"IF($E79=\"\",\"\",IF(INDEX(E_SourceStreams!$A:$N,EY79,BT$7)=\"\",\"\",INDEX(E_SourceStreams!$A:$N,EY79,BT$7)))","v":""},null,null,null,null,null,null,null,null,null,null,null,null,null,null,null,"SourceCategory_",{"$f":"INDEX(C_InstallationDescription!$A$223:$A$328,ROWS($CI$11:CI79))=\"ausblenden\"","v":true},"SourceStreamName_",null,4622,4624,4626,4628,4630,4632,4634,4634,4634,4634,4634,4637,4641,4642,4643,4650,4660,4660,4660,4660,4660,4660,4660,4651,4661,4661,4661,4661,4661,4661,4661,4652,4662,4662,4662,4662,4662,4662,4662,4653,4663,4663,4663,4663,4663,4663,4663,4654,4664,4664,4664,4664,4664,4664,4664,4655,4665,4665,4665,4665,4665,4665,4665,4671]
[null,{"$f":"IF(COUNTIF($CK$10:CK80,TRUE)>0,\"\",INDEX(C_InstallationDescription!$E$223:$E$239,ROWS($A$11:A80)))","v":""},{"$f":"IF($E80=\"\",\"\",INDEX(C_InstallationDescription!G:G,MATCH($B80,C_InstallationDescription!$E:$E,0)))","v":""},{"$f":"IF($E80=\"\",\"\",INDEX(C_InstallationDescription!I:I,MATCH($B80,C_InstallationDescription!$E:$E,0)))","v":""},{"$f":"IF($B80=\"\",\"\",INDEX(C_InstallationDescription!F:F,MATCH($CJ80,C_InstallationDescription!$Q:$Q,0)))","v":""},{"$f":"IF($E80=\"\",\"\",INDEX(C_InstallationDescription!L:L,MATCH($CJ80,C_InstallationDescription!$Q:$Q,0)))","v":""},{"$f":"IF($E80=\"\",\"\",INDEX(C_InstallationDescription!M:M,MATCH($CJ80,C_InstallationDescription!$Q:$Q,0)))","v":""},{"$f":"IF($E80=\"\",\"\",INDEX(C_InstallationDescription!N:N,MATCH($CJ80,C_InstallationDescription!$Q:$Q,0)))","v":""},{"$f":"IF($E80=\"\",\"\",IF(INDEX(E_SourceStreams!$A:$N,CN80,I$7)=\"\",\"\",INDEX(E_SourceStreams!$A:$N,CN80,I$7)))","v":""},{"$f":"IF($E80=\"\",\"\",IF(INDEX(E_SourceStreams!$A:$N,CO80,J$7)=\"\",\"\",INDEX(E_SourceStreams!$A:$N,CO80,J$7)))","v":""},{"$f":"IF($E80=\"\",\"\",IF(INDEX(E_SourceStreams!$A:$N,CP80,K$7)=\"\",\"\",INDEX(E_SourceStreams!$A:$N,CP80,K$7)))","v":""},{"$f":"IF($E80=\"\",\"\",IF(INDEX(E_SourceStreams!$A:$N,CQ80,L$7)=\"\",\"\",INDEX(E_SourceStreams!$A:$N,CQ80,L$7)))","v":""},{"$f":"IF($E80=\"\",\"\",IF(INDEX(E_SourceStreams!$A:$N,CR80,M$7)=\"\",\"\",INDEX(E_SourceStreams!$A:$N,CR80,M$7)))","v":""},{"$f":"IF($E80=\"\",\"\",IF(INDEX(E_SourceStreams!$A:$N,CS80,N$7)=\"\",\"\",INDEX(E_SourceStreams!$A:$N,CS80,N$7)))","v":""},{"$f":"IF($E80=\"\",\"\",IF(INDEX(E_SourceStreams!$A:$N,CT80,O$7)=\"\",\"\",INDEX(E_SourceStreams!$A:$N,CT80,O$7)))","v":""},{"$f":"IF($E80=\"\",\"\",IF(INDEX(E_SourceStreams!$A:$N,CU80,P$7)=\"\",\"\",INDEX(E_SourceStreams!$A:$N,CU80,P$7)))","v":""},{"$f":"IF($E80=\"\",\"\",IF(INDEX(E_SourceStreams!$A:$N,CV80,Q$7)=\"\",\"\",INDEX(E_SourceStreams!$A:$N,CV80,Q$7)))","v":""},{"$f":"IF($E80=\"\",\"\",IF(INDEX(E_SourceStreams!$A:$N,CW80,R$7)=\"\",\"\",INDEX(E_SourceStreams!$A:$N,CW80,R$7)))","v":""},{"$f":"IF($E80=\"\",\"\",IF(INDEX(E_SourceStreams!$A:$N,CX80,S$7)=\"\",\"\",INDEX(E_SourceStreams!$A:$N,CX80,S$7)))","v":""},{"$f":"IF($E80=\"\",\"\",IF(INDEX(E_SourceStreams!$A:$N,CY80,T$7)=\"\",\"\",INDEX(E_SourceStreams!$A:$N,CY80,T$7)))","v":""},{"$f":"IF($E80=\"\",\"\",IF(INDEX(E_SourceStreams!$A:$N,CZ80,U$7)=\"\",\"\",INDEX(E_SourceStreams!$A:$N,CZ80,U$7)))","v":""},{"$f":"IF($E80=\"\",\"\",IF(INDEX(E_SourceStreams!$A:$N,DA80,V$7)=\"\",\"\",INDEX(E_SourceStreams!$A:$N,DA80,V$7)))","v":""},{"$f":"IF($E80=\"\",\"\",IF(INDEX(E_SourceStreams!$A:$N,DB80,W$7)=\"\",\"\",INDEX(E_SourceStreams!$A:$N,DB80,W$7)))","v":""},{"$f":"IF($E80=\"\",\"\",IF(INDEX(E_SourceStreams!$A:$N,DC80,X$7)=\"\",\"\",INDEX(E_SourceStreams!$A:$N,DC80,X$7)))","v":""},{"$f":"IF($E80=\"\",\"\",IF(INDEX(E_SourceStreams!$A:$N,DD80,Y$7)=\"\",\"\",INDEX(E_SourceStreams!$A:$N,DD80,Y$7)))","v":""},{"$f":"IF($E80=\"\",\"\",IF(INDEX(E_SourceStreams!$A:$N,DE80,Z$7)=\"\",\"\",INDEX(E_SourceStreams!$A:$N,DE80,Z$7)))","v":""},{"$f":"IF($E80=\"\",\"\",IF(INDEX(E_SourceStreams!$A:$N,DF80,AA$7)=\"\",\"\",INDEX(E_SourceStreams!$A:$N,DF80,AA$7)))","v":""},{"$f":"IF($E80=\"\",\"\",IF(INDEX(E_SourceStreams!$A:$N,DG80,AB$7)=\"\",\"\",INDEX(E_SourceStreams!$A:$N,DG80,AB$7)))","v":""},{"$f":"IF($E80=\"\",\"\",IF(INDEX(E_SourceStreams!$A:$N,DH80,AC$7)=\"\",\"\",INDEX(E_SourceStreams!$A:$N,DH80,AC$7)))","v":""},{"$f":"IF($E80=\"\",\"\",IF(INDEX(E_SourceStreams!$A:$N,DI80,AD$7)=\"\",\"\",INDEX(E_SourceStreams!$A:$N,DI80,AD$7)))","v":""},{"$f":"IF($E80=\"\",\"\",IF(INDEX(E_SourceStreams!$A:$N,DJ80,AE$7)=\"\",\"\",INDEX(E_SourceStreams!$A:$N,DJ80,AE$7)))","v":""},{"$f":"IF($E80=\"\",\"\",IF(INDEX(E_SourceStreams!$A:$N,DK80,AF$7)=\"\",\"\",INDEX(E_SourceStreams!$A:$N,DK80,AF$7)))","v":""},{"$f":"IF($E80=\"\",\"\",IF(INDEX(E_SourceStreams!$A:$N,DL80,AG$7)=\"\",\"\",INDEX(E_SourceStreams!$A:$N,DL80,AG$7)))","v":""},{"$f":"IF($E80=\"\",\"\",IF(INDEX(E_SourceStreams!$A:$N,DM80,AH$7)=\"\",\"\",INDEX(E_SourceStreams!$A:$N,DM80,AH$7)))","v":""},{"$f":"IF($E80=\"\",\"\",IF(INDEX(E_SourceStreams!$A:$N,DN80,AI$7)=\"\",\"\",INDEX(E_SourceStreams!$A:$N,DN80,AI$7)))","v":""},{"$f":"IF($E80=\"\",\"\",IF(INDEX(E_SourceStreams!$A:$N,DO80,AJ$7)=\"\",\"\",INDEX(E_SourceStreams!$A:$N,DO80,AJ$7)))","v":""},{"$f":"IF($E80=\"\",\"\",IF(INDEX(E_SourceStreams!$A:$N,DP80,AK$7)=\"\",\"\",INDEX(E_SourceStreams!$A:$N,DP80,AK$7)))","v":""},{"$f":"IF($E80=\"\",\"\",IF(INDEX(E_SourceStreams!$A:$N,DQ80,AL$7)=\"\",\"\",INDEX(E_SourceStreams!$A:$N,DQ80,AL$7)))","v":""},{"$f":"IF($E80=\"\",\"\",IF(INDEX(E_SourceStreams!$A:$N,DR80,AM$7)=\"\",\"\",INDEX(E_SourceStreams!$A:$N,DR80,AM$7)))","v":""},{"$f":"IF($E80=\"\",\"\",IF(INDEX(E_SourceStreams!$A:$N,DS80,AN$7)=\"\",\"\",INDEX(E_SourceStreams!$A:$N,DS80,AN$7)))","v":""},{"$f":"IF($E80=\"\",\"\",IF(INDEX(E_SourceStreams!$A:$N,DT80,AO$7)=\"\",\"\",INDEX(E_SourceStreams!$A:$N,DT80,AO$7)))","v":""},{"$f":"IF($E80=\"\",\"\",IF(INDEX(E_SourceStreams!$A:$N,DU80,AP$7)=\"\",\"\",INDEX(E_SourceStreams!$A:$N,DU80,AP$7)))","v":""},{"$f":"IF($E80=\"\",\"\",IF(INDEX(E_SourceStreams!$A:$N,DV80,AQ$7)=\"\",\"\",INDEX(E_SourceStreams!$A:$N,DV80,AQ$7)))","v":""},{"$f":"IF($E80=\"\",\"\",IF(INDEX(E_SourceStreams!$A:$N,DW80,AR$7)=\"\",\"\",INDEX(E_SourceStreams!$A:$N,DW80,AR$7)))","v":""},{"$f":"IF($E80=\"\",\"\",IF(INDEX(E_SourceStreams!$A:$N,DX80,AS$7)=\"\",\"\",INDEX(E_SourceStreams!$A:$N,DX80,AS$7)))","v":""},{"$f":"IF($E80=\"\",\"\",IF(INDEX(E_SourceStreams!$A:$N,DY80,AT$7)=\"\",\"\",INDEX(E_SourceStreams!$A:$N,DY80,AT$7)))","v":""},{"$f":"IF($E80=\"\",\"\",IF(INDEX(E_SourceStreams!$A:$N,DZ80,AU$7)=\"\",\"\",INDEX(E_SourceStreams!$A:$N,DZ80,AU$7)))","v":""},{"$f":"IF($E80=\"\",\"\",IF(INDEX(E_SourceStreams!$A:$N,EA80,AV$7)=\"\",\"\",INDEX(E_SourceStreams!$A:$N,EA80,AV$7)))","v":""},{"$f":"IF($E80=\"\",\"\",IF(INDEX(E_SourceStreams!$A:$N,EB80,AW$7)=\"\",\"\",INDEX(E_SourceStreams!$A:$N,EB80,AW$7)))","v":""},{"$f":"IF($E80=\"\",\"\",IF(INDEX(E_SourceStreams!$A:$N,EC80,AX$7)=\"\",\"\",INDEX(E_SourceStreams!$A:$N,EC80,AX$7)))","v":""},{"$f":"IF($E80=\"\",\"\",IF(INDEX(E_SourceStreams!$A:$N,ED80,AY$7)=\"\",\"\",INDEX(E_SourceStreams!$A:$N,ED80,AY$7)))","v":""},{"$f":"IF($E80=\"\",\"\",IF(INDEX(E_SourceStreams!$A:$N,EE80,AZ$7)=\"\",\"\",INDEX(E_SourceStreams!$A:$N,EE80,AZ$7)))","v":""},{"$f":"IF($E80=\"\",\"\",IF(INDEX(E_SourceStreams!$A:$N,EF80,BA$7)=\"\",\"\",INDEX(E_SourceStreams!$A:$N,EF80,BA$7)))","v":""},{"$f":"IF($E80=\"\",\"\",IF(INDEX(E_SourceStreams!$A:$N,EG80,BB$7)=\"\",\"\",INDEX(E_SourceStreams!$A:$N,EG80,BB$7)))","v":""},{"$f":"IF($E80=\"\",\"\",IF(INDEX(E_SourceStreams!$A:$N,EH80,BC$7)=\"\",\"\",INDEX(E_SourceStreams!$A:$N,EH80,BC$7)))","v":""},{"$f":"IF($E80=\"\",\"\",IF(INDEX(E_SourceStreams!$A:$N,EI80,BD$7)=\"\",\"\",INDEX(E_SourceStreams!$A:$N,EI80,BD$7)))","v":""},{"$f":"IF($E80=\"\",\"\",IF(INDEX(E_SourceStreams!$A:$N,EJ80,BE$7)=\"\",\"\",INDEX(E_SourceStreams!$A:$N,EJ80,BE$7)))","v":""},{"$f":"IF($E80=\"\",\"\",IF(INDEX(E_SourceStreams!$A:$N,EK80,BF$7)=\"\",\"\",INDEX(E_SourceStreams!$A:$N,EK80,BF$7)))","v":""},{"$f":"IF($E80=\"\",\"\",IF(INDEX(E_SourceStreams!$A:$N,EL80,BG$7)=\"\",\"\",INDEX(E_SourceStreams!$A:$N,EL80,BG$7)))","v":""},{"$f":"IF($E80=\"\",\"\",IF(INDEX(E_SourceStreams!$A:$N,EM80,BH$7)=\"\",\"\",INDEX(E_SourceStreams!$A:$N,EM80,BH$7)))","v":""},{"$f":"IF($E80=\"\",\"\",IF(INDEX(E_SourceStreams!$A:$N,EN80,BI$7)=\"\",\"\",INDEX(E_SourceStreams!$A:$N,EN80,BI$7)))","v":""},{"$f":"IF($E80=\"\",\"\",IF(INDEX(E_SourceStreams!$A:$N,EO80,BJ$7)=\"\",\"\",INDEX(E_SourceStreams!$A:$N,EO80,BJ$7)))","v":""},{"$f":"IF($E80=\"\",\"\",IF(INDEX(E_SourceStreams!$A:$N,EP80,BK$7)=\"\",\"\",INDEX(E_SourceStreams!$A:$N,EP80,BK$7)))","v":""},{"$f":"IF($E80=\"\",\"\",IF(INDEX(E_SourceStreams!$A:$N,EQ80,BL$7)=\"\",\"\",INDEX(E_SourceStreams!$A:$N,EQ80,BL$7)))","v":""},{"$f":"IF($E80=\"\",\"\",IF(INDEX(E_SourceStreams!$A:$N,ER80,BM$7)=\"\",\"\",INDEX(E_SourceStreams!$A:$N,ER80,BM$7)))","v":""},{"$f":"IF($E80=\"\",\"\",IF(INDEX(E_SourceStreams!$A:$N,ES80,BN$7)=\"\",\"\",INDEX(E_SourceStreams!$A:$N,ES80,BN$7)))","v":""},{"$f":"IF($E80=\"\",\"\",IF(INDEX(E_SourceStreams!$A:$N,ET80,BO$7)=\"\",\"\",INDEX(E_SourceStreams!$A:$N,ET80,BO$7)))","v":""},{"$f":"IF($E80=\"\",\"\",IF(INDEX(E_SourceStreams!$A:$N,EU80,BP$7)=\"\",\"\",INDEX(E_SourceStreams!$A:$N,EU80,BP$7)))","v":""},{"$f":"IF($E80=\"\",\"\",IF(INDEX(E_SourceStreams!$A:$N,EV80,BQ$7)=\"\",\"\",INDEX(E_SourceStreams!$A:$N,EV80,BQ$7)))","v":""},{"$f":"IF($E80=\"\",\"\",IF(INDEX(E_SourceStreams!$A:$N,EW80,BR$7)=\"\",\"\",INDEX(E_SourceStreams!$A:$N,EW80,BR$7)))","v":""},{"$f":"IF($E80=\"\",\"\",IF(INDEX(E_SourceStreams!$A:$N,EX80,BS$7)=\"\",\"\",INDEX(E_SourceStreams!$A:$N,EX80,BS$7)))","v":""},{"$f":"IF($E80=\"\",\"\",IF(INDEX(E_SourceStreams!$A:$N,EY80,BT$7)=\"\",\"\",INDEX(E_SourceStreams!$A:$N,EY80,BT$7)))","v":""},null,null,null,null,null,null,null,null,null,null,null,null,null,null,null,"SourceCategory_",{"$f":"INDEX(C_InstallationDescription!$A$223:$A$328,ROWS($CI$11:CI80))=\"ausblenden\"","v":true},"SourceStreamName_",null,4688,4690,4692,4694,4696,4698,4700,4700,4700,4700,4700,4703,4707,4708,4709,4716,4726,4726,4726,4726,4726,4726,4726,4717,4727,4727,4727,4727,4727,4727,4727,4718,4728,4728,4728,4728,4728,4728,4728,4719,4729,4729,4729,4729,4729,4729,4729,4720,4730,4730,4730,4730,4730,4730,4730,4721,4731,4731,4731,4731,4731,4731,4731,4737]
[null,{"$f":"IF(COUNTIF($CK$10:CK81,TRUE)>0,\"\",INDEX(C_InstallationDescription!$E$223:$E$239,ROWS($A$11:A81)))","v":""},{"$f":"IF($E81=\"\",\"\",INDEX(C_InstallationDescription!G:G,MATCH($B81,C_InstallationDescription!$E:$E,0)))","v":""},{"$f":"IF($E81=\"\",\"\",INDEX(C_InstallationDescription!I:I,MATCH($B81,C_InstallationDescription!$E:$E,0)))","v":""},{"$f":"IF($B81=\"\",\"\",INDEX(C_InstallationDescription!F:F,MATCH($CJ81,C_InstallationDescription!$Q:$Q,0)))","v":""},{"$f":"IF($E81=\"\",\"\",INDEX(C_InstallationDescription!L:L,MATCH($CJ81,C_InstallationDescription!$Q:$Q,0)))","v":""},{"$f":"IF($E81=\"\",\"\",INDEX(C_InstallationDescription!M:M,MATCH($CJ81,C_InstallationDescription!$Q:$Q,0)))","v":""},{"$f":"IF($E81=\"\",\"\",INDEX(C_InstallationDescription!N:N,MATCH($CJ81,C_InstallationDescription!$Q:$Q,0)))","v":""},{"$f":"IF($E81=\"\",\"\",IF(INDEX(E_SourceStreams!$A:$N,CN81,I$7)=\"\",\"\",INDEX(E_SourceStreams!$A:$N,CN81,I$7)))","v":""},{"$f":"IF($E81=\"\",\"\",IF(INDEX(E_SourceStreams!$A:$N,CO81,J$7)=\"\",\"\",INDEX(E_SourceStreams!$A:$N,CO81,J$7)))","v":""},{"$f":"IF($E81=\"\",\"\",IF(INDEX(E_SourceStreams!$A:$N,CP81,K$7)=\"\",\"\",INDEX(E_SourceStreams!$A:$N,CP81,K$7)))","v":""},{"$f":"IF($E81=\"\",\"\",IF(INDEX(E_SourceStreams!$A:$N,CQ81,L$7)=\"\",\"\",INDEX(E_SourceStreams!$A:$N,CQ81,L$7)))","v":""},{"$f":"IF($E81=\"\",\"\",IF(INDEX(E_SourceStreams!$A:$N,CR81,M$7)=\"\",\"\",INDEX(E_SourceStreams!$A:$N,CR81,M$7)))","v":""},{"$f":"IF($E81=\"\",\"\",IF(INDEX(E_SourceStreams!$A:$N,CS81,N$7)=\"\",\"\",INDEX(E_SourceStreams!$A:$N,CS81,N$7)))","v":""},{"$f":"IF($E81=\"\",\"\",IF(INDEX(E_SourceStreams!$A:$N,CT81,O$7)=\"\",\"\",INDEX(E_SourceStreams!$A:$N,CT81,O$7)))","v":""},{"$f":"IF($E81=\"\",\"\",IF(INDEX(E_SourceStreams!$A:$N,CU81,P$7)=\"\",\"\",INDEX(E_SourceStreams!$A:$N,CU81,P$7)))","v":""},{"$f":"IF($E81=\"\",\"\",IF(INDEX(E_SourceStreams!$A:$N,CV81,Q$7)=\"\",\"\",INDEX(E_SourceStreams!$A:$N,CV81,Q$7)))","v":""},{"$f":"IF($E81=\"\",\"\",IF(INDEX(E_SourceStreams!$A:$N,CW81,R$7)=\"\",\"\",INDEX(E_SourceStreams!$A:$N,CW81,R$7)))","v":""},{"$f":"IF($E81=\"\",\"\",IF(INDEX(E_SourceStreams!$A:$N,CX81,S$7)=\"\",\"\",INDEX(E_SourceStreams!$A:$N,CX81,S$7)))","v":""},{"$f":"IF($E81=\"\",\"\",IF(INDEX(E_SourceStreams!$A:$N,CY81,T$7)=\"\",\"\",INDEX(E_SourceStreams!$A:$N,CY81,T$7)))","v":""},{"$f":"IF($E81=\"\",\"\",IF(INDEX(E_SourceStreams!$A:$N,CZ81,U$7)=\"\",\"\",INDEX(E_SourceStreams!$A:$N,CZ81,U$7)))","v":""},{"$f":"IF($E81=\"\",\"\",IF(INDEX(E_SourceStreams!$A:$N,DA81,V$7)=\"\",\"\",INDEX(E_SourceStreams!$A:$N,DA81,V$7)))","v":""},{"$f":"IF($E81=\"\",\"\",IF(INDEX(E_SourceStreams!$A:$N,DB81,W$7)=\"\",\"\",INDEX(E_SourceStreams!$A:$N,DB81,W$7)))","v":""},{"$f":"IF($E81=\"\",\"\",IF(INDEX(E_SourceStreams!$A:$N,DC81,X$7)=\"\",\"\",INDEX(E_SourceStreams!$A:$N,DC81,X$7)))","v":""},{"$f":"IF($E81=\"\",\"\",IF(INDEX(E_SourceStreams!$A:$N,DD81,Y$7)=\"\",\"\",INDEX(E_SourceStreams!$A:$N,DD81,Y$7)))","v":""},{"$f":"IF($E81=\"\",\"\",IF(INDEX(E_SourceStreams!$A:$N,DE81,Z$7)=\"\",\"\",INDEX(E_SourceStreams!$A:$N,DE81,Z$7)))","v":""},{"$f":"IF($E81=\"\",\"\",IF(INDEX(E_SourceStreams!$A:$N,DF81,AA$7)=\"\",\"\",INDEX(E_SourceStreams!$A:$N,DF81,AA$7)))","v":""},{"$f":"IF($E81=\"\",\"\",IF(INDEX(E_SourceStreams!$A:$N,DG81,AB$7)=\"\",\"\",INDEX(E_SourceStreams!$A:$N,DG81,AB$7)))","v":""},{"$f":"IF($E81=\"\",\"\",IF(INDEX(E_SourceStreams!$A:$N,DH81,AC$7)=\"\",\"\",INDEX(E_SourceStreams!$A:$N,DH81,AC$7)))","v":""},{"$f":"IF($E81=\"\",\"\",IF(INDEX(E_SourceStreams!$A:$N,DI81,AD$7)=\"\",\"\",INDEX(E_SourceStreams!$A:$N,DI81,AD$7)))","v":""},{"$f":"IF($E81=\"\",\"\",IF(INDEX(E_SourceStreams!$A:$N,DJ81,AE$7)=\"\",\"\",INDEX(E_SourceStreams!$A:$N,DJ81,AE$7)))","v":""},{"$f":"IF($E81=\"\",\"\",IF(INDEX(E_SourceStreams!$A:$N,DK81,AF$7)=\"\",\"\",INDEX(E_SourceStreams!$A:$N,DK81,AF$7)))","v":""},{"$f":"IF($E81=\"\",\"\",IF(INDEX(E_SourceStreams!$A:$N,DL81,AG$7)=\"\",\"\",INDEX(E_SourceStreams!$A:$N,DL81,AG$7)))","v":""},{"$f":"IF($E81=\"\",\"\",IF(INDEX(E_SourceStreams!$A:$N,DM81,AH$7)=\"\",\"\",INDEX(E_SourceStreams!$A:$N,DM81,AH$7)))","v":""},{"$f":"IF($E81=\"\",\"\",IF(INDEX(E_SourceStreams!$A:$N,DN81,AI$7)=\"\",\"\",INDEX(E_SourceStreams!$A:$N,DN81,AI$7)))","v":""},{"$f":"IF($E81=\"\",\"\",IF(INDEX(E_SourceStreams!$A:$N,DO81,AJ$7)=\"\",\"\",INDEX(E_SourceStreams!$A:$N,DO81,AJ$7)))","v":""},{"$f":"IF($E81=\"\",\"\",IF(INDEX(E_SourceStreams!$A:$N,DP81,AK$7)=\"\",\"\",INDEX(E_SourceStreams!$A:$N,DP81,AK$7)))","v":""},{"$f":"IF($E81=\"\",\"\",IF(INDEX(E_SourceStreams!$A:$N,DQ81,AL$7)=\"\",\"\",INDEX(E_SourceStreams!$A:$N,DQ81,AL$7)))","v":""},{"$f":"IF($E81=\"\",\"\",IF(INDEX(E_SourceStreams!$A:$N,DR81,AM$7)=\"\",\"\",INDEX(E_SourceStreams!$A:$N,DR81,AM$7)))","v":""},{"$f":"IF($E81=\"\",\"\",IF(INDEX(E_SourceStreams!$A:$N,DS81,AN$7)=\"\",\"\",INDEX(E_SourceStreams!$A:$N,DS81,AN$7)))","v":""},{"$f":"IF($E81=\"\",\"\",IF(INDEX(E_SourceStreams!$A:$N,DT81,AO$7)=\"\",\"\",INDEX(E_SourceStreams!$A:$N,DT81,AO$7)))","v":""},{"$f":"IF($E81=\"\",\"\",IF(INDEX(E_SourceStreams!$A:$N,DU81,AP$7)=\"\",\"\",INDEX(E_SourceStreams!$A:$N,DU81,AP$7)))","v":""},{"$f":"IF($E81=\"\",\"\",IF(INDEX(E_SourceStreams!$A:$N,DV81,AQ$7)=\"\",\"\",INDEX(E_SourceStreams!$A:$N,DV81,AQ$7)))","v":""},{"$f":"IF($E81=\"\",\"\",IF(INDEX(E_SourceStreams!$A:$N,DW81,AR$7)=\"\",\"\",INDEX(E_SourceStreams!$A:$N,DW81,AR$7)))","v":""},{"$f":"IF($E81=\"\",\"\",IF(INDEX(E_SourceStreams!$A:$N,DX81,AS$7)=\"\",\"\",INDEX(E_SourceStreams!$A:$N,DX81,AS$7)))","v":""},{"$f":"IF($E81=\"\",\"\",IF(INDEX(E_SourceStreams!$A:$N,DY81,AT$7)=\"\",\"\",INDEX(E_SourceStreams!$A:$N,DY81,AT$7)))","v":""},{"$f":"IF($E81=\"\",\"\",IF(INDEX(E_SourceStreams!$A:$N,DZ81,AU$7)=\"\",\"\",INDEX(E_SourceStreams!$A:$N,DZ81,AU$7)))","v":""},{"$f":"IF($E81=\"\",\"\",IF(INDEX(E_SourceStreams!$A:$N,EA81,AV$7)=\"\",\"\",INDEX(E_SourceStreams!$A:$N,EA81,AV$7)))","v":""},{"$f":"IF($E81=\"\",\"\",IF(INDEX(E_SourceStreams!$A:$N,EB81,AW$7)=\"\",\"\",INDEX(E_SourceStreams!$A:$N,EB81,AW$7)))","v":""},{"$f":"IF($E81=\"\",\"\",IF(INDEX(E_SourceStreams!$A:$N,EC81,AX$7)=\"\",\"\",INDEX(E_SourceStreams!$A:$N,EC81,AX$7)))","v":""},{"$f":"IF($E81=\"\",\"\",IF(INDEX(E_SourceStreams!$A:$N,ED81,AY$7)=\"\",\"\",INDEX(E_SourceStreams!$A:$N,ED81,AY$7)))","v":""},{"$f":"IF($E81=\"\",\"\",IF(INDEX(E_SourceStreams!$A:$N,EE81,AZ$7)=\"\",\"\",INDEX(E_SourceStreams!$A:$N,EE81,AZ$7)))","v":""},{"$f":"IF($E81=\"\",\"\",IF(INDEX(E_SourceStreams!$A:$N,EF81,BA$7)=\"\",\"\",INDEX(E_SourceStreams!$A:$N,EF81,BA$7)))","v":""},{"$f":"IF($E81=\"\",\"\",IF(INDEX(E_SourceStreams!$A:$N,EG81,BB$7)=\"\",\"\",INDEX(E_SourceStreams!$A:$N,EG81,BB$7)))","v":""},{"$f":"IF($E81=\"\",\"\",IF(INDEX(E_SourceStreams!$A:$N,EH81,BC$7)=\"\",\"\",INDEX(E_SourceStreams!$A:$N,EH81,BC$7)))","v":""},{"$f":"IF($E81=\"\",\"\",IF(INDEX(E_SourceStreams!$A:$N,EI81,BD$7)=\"\",\"\",INDEX(E_SourceStreams!$A:$N,EI81,BD$7)))","v":""},{"$f":"IF($E81=\"\",\"\",IF(INDEX(E_SourceStreams!$A:$N,EJ81,BE$7)=\"\",\"\",INDEX(E_SourceStreams!$A:$N,EJ81,BE$7)))","v":""},{"$f":"IF($E81=\"\",\"\",IF(INDEX(E_SourceStreams!$A:$N,EK81,BF$7)=\"\",\"\",INDEX(E_SourceStreams!$A:$N,EK81,BF$7)))","v":""},{"$f":"IF($E81=\"\",\"\",IF(INDEX(E_SourceStreams!$A:$N,EL81,BG$7)=\"\",\"\",INDEX(E_SourceStreams!$A:$N,EL81,BG$7)))","v":""},{"$f":"IF($E81=\"\",\"\",IF(INDEX(E_SourceStreams!$A:$N,EM81,BH$7)=\"\",\"\",INDEX(E_SourceStreams!$A:$N,EM81,BH$7)))","v":""},{"$f":"IF($E81=\"\",\"\",IF(INDEX(E_SourceStreams!$A:$N,EN81,BI$7)=\"\",\"\",INDEX(E_SourceStreams!$A:$N,EN81,BI$7)))","v":""},{"$f":"IF($E81=\"\",\"\",IF(INDEX(E_SourceStreams!$A:$N,EO81,BJ$7)=\"\",\"\",INDEX(E_SourceStreams!$A:$N,EO81,BJ$7)))","v":""},{"$f":"IF($E81=\"\",\"\",IF(INDEX(E_SourceStreams!$A:$N,EP81,BK$7)=\"\",\"\",INDEX(E_SourceStreams!$A:$N,EP81,BK$7)))","v":""},{"$f":"IF($E81=\"\",\"\",IF(INDEX(E_SourceStreams!$A:$N,EQ81,BL$7)=\"\",\"\",INDEX(E_SourceStreams!$A:$N,EQ81,BL$7)))","v":""},{"$f":"IF($E81=\"\",\"\",IF(INDEX(E_SourceStreams!$A:$N,ER81,BM$7)=\"\",\"\",INDEX(E_SourceStreams!$A:$N,ER81,BM$7)))","v":""},{"$f":"IF($E81=\"\",\"\",IF(INDEX(E_SourceStreams!$A:$N,ES81,BN$7)=\"\",\"\",INDEX(E_SourceStreams!$A:$N,ES81,BN$7)))","v":""},{"$f":"IF($E81=\"\",\"\",IF(INDEX(E_SourceStreams!$A:$N,ET81,BO$7)=\"\",\"\",INDEX(E_SourceStreams!$A:$N,ET81,BO$7)))","v":""},{"$f":"IF($E81=\"\",\"\",IF(INDEX(E_SourceStreams!$A:$N,EU81,BP$7)=\"\",\"\",INDEX(E_SourceStreams!$A:$N,EU81,BP$7)))","v":""},{"$f":"IF($E81=\"\",\"\",IF(INDEX(E_SourceStreams!$A:$N,EV81,BQ$7)=\"\",\"\",INDEX(E_SourceStreams!$A:$N,EV81,BQ$7)))","v":""},{"$f":"IF($E81=\"\",\"\",IF(INDEX(E_SourceStreams!$A:$N,EW81,BR$7)=\"\",\"\",INDEX(E_SourceStreams!$A:$N,EW81,BR$7)))","v":""},{"$f":"IF($E81=\"\",\"\",IF(INDEX(E_SourceStreams!$A:$N,EX81,BS$7)=\"\",\"\",INDEX(E_SourceStreams!$A:$N,EX81,BS$7)))","v":""},{"$f":"IF($E81=\"\",\"\",IF(INDEX(E_SourceStreams!$A:$N,EY81,BT$7)=\"\",\"\",INDEX(E_SourceStreams!$A:$N,EY81,BT$7)))","v":""},null,null,null,null,null,null,null,null,null,null,null,null,null,null,null,"SourceCategory_",{"$f":"INDEX(C_InstallationDescription!$A$223:$A$328,ROWS($CI$11:CI81))=\"ausblenden\"","v":true},"SourceStreamName_",null,4754,4756,4758,4760,4762,4764,4766,4766,4766,4766,4766,4769,4773,4774,4775,4782,4792,4792,4792,4792,4792,4792,4792,4783,4793,4793,4793,4793,4793,4793,4793,4784,4794,4794,4794,4794,4794,4794,4794,4785,4795,4795,4795,4795,4795,4795,4795,4786,4796,4796,4796,4796,4796,4796,4796,4787,4797,4797,4797,4797,4797,4797,4797,4803]
[null,{"$f":"IF(COUNTIF($CK$10:CK82,TRUE)>0,\"\",INDEX(C_InstallationDescription!$E$223:$E$239,ROWS($A$11:A82)))","v":""},{"$f":"IF($E82=\"\",\"\",INDEX(C_InstallationDescription!G:G,MATCH($B82,C_InstallationDescription!$E:$E,0)))","v":""},{"$f":"IF($E82=\"\",\"\",INDEX(C_InstallationDescription!I:I,MATCH($B82,C_InstallationDescription!$E:$E,0)))","v":""},{"$f":"IF($B82=\"\",\"\",INDEX(C_InstallationDescription!F:F,MATCH($CJ82,C_InstallationDescription!$Q:$Q,0)))","v":""},{"$f":"IF($E82=\"\",\"\",INDEX(C_InstallationDescription!L:L,MATCH($CJ82,C_InstallationDescription!$Q:$Q,0)))","v":""},{"$f":"IF($E82=\"\",\"\",INDEX(C_InstallationDescription!M:M,MATCH($CJ82,C_InstallationDescription!$Q:$Q,0)))","v":""},{"$f":"IF($E82=\"\",\"\",INDEX(C_InstallationDescription!N:N,MATCH($CJ82,C_InstallationDescription!$Q:$Q,0)))","v":""},{"$f":"IF($E82=\"\",\"\",IF(INDEX(E_SourceStreams!$A:$N,CN82,I$7)=\"\",\"\",INDEX(E_SourceStreams!$A:$N,CN82,I$7)))","v":""},{"$f":"IF($E82=\"\",\"\",IF(INDEX(E_SourceStreams!$A:$N,CO82,J$7)=\"\",\"\",INDEX(E_SourceStreams!$A:$N,CO82,J$7)))","v":""},{"$f":"IF($E82=\"\",\"\",IF(INDEX(E_SourceStreams!$A:$N,CP82,K$7)=\"\",\"\",INDEX(E_SourceStreams!$A:$N,CP82,K$7)))","v":""},{"$f":"IF($E82=\"\",\"\",IF(INDEX(E_SourceStreams!$A:$N,CQ82,L$7)=\"\",\"\",INDEX(E_SourceStreams!$A:$N,CQ82,L$7)))","v":""},{"$f":"IF($E82=\"\",\"\",IF(INDEX(E_SourceStreams!$A:$N,CR82,M$7)=\"\",\"\",INDEX(E_SourceStreams!$A:$N,CR82,M$7)))","v":""},{"$f":"IF($E82=\"\",\"\",IF(INDEX(E_SourceStreams!$A:$N,CS82,N$7)=\"\",\"\",INDEX(E_SourceStreams!$A:$N,CS82,N$7)))","v":""},{"$f":"IF($E82=\"\",\"\",IF(INDEX(E_SourceStreams!$A:$N,CT82,O$7)=\"\",\"\",INDEX(E_SourceStreams!$A:$N,CT82,O$7)))","v":""},{"$f":"IF($E82=\"\",\"\",IF(INDEX(E_SourceStreams!$A:$N,CU82,P$7)=\"\",\"\",INDEX(E_SourceStreams!$A:$N,CU82,P$7)))","v":""},{"$f":"IF($E82=\"\",\"\",IF(INDEX(E_SourceStreams!$A:$N,CV82,Q$7)=\"\",\"\",INDEX(E_SourceStreams!$A:$N,CV82,Q$7)))","v":""},{"$f":"IF($E82=\"\",\"\",IF(INDEX(E_SourceStreams!$A:$N,CW82,R$7)=\"\",\"\",INDEX(E_SourceStreams!$A:$N,CW82,R$7)))","v":""},{"$f":"IF($E82=\"\",\"\",IF(INDEX(E_SourceStreams!$A:$N,CX82,S$7)=\"\",\"\",INDEX(E_SourceStreams!$A:$N,CX82,S$7)))","v":""},{"$f":"IF($E82=\"\",\"\",IF(INDEX(E_SourceStreams!$A:$N,CY82,T$7)=\"\",\"\",INDEX(E_SourceStreams!$A:$N,CY82,T$7)))","v":""},{"$f":"IF($E82=\"\",\"\",IF(INDEX(E_SourceStreams!$A:$N,CZ82,U$7)=\"\",\"\",INDEX(E_SourceStreams!$A:$N,CZ82,U$7)))","v":""},{"$f":"IF($E82=\"\",\"\",IF(INDEX(E_SourceStreams!$A:$N,DA82,V$7)=\"\",\"\",INDEX(E_SourceStreams!$A:$N,DA82,V$7)))","v":""},{"$f":"IF($E82=\"\",\"\",IF(INDEX(E_SourceStreams!$A:$N,DB82,W$7)=\"\",\"\",INDEX(E_SourceStreams!$A:$N,DB82,W$7)))","v":""},{"$f":"IF($E82=\"\",\"\",IF(INDEX(E_SourceStreams!$A:$N,DC82,X$7)=\"\",\"\",INDEX(E_SourceStreams!$A:$N,DC82,X$7)))","v":""},{"$f":"IF($E82=\"\",\"\",IF(INDEX(E_SourceStreams!$A:$N,DD82,Y$7)=\"\",\"\",INDEX(E_SourceStreams!$A:$N,DD82,Y$7)))","v":""},{"$f":"IF($E82=\"\",\"\",IF(INDEX(E_SourceStreams!$A:$N,DE82,Z$7)=\"\",\"\",INDEX(E_SourceStreams!$A:$N,DE82,Z$7)))","v":""},{"$f":"IF($E82=\"\",\"\",IF(INDEX(E_SourceStreams!$A:$N,DF82,AA$7)=\"\",\"\",INDEX(E_SourceStreams!$A:$N,DF82,AA$7)))","v":""},{"$f":"IF($E82=\"\",\"\",IF(INDEX(E_SourceStreams!$A:$N,DG82,AB$7)=\"\",\"\",INDEX(E_SourceStreams!$A:$N,DG82,AB$7)))","v":""},{"$f":"IF($E82=\"\",\"\",IF(INDEX(E_SourceStreams!$A:$N,DH82,AC$7)=\"\",\"\",INDEX(E_SourceStreams!$A:$N,DH82,AC$7)))","v":""},{"$f":"IF($E82=\"\",\"\",IF(INDEX(E_SourceStreams!$A:$N,DI82,AD$7)=\"\",\"\",INDEX(E_SourceStreams!$A:$N,DI82,AD$7)))","v":""},{"$f":"IF($E82=\"\",\"\",IF(INDEX(E_SourceStreams!$A:$N,DJ82,AE$7)=\"\",\"\",INDEX(E_SourceStreams!$A:$N,DJ82,AE$7)))","v":""},{"$f":"IF($E82=\"\",\"\",IF(INDEX(E_SourceStreams!$A:$N,DK82,AF$7)=\"\",\"\",INDEX(E_SourceStreams!$A:$N,DK82,AF$7)))","v":""},{"$f":"IF($E82=\"\",\"\",IF(INDEX(E_SourceStreams!$A:$N,DL82,AG$7)=\"\",\"\",INDEX(E_SourceStreams!$A:$N,DL82,AG$7)))","v":""},{"$f":"IF($E82=\"\",\"\",IF(INDEX(E_SourceStreams!$A:$N,DM82,AH$7)=\"\",\"\",INDEX(E_SourceStreams!$A:$N,DM82,AH$7)))","v":""},{"$f":"IF($E82=\"\",\"\",IF(INDEX(E_SourceStreams!$A:$N,DN82,AI$7)=\"\",\"\",INDEX(E_SourceStreams!$A:$N,DN82,AI$7)))","v":""},{"$f":"IF($E82=\"\",\"\",IF(INDEX(E_SourceStreams!$A:$N,DO82,AJ$7)=\"\",\"\",INDEX(E_SourceStreams!$A:$N,DO82,AJ$7)))","v":""},{"$f":"IF($E82=\"\",\"\",IF(INDEX(E_SourceStreams!$A:$N,DP82,AK$7)=\"\",\"\",INDEX(E_SourceStreams!$A:$N,DP82,AK$7)))","v":""},{"$f":"IF($E82=\"\",\"\",IF(INDEX(E_SourceStreams!$A:$N,DQ82,AL$7)=\"\",\"\",INDEX(E_SourceStreams!$A:$N,DQ82,AL$7)))","v":""},{"$f":"IF($E82=\"\",\"\",IF(INDEX(E_SourceStreams!$A:$N,DR82,AM$7)=\"\",\"\",INDEX(E_SourceStreams!$A:$N,DR82,AM$7)))","v":""},{"$f":"IF($E82=\"\",\"\",IF(INDEX(E_SourceStreams!$A:$N,DS82,AN$7)=\"\",\"\",INDEX(E_SourceStreams!$A:$N,DS82,AN$7)))","v":""},{"$f":"IF($E82=\"\",\"\",IF(INDEX(E_SourceStreams!$A:$N,DT82,AO$7)=\"\",\"\",INDEX(E_SourceStreams!$A:$N,DT82,AO$7)))","v":""},{"$f":"IF($E82=\"\",\"\",IF(INDEX(E_SourceStreams!$A:$N,DU82,AP$7)=\"\",\"\",INDEX(E_SourceStreams!$A:$N,DU82,AP$7)))","v":""},{"$f":"IF($E82=\"\",\"\",IF(INDEX(E_SourceStreams!$A:$N,DV82,AQ$7)=\"\",\"\",INDEX(E_SourceStreams!$A:$N,DV82,AQ$7)))","v":""},{"$f":"IF($E82=\"\",\"\",IF(INDEX(E_SourceStreams!$A:$N,DW82,AR$7)=\"\",\"\",INDEX(E_SourceStreams!$A:$N,DW82,AR$7)))","v":""},{"$f":"IF($E82=\"\",\"\",IF(INDEX(E_SourceStreams!$A:$N,DX82,AS$7)=\"\",\"\",INDEX(E_SourceStreams!$A:$N,DX82,AS$7)))","v":""},{"$f":"IF($E82=\"\",\"\",IF(INDEX(E_SourceStreams!$A:$N,DY82,AT$7)=\"\",\"\",INDEX(E_SourceStreams!$A:$N,DY82,AT$7)))","v":""},{"$f":"IF($E82=\"\",\"\",IF(INDEX(E_SourceStreams!$A:$N,DZ82,AU$7)=\"\",\"\",INDEX(E_SourceStreams!$A:$N,DZ82,AU$7)))","v":""},{"$f":"IF($E82=\"\",\"\",IF(INDEX(E_SourceStreams!$A:$N,EA82,AV$7)=\"\",\"\",INDEX(E_SourceStreams!$A:$N,EA82,AV$7)))","v":""},{"$f":"IF($E82=\"\",\"\",IF(INDEX(E_SourceStreams!$A:$N,EB82,AW$7)=\"\",\"\",INDEX(E_SourceStreams!$A:$N,EB82,AW$7)))","v":""},{"$f":"IF($E82=\"\",\"\",IF(INDEX(E_SourceStreams!$A:$N,EC82,AX$7)=\"\",\"\",INDEX(E_SourceStreams!$A:$N,EC82,AX$7)))","v":""},{"$f":"IF($E82=\"\",\"\",IF(INDEX(E_SourceStreams!$A:$N,ED82,AY$7)=\"\",\"\",INDEX(E_SourceStreams!$A:$N,ED82,AY$7)))","v":""},{"$f":"IF($E82=\"\",\"\",IF(INDEX(E_SourceStreams!$A:$N,EE82,AZ$7)=\"\",\"\",INDEX(E_SourceStreams!$A:$N,EE82,AZ$7)))","v":""},{"$f":"IF($E82=\"\",\"\",IF(INDEX(E_SourceStreams!$A:$N,EF82,BA$7)=\"\",\"\",INDEX(E_SourceStreams!$A:$N,EF82,BA$7)))","v":""},{"$f":"IF($E82=\"\",\"\",IF(INDEX(E_SourceStreams!$A:$N,EG82,BB$7)=\"\",\"\",INDEX(E_SourceStreams!$A:$N,EG82,BB$7)))","v":""},{"$f":"IF($E82=\"\",\"\",IF(INDEX(E_SourceStreams!$A:$N,EH82,BC$7)=\"\",\"\",INDEX(E_SourceStreams!$A:$N,EH82,BC$7)))","v":""},{"$f":"IF($E82=\"\",\"\",IF(INDEX(E_SourceStreams!$A:$N,EI82,BD$7)=\"\",\"\",INDEX(E_SourceStreams!$A:$N,EI82,BD$7)))","v":""},{"$f":"IF($E82=\"\",\"\",IF(INDEX(E_SourceStreams!$A:$N,EJ82,BE$7)=\"\",\"\",INDEX(E_SourceStreams!$A:$N,EJ82,BE$7)))","v":""},{"$f":"IF($E82=\"\",\"\",IF(INDEX(E_SourceStreams!$A:$N,EK82,BF$7)=\"\",\"\",INDEX(E_SourceStreams!$A:$N,EK82,BF$7)))","v":""},{"$f":"IF($E82=\"\",\"\",IF(INDEX(E_SourceStreams!$A:$N,EL82,BG$7)=\"\",\"\",INDEX(E_SourceStreams!$A:$N,EL82,BG$7)))","v":""},{"$f":"IF($E82=\"\",\"\",IF(INDEX(E_SourceStreams!$A:$N,EM82,BH$7)=\"\",\"\",INDEX(E_SourceStreams!$A:$N,EM82,BH$7)))","v":""},{"$f":"IF($E82=\"\",\"\",IF(INDEX(E_SourceStreams!$A:$N,EN82,BI$7)=\"\",\"\",INDEX(E_SourceStreams!$A:$N,EN82,BI$7)))","v":""},{"$f":"IF($E82=\"\",\"\",IF(INDEX(E_SourceStreams!$A:$N,EO82,BJ$7)=\"\",\"\",INDEX(E_SourceStreams!$A:$N,EO82,BJ$7)))","v":""},{"$f":"IF($E82=\"\",\"\",IF(INDEX(E_SourceStreams!$A:$N,EP82,BK$7)=\"\",\"\",INDEX(E_SourceStreams!$A:$N,EP82,BK$7)))","v":""},{"$f":"IF($E82=\"\",\"\",IF(INDEX(E_SourceStreams!$A:$N,EQ82,BL$7)=\"\",\"\",INDEX(E_SourceStreams!$A:$N,EQ82,BL$7)))","v":""},{"$f":"IF($E82=\"\",\"\",IF(INDEX(E_SourceStreams!$A:$N,ER82,BM$7)=\"\",\"\",INDEX(E_SourceStreams!$A:$N,ER82,BM$7)))","v":""},{"$f":"IF($E82=\"\",\"\",IF(INDEX(E_SourceStreams!$A:$N,ES82,BN$7)=\"\",\"\",INDEX(E_SourceStreams!$A:$N,ES82,BN$7)))","v":""},{"$f":"IF($E82=\"\",\"\",IF(INDEX(E_SourceStreams!$A:$N,ET82,BO$7)=\"\",\"\",INDEX(E_SourceStreams!$A:$N,ET82,BO$7)))","v":""},{"$f":"IF($E82=\"\",\"\",IF(INDEX(E_SourceStreams!$A:$N,EU82,BP$7)=\"\",\"\",INDEX(E_SourceStreams!$A:$N,EU82,BP$7)))","v":""},{"$f":"IF($E82=\"\",\"\",IF(INDEX(E_SourceStreams!$A:$N,EV82,BQ$7)=\"\",\"\",INDEX(E_SourceStreams!$A:$N,EV82,BQ$7)))","v":""},{"$f":"IF($E82=\"\",\"\",IF(INDEX(E_SourceStreams!$A:$N,EW82,BR$7)=\"\",\"\",INDEX(E_SourceStreams!$A:$N,EW82,BR$7)))","v":""},{"$f":"IF($E82=\"\",\"\",IF(INDEX(E_SourceStreams!$A:$N,EX82,BS$7)=\"\",\"\",INDEX(E_SourceStreams!$A:$N,EX82,BS$7)))","v":""},{"$f":"IF($E82=\"\",\"\",IF(INDEX(E_SourceStreams!$A:$N,EY82,BT$7)=\"\",\"\",INDEX(E_SourceStreams!$A:$N,EY82,BT$7)))","v":""},null,null,null,null,null,null,null,null,null,null,null,null,null,null,null,"SourceCategory_",{"$f":"INDEX(C_InstallationDescription!$A$223:$A$328,ROWS($CI$11:CI82))=\"ausblenden\"","v":true},"SourceStreamName_",null,4820,4822,4824,4826,4828,4830,4832,4832,4832,4832,4832,4835,4839,4840,4841,4848,4858,4858,4858,4858,4858,4858,4858,4849,4859,4859,4859,4859,4859,4859,4859,4850,4860,4860,4860,4860,4860,4860,4860,4851,4861,4861,4861,4861,4861,4861,4861,4852,4862,4862,4862,4862,4862,4862,4862,4853,4863,4863,4863,4863,4863,4863,4863,4869]
[null,{"$f":"IF(COUNTIF($CK$10:CK83,TRUE)>0,\"\",INDEX(C_InstallationDescription!$E$223:$E$239,ROWS($A$11:A83)))","v":""},{"$f":"IF($E83=\"\",\"\",INDEX(C_InstallationDescription!G:G,MATCH($B83,C_InstallationDescription!$E:$E,0)))","v":""},{"$f":"IF($E83=\"\",\"\",INDEX(C_InstallationDescription!I:I,MATCH($B83,C_InstallationDescription!$E:$E,0)))","v":""},{"$f":"IF($B83=\"\",\"\",INDEX(C_InstallationDescription!F:F,MATCH($CJ83,C_InstallationDescription!$Q:$Q,0)))","v":""},{"$f":"IF($E83=\"\",\"\",INDEX(C_InstallationDescription!L:L,MATCH($CJ83,C_InstallationDescription!$Q:$Q,0)))","v":""},{"$f":"IF($E83=\"\",\"\",INDEX(C_InstallationDescription!M:M,MATCH($CJ83,C_InstallationDescription!$Q:$Q,0)))","v":""},{"$f":"IF($E83=\"\",\"\",INDEX(C_InstallationDescription!N:N,MATCH($CJ83,C_InstallationDescription!$Q:$Q,0)))","v":""},{"$f":"IF($E83=\"\",\"\",IF(INDEX(E_SourceStreams!$A:$N,CN83,I$7)=\"\",\"\",INDEX(E_SourceStreams!$A:$N,CN83,I$7)))","v":""},{"$f":"IF($E83=\"\",\"\",IF(INDEX(E_SourceStreams!$A:$N,CO83,J$7)=\"\",\"\",INDEX(E_SourceStreams!$A:$N,CO83,J$7)))","v":""},{"$f":"IF($E83=\"\",\"\",IF(INDEX(E_SourceStreams!$A:$N,CP83,K$7)=\"\",\"\",INDEX(E_SourceStreams!$A:$N,CP83,K$7)))","v":""},{"$f":"IF($E83=\"\",\"\",IF(INDEX(E_SourceStreams!$A:$N,CQ83,L$7)=\"\",\"\",INDEX(E_SourceStreams!$A:$N,CQ83,L$7)))","v":""},{"$f":"IF($E83=\"\",\"\",IF(INDEX(E_SourceStreams!$A:$N,CR83,M$7)=\"\",\"\",INDEX(E_SourceStreams!$A:$N,CR83,M$7)))","v":""},{"$f":"IF($E83=\"\",\"\",IF(INDEX(E_SourceStreams!$A:$N,CS83,N$7)=\"\",\"\",INDEX(E_SourceStreams!$A:$N,CS83,N$7)))","v":""},{"$f":"IF($E83=\"\",\"\",IF(INDEX(E_SourceStreams!$A:$N,CT83,O$7)=\"\",\"\",INDEX(E_SourceStreams!$A:$N,CT83,O$7)))","v":""},{"$f":"IF($E83=\"\",\"\",IF(INDEX(E_SourceStreams!$A:$N,CU83,P$7)=\"\",\"\",INDEX(E_SourceStreams!$A:$N,CU83,P$7)))","v":""},{"$f":"IF($E83=\"\",\"\",IF(INDEX(E_SourceStreams!$A:$N,CV83,Q$7)=\"\",\"\",INDEX(E_SourceStreams!$A:$N,CV83,Q$7)))","v":""},{"$f":"IF($E83=\"\",\"\",IF(INDEX(E_SourceStreams!$A:$N,CW83,R$7)=\"\",\"\",INDEX(E_SourceStreams!$A:$N,CW83,R$7)))","v":""},{"$f":"IF($E83=\"\",\"\",IF(INDEX(E_SourceStreams!$A:$N,CX83,S$7)=\"\",\"\",INDEX(E_SourceStreams!$A:$N,CX83,S$7)))","v":""},{"$f":"IF($E83=\"\",\"\",IF(INDEX(E_SourceStreams!$A:$N,CY83,T$7)=\"\",\"\",INDEX(E_SourceStreams!$A:$N,CY83,T$7)))","v":""},{"$f":"IF($E83=\"\",\"\",IF(INDEX(E_SourceStreams!$A:$N,CZ83,U$7)=\"\",\"\",INDEX(E_SourceStreams!$A:$N,CZ83,U$7)))","v":""},{"$f":"IF($E83=\"\",\"\",IF(INDEX(E_SourceStreams!$A:$N,DA83,V$7)=\"\",\"\",INDEX(E_SourceStreams!$A:$N,DA83,V$7)))","v":""},{"$f":"IF($E83=\"\",\"\",IF(INDEX(E_SourceStreams!$A:$N,DB83,W$7)=\"\",\"\",INDEX(E_SourceStreams!$A:$N,DB83,W$7)))","v":""},{"$f":"IF($E83=\"\",\"\",IF(INDEX(E_SourceStreams!$A:$N,DC83,X$7)=\"\",\"\",INDEX(E_SourceStreams!$A:$N,DC83,X$7)))","v":""},{"$f":"IF($E83=\"\",\"\",IF(INDEX(E_SourceStreams!$A:$N,DD83,Y$7)=\"\",\"\",INDEX(E_SourceStreams!$A:$N,DD83,Y$7)))","v":""},{"$f":"IF($E83=\"\",\"\",IF(INDEX(E_SourceStreams!$A:$N,DE83,Z$7)=\"\",\"\",INDEX(E_SourceStreams!$A:$N,DE83,Z$7)))","v":""},{"$f":"IF($E83=\"\",\"\",IF(INDEX(E_SourceStreams!$A:$N,DF83,AA$7)=\"\",\"\",INDEX(E_SourceStreams!$A:$N,DF83,AA$7)))","v":""},{"$f":"IF($E83=\"\",\"\",IF(INDEX(E_SourceStreams!$A:$N,DG83,AB$7)=\"\",\"\",INDEX(E_SourceStreams!$A:$N,DG83,AB$7)))","v":""},{"$f":"IF($E83=\"\",\"\",IF(INDEX(E_SourceStreams!$A:$N,DH83,AC$7)=\"\",\"\",INDEX(E_SourceStreams!$A:$N,DH83,AC$7)))","v":""},{"$f":"IF($E83=\"\",\"\",IF(INDEX(E_SourceStreams!$A:$N,DI83,AD$7)=\"\",\"\",INDEX(E_SourceStreams!$A:$N,DI83,AD$7)))","v":""},{"$f":"IF($E83=\"\",\"\",IF(INDEX(E_SourceStreams!$A:$N,DJ83,AE$7)=\"\",\"\",INDEX(E_SourceStreams!$A:$N,DJ83,AE$7)))","v":""},{"$f":"IF($E83=\"\",\"\",IF(INDEX(E_SourceStreams!$A:$N,DK83,AF$7)=\"\",\"\",INDEX(E_SourceStreams!$A:$N,DK83,AF$7)))","v":""},{"$f":"IF($E83=\"\",\"\",IF(INDEX(E_SourceStreams!$A:$N,DL83,AG$7)=\"\",\"\",INDEX(E_SourceStreams!$A:$N,DL83,AG$7)))","v":""},{"$f":"IF($E83=\"\",\"\",IF(INDEX(E_SourceStreams!$A:$N,DM83,AH$7)=\"\",\"\",INDEX(E_SourceStreams!$A:$N,DM83,AH$7)))","v":""},{"$f":"IF($E83=\"\",\"\",IF(INDEX(E_SourceStreams!$A:$N,DN83,AI$7)=\"\",\"\",INDEX(E_SourceStreams!$A:$N,DN83,AI$7)))","v":""},{"$f":"IF($E83=\"\",\"\",IF(INDEX(E_SourceStreams!$A:$N,DO83,AJ$7)=\"\",\"\",INDEX(E_SourceStreams!$A:$N,DO83,AJ$7)))","v":""},{"$f":"IF($E83=\"\",\"\",IF(INDEX(E_SourceStreams!$A:$N,DP83,AK$7)=\"\",\"\",INDEX(E_SourceStreams!$A:$N,DP83,AK$7)))","v":""},{"$f":"IF($E83=\"\",\"\",IF(INDEX(E_SourceStreams!$A:$N,DQ83,AL$7)=\"\",\"\",INDEX(E_SourceStreams!$A:$N,DQ83,AL$7)))","v":""},{"$f":"IF($E83=\"\",\"\",IF(INDEX(E_SourceStreams!$A:$N,DR83,AM$7)=\"\",\"\",INDEX(E_SourceStreams!$A:$N,DR83,AM$7)))","v":""},{"$f":"IF($E83=\"\",\"\",IF(INDEX(E_SourceStreams!$A:$N,DS83,AN$7)=\"\",\"\",INDEX(E_SourceStreams!$A:$N,DS83,AN$7)))","v":""},{"$f":"IF($E83=\"\",\"\",IF(INDEX(E_SourceStreams!$A:$N,DT83,AO$7)=\"\",\"\",INDEX(E_SourceStreams!$A:$N,DT83,AO$7)))","v":""},{"$f":"IF($E83=\"\",\"\",IF(INDEX(E_SourceStreams!$A:$N,DU83,AP$7)=\"\",\"\",INDEX(E_SourceStreams!$A:$N,DU83,AP$7)))","v":""},{"$f":"IF($E83=\"\",\"\",IF(INDEX(E_SourceStreams!$A:$N,DV83,AQ$7)=\"\",\"\",INDEX(E_SourceStreams!$A:$N,DV83,AQ$7)))","v":""},{"$f":"IF($E83=\"\",\"\",IF(INDEX(E_SourceStreams!$A:$N,DW83,AR$7)=\"\",\"\",INDEX(E_SourceStreams!$A:$N,DW83,AR$7)))","v":""},{"$f":"IF($E83=\"\",\"\",IF(INDEX(E_SourceStreams!$A:$N,DX83,AS$7)=\"\",\"\",INDEX(E_SourceStreams!$A:$N,DX83,AS$7)))","v":""},{"$f":"IF($E83=\"\",\"\",IF(INDEX(E_SourceStreams!$A:$N,DY83,AT$7)=\"\",\"\",INDEX(E_SourceStreams!$A:$N,DY83,AT$7)))","v":""},{"$f":"IF($E83=\"\",\"\",IF(INDEX(E_SourceStreams!$A:$N,DZ83,AU$7)=\"\",\"\",INDEX(E_SourceStreams!$A:$N,DZ83,AU$7)))","v":""},{"$f":"IF($E83=\"\",\"\",IF(INDEX(E_SourceStreams!$A:$N,EA83,AV$7)=\"\",\"\",INDEX(E_SourceStreams!$A:$N,EA83,AV$7)))","v":""},{"$f":"IF($E83=\"\",\"\",IF(INDEX(E_SourceStreams!$A:$N,EB83,AW$7)=\"\",\"\",INDEX(E_SourceStreams!$A:$N,EB83,AW$7)))","v":""},{"$f":"IF($E83=\"\",\"\",IF(INDEX(E_SourceStreams!$A:$N,EC83,AX$7)=\"\",\"\",INDEX(E_SourceStreams!$A:$N,EC83,AX$7)))","v":""},{"$f":"IF($E83=\"\",\"\",IF(INDEX(E_SourceStreams!$A:$N,ED83,AY$7)=\"\",\"\",INDEX(E_SourceStreams!$A:$N,ED83,AY$7)))","v":""},{"$f":"IF($E83=\"\",\"\",IF(INDEX(E_SourceStreams!$A:$N,EE83,AZ$7)=\"\",\"\",INDEX(E_SourceStreams!$A:$N,EE83,AZ$7)))","v":""},{"$f":"IF($E83=\"\",\"\",IF(INDEX(E_SourceStreams!$A:$N,EF83,BA$7)=\"\",\"\",INDEX(E_SourceStreams!$A:$N,EF83,BA$7)))","v":""},{"$f":"IF($E83=\"\",\"\",IF(INDEX(E_SourceStreams!$A:$N,EG83,BB$7)=\"\",\"\",INDEX(E_SourceStreams!$A:$N,EG83,BB$7)))","v":""},{"$f":"IF($E83=\"\",\"\",IF(INDEX(E_SourceStreams!$A:$N,EH83,BC$7)=\"\",\"\",INDEX(E_SourceStreams!$A:$N,EH83,BC$7)))","v":""},{"$f":"IF($E83=\"\",\"\",IF(INDEX(E_SourceStreams!$A:$N,EI83,BD$7)=\"\",\"\",INDEX(E_SourceStreams!$A:$N,EI83,BD$7)))","v":""},{"$f":"IF($E83=\"\",\"\",IF(INDEX(E_SourceStreams!$A:$N,EJ83,BE$7)=\"\",\"\",INDEX(E_SourceStreams!$A:$N,EJ83,BE$7)))","v":""},{"$f":"IF($E83=\"\",\"\",IF(INDEX(E_SourceStreams!$A:$N,EK83,BF$7)=\"\",\"\",INDEX(E_SourceStreams!$A:$N,EK83,BF$7)))","v":""},{"$f":"IF($E83=\"\",\"\",IF(INDEX(E_SourceStreams!$A:$N,EL83,BG$7)=\"\",\"\",INDEX(E_SourceStreams!$A:$N,EL83,BG$7)))","v":""},{"$f":"IF($E83=\"\",\"\",IF(INDEX(E_SourceStreams!$A:$N,EM83,BH$7)=\"\",\"\",INDEX(E_SourceStreams!$A:$N,EM83,BH$7)))","v":""},{"$f":"IF($E83=\"\",\"\",IF(INDEX(E_SourceStreams!$A:$N,EN83,BI$7)=\"\",\"\",INDEX(E_SourceStreams!$A:$N,EN83,BI$7)))","v":""},{"$f":"IF($E83=\"\",\"\",IF(INDEX(E_SourceStreams!$A:$N,EO83,BJ$7)=\"\",\"\",INDEX(E_SourceStreams!$A:$N,EO83,BJ$7)))","v":""},{"$f":"IF($E83=\"\",\"\",IF(INDEX(E_SourceStreams!$A:$N,EP83,BK$7)=\"\",\"\",INDEX(E_SourceStreams!$A:$N,EP83,BK$7)))","v":""},{"$f":"IF($E83=\"\",\"\",IF(INDEX(E_SourceStreams!$A:$N,EQ83,BL$7)=\"\",\"\",INDEX(E_SourceStreams!$A:$N,EQ83,BL$7)))","v":""},{"$f":"IF($E83=\"\",\"\",IF(INDEX(E_SourceStreams!$A:$N,ER83,BM$7)=\"\",\"\",INDEX(E_SourceStreams!$A:$N,ER83,BM$7)))","v":""},{"$f":"IF($E83=\"\",\"\",IF(INDEX(E_SourceStreams!$A:$N,ES83,BN$7)=\"\",\"\",INDEX(E_SourceStreams!$A:$N,ES83,BN$7)))","v":""},{"$f":"IF($E83=\"\",\"\",IF(INDEX(E_SourceStreams!$A:$N,ET83,BO$7)=\"\",\"\",INDEX(E_SourceStreams!$A:$N,ET83,BO$7)))","v":""},{"$f":"IF($E83=\"\",\"\",IF(INDEX(E_SourceStreams!$A:$N,EU83,BP$7)=\"\",\"\",INDEX(E_SourceStreams!$A:$N,EU83,BP$7)))","v":""},{"$f":"IF($E83=\"\",\"\",IF(INDEX(E_SourceStreams!$A:$N,EV83,BQ$7)=\"\",\"\",INDEX(E_SourceStreams!$A:$N,EV83,BQ$7)))","v":""},{"$f":"IF($E83=\"\",\"\",IF(INDEX(E_SourceStreams!$A:$N,EW83,BR$7)=\"\",\"\",INDEX(E_SourceStreams!$A:$N,EW83,BR$7)))","v":""},{"$f":"IF($E83=\"\",\"\",IF(INDEX(E_SourceStreams!$A:$N,EX83,BS$7)=\"\",\"\",INDEX(E_SourceStreams!$A:$N,EX83,BS$7)))","v":""},{"$f":"IF($E83=\"\",\"\",IF(INDEX(E_SourceStreams!$A:$N,EY83,BT$7)=\"\",\"\",INDEX(E_SourceStreams!$A:$N,EY83,BT$7)))","v":""},null,null,null,null,null,null,null,null,null,null,null,null,null,null,null,"SourceCategory_",{"$f":"INDEX(C_InstallationDescription!$A$223:$A$328,ROWS($CI$11:CI83))=\"ausblenden\"","v":true},"SourceStreamName_",null,4886,4888,4890,4892,4894,4896,4898,4898,4898,4898,4898,4901,4905,4906,4907,4914,4924,4924,4924,4924,4924,4924,4924,4915,4925,4925,4925,4925,4925,4925,4925,4916,4926,4926,4926,4926,4926,4926,4926,4917,4927,4927,4927,4927,4927,4927,4927,4918,4928,4928,4928,4928,4928,4928,4928,4919,4929,4929,4929,4929,4929,4929,4929,4935]
[null,{"$f":"IF(COUNTIF($CK$10:CK84,TRUE)>0,\"\",INDEX(C_InstallationDescription!$E$223:$E$239,ROWS($A$11:A84)))","v":""},{"$f":"IF($E84=\"\",\"\",INDEX(C_InstallationDescription!G:G,MATCH($B84,C_InstallationDescription!$E:$E,0)))","v":""},{"$f":"IF($E84=\"\",\"\",INDEX(C_InstallationDescription!I:I,MATCH($B84,C_InstallationDescription!$E:$E,0)))","v":""},{"$f":"IF($B84=\"\",\"\",INDEX(C_InstallationDescription!F:F,MATCH($CJ84,C_InstallationDescription!$Q:$Q,0)))","v":""},{"$f":"IF($E84=\"\",\"\",INDEX(C_InstallationDescription!L:L,MATCH($CJ84,C_InstallationDescription!$Q:$Q,0)))","v":""},{"$f":"IF($E84=\"\",\"\",INDEX(C_InstallationDescription!M:M,MATCH($CJ84,C_InstallationDescription!$Q:$Q,0)))","v":""},{"$f":"IF($E84=\"\",\"\",INDEX(C_InstallationDescription!N:N,MATCH($CJ84,C_InstallationDescription!$Q:$Q,0)))","v":""},{"$f":"IF($E84=\"\",\"\",IF(INDEX(E_SourceStreams!$A:$N,CN84,I$7)=\"\",\"\",INDEX(E_SourceStreams!$A:$N,CN84,I$7)))","v":""},{"$f":"IF($E84=\"\",\"\",IF(INDEX(E_SourceStreams!$A:$N,CO84,J$7)=\"\",\"\",INDEX(E_SourceStreams!$A:$N,CO84,J$7)))","v":""},{"$f":"IF($E84=\"\",\"\",IF(INDEX(E_SourceStreams!$A:$N,CP84,K$7)=\"\",\"\",INDEX(E_SourceStreams!$A:$N,CP84,K$7)))","v":""},{"$f":"IF($E84=\"\",\"\",IF(INDEX(E_SourceStreams!$A:$N,CQ84,L$7)=\"\",\"\",INDEX(E_SourceStreams!$A:$N,CQ84,L$7)))","v":""},{"$f":"IF($E84=\"\",\"\",IF(INDEX(E_SourceStreams!$A:$N,CR84,M$7)=\"\",\"\",INDEX(E_SourceStreams!$A:$N,CR84,M$7)))","v":""},{"$f":"IF($E84=\"\",\"\",IF(INDEX(E_SourceStreams!$A:$N,CS84,N$7)=\"\",\"\",INDEX(E_SourceStreams!$A:$N,CS84,N$7)))","v":""},{"$f":"IF($E84=\"\",\"\",IF(INDEX(E_SourceStreams!$A:$N,CT84,O$7)=\"\",\"\",INDEX(E_SourceStreams!$A:$N,CT84,O$7)))","v":""},{"$f":"IF($E84=\"\",\"\",IF(INDEX(E_SourceStreams!$A:$N,CU84,P$7)=\"\",\"\",INDEX(E_SourceStreams!$A:$N,CU84,P$7)))","v":""},{"$f":"IF($E84=\"\",\"\",IF(INDEX(E_SourceStreams!$A:$N,CV84,Q$7)=\"\",\"\",INDEX(E_SourceStreams!$A:$N,CV84,Q$7)))","v":""},{"$f":"IF($E84=\"\",\"\",IF(INDEX(E_SourceStreams!$A:$N,CW84,R$7)=\"\",\"\",INDEX(E_SourceStreams!$A:$N,CW84,R$7)))","v":""},{"$f":"IF($E84=\"\",\"\",IF(INDEX(E_SourceStreams!$A:$N,CX84,S$7)=\"\",\"\",INDEX(E_SourceStreams!$A:$N,CX84,S$7)))","v":""},{"$f":"IF($E84=\"\",\"\",IF(INDEX(E_SourceStreams!$A:$N,CY84,T$7)=\"\",\"\",INDEX(E_SourceStreams!$A:$N,CY84,T$7)))","v":""},{"$f":"IF($E84=\"\",\"\",IF(INDEX(E_SourceStreams!$A:$N,CZ84,U$7)=\"\",\"\",INDEX(E_SourceStreams!$A:$N,CZ84,U$7)))","v":""},{"$f":"IF($E84=\"\",\"\",IF(INDEX(E_SourceStreams!$A:$N,DA84,V$7)=\"\",\"\",INDEX(E_SourceStreams!$A:$N,DA84,V$7)))","v":""},{"$f":"IF($E84=\"\",\"\",IF(INDEX(E_SourceStreams!$A:$N,DB84,W$7)=\"\",\"\",INDEX(E_SourceStreams!$A:$N,DB84,W$7)))","v":""},{"$f":"IF($E84=\"\",\"\",IF(INDEX(E_SourceStreams!$A:$N,DC84,X$7)=\"\",\"\",INDEX(E_SourceStreams!$A:$N,DC84,X$7)))","v":""},{"$f":"IF($E84=\"\",\"\",IF(INDEX(E_SourceStreams!$A:$N,DD84,Y$7)=\"\",\"\",INDEX(E_SourceStreams!$A:$N,DD84,Y$7)))","v":""},{"$f":"IF($E84=\"\",\"\",IF(INDEX(E_SourceStreams!$A:$N,DE84,Z$7)=\"\",\"\",INDEX(E_SourceStreams!$A:$N,DE84,Z$7)))","v":""},{"$f":"IF($E84=\"\",\"\",IF(INDEX(E_SourceStreams!$A:$N,DF84,AA$7)=\"\",\"\",INDEX(E_SourceStreams!$A:$N,DF84,AA$7)))","v":""},{"$f":"IF($E84=\"\",\"\",IF(INDEX(E_SourceStreams!$A:$N,DG84,AB$7)=\"\",\"\",INDEX(E_SourceStreams!$A:$N,DG84,AB$7)))","v":""},{"$f":"IF($E84=\"\",\"\",IF(INDEX(E_SourceStreams!$A:$N,DH84,AC$7)=\"\",\"\",INDEX(E_SourceStreams!$A:$N,DH84,AC$7)))","v":""},{"$f":"IF($E84=\"\",\"\",IF(INDEX(E_SourceStreams!$A:$N,DI84,AD$7)=\"\",\"\",INDEX(E_SourceStreams!$A:$N,DI84,AD$7)))","v":""},{"$f":"IF($E84=\"\",\"\",IF(INDEX(E_SourceStreams!$A:$N,DJ84,AE$7)=\"\",\"\",INDEX(E_SourceStreams!$A:$N,DJ84,AE$7)))","v":""},{"$f":"IF($E84=\"\",\"\",IF(INDEX(E_SourceStreams!$A:$N,DK84,AF$7)=\"\",\"\",INDEX(E_SourceStreams!$A:$N,DK84,AF$7)))","v":""},{"$f":"IF($E84=\"\",\"\",IF(INDEX(E_SourceStreams!$A:$N,DL84,AG$7)=\"\",\"\",INDEX(E_SourceStreams!$A:$N,DL84,AG$7)))","v":""},{"$f":"IF($E84=\"\",\"\",IF(INDEX(E_SourceStreams!$A:$N,DM84,AH$7)=\"\",\"\",INDEX(E_SourceStreams!$A:$N,DM84,AH$7)))","v":""},{"$f":"IF($E84=\"\",\"\",IF(INDEX(E_SourceStreams!$A:$N,DN84,AI$7)=\"\",\"\",INDEX(E_SourceStreams!$A:$N,DN84,AI$7)))","v":""},{"$f":"IF($E84=\"\",\"\",IF(INDEX(E_SourceStreams!$A:$N,DO84,AJ$7)=\"\",\"\",INDEX(E_SourceStreams!$A:$N,DO84,AJ$7)))","v":""},{"$f":"IF($E84=\"\",\"\",IF(INDEX(E_SourceStreams!$A:$N,DP84,AK$7)=\"\",\"\",INDEX(E_SourceStreams!$A:$N,DP84,AK$7)))","v":""},{"$f":"IF($E84=\"\",\"\",IF(INDEX(E_SourceStreams!$A:$N,DQ84,AL$7)=\"\",\"\",INDEX(E_SourceStreams!$A:$N,DQ84,AL$7)))","v":""},{"$f":"IF($E84=\"\",\"\",IF(INDEX(E_SourceStreams!$A:$N,DR84,AM$7)=\"\",\"\",INDEX(E_SourceStreams!$A:$N,DR84,AM$7)))","v":""},{"$f":"IF($E84=\"\",\"\",IF(INDEX(E_SourceStreams!$A:$N,DS84,AN$7)=\"\",\"\",INDEX(E_SourceStreams!$A:$N,DS84,AN$7)))","v":""},{"$f":"IF($E84=\"\",\"\",IF(INDEX(E_SourceStreams!$A:$N,DT84,AO$7)=\"\",\"\",INDEX(E_SourceStreams!$A:$N,DT84,AO$7)))","v":""},{"$f":"IF($E84=\"\",\"\",IF(INDEX(E_SourceStreams!$A:$N,DU84,AP$7)=\"\",\"\",INDEX(E_SourceStreams!$A:$N,DU84,AP$7)))","v":""},{"$f":"IF($E84=\"\",\"\",IF(INDEX(E_SourceStreams!$A:$N,DV84,AQ$7)=\"\",\"\",INDEX(E_SourceStreams!$A:$N,DV84,AQ$7)))","v":""},{"$f":"IF($E84=\"\",\"\",IF(INDEX(E_SourceStreams!$A:$N,DW84,AR$7)=\"\",\"\",INDEX(E_SourceStreams!$A:$N,DW84,AR$7)))","v":""},{"$f":"IF($E84=\"\",\"\",IF(INDEX(E_SourceStreams!$A:$N,DX84,AS$7)=\"\",\"\",INDEX(E_SourceStreams!$A:$N,DX84,AS$7)))","v":""},{"$f":"IF($E84=\"\",\"\",IF(INDEX(E_SourceStreams!$A:$N,DY84,AT$7)=\"\",\"\",INDEX(E_SourceStreams!$A:$N,DY84,AT$7)))","v":""},{"$f":"IF($E84=\"\",\"\",IF(INDEX(E_SourceStreams!$A:$N,DZ84,AU$7)=\"\",\"\",INDEX(E_SourceStreams!$A:$N,DZ84,AU$7)))","v":""},{"$f":"IF($E84=\"\",\"\",IF(INDEX(E_SourceStreams!$A:$N,EA84,AV$7)=\"\",\"\",INDEX(E_SourceStreams!$A:$N,EA84,AV$7)))","v":""},{"$f":"IF($E84=\"\",\"\",IF(INDEX(E_SourceStreams!$A:$N,EB84,AW$7)=\"\",\"\",INDEX(E_SourceStreams!$A:$N,EB84,AW$7)))","v":""},{"$f":"IF($E84=\"\",\"\",IF(INDEX(E_SourceStreams!$A:$N,EC84,AX$7)=\"\",\"\",INDEX(E_SourceStreams!$A:$N,EC84,AX$7)))","v":""},{"$f":"IF($E84=\"\",\"\",IF(INDEX(E_SourceStreams!$A:$N,ED84,AY$7)=\"\",\"\",INDEX(E_SourceStreams!$A:$N,ED84,AY$7)))","v":""},{"$f":"IF($E84=\"\",\"\",IF(INDEX(E_SourceStreams!$A:$N,EE84,AZ$7)=\"\",\"\",INDEX(E_SourceStreams!$A:$N,EE84,AZ$7)))","v":""},{"$f":"IF($E84=\"\",\"\",IF(INDEX(E_SourceStreams!$A:$N,EF84,BA$7)=\"\",\"\",INDEX(E_SourceStreams!$A:$N,EF84,BA$7)))","v":""},{"$f":"IF($E84=\"\",\"\",IF(INDEX(E_SourceStreams!$A:$N,EG84,BB$7)=\"\",\"\",INDEX(E_SourceStreams!$A:$N,EG84,BB$7)))","v":""},{"$f":"IF($E84=\"\",\"\",IF(INDEX(E_SourceStreams!$A:$N,EH84,BC$7)=\"\",\"\",INDEX(E_SourceStreams!$A:$N,EH84,BC$7)))","v":""},{"$f":"IF($E84=\"\",\"\",IF(INDEX(E_SourceStreams!$A:$N,EI84,BD$7)=\"\",\"\",INDEX(E_SourceStreams!$A:$N,EI84,BD$7)))","v":""},{"$f":"IF($E84=\"\",\"\",IF(INDEX(E_SourceStreams!$A:$N,EJ84,BE$7)=\"\",\"\",INDEX(E_SourceStreams!$A:$N,EJ84,BE$7)))","v":""},{"$f":"IF($E84=\"\",\"\",IF(INDEX(E_SourceStreams!$A:$N,EK84,BF$7)=\"\",\"\",INDEX(E_SourceStreams!$A:$N,EK84,BF$7)))","v":""},{"$f":"IF($E84=\"\",\"\",IF(INDEX(E_SourceStreams!$A:$N,EL84,BG$7)=\"\",\"\",INDEX(E_SourceStreams!$A:$N,EL84,BG$7)))","v":""},{"$f":"IF($E84=\"\",\"\",IF(INDEX(E_SourceStreams!$A:$N,EM84,BH$7)=\"\",\"\",INDEX(E_SourceStreams!$A:$N,EM84,BH$7)))","v":""},{"$f":"IF($E84=\"\",\"\",IF(INDEX(E_SourceStreams!$A:$N,EN84,BI$7)=\"\",\"\",INDEX(E_SourceStreams!$A:$N,EN84,BI$7)))","v":""},{"$f":"IF($E84=\"\",\"\",IF(INDEX(E_SourceStreams!$A:$N,EO84,BJ$7)=\"\",\"\",INDEX(E_SourceStreams!$A:$N,EO84,BJ$7)))","v":""},{"$f":"IF($E84=\"\",\"\",IF(INDEX(E_SourceStreams!$A:$N,EP84,BK$7)=\"\",\"\",INDEX(E_SourceStreams!$A:$N,EP84,BK$7)))","v":""},{"$f":"IF($E84=\"\",\"\",IF(INDEX(E_SourceStreams!$A:$N,EQ84,BL$7)=\"\",\"\",INDEX(E_SourceStreams!$A:$N,EQ84,BL$7)))","v":""},{"$f":"IF($E84=\"\",\"\",IF(INDEX(E_SourceStreams!$A:$N,ER84,BM$7)=\"\",\"\",INDEX(E_SourceStreams!$A:$N,ER84,BM$7)))","v":""},{"$f":"IF($E84=\"\",\"\",IF(INDEX(E_SourceStreams!$A:$N,ES84,BN$7)=\"\",\"\",INDEX(E_SourceStreams!$A:$N,ES84,BN$7)))","v":""},{"$f":"IF($E84=\"\",\"\",IF(INDEX(E_SourceStreams!$A:$N,ET84,BO$7)=\"\",\"\",INDEX(E_SourceStreams!$A:$N,ET84,BO$7)))","v":""},{"$f":"IF($E84=\"\",\"\",IF(INDEX(E_SourceStreams!$A:$N,EU84,BP$7)=\"\",\"\",INDEX(E_SourceStreams!$A:$N,EU84,BP$7)))","v":""},{"$f":"IF($E84=\"\",\"\",IF(INDEX(E_SourceStreams!$A:$N,EV84,BQ$7)=\"\",\"\",INDEX(E_SourceStreams!$A:$N,EV84,BQ$7)))","v":""},{"$f":"IF($E84=\"\",\"\",IF(INDEX(E_SourceStreams!$A:$N,EW84,BR$7)=\"\",\"\",INDEX(E_SourceStreams!$A:$N,EW84,BR$7)))","v":""},{"$f":"IF($E84=\"\",\"\",IF(INDEX(E_SourceStreams!$A:$N,EX84,BS$7)=\"\",\"\",INDEX(E_SourceStreams!$A:$N,EX84,BS$7)))","v":""},{"$f":"IF($E84=\"\",\"\",IF(INDEX(E_SourceStreams!$A:$N,EY84,BT$7)=\"\",\"\",INDEX(E_SourceStreams!$A:$N,EY84,BT$7)))","v":""},null,null,null,null,null,null,null,null,null,null,null,null,null,null,null,"SourceCategory_",{"$f":"INDEX(C_InstallationDescription!$A$223:$A$328,ROWS($CI$11:CI84))=\"ausblenden\"","v":true},"SourceStreamName_",null,4952,4954,4956,4958,4960,4962,4964,4964,4964,4964,4964,4967,4971,4972,4973,4980,4990,4990,4990,4990,4990,4990,4990,4981,4991,4991,4991,4991,4991,4991,4991,4982,4992,4992,4992,4992,4992,4992,4992,4983,4993,4993,4993,4993,4993,4993,4993,4984,4994,4994,4994,4994,4994,4994,4994,4985,4995,4995,4995,4995,4995,4995,4995,5001]
[null,{"$f":"IF(COUNTIF($CK$10:CK85,TRUE)>0,\"\",INDEX(C_InstallationDescription!$E$223:$E$239,ROWS($A$11:A85)))","v":""},{"$f":"IF($E85=\"\",\"\",INDEX(C_InstallationDescription!G:G,MATCH($B85,C_InstallationDescription!$E:$E,0)))","v":""},{"$f":"IF($E85=\"\",\"\",INDEX(C_InstallationDescription!I:I,MATCH($B85,C_InstallationDescription!$E:$E,0)))","v":""},{"$f":"IF($B85=\"\",\"\",INDEX(C_InstallationDescription!F:F,MATCH($CJ85,C_InstallationDescription!$Q:$Q,0)))","v":""},{"$f":"IF($E85=\"\",\"\",INDEX(C_InstallationDescription!L:L,MATCH($CJ85,C_InstallationDescription!$Q:$Q,0)))","v":""},{"$f":"IF($E85=\"\",\"\",INDEX(C_InstallationDescription!M:M,MATCH($CJ85,C_InstallationDescription!$Q:$Q,0)))","v":""},{"$f":"IF($E85=\"\",\"\",INDEX(C_InstallationDescription!N:N,MATCH($CJ85,C_InstallationDescription!$Q:$Q,0)))","v":""},{"$f":"IF($E85=\"\",\"\",IF(INDEX(E_SourceStreams!$A:$N,CN85,I$7)=\"\",\"\",INDEX(E_SourceStreams!$A:$N,CN85,I$7)))","v":""},{"$f":"IF($E85=\"\",\"\",IF(INDEX(E_SourceStreams!$A:$N,CO85,J$7)=\"\",\"\",INDEX(E_SourceStreams!$A:$N,CO85,J$7)))","v":""},{"$f":"IF($E85=\"\",\"\",IF(INDEX(E_SourceStreams!$A:$N,CP85,K$7)=\"\",\"\",INDEX(E_SourceStreams!$A:$N,CP85,K$7)))","v":""},{"$f":"IF($E85=\"\",\"\",IF(INDEX(E_SourceStreams!$A:$N,CQ85,L$7)=\"\",\"\",INDEX(E_SourceStreams!$A:$N,CQ85,L$7)))","v":""},{"$f":"IF($E85=\"\",\"\",IF(INDEX(E_SourceStreams!$A:$N,CR85,M$7)=\"\",\"\",INDEX(E_SourceStreams!$A:$N,CR85,M$7)))","v":""},{"$f":"IF($E85=\"\",\"\",IF(INDEX(E_SourceStreams!$A:$N,CS85,N$7)=\"\",\"\",INDEX(E_SourceStreams!$A:$N,CS85,N$7)))","v":""},{"$f":"IF($E85=\"\",\"\",IF(INDEX(E_SourceStreams!$A:$N,CT85,O$7)=\"\",\"\",INDEX(E_SourceStreams!$A:$N,CT85,O$7)))","v":""},{"$f":"IF($E85=\"\",\"\",IF(INDEX(E_SourceStreams!$A:$N,CU85,P$7)=\"\",\"\",INDEX(E_SourceStreams!$A:$N,CU85,P$7)))","v":""},{"$f":"IF($E85=\"\",\"\",IF(INDEX(E_SourceStreams!$A:$N,CV85,Q$7)=\"\",\"\",INDEX(E_SourceStreams!$A:$N,CV85,Q$7)))","v":""},{"$f":"IF($E85=\"\",\"\",IF(INDEX(E_SourceStreams!$A:$N,CW85,R$7)=\"\",\"\",INDEX(E_SourceStreams!$A:$N,CW85,R$7)))","v":""},{"$f":"IF($E85=\"\",\"\",IF(INDEX(E_SourceStreams!$A:$N,CX85,S$7)=\"\",\"\",INDEX(E_SourceStreams!$A:$N,CX85,S$7)))","v":""},{"$f":"IF($E85=\"\",\"\",IF(INDEX(E_SourceStreams!$A:$N,CY85,T$7)=\"\",\"\",INDEX(E_SourceStreams!$A:$N,CY85,T$7)))","v":""},{"$f":"IF($E85=\"\",\"\",IF(INDEX(E_SourceStreams!$A:$N,CZ85,U$7)=\"\",\"\",INDEX(E_SourceStreams!$A:$N,CZ85,U$7)))","v":""},{"$f":"IF($E85=\"\",\"\",IF(INDEX(E_SourceStreams!$A:$N,DA85,V$7)=\"\",\"\",INDEX(E_SourceStreams!$A:$N,DA85,V$7)))","v":""},{"$f":"IF($E85=\"\",\"\",IF(INDEX(E_SourceStreams!$A:$N,DB85,W$7)=\"\",\"\",INDEX(E_SourceStreams!$A:$N,DB85,W$7)))","v":""},{"$f":"IF($E85=\"\",\"\",IF(INDEX(E_SourceStreams!$A:$N,DC85,X$7)=\"\",\"\",INDEX(E_SourceStreams!$A:$N,DC85,X$7)))","v":""},{"$f":"IF($E85=\"\",\"\",IF(INDEX(E_SourceStreams!$A:$N,DD85,Y$7)=\"\",\"\",INDEX(E_SourceStreams!$A:$N,DD85,Y$7)))","v":""},{"$f":"IF($E85=\"\",\"\",IF(INDEX(E_SourceStreams!$A:$N,DE85,Z$7)=\"\",\"\",INDEX(E_SourceStreams!$A:$N,DE85,Z$7)))","v":""},{"$f":"IF($E85=\"\",\"\",IF(INDEX(E_SourceStreams!$A:$N,DF85,AA$7)=\"\",\"\",INDEX(E_SourceStreams!$A:$N,DF85,AA$7)))","v":""},{"$f":"IF($E85=\"\",\"\",IF(INDEX(E_SourceStreams!$A:$N,DG85,AB$7)=\"\",\"\",INDEX(E_SourceStreams!$A:$N,DG85,AB$7)))","v":""},{"$f":"IF($E85=\"\",\"\",IF(INDEX(E_SourceStreams!$A:$N,DH85,AC$7)=\"\",\"\",INDEX(E_SourceStreams!$A:$N,DH85,AC$7)))","v":""},{"$f":"IF($E85=\"\",\"\",IF(INDEX(E_SourceStreams!$A:$N,DI85,AD$7)=\"\",\"\",INDEX(E_SourceStreams!$A:$N,DI85,AD$7)))","v":""},{"$f":"IF($E85=\"\",\"\",IF(INDEX(E_SourceStreams!$A:$N,DJ85,AE$7)=\"\",\"\",INDEX(E_SourceStreams!$A:$N,DJ85,AE$7)))","v":""},{"$f":"IF($E85=\"\",\"\",IF(INDEX(E_SourceStreams!$A:$N,DK85,AF$7)=\"\",\"\",INDEX(E_SourceStreams!$A:$N,DK85,AF$7)))","v":""},{"$f":"IF($E85=\"\",\"\",IF(INDEX(E_SourceStreams!$A:$N,DL85,AG$7)=\"\",\"\",INDEX(E_SourceStreams!$A:$N,DL85,AG$7)))","v":""},{"$f":"IF($E85=\"\",\"\",IF(INDEX(E_SourceStreams!$A:$N,DM85,AH$7)=\"\",\"\",INDEX(E_SourceStreams!$A:$N,DM85,AH$7)))","v":""},{"$f":"IF($E85=\"\",\"\",IF(INDEX(E_SourceStreams!$A:$N,DN85,AI$7)=\"\",\"\",INDEX(E_SourceStreams!$A:$N,DN85,AI$7)))","v":""},{"$f":"IF($E85=\"\",\"\",IF(INDEX(E_SourceStreams!$A:$N,DO85,AJ$7)=\"\",\"\",INDEX(E_SourceStreams!$A:$N,DO85,AJ$7)))","v":""},{"$f":"IF($E85=\"\",\"\",IF(INDEX(E_SourceStreams!$A:$N,DP85,AK$7)=\"\",\"\",INDEX(E_SourceStreams!$A:$N,DP85,AK$7)))","v":""},{"$f":"IF($E85=\"\",\"\",IF(INDEX(E_SourceStreams!$A:$N,DQ85,AL$7)=\"\",\"\",INDEX(E_SourceStreams!$A:$N,DQ85,AL$7)))","v":""},{"$f":"IF($E85=\"\",\"\",IF(INDEX(E_SourceStreams!$A:$N,DR85,AM$7)=\"\",\"\",INDEX(E_SourceStreams!$A:$N,DR85,AM$7)))","v":""},{"$f":"IF($E85=\"\",\"\",IF(INDEX(E_SourceStreams!$A:$N,DS85,AN$7)=\"\",\"\",INDEX(E_SourceStreams!$A:$N,DS85,AN$7)))","v":""},{"$f":"IF($E85=\"\",\"\",IF(INDEX(E_SourceStreams!$A:$N,DT85,AO$7)=\"\",\"\",INDEX(E_SourceStreams!$A:$N,DT85,AO$7)))","v":""},{"$f":"IF($E85=\"\",\"\",IF(INDEX(E_SourceStreams!$A:$N,DU85,AP$7)=\"\",\"\",INDEX(E_SourceStreams!$A:$N,DU85,AP$7)))","v":""},{"$f":"IF($E85=\"\",\"\",IF(INDEX(E_SourceStreams!$A:$N,DV85,AQ$7)=\"\",\"\",INDEX(E_SourceStreams!$A:$N,DV85,AQ$7)))","v":""},{"$f":"IF($E85=\"\",\"\",IF(INDEX(E_SourceStreams!$A:$N,DW85,AR$7)=\"\",\"\",INDEX(E_SourceStreams!$A:$N,DW85,AR$7)))","v":""},{"$f":"IF($E85=\"\",\"\",IF(INDEX(E_SourceStreams!$A:$N,DX85,AS$7)=\"\",\"\",INDEX(E_SourceStreams!$A:$N,DX85,AS$7)))","v":""},{"$f":"IF($E85=\"\",\"\",IF(INDEX(E_SourceStreams!$A:$N,DY85,AT$7)=\"\",\"\",INDEX(E_SourceStreams!$A:$N,DY85,AT$7)))","v":""},{"$f":"IF($E85=\"\",\"\",IF(INDEX(E_SourceStreams!$A:$N,DZ85,AU$7)=\"\",\"\",INDEX(E_SourceStreams!$A:$N,DZ85,AU$7)))","v":""},{"$f":"IF($E85=\"\",\"\",IF(INDEX(E_SourceStreams!$A:$N,EA85,AV$7)=\"\",\"\",INDEX(E_SourceStreams!$A:$N,EA85,AV$7)))","v":""},{"$f":"IF($E85=\"\",\"\",IF(INDEX(E_SourceStreams!$A:$N,EB85,AW$7)=\"\",\"\",INDEX(E_SourceStreams!$A:$N,EB85,AW$7)))","v":""},{"$f":"IF($E85=\"\",\"\",IF(INDEX(E_SourceStreams!$A:$N,EC85,AX$7)=\"\",\"\",INDEX(E_SourceStreams!$A:$N,EC85,AX$7)))","v":""},{"$f":"IF($E85=\"\",\"\",IF(INDEX(E_SourceStreams!$A:$N,ED85,AY$7)=\"\",\"\",INDEX(E_SourceStreams!$A:$N,ED85,AY$7)))","v":""},{"$f":"IF($E85=\"\",\"\",IF(INDEX(E_SourceStreams!$A:$N,EE85,AZ$7)=\"\",\"\",INDEX(E_SourceStreams!$A:$N,EE85,AZ$7)))","v":""},{"$f":"IF($E85=\"\",\"\",IF(INDEX(E_SourceStreams!$A:$N,EF85,BA$7)=\"\",\"\",INDEX(E_SourceStreams!$A:$N,EF85,BA$7)))","v":""},{"$f":"IF($E85=\"\",\"\",IF(INDEX(E_SourceStreams!$A:$N,EG85,BB$7)=\"\",\"\",INDEX(E_SourceStreams!$A:$N,EG85,BB$7)))","v":""},{"$f":"IF($E85=\"\",\"\",IF(INDEX(E_SourceStreams!$A:$N,EH85,BC$7)=\"\",\"\",INDEX(E_SourceStreams!$A:$N,EH85,BC$7)))","v":""},{"$f":"IF($E85=\"\",\"\",IF(INDEX(E_SourceStreams!$A:$N,EI85,BD$7)=\"\",\"\",INDEX(E_SourceStreams!$A:$N,EI85,BD$7)))","v":""},{"$f":"IF($E85=\"\",\"\",IF(INDEX(E_SourceStreams!$A:$N,EJ85,BE$7)=\"\",\"\",INDEX(E_SourceStreams!$A:$N,EJ85,BE$7)))","v":""},{"$f":"IF($E85=\"\",\"\",IF(INDEX(E_SourceStreams!$A:$N,EK85,BF$7)=\"\",\"\",INDEX(E_SourceStreams!$A:$N,EK85,BF$7)))","v":""},{"$f":"IF($E85=\"\",\"\",IF(INDEX(E_SourceStreams!$A:$N,EL85,BG$7)=\"\",\"\",INDEX(E_SourceStreams!$A:$N,EL85,BG$7)))","v":""},{"$f":"IF($E85=\"\",\"\",IF(INDEX(E_SourceStreams!$A:$N,EM85,BH$7)=\"\",\"\",INDEX(E_SourceStreams!$A:$N,EM85,BH$7)))","v":""},{"$f":"IF($E85=\"\",\"\",IF(INDEX(E_SourceStreams!$A:$N,EN85,BI$7)=\"\",\"\",INDEX(E_SourceStreams!$A:$N,EN85,BI$7)))","v":""},{"$f":"IF($E85=\"\",\"\",IF(INDEX(E_SourceStreams!$A:$N,EO85,BJ$7)=\"\",\"\",INDEX(E_SourceStreams!$A:$N,EO85,BJ$7)))","v":""},{"$f":"IF($E85=\"\",\"\",IF(INDEX(E_SourceStreams!$A:$N,EP85,BK$7)=\"\",\"\",INDEX(E_SourceStreams!$A:$N,EP85,BK$7)))","v":""},{"$f":"IF($E85=\"\",\"\",IF(INDEX(E_SourceStreams!$A:$N,EQ85,BL$7)=\"\",\"\",INDEX(E_SourceStreams!$A:$N,EQ85,BL$7)))","v":""},{"$f":"IF($E85=\"\",\"\",IF(INDEX(E_SourceStreams!$A:$N,ER85,BM$7)=\"\",\"\",INDEX(E_SourceStreams!$A:$N,ER85,BM$7)))","v":""},{"$f":"IF($E85=\"\",\"\",IF(INDEX(E_SourceStreams!$A:$N,ES85,BN$7)=\"\",\"\",INDEX(E_SourceStreams!$A:$N,ES85,BN$7)))","v":""},{"$f":"IF($E85=\"\",\"\",IF(INDEX(E_SourceStreams!$A:$N,ET85,BO$7)=\"\",\"\",INDEX(E_SourceStreams!$A:$N,ET85,BO$7)))","v":""},{"$f":"IF($E85=\"\",\"\",IF(INDEX(E_SourceStreams!$A:$N,EU85,BP$7)=\"\",\"\",INDEX(E_SourceStreams!$A:$N,EU85,BP$7)))","v":""},{"$f":"IF($E85=\"\",\"\",IF(INDEX(E_SourceStreams!$A:$N,EV85,BQ$7)=\"\",\"\",INDEX(E_SourceStreams!$A:$N,EV85,BQ$7)))","v":""},{"$f":"IF($E85=\"\",\"\",IF(INDEX(E_SourceStreams!$A:$N,EW85,BR$7)=\"\",\"\",INDEX(E_SourceStreams!$A:$N,EW85,BR$7)))","v":""},{"$f":"IF($E85=\"\",\"\",IF(INDEX(E_SourceStreams!$A:$N,EX85,BS$7)=\"\",\"\",INDEX(E_SourceStreams!$A:$N,EX85,BS$7)))","v":""},{"$f":"IF($E85=\"\",\"\",IF(INDEX(E_SourceStreams!$A:$N,EY85,BT$7)=\"\",\"\",INDEX(E_SourceStreams!$A:$N,EY85,BT$7)))","v":""},null,null,null,null,null,null,null,null,null,null,null,null,null,null,null,"SourceCategory_",{"$f":"INDEX(C_InstallationDescription!$A$223:$A$328,ROWS($CI$11:CI85))=\"ausblenden\"","v":true},"SourceStreamName_",null,5018,5020,5022,5024,5026,5028,5030,5030,5030,5030,5030,5033,5037,5038,5039,5046,5056,5056,5056,5056,5056,5056,5056,5047,5057,5057,5057,5057,5057,5057,5057,5048,5058,5058,5058,5058,5058,5058,5058,5049,5059,5059,5059,5059,5059,5059,5059,5050,5060,5060,5060,5060,5060,5060,5060,5051,5061,5061,5061,5061,5061,5061,5061,5067]
[]
["ausblenden",null,null,null,null,null,null,8,8,9,10,11,12,8,8,8,5,6,6,6,6,6,5,5]
[null,{"$f":"Translations!$B$323","v":"Emissiebronnen"}]
[null,null,null,null,null,null,null,null,{"$f":"Translations!$B$472","v":"Toegepaste meetinstrumenten:"}]
[null,{"$f":"C_InstallationDescription!$E$167","v":"Meetpunt ref. M1, M2, ..."},{"$f":"C_InstallationDescription!F167","v":"Omschrijving"},{"$f":"C_InstallationDescription!K167","v":"Emissiepunt ref."},null,{"$f":"C_InstallationDescription!L167","v":"Geschatte emissies in t CO2(e) per jaar"},{"$f":"C_InstallationDescription!M167","v":"Mogelijke categorie"},{"$f":"C_InstallationDescription!N167","v":"Gemeten broeikasgassen"},1,2,3,4,5,{"$f":"F_MeasurementBasedApproaches!$E$137","v":"Werking:"},{"$f":"F_MeasurementBasedApproaches!$E$168","v":"Vereist niveau:"},{"$f":"F_MeasurementBasedApproaches!$E$169","v":"Toegepast niveau:"},{"$f":"F_MeasurementBasedApproaches!$E$170","v":"Bereikte onzekerheid:"},{"$f":"F_MeasurementBasedApproaches!$E$182","v":"Toegepaste normen en eventuele afwijkingen van die normen"},{"$f":"F_MeasurementBasedApproaches!F192","v":"De berekeningsformules voor de verzameling van gegevens en de bepaling van de jaarlijkse emissies"},{"$f":"F_MeasurementBasedApproaches!F195","v":"De methode om te bepalen of geldige uren of kortere referentieperioden voor elke parameter kunnen worden berekend (uitgaande van de drempelwaarde van artikel 44, lid 2), en voor het bepalen van waarden ter vervanging van ontbrekende gegevens overeenkomstig artikel 45"},{"$f":"F_MeasurementBasedApproaches!F198","v":"Berekening van het rookgasdebiet, indien van toepassing"},{"$f":"F_MeasurementBasedApproaches!F201","v":"Bepaling van het CO2 afkomstig uit biomassa, afgetrokken van de gemeten CO2-emissies, indien van toepassing"},{"$f":"F_MeasurementBasedApproaches!F204","v":"Ter bevestiging uitgevoerde berekeningen overeenkomstig artikel 46, indien van toepassing"},{"$f":"Translations!$B$1202","v":"Geef een toelichting en verklaring als het vereiste niveau niet wordt toegepast:"}]
[null,{"$f":"IF(COUNTIF($CK$90:CK91,TRUE)>0,\"\",INDEX(C_InstallationDescription!$E$169:$E$186,ROWS($A$91:A91)))","v":"M1"},{"$f":"IF(INDEX(C_InstallationDescription!F:F,MATCH($B91,C_InstallationDescription!$E:$E,0))=\"\",\"\",INDEX(C_InstallationDescription!F:F,MATCH($B91,C_InstallationDescription!$E:$E,0)))","v":""},{"$f":"IF($C91=\"\",\"\",INDEX(C_InstallationDescription!K:K,MATCH($B91,C_InstallationDescription!$E:$E,0)))","v":""},null,{"$f":"IF($C91=\"\",\"\",INDEX(C_InstallationDescription!L:L,MATCH($B91,C_InstallationDescription!$E:$E,0)))","v":""},{"$f":"IF($C91=\"\",\"\",INDEX(C_InstallationDescription!M:M,MATCH($B91,C_InstallationDescription!$E:$E,0)))","v":""},{"$f":"IF($C91=\"\",\"\",INDEX(C_InstallationDescription!N:N,MATCH($B91,C_InstallationDescription!$E:$E,0)))","v":""},{"$f":"IF($C91=\"\",\"\",IF($C91=\"\",\"\",INDEX(F_MeasurementBasedApproaches!$A:$N,CM91,I$87)))","v":""},{"$f":"IF($C91=\"\",\"\",IF($C91=\"\",\"\",INDEX(F_MeasurementBasedApproaches!$A:$N,CN91,J$87)))","v":""},{"$f":"IF($C91=\"\",\"\",IF($C91=\"\",\"\",INDEX(F_MeasurementBasedApproaches!$A:$N,CO91,K$87)))","v":""},{"$f":"IF($C91=\"\",\"\",IF($C91=\"\",\"\",INDEX(F_MeasurementBasedApproaches!$A:$N,CP91,L$87)))","v":""},{"$f":"IF($C91=\"\",\"\",IF($C91=\"\",\"\",INDEX(F_MeasurementBasedApproaches!$A:$N,CQ91,M$87)))","v":""},{"$f":"IF($C91=\"\",\"\",IF($C91=\"\",\"\",INDEX(F_MeasurementBasedApproaches!$A:$N,CL91,N$87)))","v":""},{"$f":"IF($C91=\"\",\"\",IF($C91=\"\",\"\",INDEX(F_MeasurementBasedApproaches!$A:$N,CR91,N$87)))","v":""},{"$f":"IF($C91=\"\",\"\",IF($C91=\"\",\"\",INDEX(F_MeasurementBasedApproaches!$A:$N,CS91,O$87)))","v":""},{"$f":"IF($C91=\"\",\"\",IF($C91=\"\",\"\",INDEX(F_MeasurementBasedApproaches!$A:$N,CT91,P$87)))","v":""},{"$f":"IF($C91=\"\",\"\",IF($C91=\"\",\"\",INDEX(F_MeasurementBasedApproaches!$A:$N,CU91,Q$87)))","v":""},{"$f":"IF($C91=\"\",\"\",IF($C91=\"\",\"\",INDEX(F_MeasurementBasedApproaches!$A:$N,CV91,R$87)))","v":""},{"$f":"IF($C91=\"\",\"\",IF($C91=\"\",\"\",INDEX(F_MeasurementBasedApproaches!$A:$N,CW91,S$87)))","v":""},{"$f":"IF($C91=\"\",\"\",IF($C91=\"\",\"\",INDEX(F_MeasurementBasedApproaches!$A:$N,CX91,T$87)))","v":""},{"$f":"IF($C91=\"\",\"\",IF($C91=\"\",\"\",INDEX(F_MeasurementBasedApproaches!$A:$N,CY91,U$87)))","v":""},{"$f":"IF($C91=\"\",\"\",IF($C91=\"\",\"\",INDEX(F_MeasurementBasedApproaches!$A:$N,CZ91,V$87)))","v":""},{"$f":"IF($C91=\"\",\"\",IF($C91=\"\",\"\",INDEX(F_MeasurementBasedApproaches!$A:$N,DA91,W$87)))","v":""},null,null,null,null,null,null,null,null,null,null,null,null,null,null,null,null,null,null,null,null,null,null,null,null,null,null,null,null,null,null,null,null,null,null,null,null,null,null,null,null,null,null,null,null,null,null,null,null,null,null,null,null,null,null,null,null,null,null,null,null,null,null,null,{"$f":"EUconst_CNTR_SourceCategory&B91","v":"SourceCategory_M1"},{"$f":"INDEX(C_InstallationDescription!$A$169:$A$186,ROWS($CI$91:CI91))=\"ausblenden\"","v":false},137,156,156,156,156,156,164,168,169,170,185,193,196,199,202,205,213]
[null,{"$f":"IF(COUNTIF($CK$90:CK92,TRUE)>0,\"\",INDEX(C_InstallationDescription!$E$169:$E$186,ROWS($A$91:A92)))","v":"M2"},{"$f":"IF(INDEX(C_InstallationDescription!F:F,MATCH($B92,C_InstallationDescription!$E:$E,0))=\"\",\"\",INDEX(C_InstallationDescription!F:F,MATCH($B92,C_InstallationDescription!$E:$E,0)))","v":""},{"$f":"IF($C92=\"\",\"\",INDEX(C_InstallationDescription!K:K,MATCH($B92,C_InstallationDescription!$E:$E,0)))","v":""},null,{"$f":"IF($C92=\"\",\"\",INDEX(C_InstallationDescription!L:L,MATCH($B92,C_InstallationDescription!$E:$E,0)))","v":""},{"$f":"IF($C92=\"\",\"\",INDEX(C_InstallationDescription!M:M,MATCH($B92,C_InstallationDescription!$E:$E,0)))","v":""},{"$f":"IF($C92=\"\",\"\",INDEX(C_InstallationDescription!N:N,MATCH($B92,C_InstallationDescription!$E:$E,0)))","v":""},{"$f":"IF($C92=\"\",\"\",IF($C92=\"\",\"\",INDEX(F_MeasurementBasedApproaches!$A:$N,CM92,I$87)))","v":""},{"$f":"IF($C92=\"\",\"\",IF($C92=\"\",\"\",INDEX(F_MeasurementBasedApproaches!$A:$N,CN92,J$87)))","v":""},{"$f":"IF($C92=\"\",\"\",IF($C92=\"\",\"\",INDEX(F_MeasurementBasedApproaches!$A:$N,CO92,K$87)))","v":""},{"$f":"IF($C92=\"\",\"\",IF($C92=\"\",\"\",INDEX(F_MeasurementBasedApproaches!$A:$N,CP92,L$87)))","v":""},{"$f":"IF($C92=\"\",\"\",IF($C92=\"\",\"\",INDEX(F_MeasurementBasedApproaches!$A:$N,CQ92,M$87)))","v":""},{"$f":"IF($C92=\"\",\"\",IF($C92=\"\",\"\",INDEX(F_MeasurementBasedApproaches!$A:$N,CL92,H$87)))","v":""},{"$f":"IF($C92=\"\",\"\",IF($C92=\"\",\"\",INDEX(F_MeasurementBasedApproaches!$A:$N,CR92,N$87)))","v":""},{"$f":"IF($C92=\"\",\"\",IF($C92=\"\",\"\",INDEX(F_MeasurementBasedApproaches!$A:$N,CS92,O$87)))","v":""},{"$f":"IF($C92=\"\",\"\",IF($C92=\"\",\"\",INDEX(F_MeasurementBasedApproaches!$A:$N,CT92,P$87)))","v":""},{"$f":"IF($C92=\"\",\"\",IF($C92=\"\",\"\",INDEX(F_MeasurementBasedApproaches!$A:$N,CU92,Q$87)))","v":""},{"$f":"IF($C92=\"\",\"\",IF($C92=\"\",\"\",INDEX(F_MeasurementBasedApproaches!$A:$N,CV92,R$87)))","v":""},{"$f":"IF($C92=\"\",\"\",IF($C92=\"\",\"\",INDEX(F_MeasurementBasedApproaches!$A:$N,CW92,S$87)))","v":""},{"$f":"IF($C92=\"\",\"\",IF($C92=\"\",\"\",INDEX(F_MeasurementBasedApproaches!$A:$N,CX92,T$87)))","v":""},{"$f":"IF($C92=\"\",\"\",IF($C92=\"\",\"\",INDEX(F_MeasurementBasedApproaches!$A:$N,CY92,U$87)))","v":""},{"$f":"IF($C92=\"\",\"\",IF($C92=\"\",\"\",INDEX(F_MeasurementBasedApproaches!$A:$N,CZ92,V$87)))","v":""},{"$f":"IF($C92=\"\",\"\",IF($C92=\"\",\"\",INDEX(F_MeasurementBasedApproaches!$A:$N,DA92,W$87)))","v":""},null,null,null,null,null,null,null,null,null,null,null,null,null,null,null,null,null,null,null,null,null,null,null,null,null,null,null,null,null,null,null,null,null,null,null,null,null,null,null,null,null,null,null,null,null,null,null,null,null,null,null,null,null,null,null,null,null,null,null,null,null,null,null,"SourceCategory_M2",{"$f":"INDEX(C_InstallationDescription!$A$169:$A$186,ROWS($CI$91:CI92))=\"ausblenden\"","v":false},220,229,229,229,229,229,233,237,238,239,246,253,256,259,262,265,271]
[null,{"$f":"IF(COUNTIF($CK$90:CK93,TRUE)>0,\"\",INDEX(C_InstallationDescription!$E$169:$E$186,ROWS($A$91:A93)))","v":"M3"},{"$f":"IF(INDEX(C_InstallationDescription!F:F,MATCH($B93,C_InstallationDescription!$E:$E,0))=\"\",\"\",INDEX(C_InstallationDescription!F:F,MATCH($B93,C_InstallationDescription!$E:$E,0)))","v":""},{"$f":"IF($C93=\"\",\"\",INDEX(C_InstallationDescription!K:K,MATCH($B93,C_InstallationDescription!$E:$E,0)))","v":""},null,{"$f":"IF($C93=\"\",\"\",INDEX(C_InstallationDescription!L:L,MATCH($B93,C_InstallationDescription!$E:$E,0)))","v":""},{"$f":"IF($C93=\"\",\"\",INDEX(C_InstallationDescription!M:M,MATCH($B93,C_InstallationDescription!$E:$E,0)))","v":""},{"$f":"IF($C93=\"\",\"\",INDEX(C_InstallationDescription!N:N,MATCH($B93,C_InstallationDescription!$E:$E,0)))","v":""},{"$f":"IF($C93=\"\",\"\",IF($C93=\"\",\"\",INDEX(F_MeasurementBasedApproaches!$A:$N,CM93,I$87)))","v":""},{"$f":"IF($C93=\"\",\"\",IF($C93=\"\",\"\",INDEX(F_MeasurementBasedApproaches!$A:$N,CN93,J$87)))","v":""},{"$f":"IF($C93=\"\",\"\",IF($C93=\"\",\"\",INDEX(F_MeasurementBasedApproaches!$A:$N,CO93,K$87)))","v":""},{"$f":"IF($C93=\"\",\"\",IF($C93=\"\",\"\",INDEX(F_MeasurementBasedApproaches!$A:$N,CP93,L$87)))","v":""},{"$f":"IF($C93=\"\",\"\",IF($C93=\"\",\"\",INDEX(F_MeasurementBasedApproaches!$A:$N,CQ93,M$87)))","v":""},{"$f":"IF($C93=\"\",\"\",IF($C93=\"\",\"\",INDEX(F_MeasurementBasedApproaches!$A:$N,CL93,H$87)))","v":""},{"$f":"IF($C93=\"\",\"\",IF($C93=\"\",\"\",INDEX(F_MeasurementBasedApproaches!$A:$N,CR93,N$87)))","v":""},{"$f":"IF($C93=\"\",\"\",IF($C93=\"\",\"\",INDEX(F_MeasurementBasedApproaches!$A:$N,CS93,O$87)))","v":""},{"$f":"IF($C93=\"\",\"\",IF($C93=\"\",\"\",INDEX(F_MeasurementBasedApproaches!$A:$N,CT93,P$87)))","v":""},{"$f":"IF($C93=\"\",\"\",IF($C93=\"\",\"\",INDEX(F_MeasurementBasedApproaches!$A:$N,CU93,Q$87)))","v":""},{"$f":"IF($C93=\"\",\"\",IF($C93=\"\",\"\",INDEX(F_MeasurementBasedApproaches!$A:$N,CV93,R$87)))","v":""},{"$f":"IF($C93=\"\",\"\",IF($C93=\"\",\"\",INDEX(F_MeasurementBasedApproaches!$A:$N,CW93,S$87)))","v":""},{"$f":"IF($C93=\"\",\"\",IF($C93=\"\",\"\",INDEX(F_MeasurementBasedApproaches!$A:$N,CX93,T$87)))","v":""},{"$f":"IF($C93=\"\",\"\",IF($C93=\"\",\"\",INDEX(F_MeasurementBasedApproaches!$A:$N,CY93,U$87)))","v":""},{"$f":"IF($C93=\"\",\"\",IF($C93=\"\",\"\",INDEX(F_MeasurementBasedApproaches!$A:$N,CZ93,V$87)))","v":""},{"$f":"IF($C93=\"\",\"\",IF($C93=\"\",\"\",INDEX(F_MeasurementBasedApproaches!$A:$N,DA93,W$87)))","v":""},null,null,null,null,null,null,null,null,null,null,null,null,null,null,null,null,null,null,null,null,null,null,null,null,null,null,null,null,null,null,null,null,null,null,null,null,null,null,null,null,null,null,null,null,null,null,null,null,null,null,null,null,null,null,null,null,null,null,null,null,null,null,null,"SourceCategory_M3",{"$f":"INDEX(C_InstallationDescription!$A$169:$A$186,ROWS($CI$91:CI93))=\"ausblenden\"","v":false},{"$f":"CL92+58","v":278},{"$f":"CM92+58","v":287},{"$f":"CN92+58","v":287},{"$f":"CO92+58","v":287},{"$f":"CP92+58","v":287},{"$f":"CQ92+58","v":287},{"$f":"CR92+58","v":291},{"$f":"CS92+58","v":295},{"$f":"CT92+58","v":296},{"$f":"CU92+58","v":297},{"$f":"CV92+58","v":304},{"$f":"CW92+58","v":311},{"$f":"CX92+58","v":314},{"$f":"CY92+58","v":317},{"$f":"CZ92+58","v":320},{"$f":"DA92+58","v":323},{"$f":"DB92+58","v":329}]
[null,{"$f":"IF(COUNTIF($CK$90:CK94,TRUE)>0,\"\",INDEX(C_InstallationDescription!$E$169:$E$186,ROWS($A$91:A94)))","v":"M4"},{"$f":"IF(INDEX(C_InstallationDescription!F:F,MATCH($B94,C_InstallationDescription!$E:$E,0))=\"\",\"\",INDEX(C_InstallationDescription!F:F,MATCH($B94,C_InstallationDescription!$E:$E,0)))","v":""},{"$f":"IF($C94=\"\",\"\",INDEX(C_InstallationDescription!K:K,MATCH($B94,C_InstallationDescription!$E:$E,0)))","v":""},null,{"$f":"IF($C94=\"\",\"\",INDEX(C_InstallationDescription!L:L,MATCH($B94,C_InstallationDescription!$E:$E,0)))","v":""},{"$f":"IF($C94=\"\",\"\",INDEX(C_InstallationDescription!M:M,MATCH($B94,C_InstallationDescription!$E:$E,0)))","v":""},{"$f":"IF($C94=\"\",\"\",INDEX(C_InstallationDescription!N:N,MATCH($B94,C_InstallationDescription!$E:$E,0)))","v":""},{"$f":"IF($C94=\"\",\"\",IF($C94=\"\",\"\",INDEX(F_MeasurementBasedApproaches!$A:$N,CM94,I$87)))","v":""},{"$f":"IF($C94=\"\",\"\",IF($C94=\"\",\"\",INDEX(F_MeasurementBasedApproaches!$A:$N,CN94,J$87)))","v":""},{"$f":"IF($C94=\"\",\"\",IF($C94=\"\",\"\",INDEX(F_MeasurementBasedApproaches!$A:$N,CO94,K$87)))","v":""},{"$f":"IF($C94=\"\",\"\",IF($C94=\"\",\"\",INDEX(F_MeasurementBasedApproaches!$A:$N,CP94,L$87)))","v":""},{"$f":"IF($C94=\"\",\"\",IF($C94=\"\",\"\",INDEX(F_MeasurementBasedApproaches!$A:$N,CQ94,M$87)))","v":""},{"$f":"IF($C94=\"\",\"\",IF($C94=\"\",\"\",INDEX(F_MeasurementBasedApproaches!$A:$N,CL94,H$87)))","v":""},{"$f":"IF($C94=\"\",\"\",IF($C94=\"\",\"\",INDEX(F_MeasurementBasedApproaches!$A:$N,CR94,N$87)))","v":""},{"$f":"IF($C94=\"\",\"\",IF($C94=\"\",\"\",INDEX(F_MeasurementBasedApproaches!$A:$N,CS94,O$87)))","v":""},{"$f":"IF($C94=\"\",\"\",IF($C94=\"\",\"\",INDEX(F_MeasurementBasedApproaches!$A:$N,CT94,P$87)))","v":""},{"$f":"IF($C94=\"\",\"\",IF($C94=\"\",\"\",INDEX(F_MeasurementBasedApproaches!$A:$N,CU94,Q$87)))","v":""},{"$f":"IF($C94=\"\",\"\",IF($C94=\"\",\"\",INDEX(F_MeasurementBasedApproaches!$A:$N,CV94,R$87)))","v":""},{"$f":"IF($C94=\"\",\"\",IF($C94=\"\",\"\",INDEX(F_MeasurementBasedApproaches!$A:$N,CW94,S$87)))","v":""},{"$f":"IF($C94=\"\",\"\",IF($C94=\"\",\"\",INDEX(F_MeasurementBasedApproaches!$A:$N,CX94,T$87)))","v":""},{"$f":"IF($C94=\"\",\"\",IF($C94=\"\",\"\",INDEX(F_MeasurementBasedApproaches!$A:$N,CY94,U$87)))","v":""},{"$f":"IF($C94=\"\",\"\",IF($C94=\"\",\"\",INDEX(F_MeasurementBasedApproaches!$A:$N,CZ94,V$87)))","v":""},{"$f":"IF($C94=\"\",\"\",IF($C94=\"\",\"\",INDEX(F_MeasurementBasedApproaches!$A:$N,DA94,W$87)))","v":""},null,null,null,null,null,null,null,null,null,null,null,null,null,null,null,null,null,null,null,null,null,null,null,null,null,null,null,null,null,null,null,null,null,null,null,null,null,null,null,null,null,null,null,null,null,null,null,null,null,null,null,null,null,null,null,null,null,null,null,null,null,null,null,"SourceCategory_M4",{"$f":"INDEX(C_InstallationDescription!$A$169:$A$186,ROWS($CI$91:CI94))=\"ausblenden\"","v":false},{"$f":"CL93+58","v":336},345,345,345,345,345,349,353,354,355,362,369,372,375,378,381,387]
[null,{"$f":"IF(COUNTIF($CK$90:CK95,TRUE)>0,\"\",INDEX(C_InstallationDescription!$E$169:$E$186,ROWS($A$91:A95)))","v":"M5"},{"$f":"IF(INDEX(C_InstallationDescription!F:F,MATCH($B95,C_InstallationDescription!$E:$E,0))=\"\",\"\",INDEX(C_InstallationDescription!F:F,MATCH($B95,C_InstallationDescription!$E:$E,0)))","v":""},{"$f":"IF($C95=\"\",\"\",INDEX(C_InstallationDescription!K:K,MATCH($B95,C_InstallationDescription!$E:$E,0)))","v":""},null,{"$f":"IF($C95=\"\",\"\",INDEX(C_InstallationDescription!L:L,MATCH($B95,C_InstallationDescription!$E:$E,0)))","v":""},{"$f":"IF($C95=\"\",\"\",INDEX(C_InstallationDescription!M:M,MATCH($B95,C_InstallationDescription!$E:$E,0)))","v":""},{"$f":"IF($C95=\"\",\"\",INDEX(C_InstallationDescription!N:N,MATCH($B95,C_InstallationDescription!$E:$E,0)))","v":""},{"$f":"IF($C95=\"\",\"\",IF($C95=\"\",\"\",INDEX(F_MeasurementBasedApproaches!$A:$N,CM95,I$87)))","v":""},{"$f":"IF($C95=\"\",\"\",IF($C95=\"\",\"\",INDEX(F_MeasurementBasedApproaches!$A:$N,CN95,J$87)))","v":""},{"$f":"IF($C95=\"\",\"\",IF($C95=\"\",\"\",INDEX(F_MeasurementBasedApproaches!$A:$N,CO95,K$87)))","v":""},{"$f":"IF($C95=\"\",\"\",IF($C95=\"\",\"\",INDEX(F_MeasurementBasedApproaches!$A:$N,CP95,L$87)))","v":""},{"$f":"IF($C95=\"\",\"\",IF($C95=\"\",\"\",INDEX(F_MeasurementBasedApproaches!$A:$N,CQ95,M$87)))","v":""},{"$f":"IF($C95=\"\",\"\",IF($C95=\"\",\"\",INDEX(F_MeasurementBasedApproaches!$A:$N,CL95,H$87)))","v":""},{"$f":"IF($C95=\"\",\"\",IF($C95=\"\",\"\",INDEX(F_MeasurementBasedApproaches!$A:$N,CR95,N$87)))","v":""},{"$f":"IF($C95=\"\",\"\",IF($C95=\"\",\"\",INDEX(F_MeasurementBasedApproaches!$A:$N,CS95,O$87)))","v":""},{"$f":"IF($C95=\"\",\"\",IF($C95=\"\",\"\",INDEX(F_MeasurementBasedApproaches!$A:$N,CT95,P$87)))","v":""},{"$f":"IF($C95=\"\",\"\",IF($C95=\"\",\"\",INDEX(F_MeasurementBasedApproaches!$A:$N,CU95,Q$87)))","v":""},{"$f":"IF($C95=\"\",\"\",IF($C95=\"\",\"\",INDEX(F_MeasurementBasedApproaches!$A:$N,CV95,R$87)))","v":""},{"$f":"IF($C95=\"\",\"\",IF($C95=\"\",\"\",INDEX(F_MeasurementBasedApproaches!$A:$N,CW95,S$87)))","v":""},{"$f":"IF($C95=\"\",\"\",IF($C95=\"\",\"\",INDEX(F_MeasurementBasedApproaches!$A:$N,CX95,T$87)))","v":""},{"$f":"IF($C95=\"\",\"\",IF($C95=\"\",\"\",INDEX(F_MeasurementBasedApproaches!$A:$N,CY95,U$87)))","v":""},{"$f":"IF($C95=\"\",\"\",IF($C95=\"\",\"\",INDEX(F_MeasurementBasedApproaches!$A:$N,CZ95,V$87)))","v":""},{"$f":"IF($C95=\"\",\"\",IF($C95=\"\",\"\",INDEX(F_MeasurementBasedApproaches!$A:$N,DA95,W$87)))","v":""},null,null,null,null,null,null,null,null,null,null,null,null,null,null,null,null,null,null,null,null,null,null,null,null,null,null,null,null,null,null,null,null,null,null,null,null,null,null,null,null,null,null,null,null,null,null,null,null,null,null,null,null,null,null,null,null,null,null,null,null,null,null,null,"SourceCategory_M5",{"$f":"INDEX(C_InstallationDescription!$A$169:$A$186,ROWS($CI$91:CI95))=\"ausblenden\"","v":false},394,403,403,403,403,403,407,411,412,413,420,427,430,433,436,439,445]
[null,{"$f":"IF(COUNTIF($CK$90:CK96,TRUE)>0,\"\",INDEX(C_InstallationDescription!$E$169:$E$186,ROWS($A$91:A96)))","v":""},{"$f":"IF(INDEX(C_InstallationDescription!F:F,MATCH($B96,C_InstallationDescription!$E:$E,0))=\"\",\"\",INDEX(C_InstallationDescription!F:F,MATCH($B96,C_InstallationDescription!$E:$E,0)))","v":""},{"$f":"IF($C96=\"\",\"\",INDEX(C_InstallationDescription!K:K,MATCH($B96,C_InstallationDescription!$E:$E,0)))","v":""},null,{"$f":"IF($C96=\"\",\"\",INDEX(C_InstallationDescription!L:L,MATCH($B96,C_InstallationDescription!$E:$E,0)))","v":""},{"$f":"IF($C96=\"\",\"\",INDEX(C_InstallationDescription!M:M,MATCH($B96,C_InstallationDescription!$E:$E,0)))","v":""},{"$f":"IF($C96=\"\",\"\",INDEX(C_InstallationDescription!N:N,MATCH($B96,C_InstallationDescription!$E:$E,0)))","v":""},{"$f":"IF($C96=\"\",\"\",IF($C96=\"\",\"\",INDEX(F_MeasurementBasedApproaches!$A:$N,CM96,I$87)))","v":""},{"$f":"IF($C96=\"\",\"\",IF($C96=\"\",\"\",INDEX(F_MeasurementBasedApproaches!$A:$N,CN96,J$87)))","v":""},{"$f":"IF($C96=\"\",\"\",IF($C96=\"\",\"\",INDEX(F_MeasurementBasedApproaches!$A:$N,CO96,K$87)))","v":""},{"$f":"IF($C96=\"\",\"\",IF($C96=\"\",\"\",INDEX(F_MeasurementBasedApproaches!$A:$N,CP96,L$87)))","v":""},{"$f":"IF($C96=\"\",\"\",IF($C96=\"\",\"\",INDEX(F_MeasurementBasedApproaches!$A:$N,CQ96,M$87)))","v":""},{"$f":"IF($C96=\"\",\"\",IF($C96=\"\",\"\",INDEX(F_MeasurementBasedApproaches!$A:$N,CL96,H$87)))","v":""},{"$f":"IF($C96=\"\",\"\",IF($C96=\"\",\"\",INDEX(F_MeasurementBasedApproaches!$A:$N,CR96,N$87)))","v":""},{"$f":"IF($C96=\"\",\"\",IF($C96=\"\",\"\",INDEX(F_MeasurementBasedApproaches!$A:$N,CS96,O$87)))","v":""},{"$f":"IF($C96=\"\",\"\",IF($C96=\"\",\"\",INDEX(F_MeasurementBasedApproaches!$A:$N,CT96,P$87)))","v":""},{"$f":"IF($C96=\"\",\"\",IF($C96=\"\",\"\",INDEX(F_MeasurementBasedApproaches!$A:$N,CU96,Q$87)))","v":""},{"$f":"IF($C96=\"\",\"\",IF($C96=\"\",\"\",INDEX(F_MeasurementBasedApproaches!$A:$N,CV96,R$87)))","v":""},{"$f":"IF($C96=\"\",\"\",IF($C96=\"\",\"\",INDEX(F_MeasurementBasedApproaches!$A:$N,CW96,S$87)))","v":""},{"$f":"IF($C96=\"\",\"\",IF($C96=\"\",\"\",INDEX(F_MeasurementBasedApproaches!$A:$N,CX96,T$87)))","v":""},{"$f":"IF($C96=\"\",\"\",IF($C96=\"\",\"\",INDEX(F_MeasurementBasedApproaches!$A:$N,CY96,U$87)))","v":""},{"$f":"IF($C96=\"\",\"\",IF($C96=\"\",\"\",INDEX(F_MeasurementBasedApproaches!$A:$N,CZ96,V$87)))","v":""},{"$f":"IF($C96=\"\",\"\",IF($C96=\"\",\"\",INDEX(F_MeasurementBasedApproaches!$A:$N,DA96,W$87)))","v":""},null,null,null,null,null,null,null,null,null,null,null,null,null,null,null,null,null,null,null,null,null,null,null,null,null,null,null,null,null,null,null,null,null,null,null,null,null,null,null,null,null,null,null,null,null,null,null,null,null,null,null,null,null,null,null,null,null,null,null,null,null,null,null,"SourceCategory_",{"$f":"INDEX(C_InstallationDescription!$A$169:$A$186,ROWS($CI$91:CI96))=\"ausblenden\"","v":true},452,461,461,461,461,461,465,469,470,471,478,485,488,491,494,497,503]
[null,{"$f":"IF(COUNTIF($CK$90:CK97,TRUE)>0,\"\",INDEX(C_InstallationDescription!$E$169:$E$186,ROWS($A$91:A97)))","v":""},{"$f":"IF(INDEX(C_InstallationDescription!F:F,MATCH($B97,C_InstallationDescription!$E:$E,0))=\"\",\"\",INDEX(C_InstallationDescription!F:F,MATCH($B97,C_InstallationDescription!$E:$E,0)))","v":""},{"$f":"IF($C97=\"\",\"\",INDEX(C_InstallationDescription!K:K,MATCH($B97,C_InstallationDescription!$E:$E,0)))","v":""},null,{"$f":"IF($C97=\"\",\"\",INDEX(C_InstallationDescription!L:L,MATCH($B97,C_InstallationDescription!$E:$E,0)))","v":""},{"$f":"IF($C97=\"\",\"\",INDEX(C_InstallationDescription!M:M,MATCH($B97,C_InstallationDescription!$E:$E,0)))","v":""},{"$f":"IF($C97=\"\",\"\",INDEX(C_InstallationDescription!N:N,MATCH($B97,C_InstallationDescription!$E:$E,0)))","v":""},{"$f":"IF($C97=\"\",\"\",IF($C97=\"\",\"\",INDEX(F_MeasurementBasedApproaches!$A:$N,CM97,I$87)))","v":""},{"$f":"IF($C97=\"\",\"\",IF($C97=\"\",\"\",INDEX(F_MeasurementBasedApproaches!$A:$N,CN97,J$87)))","v":""},{"$f":"IF($C97=\"\",\"\",IF($C97=\"\",\"\",INDEX(F_MeasurementBasedApproaches!$A:$N,CO97,K$87)))","v":""},{"$f":"IF($C97=\"\",\"\",IF($C97=\"\",\"\",INDEX(F_MeasurementBasedApproaches!$A:$N,CP97,L$87)))","v":""},{"$f":"IF($C97=\"\",\"\",IF($C97=\"\",\"\",INDEX(F_MeasurementBasedApproaches!$A:$N,CQ97,M$87)))","v":""},{"$f":"IF($C97=\"\",\"\",IF($C97=\"\",\"\",INDEX(F_MeasurementBasedApproaches!$A:$N,CL97,H$87)))","v":""},{"$f":"IF($C97=\"\",\"\",IF($C97=\"\",\"\",INDEX(F_MeasurementBasedApproaches!$A:$N,CR97,N$87)))","v":""},{"$f":"IF($C97=\"\",\"\",IF($C97=\"\",\"\",INDEX(F_MeasurementBasedApproaches!$A:$N,CS97,O$87)))","v":""},{"$f":"IF($C97=\"\",\"\",IF($C97=\"\",\"\",INDEX(F_MeasurementBasedApproaches!$A:$N,CT97,P$87)))","v":""},{"$f":"IF($C97=\"\",\"\",IF($C97=\"\",\"\",INDEX(F_MeasurementBasedApproaches!$A:$N,CU97,Q$87)))","v":""},{"$f":"IF($C97=\"\",\"\",IF($C97=\"\",\"\",INDEX(F_MeasurementBasedApproaches!$A:$N,CV97,R$87)))","v":""},{"$f":"IF($C97=\"\",\"\",IF($C97=\"\",\"\",INDEX(F_MeasurementBasedApproaches!$A:$N,CW97,S$87)))","v":""},{"$f":"IF($C97=\"\",\"\",IF($C97=\"\",\"\",INDEX(F_MeasurementBasedApproaches!$A:$N,CX97,T$87)))","v":""},{"$f":"IF($C97=\"\",\"\",IF($C97=\"\",\"\",INDEX(F_MeasurementBasedApproaches!$A:$N,CY97,U$87)))","v":""},{"$f":"IF($C97=\"\",\"\",IF($C97=\"\",\"\",INDEX(F_MeasurementBasedApproaches!$A:$N,CZ97,V$87)))","v":""},{"$f":"IF($C97=\"\",\"\",IF($C97=\"\",\"\",INDEX(F_MeasurementBasedApproaches!$A:$N,DA97,W$87)))","v":""},null,null,null,null,null,null,null,null,null,null,null,null,null,null,null,null,null,null,null,null,null,null,null,null,null,null,null,null,null,null,null,null,null,null,null,null,null,null,null,null,null,null,null,null,null,null,null,null,null,null,null,null,null,null,null,null,null,null,null,null,null,null,null,"SourceCategory_",{"$f":"INDEX(C_InstallationDescription!$A$169:$A$186,ROWS($CI$91:CI97))=\"ausblenden\"","v":false},510,519,519,519,519,519,523,527,528,529,536,543,546,549,552,555,561]
[null,{"$f":"IF(COUNTIF($CK$90:CK98,TRUE)>0,\"\",INDEX(C_InstallationDescription!$E$169:$E$186,ROWS($A$91:A98)))","v":""},{"$f":"IF(INDEX(C_InstallationDescription!F:F,MATCH($B98,C_InstallationDescription!$E:$E,0))=\"\",\"\",INDEX(C_InstallationDescription!F:F,MATCH($B98,C_InstallationDescription!$E:$E,0)))","v":""},{"$f":"IF($C98=\"\",\"\",INDEX(C_InstallationDescription!K:K,MATCH($B98,C_InstallationDescription!$E:$E,0)))","v":""},null,{"$f":"IF($C98=\"\",\"\",INDEX(C_InstallationDescription!L:L,MATCH($B98,C_InstallationDescription!$E:$E,0)))","v":""},{"$f":"IF($C98=\"\",\"\",INDEX(C_InstallationDescription!M:M,MATCH($B98,C_InstallationDescription!$E:$E,0)))","v":""},{"$f":"IF($C98=\"\",\"\",INDEX(C_InstallationDescription!N:N,MATCH($B98,C_InstallationDescription!$E:$E,0)))","v":""},{"$f":"IF($C98=\"\",\"\",IF($C98=\"\",\"\",INDEX(F_MeasurementBasedApproaches!$A:$N,CM98,I$87)))","v":""},{"$f":"IF($C98=\"\",\"\",IF($C98=\"\",\"\",INDEX(F_MeasurementBasedApproaches!$A:$N,CN98,J$87)))","v":""},{"$f":"IF($C98=\"\",\"\",IF($C98=\"\",\"\",INDEX(F_MeasurementBasedApproaches!$A:$N,CO98,K$87)))","v":""},{"$f":"IF($C98=\"\",\"\",IF($C98=\"\",\"\",INDEX(F_MeasurementBasedApproaches!$A:$N,CP98,L$87)))","v":""},{"$f":"IF($C98=\"\",\"\",IF($C98=\"\",\"\",INDEX(F_MeasurementBasedApproaches!$A:$N,CQ98,M$87)))","v":""},{"$f":"IF($C98=\"\",\"\",IF($C98=\"\",\"\",INDEX(F_MeasurementBasedApproaches!$A:$N,CL98,H$87)))","v":""},{"$f":"IF($C98=\"\",\"\",IF($C98=\"\",\"\",INDEX(F_MeasurementBasedApproaches!$A:$N,CR98,N$87)))","v":""},{"$f":"IF($C98=\"\",\"\",IF($C98=\"\",\"\",INDEX(F_MeasurementBasedApproaches!$A:$N,CS98,O$87)))","v":""},{"$f":"IF($C98=\"\",\"\",IF($C98=\"\",\"\",INDEX(F_MeasurementBasedApproaches!$A:$N,CT98,P$87)))","v":""},{"$f":"IF($C98=\"\",\"\",IF($C98=\"\",\"\",INDEX(F_MeasurementBasedApproaches!$A:$N,CU98,Q$87)))","v":""},{"$f":"IF($C98=\"\",\"\",IF($C98=\"\",\"\",INDEX(F_MeasurementBasedApproaches!$A:$N,CV98,R$87)))","v":""},{"$f":"IF($C98=\"\",\"\",IF($C98=\"\",\"\",INDEX(F_MeasurementBasedApproaches!$A:$N,CW98,S$87)))","v":""},{"$f":"IF($C98=\"\",\"\",IF($C98=\"\",\"\",INDEX(F_MeasurementBasedApproaches!$A:$N,CX98,T$87)))","v":""},{"$f":"IF($C98=\"\",\"\",IF($C98=\"\",\"\",INDEX(F_MeasurementBasedApproaches!$A:$N,CY98,U$87)))","v":""},{"$f":"IF($C98=\"\",\"\",IF($C98=\"\",\"\",INDEX(F_MeasurementBasedApproaches!$A:$N,CZ98,V$87)))","v":""},{"$f":"IF($C98=\"\",\"\",IF($C98=\"\",\"\",INDEX(F_MeasurementBasedApproaches!$A:$N,DA98,W$87)))","v":""},null,null,null,null,null,null,null,null,null,null,null,null,null,null,null,null,null,null,null,null,null,null,null,null,null,null,null,null,null,null,null,null,null,null,null,null,null,null,null,null,null,null,null,null,null,null,null,null,null,null,null,null,null,null,null,null,null,null,null,null,null,null,null,"SourceCategory_",{"$f":"INDEX(C_InstallationDescription!$A$169:$A$186,ROWS($CI$91:CI98))=\"ausblenden\"","v":false},568,577,577,577,577,577,581,585,586,587,594,601,604,607,610,613,619]
[null,{"$f":"IF(COUNTIF($CK$90:CK99,TRUE)>0,\"\",INDEX(C_InstallationDescription!$E$169:$E$186,ROWS($A$91:A99)))","v":""},{"$f":"IF(INDEX(C_InstallationDescription!F:F,MATCH($B99,C_InstallationDescription!$E:$E,0))=\"\",\"\",INDEX(C_InstallationDescription!F:F,MATCH($B99,C_InstallationDescription!$E:$E,0)))","v":""},{"$f":"IF($C99=\"\",\"\",INDEX(C_InstallationDescription!K:K,MATCH($B99,C_InstallationDescription!$E:$E,0)))","v":""},null,{"$f":"IF($C99=\"\",\"\",INDEX(C_InstallationDescription!L:L,MATCH($B99,C_InstallationDescription!$E:$E,0)))","v":""},{"$f":"IF($C99=\"\",\"\",INDEX(C_InstallationDescription!M:M,MATCH($B99,C_InstallationDescription!$E:$E,0)))","v":""},{"$f":"IF($C99=\"\",\"\",INDEX(C_InstallationDescription!N:N,MATCH($B99,C_InstallationDescription!$E:$E,0)))","v":""},{"$f":"IF($C99=\"\",\"\",IF($C99=\"\",\"\",INDEX(F_MeasurementBasedApproaches!$A:$N,CM99,I$87)))","v":""},{"$f":"IF($C99=\"\",\"\",IF($C99=\"\",\"\",INDEX(F_MeasurementBasedApproaches!$A:$N,CN99,J$87)))","v":""},{"$f":"IF($C99=\"\",\"\",IF($C99=\"\",\"\",INDEX(F_MeasurementBasedApproaches!$A:$N,CO99,K$87)))","v":""},{"$f":"IF($C99=\"\",\"\",IF($C99=\"\",\"\",INDEX(F_MeasurementBasedApproaches!$A:$N,CP99,L$87)))","v":""},{"$f":"IF($C99=\"\",\"\",IF($C99=\"\",\"\",INDEX(F_MeasurementBasedApproaches!$A:$N,CQ99,M$87)))","v":""},{"$f":"IF($C99=\"\",\"\",IF($C99=\"\",\"\",INDEX(F_MeasurementBasedApproaches!$A:$N,CL99,H$87)))","v":""},{"$f":"IF($C99=\"\",\"\",IF($C99=\"\",\"\",INDEX(F_MeasurementBasedApproaches!$A:$N,CR99,N$87)))","v":""},{"$f":"IF($C99=\"\",\"\",IF($C99=\"\",\"\",INDEX(F_MeasurementBasedApproaches!$A:$N,CS99,O$87)))","v":""},{"$f":"IF($C99=\"\",\"\",IF($C99=\"\",\"\",INDEX(F_MeasurementBasedApproaches!$A:$N,CT99,P$87)))","v":""},{"$f":"IF($C99=\"\",\"\",IF($C99=\"\",\"\",INDEX(F_MeasurementBasedApproaches!$A:$N,CU99,Q$87)))","v":""},{"$f":"IF($C99=\"\",\"\",IF($C99=\"\",\"\",INDEX(F_MeasurementBasedApproaches!$A:$N,CV99,R$87)))","v":""},{"$f":"IF($C99=\"\",\"\",IF($C99=\"\",\"\",INDEX(F_MeasurementBasedApproaches!$A:$N,CW99,S$87)))","v":""},{"$f":"IF($C99=\"\",\"\",IF($C99=\"\",\"\",INDEX(F_MeasurementBasedApproaches!$A:$N,CX99,T$87)))","v":""},{"$f":"IF($C99=\"\",\"\",IF($C99=\"\",\"\",INDEX(F_MeasurementBasedApproaches!$A:$N,CY99,U$87)))","v":""},{"$f":"IF($C99=\"\",\"\",IF($C99=\"\",\"\",INDEX(F_MeasurementBasedApproaches!$A:$N,CZ99,V$87)))","v":""},{"$f":"IF($C99=\"\",\"\",IF($C99=\"\",\"\",INDEX(F_MeasurementBasedApproaches!$A:$N,DA99,W$87)))","v":""},null,null,null,null,null,null,null,null,null,null,null,null,null,null,null,null,null,null,null,null,null,null,null,null,null,null,null,null,null,null,null,null,null,null,null,null,null,null,null,null,null,null,null,null,null,null,null,null,null,null,null,null,null,null,null,null,null,null,null,null,null,null,null,"SourceCategory_",{"$f":"INDEX(C_InstallationDescription!$A$169:$A$186,ROWS($CI$91:CI99))=\"ausblenden\"","v":false},626,635,635,635,635,635,639,643,644,645,652,659,662,665,668,671,677]
[null,{"$f":"IF(COUNTIF($CK$90:CK100,TRUE)>0,\"\",INDEX(C_InstallationDescription!$E$169:$E$186,ROWS($A$91:A100)))","v":""},{"$f":"IF(INDEX(C_InstallationDescription!F:F,MATCH($B100,C_InstallationDescription!$E:$E,0))=\"\",\"\",INDEX(C_InstallationDescription!F:F,MATCH($B100,C_InstallationDescription!$E:$E,0)))","v":""},{"$f":"IF($C100=\"\",\"\",INDEX(C_InstallationDescription!K:K,MATCH($B100,C_InstallationDescription!$E:$E,0)))","v":""},null,{"$f":"IF($C100=\"\",\"\",INDEX(C_InstallationDescription!L:L,MATCH($B100,C_InstallationDescription!$E:$E,0)))","v":""},{"$f":"IF($C100=\"\",\"\",INDEX(C_InstallationDescription!M:M,MATCH($B100,C_InstallationDescription!$E:$E,0)))","v":""},{"$f":"IF($C100=\"\",\"\",INDEX(C_InstallationDescription!N:N,MATCH($B100,C_InstallationDescription!$E:$E,0)))","v":""},{"$f":"IF($C100=\"\",\"\",IF($C100=\"\",\"\",INDEX(F_MeasurementBasedApproaches!$A:$N,CM100,I$87)))","v":""},{"$f":"IF($C100=\"\",\"\",IF($C100=\"\",\"\",INDEX(F_MeasurementBasedApproaches!$A:$N,CN100,J$87)))","v":""},{"$f":"IF($C100=\"\",\"\",IF($C100=\"\",\"\",INDEX(F_MeasurementBasedApproaches!$A:$N,CO100,K$87)))","v":""},{"$f":"IF($C100=\"\",\"\",IF($C100=\"\",\"\",INDEX(F_MeasurementBasedApproaches!$A:$N,CP100,L$87)))","v":""},{"$f":"IF($C100=\"\",\"\",IF($C100=\"\",\"\",INDEX(F_MeasurementBasedApproaches!$A:$N,CQ100,M$87)))","v":""},{"$f":"IF($C100=\"\",\"\",IF($C100=\"\",\"\",INDEX(F_MeasurementBasedApproaches!$A:$N,CL100,H$87)))","v":""},{"$f":"IF($C100=\"\",\"\",IF($C100=\"\",\"\",INDEX(F_MeasurementBasedApproaches!$A:$N,CR100,N$87)))","v":""},{"$f":"IF($C100=\"\",\"\",IF($C100=\"\",\"\",INDEX(F_MeasurementBasedApproaches!$A:$N,CS100,O$87)))","v":""},{"$f":"IF($C100=\"\",\"\",IF($C100=\"\",\"\",INDEX(F_MeasurementBasedApproaches!$A:$N,CT100,P$87)))","v":""},{"$f":"IF($C100=\"\",\"\",IF($C100=\"\",\"\",INDEX(F_MeasurementBasedApproaches!$A:$N,CU100,Q$87)))","v":""},{"$f":"IF($C100=\"\",\"\",IF($C100=\"\",\"\",INDEX(F_MeasurementBasedApproaches!$A:$N,CV100,R$87)))","v":""},{"$f":"IF($C100=\"\",\"\",IF($C100=\"\",\"\",INDEX(F_MeasurementBasedApproaches!$A:$N,CW100,S$87)))","v":""},{"$f":"IF($C100=\"\",\"\",IF($C100=\"\",\"\",INDEX(F_MeasurementBasedApproaches!$A:$N,CX100,T$87)))","v":""},{"$f":"IF($C100=\"\",\"\",IF($C100=\"\",\"\",INDEX(F_MeasurementBasedApproaches!$A:$N,CY100,U$87)))","v":""},{"$f":"IF($C100=\"\",\"\",IF($C100=\"\",\"\",INDEX(F_MeasurementBasedApproaches!$A:$N,CZ100,V$87)))","v":""},{"$f":"IF($C100=\"\",\"\",IF($C100=\"\",\"\",INDEX(F_MeasurementBasedApproaches!$A:$N,DA100,W$87)))","v":""},null,null,null,null,null,null,null,null,null,null,null,null,null,null,null,null,null,null,null,null,null,null,null,null,null,null,null,null,null,null,null,null,null,null,null,null,null,null,null,null,null,null,null,null,null,null,null,null,null,null,null,null,null,null,null,null,null,null,null,null,null,null,null,"SourceCategory_",{"$f":"INDEX(C_InstallationDescription!$A$169:$A$186,ROWS($CI$91:CI100))=\"ausblenden\"","v":false},684,693,693,693,693,693,697,701,702,703,710,717,720,723,726,729,735]
[null,{"$f":"IF(COUNTIF($CK$90:CK101,TRUE)>0,\"\",INDEX(C_InstallationDescription!$E$169:$E$186,ROWS($A$91:A101)))","v":""},{"$f":"IF(INDEX(C_InstallationDescription!F:F,MATCH($B101,C_InstallationDescription!$E:$E,0))=\"\",\"\",INDEX(C_InstallationDescription!F:F,MATCH($B101,C_InstallationDescription!$E:$E,0)))","v":""},{"$f":"IF($C101=\"\",\"\",INDEX(C_InstallationDescription!K:K,MATCH($B101,C_InstallationDescription!$E:$E,0)))","v":""},null,{"$f":"IF($C101=\"\",\"\",INDEX(C_InstallationDescription!L:L,MATCH($B101,C_InstallationDescription!$E:$E,0)))","v":""},{"$f":"IF($C101=\"\",\"\",INDEX(C_InstallationDescription!M:M,MATCH($B101,C_InstallationDescription!$E:$E,0)))","v":""},{"$f":"IF($C101=\"\",\"\",INDEX(C_InstallationDescription!N:N,MATCH($B101,C_InstallationDescription!$E:$E,0)))","v":""},{"$f":"IF($C101=\"\",\"\",IF($C101=\"\",\"\",INDEX(F_MeasurementBasedApproaches!$A:$N,CM101,I$87)))","v":""},{"$f":"IF($C101=\"\",\"\",IF($C101=\"\",\"\",INDEX(F_MeasurementBasedApproaches!$A:$N,CN101,J$87)))","v":""},{"$f":"IF($C101=\"\",\"\",IF($C101=\"\",\"\",INDEX(F_MeasurementBasedApproaches!$A:$N,CO101,K$87)))","v":""},{"$f":"IF($C101=\"\",\"\",IF($C101=\"\",\"\",INDEX(F_MeasurementBasedApproaches!$A:$N,CP101,L$87)))","v":""},{"$f":"IF($C101=\"\",\"\",IF($C101=\"\",\"\",INDEX(F_MeasurementBasedApproaches!$A:$N,CQ101,M$87)))","v":""},{"$f":"IF($C101=\"\",\"\",IF($C101=\"\",\"\",INDEX(F_MeasurementBasedApproaches!$A:$N,CL101,H$87)))","v":""},{"$f":"IF($C101=\"\",\"\",IF($C101=\"\",\"\",INDEX(F_MeasurementBasedApproaches!$A:$N,CR101,N$87)))","v":""},{"$f":"IF($C101=\"\",\"\",IF($C101=\"\",\"\",INDEX(F_MeasurementBasedApproaches!$A:$N,CS101,O$87)))","v":""},{"$f":"IF($C101=\"\",\"\",IF($C101=\"\",\"\",INDEX(F_MeasurementBasedApproaches!$A:$N,CT101,P$87)))","v":""},{"$f":"IF($C101=\"\",\"\",IF($C101=\"\",\"\",INDEX(F_MeasurementBasedApproaches!$A:$N,CU101,Q$87)))","v":""},{"$f":"IF($C101=\"\",\"\",IF($C101=\"\",\"\",INDEX(F_MeasurementBasedApproaches!$A:$N,CV101,R$87)))","v":""},{"$f":"IF($C101=\"\",\"\",IF($C101=\"\",\"\",INDEX(F_MeasurementBasedApproaches!$A:$N,CW101,S$87)))","v":""},{"$f":"IF($C101=\"\",\"\",IF($C101=\"\",\"\",INDEX(F_MeasurementBasedApproaches!$A:$N,CX101,T$87)))","v":""},{"$f":"IF($C101=\"\",\"\",IF($C101=\"\",\"\",INDEX(F_MeasurementBasedApproaches!$A:$N,CY101,U$87)))","v":""},{"$f":"IF($C101=\"\",\"\",IF($C101=\"\",\"\",INDEX(F_MeasurementBasedApproaches!$A:$N,CZ101,V$87)))","v":""},{"$f":"IF($C101=\"\",\"\",IF($C101=\"\",\"\",INDEX(F_MeasurementBasedApproaches!$A:$N,DA101,W$87)))","v":""},null,null,null,null,null,null,null,null,null,null,null,null,null,null,null,null,null,null,null,null,null,null,null,null,null,null,null,null,null,null,null,null,null,null,null,null,null,null,null,null,null,null,null,null,null,null,null,null,null,null,null,null,null,null,null,null,null,null,null,null,null,null,null,"SourceCategory_",{"$f":"INDEX(C_InstallationDescription!$A$169:$A$186,ROWS($CI$91:CI101))=\"ausblenden\"","v":false},742,751,751,751,751,751,755,759,760,761,768,775,778,781,784,787,793]
[null,{"$f":"IF(COUNTIF($CK$90:CK102,TRUE)>0,\"\",INDEX(C_InstallationDescription!$E$169:$E$186,ROWS($A$91:A102)))","v":""},{"$f":"IF(INDEX(C_InstallationDescription!F:F,MATCH($B102,C_InstallationDescription!$E:$E,0))=\"\",\"\",INDEX(C_InstallationDescription!F:F,MATCH($B102,C_InstallationDescription!$E:$E,0)))","v":""},{"$f":"IF($C102=\"\",\"\",INDEX(C_InstallationDescription!K:K,MATCH($B102,C_InstallationDescription!$E:$E,0)))","v":""},null,{"$f":"IF($C102=\"\",\"\",INDEX(C_InstallationDescription!L:L,MATCH($B102,C_InstallationDescription!$E:$E,0)))","v":""},{"$f":"IF($C102=\"\",\"\",INDEX(C_InstallationDescription!M:M,MATCH($B102,C_InstallationDescription!$E:$E,0)))","v":""},{"$f":"IF($C102=\"\",\"\",INDEX(C_InstallationDescription!N:N,MATCH($B102,C_InstallationDescription!$E:$E,0)))","v":""},{"$f":"IF($C102=\"\",\"\",IF($C102=\"\",\"\",INDEX(F_MeasurementBasedApproaches!$A:$N,CM102,I$87)))","v":""},{"$f":"IF($C102=\"\",\"\",IF($C102=\"\",\"\",INDEX(F_MeasurementBasedApproaches!$A:$N,CN102,J$87)))","v":""},{"$f":"IF($C102=\"\",\"\",IF($C102=\"\",\"\",INDEX(F_MeasurementBasedApproaches!$A:$N,CO102,K$87)))","v":""},{"$f":"IF($C102=\"\",\"\",IF($C102=\"\",\"\",INDEX(F_MeasurementBasedApproaches!$A:$N,CP102,L$87)))","v":""},{"$f":"IF($C102=\"\",\"\",IF($C102=\"\",\"\",INDEX(F_MeasurementBasedApproaches!$A:$N,CQ102,M$87)))","v":""},{"$f":"IF($C102=\"\",\"\",IF($C102=\"\",\"\",INDEX(F_MeasurementBasedApproaches!$A:$N,CL102,H$87)))","v":""},{"$f":"IF($C102=\"\",\"\",IF($C102=\"\",\"\",INDEX(F_MeasurementBasedApproaches!$A:$N,CR102,N$87)))","v":""},{"$f":"IF($C102=\"\",\"\",IF($C102=\"\",\"\",INDEX(F_MeasurementBasedApproaches!$A:$N,CS102,O$87)))","v":""},{"$f":"IF($C102=\"\",\"\",IF($C102=\"\",\"\",INDEX(F_MeasurementBasedApproaches!$A:$N,CT102,P$87)))","v":""},{"$f":"IF($C102=\"\",\"\",IF($C102=\"\",\"\",INDEX(F_MeasurementBasedApproaches!$A:$N,CU102,Q$87)))","v":""},{"$f":"IF($C102=\"\",\"\",IF($C102=\"\",\"\",INDEX(F_MeasurementBasedApproaches!$A:$N,CV102,R$87)))","v":""},{"$f":"IF($C102=\"\",\"\",IF($C102=\"\",\"\",INDEX(F_MeasurementBasedApproaches!$A:$N,CW102,S$87)))","v":""},{"$f":"IF($C102=\"\",\"\",IF($C102=\"\",\"\",INDEX(F_MeasurementBasedApproaches!$A:$N,CX102,T$87)))","v":""},{"$f":"IF($C102=\"\",\"\",IF($C102=\"\",\"\",INDEX(F_MeasurementBasedApproaches!$A:$N,CY102,U$87)))","v":""},{"$f":"IF($C102=\"\",\"\",IF($C102=\"\",\"\",INDEX(F_MeasurementBasedApproaches!$A:$N,CZ102,V$87)))","v":""},{"$f":"IF($C102=\"\",\"\",IF($C102=\"\",\"\",INDEX(F_MeasurementBasedApproaches!$A:$N,DA102,W$87)))","v":""},null,null,null,null,null,null,null,null,null,null,null,null,null,null,null,null,null,null,null,null,null,null,null,null,null,null,null,null,null,null,null,null,null,null,null,null,null,null,null,null,null,null,null,null,null,null,null,null,null,null,null,null,null,null,null,null,null,null,null,null,null,null,null,"SourceCategory_",{"$f":"INDEX(C_InstallationDescription!$A$169:$A$186,ROWS($CI$91:CI102))=\"ausblenden\"","v":false},800,809,809,809,809,809,813,817,818,819,826,833,836,839,842,845,851]
[null,{"$f":"IF(COUNTIF($CK$90:CK103,TRUE)>0,\"\",INDEX(C_InstallationDescription!$E$169:$E$186,ROWS($A$91:A103)))","v":""},{"$f":"IF(INDEX(C_InstallationDescription!F:F,MATCH($B103,C_InstallationDescription!$E:$E,0))=\"\",\"\",INDEX(C_InstallationDescription!F:F,MATCH($B103,C_InstallationDescription!$E:$E,0)))","v":""},{"$f":"IF($C103=\"\",\"\",INDEX(C_InstallationDescription!K:K,MATCH($B103,C_InstallationDescription!$E:$E,0)))","v":""},null,{"$f":"IF($C103=\"\",\"\",INDEX(C_InstallationDescription!L:L,MATCH($B103,C_InstallationDescription!$E:$E,0)))","v":""},{"$f":"IF($C103=\"\",\"\",INDEX(C_InstallationDescription!M:M,MATCH($B103,C_InstallationDescription!$E:$E,0)))","v":""},{"$f":"IF($C103=\"\",\"\",INDEX(C_InstallationDescription!N:N,MATCH($B103,C_InstallationDescription!$E:$E,0)))","v":""},{"$f":"IF($C103=\"\",\"\",IF($C103=\"\",\"\",INDEX(F_MeasurementBasedApproaches!$A:$N,CM103,I$87)))","v":""},{"$f":"IF($C103=\"\",\"\",IF($C103=\"\",\"\",INDEX(F_MeasurementBasedApproaches!$A:$N,CN103,J$87)))","v":""},{"$f":"IF($C103=\"\",\"\",IF($C103=\"\",\"\",INDEX(F_MeasurementBasedApproaches!$A:$N,CO103,K$87)))","v":""},{"$f":"IF($C103=\"\",\"\",IF($C103=\"\",\"\",INDEX(F_MeasurementBasedApproaches!$A:$N,CP103,L$87)))","v":""},{"$f":"IF($C103=\"\",\"\",IF($C103=\"\",\"\",INDEX(F_MeasurementBasedApproaches!$A:$N,CQ103,M$87)))","v":""},{"$f":"IF($C103=\"\",\"\",IF($C103=\"\",\"\",INDEX(F_MeasurementBasedApproaches!$A:$N,CL103,H$87)))","v":""},{"$f":"IF($C103=\"\",\"\",IF($C103=\"\",\"\",INDEX(F_MeasurementBasedApproaches!$A:$N,CR103,N$87)))","v":""},{"$f":"IF($C103=\"\",\"\",IF($C103=\"\",\"\",INDEX(F_MeasurementBasedApproaches!$A:$N,CS103,O$87)))","v":""},{"$f":"IF($C103=\"\",\"\",IF($C103=\"\",\"\",INDEX(F_MeasurementBasedApproaches!$A:$N,CT103,P$87)))","v":""},{"$f":"IF($C103=\"\",\"\",IF($C103=\"\",\"\",INDEX(F_MeasurementBasedApproaches!$A:$N,CU103,Q$87)))","v":""},{"$f":"IF($C103=\"\",\"\",IF($C103=\"\",\"\",INDEX(F_MeasurementBasedApproaches!$A:$N,CV103,R$87)))","v":""},{"$f":"IF($C103=\"\",\"\",IF($C103=\"\",\"\",INDEX(F_MeasurementBasedApproaches!$A:$N,CW103,S$87)))","v":""},{"$f":"IF($C103=\"\",\"\",IF($C103=\"\",\"\",INDEX(F_MeasurementBasedApproaches!$A:$N,CX103,T$87)))","v":""},{"$f":"IF($C103=\"\",\"\",IF($C103=\"\",\"\",INDEX(F_MeasurementBasedApproaches!$A:$N,CY103,U$87)))","v":""},{"$f":"IF($C103=\"\",\"\",IF($C103=\"\",\"\",INDEX(F_MeasurementBasedApproaches!$A:$N,CZ103,V$87)))","v":""},{"$f":"IF($C103=\"\",\"\",IF($C103=\"\",\"\",INDEX(F_MeasurementBasedApproaches!$A:$N,DA103,W$87)))","v":""},null,null,null,null,null,null,null,null,null,null,null,null,null,null,null,null,null,null,null,null,null,null,null,null,null,null,null,null,null,null,null,null,null,null,null,null,null,null,null,null,null,null,null,null,null,null,null,null,null,null,null,null,null,null,null,null,null,null,null,null,null,null,null,"SourceCategory_",{"$f":"INDEX(C_InstallationDescription!$A$169:$A$186,ROWS($CI$91:CI103))=\"ausblenden\"","v":false},858,867,867,867,867,867,871,875,876,877,884,891,894,897,900,903,909]
[null,{"$f":"IF(COUNTIF($CK$90:CK104,TRUE)>0,\"\",INDEX(C_InstallationDescription!$E$169:$E$186,ROWS($A$91:A104)))","v":""},{"$f":"IF(INDEX(C_InstallationDescription!F:F,MATCH($B104,C_InstallationDescription!$E:$E,0))=\"\",\"\",INDEX(C_InstallationDescription!F:F,MATCH($B104,C_InstallationDescription!$E:$E,0)))","v":""},{"$f":"IF($C104=\"\",\"\",INDEX(C_InstallationDescription!K:K,MATCH($B104,C_InstallationDescription!$E:$E,0)))","v":""},null,{"$f":"IF($C104=\"\",\"\",INDEX(C_InstallationDescription!L:L,MATCH($B104,C_InstallationDescription!$E:$E,0)))","v":""},{"$f":"IF($C104=\"\",\"\",INDEX(C_InstallationDescription!M:M,MATCH($B104,C_InstallationDescription!$E:$E,0)))","v":""},{"$f":"IF($C104=\"\",\"\",INDEX(C_InstallationDescription!N:N,MATCH($B104,C_InstallationDescription!$E:$E,0)))","v":""},{"$f":"IF($C104=\"\",\"\",IF($C104=\"\",\"\",INDEX(F_MeasurementBasedApproaches!$A:$N,CM104,I$87)))","v":""},{"$f":"IF($C104=\"\",\"\",IF($C104=\"\",\"\",INDEX(F_MeasurementBasedApproaches!$A:$N,CN104,J$87)))","v":""},{"$f":"IF($C104=\"\",\"\",IF($C104=\"\",\"\",INDEX(F_MeasurementBasedApproaches!$A:$N,CO104,K$87)))","v":""},{"$f":"IF($C104=\"\",\"\",IF($C104=\"\",\"\",INDEX(F_MeasurementBasedApproaches!$A:$N,CP104,L$87)))","v":""},{"$f":"IF($C104=\"\",\"\",IF($C104=\"\",\"\",INDEX(F_MeasurementBasedApproaches!$A:$N,CQ104,M$87)))","v":""},{"$f":"IF($C104=\"\",\"\",IF($C104=\"\",\"\",INDEX(F_MeasurementBasedApproaches!$A:$N,CL104,H$87)))","v":""},{"$f":"IF($C104=\"\",\"\",IF($C104=\"\",\"\",INDEX(F_MeasurementBasedApproaches!$A:$N,CR104,N$87)))","v":""},{"$f":"IF($C104=\"\",\"\",IF($C104=\"\",\"\",INDEX(F_MeasurementBasedApproaches!$A:$N,CS104,O$87)))","v":""},{"$f":"IF($C104=\"\",\"\",IF($C104=\"\",\"\",INDEX(F_MeasurementBasedApproaches!$A:$N,CT104,P$87)))","v":""},{"$f":"IF($C104=\"\",\"\",IF($C104=\"\",\"\",INDEX(F_MeasurementBasedApproaches!$A:$N,CU104,Q$87)))","v":""},{"$f":"IF($C104=\"\",\"\",IF($C104=\"\",\"\",INDEX(F_MeasurementBasedApproaches!$A:$N,CV104,R$87)))","v":""},{"$f":"IF($C104=\"\",\"\",IF($C104=\"\",\"\",INDEX(F_MeasurementBasedApproaches!$A:$N,CW104,S$87)))","v":""},{"$f":"IF($C104=\"\",\"\",IF($C104=\"\",\"\",INDEX(F_MeasurementBasedApproaches!$A:$N,CX104,T$87)))","v":""},{"$f":"IF($C104=\"\",\"\",IF($C104=\"\",\"\",INDEX(F_MeasurementBasedApproaches!$A:$N,CY104,U$87)))","v":""},{"$f":"IF($C104=\"\",\"\",IF($C104=\"\",\"\",INDEX(F_MeasurementBasedApproaches!$A:$N,CZ104,V$87)))","v":""},{"$f":"IF($C104=\"\",\"\",IF($C104=\"\",\"\",INDEX(F_MeasurementBasedApproaches!$A:$N,DA104,W$87)))","v":""},null,null,null,null,null,null,null,null,null,null,null,null,null,null,null,null,null,null,null,null,null,null,null,null,null,null,null,null,null,null,null,null,null,null,null,null,null,null,null,null,null,null,null,null,null,null,null,null,null,null,null,null,null,null,null,null,null,null,null,null,null,null,null,"SourceCategory_",{"$f":"INDEX(C_InstallationDescription!$A$169:$A$186,ROWS($CI$91:CI104))=\"ausblenden\"","v":false},916,925,925,925,925,925,929,933,934,935,942,949,952,955,958,961,967]
[null,{"$f":"IF(COUNTIF($CK$90:CK105,TRUE)>0,\"\",INDEX(C_InstallationDescription!$E$169:$E$186,ROWS($A$91:A105)))","v":""},{"$f":"IF(INDEX(C_InstallationDescription!F:F,MATCH($B105,C_InstallationDescription!$E:$E,0))=\"\",\"\",INDEX(C_InstallationDescription!F:F,MATCH($B105,C_InstallationDescription!$E:$E,0)))","v":""},{"$f":"IF($C105=\"\",\"\",INDEX(C_InstallationDescription!K:K,MATCH($B105,C_InstallationDescription!$E:$E,0)))","v":""},null,{"$f":"IF($C105=\"\",\"\",INDEX(C_InstallationDescription!L:L,MATCH($B105,C_InstallationDescription!$E:$E,0)))","v":""},{"$f":"IF($C105=\"\",\"\",INDEX(C_InstallationDescription!M:M,MATCH($B105,C_InstallationDescription!$E:$E,0)))","v":""},{"$f":"IF($C105=\"\",\"\",INDEX(C_InstallationDescription!N:N,MATCH($B105,C_InstallationDescription!$E:$E,0)))","v":""},{"$f":"IF($C105=\"\",\"\",IF($C105=\"\",\"\",INDEX(F_MeasurementBasedApproaches!$A:$N,CM105,I$87)))","v":""},{"$f":"IF($C105=\"\",\"\",IF($C105=\"\",\"\",INDEX(F_MeasurementBasedApproaches!$A:$N,CN105,J$87)))","v":""},{"$f":"IF($C105=\"\",\"\",IF($C105=\"\",\"\",INDEX(F_MeasurementBasedApproaches!$A:$N,CO105,K$87)))","v":""},{"$f":"IF($C105=\"\",\"\",IF($C105=\"\",\"\",INDEX(F_MeasurementBasedApproaches!$A:$N,CP105,L$87)))","v":""},{"$f":"IF($C105=\"\",\"\",IF($C105=\"\",\"\",INDEX(F_MeasurementBasedApproaches!$A:$N,CQ105,M$87)))","v":""},{"$f":"IF($C105=\"\",\"\",IF($C105=\"\",\"\",INDEX(F_MeasurementBasedApproaches!$A:$N,CL105,H$87)))","v":""},{"$f":"IF($C105=\"\",\"\",IF($C105=\"\",\"\",INDEX(F_MeasurementBasedApproaches!$A:$N,CR105,N$87)))","v":""},{"$f":"IF($C105=\"\",\"\",IF($C105=\"\",\"\",INDEX(F_MeasurementBasedApproaches!$A:$N,CS105,O$87)))","v":""},{"$f":"IF($C105=\"\",\"\",IF($C105=\"\",\"\",INDEX(F_MeasurementBasedApproaches!$A:$N,CT105,P$87)))","v":""},{"$f":"IF($C105=\"\",\"\",IF($C105=\"\",\"\",INDEX(F_MeasurementBasedApproaches!$A:$N,CU105,Q$87)))","v":""},{"$f":"IF($C105=\"\",\"\",IF($C105=\"\",\"\",INDEX(F_MeasurementBasedApproaches!$A:$N,CV105,R$87)))","v":""},{"$f":"IF($C105=\"\",\"\",IF($C105=\"\",\"\",INDEX(F_MeasurementBasedApproaches!$A:$N,CW105,S$87)))","v":""},{"$f":"IF($C105=\"\",\"\",IF($C105=\"\",\"\",INDEX(F_MeasurementBasedApproaches!$A:$N,CX105,T$87)))","v":""},{"$f":"IF($C105=\"\",\"\",IF($C105=\"\",\"\",INDEX(F_MeasurementBasedApproaches!$A:$N,CY105,U$87)))","v":""},{"$f":"IF($C105=\"\",\"\",IF($C105=\"\",\"\",INDEX(F_MeasurementBasedApproaches!$A:$N,CZ105,V$87)))","v":""},{"$f":"IF($C105=\"\",\"\",IF($C105=\"\",\"\",INDEX(F_MeasurementBasedApproaches!$A:$N,DA105,W$87)))","v":""},null,null,null,null,null,null,null,null,null,null,null,null,null,null,null,null,null,null,null,null,null,null,null,null,null,null,null,null,null,null,null,null,null,null,null,null,null,null,null,null,null,null,null,null,null,null,null,null,null,null,null,null,null,null,null,null,null,null,null,null,null,null,null,"SourceCategory_",{"$f":"INDEX(C_InstallationDescription!$A$169:$A$186,ROWS($CI$91:CI105))=\"ausblenden\"","v":false},974,983,983,983,983,983,987,991,992,993,1000,1007,1010,1013,1016,1019,1025]
[]
["ausblenden",null,null,null,null,null,null,null,null,8,8,8,8,8,8,8,8,8,8,8,8,8,8,8,8,8,9,10,11,12,13,14,8,8,9,10,11,12,13,14,8,8,9,10,11,12,13,14,9,10,11,12,13,14,5,5]
[null,{"$f":"Translations!$B$1239","v":"PFK-emissies"}]
[null,null,null,null,null,null,null,null,null,{"$f":"I_PFC!D89","v":"Productie van primair aluminium:"},null,null,{"$f":"I_PFC!D94","v":"Methode A: Aantal anode-effecten per celdag"},null,null,{"$f":"I_PFC!D99","v":"Methode A: gemiddeld aantal anode-effectminuten per gebeurtenis"},null,null,{"$f":"I_PFC!D104","v":"Methode B: anode-effectoverspanning per cel"},null,null,{"$f":"I_PFC!D109","v":"Methode B: Stroomrendement"},null,null,{"$f":"I_PFC!E118","v":"HEFCF4 Hellingsemissiefactor"},null,null,null,null,null,null,null,{"$f":"I_PFC!E119","v":"OSC (Overspanningscoëfficiënt)"},null,null,null,null,null,null,null,{"$f":"I_PFC!E120","v":"FCF2F6 – Massafractie van C2F6 "},null,null,null,null,null,null,null,{"$f":"I_PFC!E133","v":"Opvangrendement"}]
[null,{"$f":"Translations!$B$287","v":"Bronstroom ref. F1, F2, ..."},{"$f":"I_PFC!E49","v":"Bronstroomnaam"},{"$f":"I_PFC!H49","v":"Type bronstroom"},{"$f":"Translations!$B$310","v":"Volledige naam van de bronstroom (naam en type)"},{"$f":"Translations!$B$276","v":"Geschatte emissies in t CO2(e) per jaar"},{"$f":"Translations!$B$277","v":"Mogelijke categorie"},{"$f":"Translations!$B$311","v":"Geselecteerde categorie"},{"$f":"Translations!$B$647","v":"Celtype"},{"$f":"I_PFC!$E$90","v":"Vereist niveau voor de activiteitsgegevens:"},{"$f":"I_PFC!$E$91","v":"Gebruikt niveau voor de activiteitsgegevens:"},{"$f":"I_PFC!$E$92","v":"Bereikte onzekerheid:"},{"$f":"I_PFC!$E$90","v":"Vereist niveau voor de activiteitsgegevens:"},{"$f":"I_PFC!$E$91","v":"Gebruikt niveau voor de activiteitsgegevens:"},{"$f":"I_PFC!$E$92","v":"Bereikte onzekerheid:"},{"$f":"I_PFC!$E$90","v":"Vereist niveau voor de activiteitsgegevens:"},{"$f":"I_PFC!$E$91","v":"Gebruikt niveau voor de activiteitsgegevens:"},{"$f":"I_PFC!$E$92","v":"Bereikte onzekerheid:"},{"$f":"I_PFC!$E$90","v":"Vereist niveau voor de activiteitsgegevens:"},{"$f":"I_PFC!$E$91","v":"Gebruikt niveau voor de activiteitsgegevens:"},{"$f":"I_PFC!$E$92","v":"Bereikte onzekerheid:"},{"$f":"I_PFC!$E$90","v":"Vereist niveau voor de activiteitsgegevens:"},{"$f":"I_PFC!$E$91","v":"Gebruikt niveau voor de activiteitsgegevens:"},{"$f":"I_PFC!$E$92","v":"Bereikte onzekerheid:"},{"$f":"I_PFC!$H$117","v":"vereist niveau"},{"$f":"I_PFC!$H$124","v":"toegepast niveau"},{"$f":"I_PFC!$I$124","v":"standaard- of meest recente waarde"},{"$f":"I_PFC!$J$124","v":"Eenheid"},{"$f":"I_PFC!$K$124","v":"bronreferentie"},{"$f":"I_PFC!$L$124","v":"analysereferentie"},{"$f":"I_PFC!$M$124","v":"datum van de meest recente analyse"},{"$f":"I_PFC!$N$124","v":"Analysefrequentie"},{"$f":"I_PFC!$H$117","v":"vereist niveau"},{"$f":"I_PFC!$H$124","v":"toegepast niveau"},{"$f":"I_PFC!$I$124","v":"standaard- of meest recente waarde"},{"$f":"I_PFC!$J$124","v":"Eenheid"},{"$f":"I_PFC!$K$124","v":"bronreferentie"},{"$f":"I_PFC!$L$124","v":"analysereferentie"},{"$f":"I_PFC!$M$124","v":"datum van de meest recente analyse"},{"$f":"I_PFC!$N$124","v":"Analysefrequentie"},{"$f":"I_PFC!$H$117","v":"vereist niveau"},{"$f":"I_PFC!$H$124","v":"toegepast niveau"},{"$f":"I_PFC!$I$124","v":"standaard- of meest recente waarde"},{"$f":"I_PFC!$J$124","v":"Eenheid"},{"$f":"I_PFC!$K$124","v":"bronreferentie"},{"$f":"I_PFC!$L$124","v":"analysereferentie"},{"$f":"I_PFC!$M$124","v":"datum van de meest recente analyse"},{"$f":"I_PFC!$N$124","v":"Analysefrequentie"},{"$f":"I_PFC!$I$124","v":"standaard- of meest recente waarde"},{"$f":"I_PFC!$J$124","v":"Eenheid"},{"$f":"I_PFC!$K$124","v":"bronreferentie"},{"$f":"I_PFC!$L$124","v":"analysereferentie"},{"$f":"I_PFC!$M$124","v":"datum van de meest recente analyse"},{"$f":"I_PFC!$N$124","v":"Analysefrequentie"},{"$f":"Translations!$B$546","v":"Opmerkingen:"},{"$f":"Translations!$B$548","v":"U dient een verklaring te geven als de vereiste niveaus niet worden toegepast:"}]
[null,{"$f":"IF(OR(B110=\"\",CK111),\"\",I_PFC!D50)","v":""},{"$f":"IF(B111=\"\",\"\",I_PFC!E50)","v":""},{"$f":"IF(B111=\"\",\"\",I_PFC!H50)","v":""},{"$f":"IF($B111=\"\",\"\",INDEX(C_InstallationDescription!F:F,MATCH($CJ111,C_InstallationDescription!$Q:$Q,0)))","v":""},{"$f":"IF($E111=\"\",\"\",INDEX(C_InstallationDescription!L:L,MATCH($CJ111,C_InstallationDescription!$Q:$Q,0)))","v":""},{"$f":"IF($E111=\"\",\"\",INDEX(C_InstallationDescription!M:M,MATCH($CJ111,C_InstallationDescription!$Q:$Q,0)))","v":""},{"$f":"IF($E111=\"\",\"\",INDEX(C_InstallationDescription!N:N,MATCH($CJ111,C_InstallationDescription!$Q:$Q,0)))","v":""},{"$f":"IF(INDEX(I_PFC!$L$50:$L$56,MATCH(B111,I_PFC!$D$50:$D$56,0))=\"\",\"\",INDEX(I_PFC!$L$50:$L$56,MATCH(B111,I_PFC!$D$50:$D$56,0)))","v":""},{"$f":"IF($E111=\"\",\"\",INDEX(I_PFC!$A:$N,CL111,J$107))","v":""},{"$f":"IF($E111=\"\",\"\",INDEX(I_PFC!$A:$N,CM111,K$107))","v":""},{"$f":"IF($E111=\"\",\"\",INDEX(I_PFC!$A:$N,CN111,L$107))","v":""},{"$f":"IF($E111=\"\",\"\",INDEX(I_PFC!$A:$N,CO111,M$107))","v":""},{"$f":"IF($E111=\"\",\"\",INDEX(I_PFC!$A:$N,CP111,N$107))","v":""},{"$f":"IF($E111=\"\",\"\",INDEX(I_PFC!$A:$N,CQ111,O$107))","v":""},{"$f":"IF($E111=\"\",\"\",INDEX(I_PFC!$A:$N,CR111,P$107))","v":""},{"$f":"IF($E111=\"\",\"\",INDEX(I_PFC!$A:$N,CS111,Q$107))","v":""},{"$f":"IF($E111=\"\",\"\",INDEX(I_PFC!$A:$N,CT111,R$107))","v":""},{"$f":"IF($E111=\"\",\"\",INDEX(I_PFC!$A:$N,CU111,S$107))","v":""},{"$f":"IF($E111=\"\",\"\",INDEX(I_PFC!$A:$N,CV111,T$107))","v":""},{"$f":"IF($E111=\"\",\"\",INDEX(I_PFC!$A:$N,CW111,U$107))","v":""},{"$f":"IF($E111=\"\",\"\",INDEX(I_PFC!$A:$N,CX111,V$107))","v":""},{"$f":"IF($E111=\"\",\"\",INDEX(I_PFC!$A:$N,CY111,W$107))","v":""},{"$f":"IF($E111=\"\",\"\",INDEX(I_PFC!$A:$N,CZ111,X$107))","v":""},{"$f":"IF($E111=\"\",\"\",INDEX(I_PFC!$A:$N,DA111,Y$107))","v":""},{"$f":"IF($E111=\"\",\"\",INDEX(I_PFC!$A:$N,DB111,Z$107))","v":""},{"$f":"IF($E111=\"\",\"\",INDEX(I_PFC!$A:$N,DC111,AA$107))","v":""},{"$f":"IF($E111=\"\",\"\",INDEX(I_PFC!$A:$N,DD111,AB$107))","v":""},{"$f":"IF($E111=\"\",\"\",INDEX(I_PFC!$A:$N,DE111,AC$107))","v":""},{"$f":"IF($E111=\"\",\"\",INDEX(I_PFC!$A:$N,DF111,AD$107))","v":""},{"$f":"IF($E111=\"\",\"\",INDEX(I_PFC!$A:$N,DG111,AE$107))","v":""},{"$f":"IF($E111=\"\",\"\",INDEX(I_PFC!$A:$N,DH111,AF$107))","v":""},{"$f":"IF($E111=\"\",\"\",INDEX(I_PFC!$A:$N,DI111,AG$107))","v":""},{"$f":"IF($E111=\"\",\"\",INDEX(I_PFC!$A:$N,DJ111,AH$107))","v":""},{"$f":"IF($E111=\"\",\"\",INDEX(I_PFC!$A:$N,DK111,AI$107))","v":""},{"$f":"IF($E111=\"\",\"\",INDEX(I_PFC!$A:$N,DL111,AJ$107))","v":""},{"$f":"IF($E111=\"\",\"\",INDEX(I_PFC!$A:$N,DM111,AK$107))","v":""},{"$f":"IF($E111=\"\",\"\",INDEX(I_PFC!$A:$N,DN111,AL$107))","v":""},{"$f":"IF($E111=\"\",\"\",INDEX(I_PFC!$A:$N,DO111,AM$107))","v":""},{"$f":"IF($E111=\"\",\"\",INDEX(I_PFC!$A:$N,DP111,AN$107))","v":""},{"$f":"IF($E111=\"\",\"\",INDEX(I_PFC!$A:$N,DQ111,AO$107))","v":""},{"$f":"IF($E111=\"\",\"\",INDEX(I_PFC!$A:$N,DR111,AP$107))","v":""},{"$f":"IF($E111=\"\",\"\",INDEX(I_PFC!$A:$N,DS111,AQ$107))","v":""},{"$f":"IF($E111=\"\",\"\",INDEX(I_PFC!$A:$N,DT111,AR$107))","v":""},{"$f":"IF($E111=\"\",\"\",INDEX(I_PFC!$A:$N,DU111,AS$107))","v":""},{"$f":"IF($E111=\"\",\"\",INDEX(I_PFC!$A:$N,DV111,AT$107))","v":""},{"$f":"IF($E111=\"\",\"\",INDEX(I_PFC!$A:$N,DW111,AU$107))","v":""},{"$f":"IF($E111=\"\",\"\",INDEX(I_PFC!$A:$N,DX111,AV$107))","v":""},{"$f":"IF($E111=\"\",\"\",INDEX(I_PFC!$A:$N,DY111,AW$107))","v":""},{"$f":"IF($E111=\"\",\"\",INDEX(I_PFC!$A:$N,DZ111,AX$107))","v":""},{"$f":"IF($E111=\"\",\"\",INDEX(I_PFC!$A:$N,EA111,AY$107))","v":""},{"$f":"IF($E111=\"\",\"\",INDEX(I_PFC!$A:$N,EB111,AZ$107))","v":""},{"$f":"IF($E111=\"\",\"\",INDEX(I_PFC!$A:$N,EC111,BA$107))","v":""},{"$f":"IF($E111=\"\",\"\",INDEX(I_PFC!$A:$N,ED111,BB$107))","v":""},{"$f":"IF($E111=\"\",\"\",INDEX(I_PFC!$A:$N,EE111,BC$107))","v":""},{"$f":"IF($E111=\"\",\"\",INDEX(I_PFC!$A:$N,EF111,BD$107))","v":""},null,null,null,null,null,null,null,null,null,null,null,null,null,null,null,null,null,null,null,null,null,null,null,null,null,null,null,null,null,null,null,{"$f":"EUconst_CNTR_SourceCategory&B111","v":"SourceCategory_"},{"$f":"INDEX(I_PFC!$A$50:$A$60,ROWS($CI$111:CI111))=\"ausblenden\"","v":false},90,91,92,95,96,97,100,101,102,105,106,107,110,111,112,118,125,125,125,125,125,125,125,{"$f":"DA111+1","v":119},{"$f":"DB111+1","v":126},126,126,126,126,126,126,120,127,127,127,127,127,127,127,133,133,133,133,133,133,139,147]
[null,{"$f":"IF(OR(B111=\"\",CK112),\"\",I_PFC!D51)","v":""},{"$f":"IF(B112=\"\",\"\",I_PFC!E51)","v":""},{"$f":"IF(B112=\"\",\"\",I_PFC!H51)","v":""},{"$f":"IF($B112=\"\",\"\",INDEX(C_InstallationDescription!F:F,MATCH($CJ112,C_InstallationDescription!$Q:$Q,0)))","v":""},{"$f":"IF($E112=\"\",\"\",INDEX(C_InstallationDescription!L:L,MATCH($CJ112,C_InstallationDescription!$Q:$Q,0)))","v":""},{"$f":"IF($E112=\"\",\"\",INDEX(C_InstallationDescription!M:M,MATCH($CJ112,C_InstallationDescription!$Q:$Q,0)))","v":""},{"$f":"IF($E112=\"\",\"\",INDEX(C_InstallationDescription!N:N,MATCH($CJ112,C_InstallationDescription!$Q:$Q,0)))","v":""},{"$f":"IF(INDEX(I_PFC!$L$50:$L$56,MATCH(B112,I_PFC!$D$50:$D$56,0))=\"\",\"\",INDEX(I_PFC!$L$50:$L$56,MATCH(B112,I_PFC!$D$50:$D$56,0)))","v":""},{"$f":"IF($E112=\"\",\"\",INDEX(I_PFC!$A:$N,CL112,J$107))","v":""},{"$f":"IF($E112=\"\",\"\",INDEX(I_PFC!$A:$N,CM112,K$107))","v":""},{"$f":"IF($E112=\"\",\"\",INDEX(I_PFC!$A:$N,CN112,L$107))","v":""},{"$f":"IF($E112=\"\",\"\",INDEX(I_PFC!$A:$N,CO112,M$107))","v":""},{"$f":"IF($E112=\"\",\"\",INDEX(I_PFC!$A:$N,CP112,N$107))","v":""},{"$f":"IF($E112=\"\",\"\",INDEX(I_PFC!$A:$N,CQ112,O$107))","v":""},{"$f":"IF($E112=\"\",\"\",INDEX(I_PFC!$A:$N,CR112,P$107))","v":""},{"$f":"IF($E112=\"\",\"\",INDEX(I_PFC!$A:$N,CS112,Q$107))","v":""},{"$f":"IF($E112=\"\",\"\",INDEX(I_PFC!$A:$N,CT112,R$107))","v":""},{"$f":"IF($E112=\"\",\"\",INDEX(I_PFC!$A:$N,CU112,S$107))","v":""},{"$f":"IF($E112=\"\",\"\",INDEX(I_PFC!$A:$N,CV112,T$107))","v":""},{"$f":"IF($E112=\"\",\"\",INDEX(I_PFC!$A:$N,CW112,U$107))","v":""},{"$f":"IF($E112=\"\",\"\",INDEX(I_PFC!$A:$N,CX112,V$107))","v":""},{"$f":"IF($E112=\"\",\"\",INDEX(I_PFC!$A:$N,CY112,W$107))","v":""},{"$f":"IF($E112=\"\",\"\",INDEX(I_PFC!$A:$N,CZ112,X$107))","v":""},{"$f":"IF($E112=\"\",\"\",INDEX(I_PFC!$A:$N,DA112,Y$107))","v":""},{"$f":"IF($E112=\"\",\"\",INDEX(I_PFC!$A:$N,DB112,Z$107))","v":""},{"$f":"IF($E112=\"\",\"\",INDEX(I_PFC!$A:$N,DC112,AA$107))","v":""},{"$f":"IF($E112=\"\",\"\",INDEX(I_PFC!$A:$N,DD112,AB$107))","v":""},{"$f":"IF($E112=\"\",\"\",INDEX(I_PFC!$A:$N,DE112,AC$107))","v":""},{"$f":"IF($E112=\"\",\"\",INDEX(I_PFC!$A:$N,DF112,AD$107))","v":""},{"$f":"IF($E112=\"\",\"\",INDEX(I_PFC!$A:$N,DG112,AE$107))","v":""},{"$f":"IF($E112=\"\",\"\",INDEX(I_PFC!$A:$N,DH112,AF$107))","v":""},{"$f":"IF($E112=\"\",\"\",INDEX(I_PFC!$A:$N,DI112,AG$107))","v":""},{"$f":"IF($E112=\"\",\"\",INDEX(I_PFC!$A:$N,DJ112,AH$107))","v":""},{"$f":"IF($E112=\"\",\"\",INDEX(I_PFC!$A:$N,DK112,AI$107))","v":""},{"$f":"IF($E112=\"\",\"\",INDEX(I_PFC!$A:$N,DL112,AJ$107))","v":""},{"$f":"IF($E112=\"\",\"\",INDEX(I_PFC!$A:$N,DM112,AK$107))","v":""},{"$f":"IF($E112=\"\",\"\",INDEX(I_PFC!$A:$N,DN112,AL$107))","v":""},{"$f":"IF($E112=\"\",\"\",INDEX(I_PFC!$A:$N,DO112,AM$107))","v":""},{"$f":"IF($E112=\"\",\"\",INDEX(I_PFC!$A:$N,DP112,AN$107))","v":""},{"$f":"IF($E112=\"\",\"\",INDEX(I_PFC!$A:$N,DQ112,AO$107))","v":""},{"$f":"IF($E112=\"\",\"\",INDEX(I_PFC!$A:$N,DR112,AP$107))","v":""},{"$f":"IF($E112=\"\",\"\",INDEX(I_PFC!$A:$N,DS112,AQ$107))","v":""},{"$f":"IF($E112=\"\",\"\",INDEX(I_PFC!$A:$N,DT112,AR$107))","v":""},{"$f":"IF($E112=\"\",\"\",INDEX(I_PFC!$A:$N,DU112,AS$107))","v":""},{"$f":"IF($E112=\"\",\"\",INDEX(I_PFC!$A:$N,DV112,AT$107))","v":""},{"$f":"IF($E112=\"\",\"\",INDEX(I_PFC!$A:$N,DW112,AU$107))","v":""},{"$f":"IF($E112=\"\",\"\",INDEX(I_PFC!$A:$N,DX112,AV$107))","v":""},{"$f":"IF($E112=\"\",\"\",INDEX(I_PFC!$A:$N,DY112,AW$107))","v":""},{"$f":"IF($E112=\"\",\"\",INDEX(I_PFC!$A:$N,DZ112,AX$107))","v":""},{"$f":"IF($E112=\"\",\"\",INDEX(I_PFC!$A:$N,EA112,AY$107))","v":""},{"$f":"IF($E112=\"\",\"\",INDEX(I_PFC!$A:$N,EB112,AZ$107))","v":""},{"$f":"IF($E112=\"\",\"\",INDEX(I_PFC!$A:$N,EC112,BA$107))","v":""},{"$f":"IF($E112=\"\",\"\",INDEX(I_PFC!$A:$N,ED112,BB$107))","v":""},{"$f":"IF($E112=\"\",\"\",INDEX(I_PFC!$A:$N,EE112,BC$107))","v":""},{"$f":"IF($E112=\"\",\"\",INDEX(I_PFC!$A:$N,EF112,BD$107))","v":""},null,null,null,null,null,null,null,null,null,null,null,null,null,null,null,null,null,null,null,null,null,null,null,null,null,null,null,null,null,null,null,"SourceCategory_",{"$f":"INDEX(I_PFC!$A$50:$A$60,ROWS($CI$111:CI112))=\"ausblenden\"","v":false},{"$f":"CL111+75","v":165},{"$f":"CM111+75","v":166},167,170,171,172,175,176,177,180,181,182,185,186,187,193,200,200,200,200,200,200,200,194,201,201,201,201,201,201,201,195,202,202,202,202,202,202,202,208,208,208,208,208,208,213,219]
[null,{"$f":"IF(OR(B112=\"\",CK113),\"\",I_PFC!D52)","v":""},{"$f":"IF(B113=\"\",\"\",I_PFC!E52)","v":""},{"$f":"IF(B113=\"\",\"\",I_PFC!H52)","v":""},{"$f":"IF($B113=\"\",\"\",INDEX(C_InstallationDescription!F:F,MATCH($CJ113,C_InstallationDescription!$Q:$Q,0)))","v":""},{"$f":"IF($E113=\"\",\"\",INDEX(C_InstallationDescription!L:L,MATCH($CJ113,C_InstallationDescription!$Q:$Q,0)))","v":""},{"$f":"IF($E113=\"\",\"\",INDEX(C_InstallationDescription!M:M,MATCH($CJ113,C_InstallationDescription!$Q:$Q,0)))","v":""},{"$f":"IF($E113=\"\",\"\",INDEX(C_InstallationDescription!N:N,MATCH($CJ113,C_InstallationDescription!$Q:$Q,0)))","v":""},{"$f":"IF(INDEX(I_PFC!$L$50:$L$56,MATCH(B113,I_PFC!$D$50:$D$56,0))=\"\",\"\",INDEX(I_PFC!$L$50:$L$56,MATCH(B113,I_PFC!$D$50:$D$56,0)))","v":""},{"$f":"IF($E113=\"\",\"\",INDEX(I_PFC!$A:$N,CL113,J$107))","v":""},{"$f":"IF($E113=\"\",\"\",INDEX(I_PFC!$A:$N,CM113,K$107))","v":""},{"$f":"IF($E113=\"\",\"\",INDEX(I_PFC!$A:$N,CN113,L$107))","v":""},{"$f":"IF($E113=\"\",\"\",INDEX(I_PFC!$A:$N,CO113,M$107))","v":""},{"$f":"IF($E113=\"\",\"\",INDEX(I_PFC!$A:$N,CP113,N$107))","v":""},{"$f":"IF($E113=\"\",\"\",INDEX(I_PFC!$A:$N,CQ113,O$107))","v":""},{"$f":"IF($E113=\"\",\"\",INDEX(I_PFC!$A:$N,CR113,P$107))","v":""},{"$f":"IF($E113=\"\",\"\",INDEX(I_PFC!$A:$N,CS113,Q$107))","v":""},{"$f":"IF($E113=\"\",\"\",INDEX(I_PFC!$A:$N,CT113,R$107))","v":""},{"$f":"IF($E113=\"\",\"\",INDEX(I_PFC!$A:$N,CU113,S$107))","v":""},{"$f":"IF($E113=\"\",\"\",INDEX(I_PFC!$A:$N,CV113,T$107))","v":""},{"$f":"IF($E113=\"\",\"\",INDEX(I_PFC!$A:$N,CW113,U$107))","v":""},{"$f":"IF($E113=\"\",\"\",INDEX(I_PFC!$A:$N,CX113,V$107))","v":""},{"$f":"IF($E113=\"\",\"\",INDEX(I_PFC!$A:$N,CY113,W$107))","v":""},{"$f":"IF($E113=\"\",\"\",INDEX(I_PFC!$A:$N,CZ113,X$107))","v":""},{"$f":"IF($E113=\"\",\"\",INDEX(I_PFC!$A:$N,DA113,Y$107))","v":""},{"$f":"IF($E113=\"\",\"\",INDEX(I_PFC!$A:$N,DB113,Z$107))","v":""},{"$f":"IF($E113=\"\",\"\",INDEX(I_PFC!$A:$N,DC113,AA$107))","v":""},{"$f":"IF($E113=\"\",\"\",INDEX(I_PFC!$A:$N,DD113,AB$107))","v":""},{"$f":"IF($E113=\"\",\"\",INDEX(I_PFC!$A:$N,DE113,AC$107))","v":""},{"$f":"IF($E113=\"\",\"\",INDEX(I_PFC!$A:$N,DF113,AD$107))","v":""},{"$f":"IF($E113=\"\",\"\",INDEX(I_PFC!$A:$N,DG113,AE$107))","v":""},{"$f":"IF($E113=\"\",\"\",INDEX(I_PFC!$A:$N,DH113,AF$107))","v":""},{"$f":"IF($E113=\"\",\"\",INDEX(I_PFC!$A:$N,DI113,AG$107))","v":""},{"$f":"IF($E113=\"\",\"\",INDEX(I_PFC!$A:$N,DJ113,AH$107))","v":""},{"$f":"IF($E113=\"\",\"\",INDEX(I_PFC!$A:$N,DK113,AI$107))","v":""},{"$f":"IF($E113=\"\",\"\",INDEX(I_PFC!$A:$N,DL113,AJ$107))","v":""},{"$f":"IF($E113=\"\",\"\",INDEX(I_PFC!$A:$N,DM113,AK$107))","v":""},{"$f":"IF($E113=\"\",\"\",INDEX(I_PFC!$A:$N,DN113,AL$107))","v":""},{"$f":"IF($E113=\"\",\"\",INDEX(I_PFC!$A:$N,DO113,AM$107))","v":""},{"$f":"IF($E113=\"\",\"\",INDEX(I_PFC!$A:$N,DP113,AN$107))","v":""},{"$f":"IF($E113=\"\",\"\",INDEX(I_PFC!$A:$N,DQ113,AO$107))","v":""},{"$f":"IF($E113=\"\",\"\",INDEX(I_PFC!$A:$N,DR113,AP$107))","v":""},{"$f":"IF($E113=\"\",\"\",INDEX(I_PFC!$A:$N,DS113,AQ$107))","v":""},{"$f":"IF($E113=\"\",\"\",INDEX(I_PFC!$A:$N,DT113,AR$107))","v":""},{"$f":"IF($E113=\"\",\"\",INDEX(I_PFC!$A:$N,DU113,AS$107))","v":""},{"$f":"IF($E113=\"\",\"\",INDEX(I_PFC!$A:$N,DV113,AT$107))","v":""},{"$f":"IF($E113=\"\",\"\",INDEX(I_PFC!$A:$N,DW113,AU$107))","v":""},{"$f":"IF($E113=\"\",\"\",INDEX(I_PFC!$A:$N,DX113,AV$107))","v":""},{"$f":"IF($E113=\"\",\"\",INDEX(I_PFC!$A:$N,DY113,AW$107))","v":""},{"$f":"IF($E113=\"\",\"\",INDEX(I_PFC!$A:$N,DZ113,AX$107))","v":""},{"$f":"IF($E113=\"\",\"\",INDEX(I_PFC!$A:$N,EA113,AY$107))","v":""},{"$f":"IF($E113=\"\",\"\",INDEX(I_PFC!$A:$N,EB113,AZ$107))","v":""},{"$f":"IF($E113=\"\",\"\",INDEX(I_PFC!$A:$N,EC113,BA$107))","v":""},{"$f":"IF($E113=\"\",\"\",INDEX(I_PFC!$A:$N,ED113,BB$107))","v":""},{"$f":"IF($E113=\"\",\"\",INDEX(I_PFC!$A:$N,EE113,BC$107))","v":""},{"$f":"IF($E113=\"\",\"\",INDEX(I_PFC!$A:$N,EF113,BD$107))","v":""},null,null,null,null,null,null,null,null,null,null,null,null,null,null,null,null,null,null,null,null,null,null,null,null,null,null,null,null,null,null,null,"SourceCategory_",{"$f":"INDEX(I_PFC!$A$50:$A$60,ROWS($CI$111:CI113))=\"ausblenden\"","v":false},{"$f":"CL112+72","v":237},{"$f":"CM112+72","v":238},239,242,243,244,247,248,249,252,253,254,257,258,259,265,272,272,272,272,272,272,272,266,273,273,273,273,273,273,273,267,274,274,274,274,274,274,274,280,280,280,280,280,280,285,291]
[null,{"$f":"IF(OR(B113=\"\",CK114),\"\",I_PFC!D53)","v":""},{"$f":"IF(B114=\"\",\"\",I_PFC!E53)","v":""},{"$f":"IF(B114=\"\",\"\",I_PFC!H53)","v":""},{"$f":"IF($B114=\"\",\"\",INDEX(C_InstallationDescription!F:F,MATCH($CJ114,C_InstallationDescription!$Q:$Q,0)))","v":""},{"$f":"IF($E114=\"\",\"\",INDEX(C_InstallationDescription!L:L,MATCH($CJ114,C_InstallationDescription!$Q:$Q,0)))","v":""},{"$f":"IF($E114=\"\",\"\",INDEX(C_InstallationDescription!M:M,MATCH($CJ114,C_InstallationDescription!$Q:$Q,0)))","v":""},{"$f":"IF($E114=\"\",\"\",INDEX(C_InstallationDescription!N:N,MATCH($CJ114,C_InstallationDescription!$Q:$Q,0)))","v":""},{"$f":"IF(INDEX(I_PFC!$L$50:$L$56,MATCH(B114,I_PFC!$D$50:$D$56,0))=\"\",\"\",INDEX(I_PFC!$L$50:$L$56,MATCH(B114,I_PFC!$D$50:$D$56,0)))","v":""},{"$f":"IF($E114=\"\",\"\",INDEX(I_PFC!$A:$N,CL114,J$107))","v":""},{"$f":"IF($E114=\"\",\"\",INDEX(I_PFC!$A:$N,CM114,K$107))","v":""},{"$f":"IF($E114=\"\",\"\",INDEX(I_PFC!$A:$N,CN114,L$107))","v":""},{"$f":"IF($E114=\"\",\"\",INDEX(I_PFC!$A:$N,CO114,M$107))","v":""},{"$f":"IF($E114=\"\",\"\",INDEX(I_PFC!$A:$N,CP114,N$107))","v":""},{"$f":"IF($E114=\"\",\"\",INDEX(I_PFC!$A:$N,CQ114,O$107))","v":""},{"$f":"IF($E114=\"\",\"\",INDEX(I_PFC!$A:$N,CR114,P$107))","v":""},{"$f":"IF($E114=\"\",\"\",INDEX(I_PFC!$A:$N,CS114,Q$107))","v":""},{"$f":"IF($E114=\"\",\"\",INDEX(I_PFC!$A:$N,CT114,R$107))","v":""},{"$f":"IF($E114=\"\",\"\",INDEX(I_PFC!$A:$N,CU114,S$107))","v":""},{"$f":"IF($E114=\"\",\"\",INDEX(I_PFC!$A:$N,CV114,T$107))","v":""},{"$f":"IF($E114=\"\",\"\",INDEX(I_PFC!$A:$N,CW114,U$107))","v":""},{"$f":"IF($E114=\"\",\"\",INDEX(I_PFC!$A:$N,CX114,V$107))","v":""},{"$f":"IF($E114=\"\",\"\",INDEX(I_PFC!$A:$N,CY114,W$107))","v":""},{"$f":"IF($E114=\"\",\"\",INDEX(I_PFC!$A:$N,CZ114,X$107))","v":""},{"$f":"IF($E114=\"\",\"\",INDEX(I_PFC!$A:$N,DA114,Y$107))","v":""},{"$f":"IF($E114=\"\",\"\",INDEX(I_PFC!$A:$N,DB114,Z$107))","v":""},{"$f":"IF($E114=\"\",\"\",INDEX(I_PFC!$A:$N,DC114,AA$107))","v":""},{"$f":"IF($E114=\"\",\"\",INDEX(I_PFC!$A:$N,DD114,AB$107))","v":""},{"$f":"IF($E114=\"\",\"\",INDEX(I_PFC!$A:$N,DE114,AC$107))","v":""},{"$f":"IF($E114=\"\",\"\",INDEX(I_PFC!$A:$N,DF114,AD$107))","v":""},{"$f":"IF($E114=\"\",\"\",INDEX(I_PFC!$A:$N,DG114,AE$107))","v":""},{"$f":"IF($E114=\"\",\"\",INDEX(I_PFC!$A:$N,DH114,AF$107))","v":""},{"$f":"IF($E114=\"\",\"\",INDEX(I_PFC!$A:$N,DI114,AG$107))","v":""},{"$f":"IF($E114=\"\",\"\",INDEX(I_PFC!$A:$N,DJ114,AH$107))","v":""},{"$f":"IF($E114=\"\",\"\",INDEX(I_PFC!$A:$N,DK114,AI$107))","v":""},{"$f":"IF($E114=\"\",\"\",INDEX(I_PFC!$A:$N,DL114,AJ$107))","v":""},{"$f":"IF($E114=\"\",\"\",INDEX(I_PFC!$A:$N,DM114,AK$107))","v":""},{"$f":"IF($E114=\"\",\"\",INDEX(I_PFC!$A:$N,DN114,AL$107))","v":""},{"$f":"IF($E114=\"\",\"\",INDEX(I_PFC!$A:$N,DO114,AM$107))","v":""},{"$f":"IF($E114=\"\",\"\",INDEX(I_PFC!$A:$N,DP114,AN$107))","v":""},{"$f":"IF($E114=\"\",\"\",INDEX(I_PFC!$A:$N,DQ114,AO$107))","v":""},{"$f":"IF($E114=\"\",\"\",INDEX(I_PFC!$A:$N,DR114,AP$107))","v":""},{"$f":"IF($E114=\"\",\"\",INDEX(I_PFC!$A:$N,DS114,AQ$107))","v":""},{"$f":"IF($E114=\"\",\"\",INDEX(I_PFC!$A:$N,DT114,AR$107))","v":""},{"$f":"IF($E114=\"\",\"\",INDEX(I_PFC!$A:$N,DU114,AS$107))","v":""},{"$f":"IF($E114=\"\",\"\",INDEX(I_PFC!$A:$N,DV114,AT$107))","v":""},{"$f":"IF($E114=\"\",\"\",INDEX(I_PFC!$A:$N,DW114,AU$107))","v":""},{"$f":"IF($E114=\"\",\"\",INDEX(I_PFC!$A:$N,DX114,AV$107))","v":""},{"$f":"IF($E114=\"\",\"\",INDEX(I_PFC!$A:$N,DY114,AW$107))","v":""},{"$f":"IF($E114=\"\",\"\",INDEX(I_PFC!$A:$N,DZ114,AX$107))","v":""},{"$f":"IF($E114=\"\",\"\",INDEX(I_PFC!$A:$N,EA114,AY$107))","v":""},{"$f":"IF($E114=\"\",\"\",INDEX(I_PFC!$A:$N,EB114,AZ$107))","v":""},{"$f":"IF($E114=\"\",\"\",INDEX(I_PFC!$A:$N,EC114,BA$107))","v":""},{"$f":"IF($E114=\"\",\"\",INDEX(I_PFC!$A:$N,ED114,BB$107))","v":""},{"$f":"IF($E114=\"\",\"\",INDEX(I_PFC!$A:$N,EE114,BC$107))","v":""},{"$f":"IF($E114=\"\",\"\",INDEX(I_PFC!$A:$N,EF114,BD$107))","v":""},null,null,null,null,null,null,null,null,null,null,null,null,null,null,null,null,null,null,null,null,null,null,null,null,null,null,null,null,null,null,null,"SourceCategory_",{"$f":"INDEX(I_PFC!$A$50:$A$60,ROWS($CI$111:CI114))=\"ausblenden\"","v":false},309,310,311,314,315,316,319,320,321,324,325,326,329,330,331,337,344,344,344,344,344,344,344,338,345,345,345,345,345,345,345,339,346,346,346,346,346,346,346,352,352,352,352,352,352,357,363]
[null,{"$f":"IF(OR(B114=\"\",CK115),\"\",I_PFC!D54)","v":""},{"$f":"IF(B115=\"\",\"\",I_PFC!E54)","v":""},{"$f":"IF(B115=\"\",\"\",I_PFC!H54)","v":""},{"$f":"IF($B115=\"\",\"\",INDEX(C_InstallationDescription!F:F,MATCH($CJ115,C_InstallationDescription!$Q:$Q,0)))","v":""},{"$f":"IF($E115=\"\",\"\",INDEX(C_InstallationDescription!L:L,MATCH($CJ115,C_InstallationDescription!$Q:$Q,0)))","v":""},{"$f":"IF($E115=\"\",\"\",INDEX(C_InstallationDescription!M:M,MATCH($CJ115,C_InstallationDescription!$Q:$Q,0)))","v":""},{"$f":"IF($E115=\"\",\"\",INDEX(C_InstallationDescription!N:N,MATCH($CJ115,C_InstallationDescription!$Q:$Q,0)))","v":""},{"$f":"IF(INDEX(I_PFC!$L$50:$L$56,MATCH(B115,I_PFC!$D$50:$D$56,0))=\"\",\"\",INDEX(I_PFC!$L$50:$L$56,MATCH(B115,I_PFC!$D$50:$D$56,0)))","v":""},{"$f":"IF($E115=\"\",\"\",INDEX(I_PFC!$A:$N,CL115,J$107))","v":""},{"$f":"IF($E115=\"\",\"\",INDEX(I_PFC!$A:$N,CM115,K$107))","v":""},{"$f":"IF($E115=\"\",\"\",INDEX(I_PFC!$A:$N,CN115,L$107))","v":""},{"$f":"IF($E115=\"\",\"\",INDEX(I_PFC!$A:$N,CO115,M$107))","v":""},{"$f":"IF($E115=\"\",\"\",INDEX(I_PFC!$A:$N,CP115,N$107))","v":""},{"$f":"IF($E115=\"\",\"\",INDEX(I_PFC!$A:$N,CQ115,O$107))","v":""},{"$f":"IF($E115=\"\",\"\",INDEX(I_PFC!$A:$N,CR115,P$107))","v":""},{"$f":"IF($E115=\"\",\"\",INDEX(I_PFC!$A:$N,CS115,Q$107))","v":""},{"$f":"IF($E115=\"\",\"\",INDEX(I_PFC!$A:$N,CT115,R$107))","v":""},{"$f":"IF($E115=\"\",\"\",INDEX(I_PFC!$A:$N,CU115,S$107))","v":""},{"$f":"IF($E115=\"\",\"\",INDEX(I_PFC!$A:$N,CV115,T$107))","v":""},{"$f":"IF($E115=\"\",\"\",INDEX(I_PFC!$A:$N,CW115,U$107))","v":""},{"$f":"IF($E115=\"\",\"\",INDEX(I_PFC!$A:$N,CX115,V$107))","v":""},{"$f":"IF($E115=\"\",\"\",INDEX(I_PFC!$A:$N,CY115,W$107))","v":""},{"$f":"IF($E115=\"\",\"\",INDEX(I_PFC!$A:$N,CZ115,X$107))","v":""},{"$f":"IF($E115=\"\",\"\",INDEX(I_PFC!$A:$N,DA115,Y$107))","v":""},{"$f":"IF($E115=\"\",\"\",INDEX(I_PFC!$A:$N,DB115,Z$107))","v":""},{"$f":"IF($E115=\"\",\"\",INDEX(I_PFC!$A:$N,DC115,AA$107))","v":""},{"$f":"IF($E115=\"\",\"\",INDEX(I_PFC!$A:$N,DD115,AB$107))","v":""},{"$f":"IF($E115=\"\",\"\",INDEX(I_PFC!$A:$N,DE115,AC$107))","v":""},{"$f":"IF($E115=\"\",\"\",INDEX(I_PFC!$A:$N,DF115,AD$107))","v":""},{"$f":"IF($E115=\"\",\"\",INDEX(I_PFC!$A:$N,DG115,AE$107))","v":""},{"$f":"IF($E115=\"\",\"\",INDEX(I_PFC!$A:$N,DH115,AF$107))","v":""},{"$f":"IF($E115=\"\",\"\",INDEX(I_PFC!$A:$N,DI115,AG$107))","v":""},{"$f":"IF($E115=\"\",\"\",INDEX(I_PFC!$A:$N,DJ115,AH$107))","v":""},{"$f":"IF($E115=\"\",\"\",INDEX(I_PFC!$A:$N,DK115,AI$107))","v":""},{"$f":"IF($E115=\"\",\"\",INDEX(I_PFC!$A:$N,DL115,AJ$107))","v":""},{"$f":"IF($E115=\"\",\"\",INDEX(I_PFC!$A:$N,DM115,AK$107))","v":""},{"$f":"IF($E115=\"\",\"\",INDEX(I_PFC!$A:$N,DN115,AL$107))","v":""},{"$f":"IF($E115=\"\",\"\",INDEX(I_PFC!$A:$N,DO115,AM$107))","v":""},{"$f":"IF($E115=\"\",\"\",INDEX(I_PFC!$A:$N,DP115,AN$107))","v":""},{"$f":"IF($E115=\"\",\"\",INDEX(I_PFC!$A:$N,DQ115,AO$107))","v":""},{"$f":"IF($E115=\"\",\"\",INDEX(I_PFC!$A:$N,DR115,AP$107))","v":""},{"$f":"IF($E115=\"\",\"\",INDEX(I_PFC!$A:$N,DS115,AQ$107))","v":""},{"$f":"IF($E115=\"\",\"\",INDEX(I_PFC!$A:$N,DT115,AR$107))","v":""},{"$f":"IF($E115=\"\",\"\",INDEX(I_PFC!$A:$N,DU115,AS$107))","v":""},{"$f":"IF($E115=\"\",\"\",INDEX(I_PFC!$A:$N,DV115,AT$107))","v":""},{"$f":"IF($E115=\"\",\"\",INDEX(I_PFC!$A:$N,DW115,AU$107))","v":""},{"$f":"IF($E115=\"\",\"\",INDEX(I_PFC!$A:$N,DX115,AV$107))","v":""},{"$f":"IF($E115=\"\",\"\",INDEX(I_PFC!$A:$N,DY115,AW$107))","v":""},{"$f":"IF($E115=\"\",\"\",INDEX(I_PFC!$A:$N,DZ115,AX$107))","v":""},{"$f":"IF($E115=\"\",\"\",INDEX(I_PFC!$A:$N,EA115,AY$107))","v":""},{"$f":"IF($E115=\"\",\"\",INDEX(I_PFC!$A:$N,EB115,AZ$107))","v":""},{"$f":"IF($E115=\"\",\"\",INDEX(I_PFC!$A:$N,EC115,BA$107))","v":""},{"$f":"IF($E115=\"\",\"\",INDEX(I_PFC!$A:$N,ED115,BB$107))","v":""},{"$f":"IF($E115=\"\",\"\",INDEX(I_PFC!$A:$N,EE115,BC$107))","v":""},{"$f":"IF($E115=\"\",\"\",INDEX(I_PFC!$A:$N,EF115,BD$107))","v":""},null,null,null,null,null,null,null,null,null,null,null,null,null,null,null,null,null,null,null,null,null,null,null,null,null,null,null,null,null,null,null,"SourceCategory_",{"$f":"INDEX(I_PFC!$A$50:$A$60,ROWS($CI$111:CI115))=\"ausblenden\"","v":false},381,382,383,386,387,388,391,392,393,396,397,398,401,402,403,409,416,416,416,416,416,416,416,410,417,417,417,417,417,417,417,411,418,418,418,418,418,418,418,424,424,424,424,424,424,429,435]
[null,{"$f":"IF(OR(B115=\"\",CK116),\"\",I_PFC!D55)","v":""},{"$f":"IF(B116=\"\",\"\",I_PFC!E55)","v":""},{"$f":"IF(B116=\"\",\"\",I_PFC!H55)","v":""},{"$f":"IF($B116=\"\",\"\",INDEX(C_InstallationDescription!F:F,MATCH($CJ116,C_InstallationDescription!$Q:$Q,0)))","v":""},{"$f":"IF($E116=\"\",\"\",INDEX(C_InstallationDescription!L:L,MATCH($CJ116,C_InstallationDescription!$Q:$Q,0)))","v":""},{"$f":"IF($E116=\"\",\"\",INDEX(C_InstallationDescription!M:M,MATCH($CJ116,C_InstallationDescription!$Q:$Q,0)))","v":""},{"$f":"IF($E116=\"\",\"\",INDEX(C_InstallationDescription!N:N,MATCH($CJ116,C_InstallationDescription!$Q:$Q,0)))","v":""},{"$f":"IF(INDEX(I_PFC!$L$50:$L$56,MATCH(B116,I_PFC!$D$50:$D$56,0))=\"\",\"\",INDEX(I_PFC!$L$50:$L$56,MATCH(B116,I_PFC!$D$50:$D$56,0)))","v":""},{"$f":"IF($E116=\"\",\"\",INDEX(I_PFC!$A:$N,CL116,J$107))","v":""},{"$f":"IF($E116=\"\",\"\",INDEX(I_PFC!$A:$N,CM116,K$107))","v":""},{"$f":"IF($E116=\"\",\"\",INDEX(I_PFC!$A:$N,CN116,L$107))","v":""},{"$f":"IF($E116=\"\",\"\",INDEX(I_PFC!$A:$N,CO116,M$107))","v":""},{"$f":"IF($E116=\"\",\"\",INDEX(I_PFC!$A:$N,CP116,N$107))","v":""},{"$f":"IF($E116=\"\",\"\",INDEX(I_PFC!$A:$N,CQ116,O$107))","v":""},{"$f":"IF($E116=\"\",\"\",INDEX(I_PFC!$A:$N,CR116,P$107))","v":""},{"$f":"IF($E116=\"\",\"\",INDEX(I_PFC!$A:$N,CS116,Q$107))","v":""},{"$f":"IF($E116=\"\",\"\",INDEX(I_PFC!$A:$N,CT116,R$107))","v":""},{"$f":"IF($E116=\"\",\"\",INDEX(I_PFC!$A:$N,CU116,S$107))","v":""},{"$f":"IF($E116=\"\",\"\",INDEX(I_PFC!$A:$N,CV116,T$107))","v":""},{"$f":"IF($E116=\"\",\"\",INDEX(I_PFC!$A:$N,CW116,U$107))","v":""},{"$f":"IF($E116=\"\",\"\",INDEX(I_PFC!$A:$N,CX116,V$107))","v":""},{"$f":"IF($E116=\"\",\"\",INDEX(I_PFC!$A:$N,CY116,W$107))","v":""},{"$f":"IF($E116=\"\",\"\",INDEX(I_PFC!$A:$N,CZ116,X$107))","v":""},{"$f":"IF($E116=\"\",\"\",INDEX(I_PFC!$A:$N,DA116,Y$107))","v":""},{"$f":"IF($E116=\"\",\"\",INDEX(I_PFC!$A:$N,DB116,Z$107))","v":""},{"$f":"IF($E116=\"\",\"\",INDEX(I_PFC!$A:$N,DC116,AA$107))","v":""},{"$f":"IF($E116=\"\",\"\",INDEX(I_PFC!$A:$N,DD116,AB$107))","v":""},{"$f":"IF($E116=\"\",\"\",INDEX(I_PFC!$A:$N,DE116,AC$107))","v":""},{"$f":"IF($E116=\"\",\"\",INDEX(I_PFC!$A:$N,DF116,AD$107))","v":""},{"$f":"IF($E116=\"\",\"\",INDEX(I_PFC!$A:$N,DG116,AE$107))","v":""},{"$f":"IF($E116=\"\",\"\",INDEX(I_PFC!$A:$N,DH116,AF$107))","v":""},{"$f":"IF($E116=\"\",\"\",INDEX(I_PFC!$A:$N,DI116,AG$107))","v":""},{"$f":"IF($E116=\"\",\"\",INDEX(I_PFC!$A:$N,DJ116,AH$107))","v":""},{"$f":"IF($E116=\"\",\"\",INDEX(I_PFC!$A:$N,DK116,AI$107))","v":""},{"$f":"IF($E116=\"\",\"\",INDEX(I_PFC!$A:$N,DL116,AJ$107))","v":""},{"$f":"IF($E116=\"\",\"\",INDEX(I_PFC!$A:$N,DM116,AK$107))","v":""},{"$f":"IF($E116=\"\",\"\",INDEX(I_PFC!$A:$N,DN116,AL$107))","v":""},{"$f":"IF($E116=\"\",\"\",INDEX(I_PFC!$A:$N,DO116,AM$107))","v":""},{"$f":"IF($E116=\"\",\"\",INDEX(I_PFC!$A:$N,DP116,AN$107))","v":""},{"$f":"IF($E116=\"\",\"\",INDEX(I_PFC!$A:$N,DQ116,AO$107))","v":""},{"$f":"IF($E116=\"\",\"\",INDEX(I_PFC!$A:$N,DR116,AP$107))","v":""},{"$f":"IF($E116=\"\",\"\",INDEX(I_PFC!$A:$N,DS116,AQ$107))","v":""},{"$f":"IF($E116=\"\",\"\",INDEX(I_PFC!$A:$N,DT116,AR$107))","v":""},{"$f":"IF($E116=\"\",\"\",INDEX(I_PFC!$A:$N,DU116,AS$107))","v":""},{"$f":"IF($E116=\"\",\"\",INDEX(I_PFC!$A:$N,DV116,AT$107))","v":""},{"$f":"IF($E116=\"\",\"\",INDEX(I_PFC!$A:$N,DW116,AU$107))","v":""},{"$f":"IF($E116=\"\",\"\",INDEX(I_PFC!$A:$N,DX116,AV$107))","v":""},{"$f":"IF($E116=\"\",\"\",INDEX(I_PFC!$A:$N,DY116,AW$107))","v":""},{"$f":"IF($E116=\"\",\"\",INDEX(I_PFC!$A:$N,DZ116,AX$107))","v":""},{"$f":"IF($E116=\"\",\"\",INDEX(I_PFC!$A:$N,EA116,AY$107))","v":""},{"$f":"IF($E116=\"\",\"\",INDEX(I_PFC!$A:$N,EB116,AZ$107))","v":""},{"$f":"IF($E116=\"\",\"\",INDEX(I_PFC!$A:$N,EC116,BA$107))","v":""},{"$f":"IF($E116=\"\",\"\",INDEX(I_PFC!$A:$N,ED116,BB$107))","v":""},{"$f":"IF($E116=\"\",\"\",INDEX(I_PFC!$A:$N,EE116,BC$107))","v":""},{"$f":"IF($E116=\"\",\"\",INDEX(I_PFC!$A:$N,EF116,BD$107))","v":""},null,null,null,null,null,null,null,null,null,null,null,null,null,null,null,null,null,null,null,null,null,null,null,null,null,null,null,null,null,null,null,"SourceCategory_",{"$f":"INDEX(I_PFC!$A$50:$A$60,ROWS($CI$111:CI116))=\"ausblenden\"","v":true},453,454,455,458,459,460,463,464,465,468,469,470,473,474,475,481,488,488,488,488,488,488,488,482,489,489,489,489,489,489,489,483,490,490,490,490,490,490,490,496,496,496,496,496,496,501,507]
[null,{"$f":"IF(OR(B116=\"\",CK117),\"\",I_PFC!D56)","v":""},{"$f":"IF(B117=\"\",\"\",I_PFC!E56)","v":""},{"$f":"IF(B117=\"\",\"\",I_PFC!H56)","v":""},{"$f":"IF($B117=\"\",\"\",INDEX(C_InstallationDescription!F:F,MATCH($CJ117,C_InstallationDescription!$Q:$Q,0)))","v":""},{"$f":"IF($E117=\"\",\"\",INDEX(C_InstallationDescription!L:L,MATCH($CJ117,C_InstallationDescription!$Q:$Q,0)))","v":""},{"$f":"IF($E117=\"\",\"\",INDEX(C_InstallationDescription!M:M,MATCH($CJ117,C_InstallationDescription!$Q:$Q,0)))","v":""},{"$f":"IF($E117=\"\",\"\",INDEX(C_InstallationDescription!N:N,MATCH($CJ117,C_InstallationDescription!$Q:$Q,0)))","v":""},{"$f":"IF(INDEX(I_PFC!$L$50:$L$56,MATCH(B117,I_PFC!$D$50:$D$56,0))=\"\",\"\",INDEX(I_PFC!$L$50:$L$56,MATCH(B117,I_PFC!$D$50:$D$56,0)))","v":""},{"$f":"IF($E117=\"\",\"\",INDEX(I_PFC!$A:$N,CL117,J$107))","v":""},{"$f":"IF($E117=\"\",\"\",INDEX(I_PFC!$A:$N,CM117,K$107))","v":""},{"$f":"IF($E117=\"\",\"\",INDEX(I_PFC!$A:$N,CN117,L$107))","v":""},{"$f":"IF($E117=\"\",\"\",INDEX(I_PFC!$A:$N,CO117,M$107))","v":""},{"$f":"IF($E117=\"\",\"\",INDEX(I_PFC!$A:$N,CP117,N$107))","v":""},{"$f":"IF($E117=\"\",\"\",INDEX(I_PFC!$A:$N,CQ117,O$107))","v":""},{"$f":"IF($E117=\"\",\"\",INDEX(I_PFC!$A:$N,CR117,P$107))","v":""},{"$f":"IF($E117=\"\",\"\",INDEX(I_PFC!$A:$N,CS117,Q$107))","v":""},{"$f":"IF($E117=\"\",\"\",INDEX(I_PFC!$A:$N,CT117,R$107))","v":""},{"$f":"IF($E117=\"\",\"\",INDEX(I_PFC!$A:$N,CU117,S$107))","v":""},{"$f":"IF($E117=\"\",\"\",INDEX(I_PFC!$A:$N,CV117,T$107))","v":""},{"$f":"IF($E117=\"\",\"\",INDEX(I_PFC!$A:$N,CW117,U$107))","v":""},{"$f":"IF($E117=\"\",\"\",INDEX(I_PFC!$A:$N,CX117,V$107))","v":""},{"$f":"IF($E117=\"\",\"\",INDEX(I_PFC!$A:$N,CY117,W$107))","v":""},{"$f":"IF($E117=\"\",\"\",INDEX(I_PFC!$A:$N,CZ117,X$107))","v":""},{"$f":"IF($E117=\"\",\"\",INDEX(I_PFC!$A:$N,DA117,Y$107))","v":""},{"$f":"IF($E117=\"\",\"\",INDEX(I_PFC!$A:$N,DB117,Z$107))","v":""},{"$f":"IF($E117=\"\",\"\",INDEX(I_PFC!$A:$N,DC117,AA$107))","v":""},{"$f":"IF($E117=\"\",\"\",INDEX(I_PFC!$A:$N,DD117,AB$107))","v":""},{"$f":"IF($E117=\"\",\"\",INDEX(I_PFC!$A:$N,DE117,AC$107))","v":""},{"$f":"IF($E117=\"\",\"\",INDEX(I_PFC!$A:$N,DF117,AD$107))","v":""},{"$f":"IF($E117=\"\",\"\",INDEX(I_PFC!$A:$N,DG117,AE$107))","v":""},{"$f":"IF($E117=\"\",\"\",INDEX(I_PFC!$A:$N,DH117,AF$107))","v":""},{"$f":"IF($E117=\"\",\"\",INDEX(I_PFC!$A:$N,DI117,AG$107))","v":""},{"$f":"IF($E117=\"\",\"\",INDEX(I_PFC!$A:$N,DJ117,AH$107))","v":""},{"$f":"IF($E117=\"\",\"\",INDEX(I_PFC!$A:$N,DK117,AI$107))","v":""},{"$f":"IF($E117=\"\",\"\",INDEX(I_PFC!$A:$N,DL117,AJ$107))","v":""},{"$f":"IF($E117=\"\",\"\",INDEX(I_PFC!$A:$N,DM117,AK$107))","v":""},{"$f":"IF($E117=\"\",\"\",INDEX(I_PFC!$A:$N,DN117,AL$107))","v":""},{"$f":"IF($E117=\"\",\"\",INDEX(I_PFC!$A:$N,DO117,AM$107))","v":""},{"$f":"IF($E117=\"\",\"\",INDEX(I_PFC!$A:$N,DP117,AN$107))","v":""},{"$f":"IF($E117=\"\",\"\",INDEX(I_PFC!$A:$N,DQ117,AO$107))","v":""},{"$f":"IF($E117=\"\",\"\",INDEX(I_PFC!$A:$N,DR117,AP$107))","v":""},{"$f":"IF($E117=\"\",\"\",INDEX(I_PFC!$A:$N,DS117,AQ$107))","v":""},{"$f":"IF($E117=\"\",\"\",INDEX(I_PFC!$A:$N,DT117,AR$107))","v":""},{"$f":"IF($E117=\"\",\"\",INDEX(I_PFC!$A:$N,DU117,AS$107))","v":""},{"$f":"IF($E117=\"\",\"\",INDEX(I_PFC!$A:$N,DV117,AT$107))","v":""},{"$f":"IF($E117=\"\",\"\",INDEX(I_PFC!$A:$N,DW117,AU$107))","v":""},{"$f":"IF($E117=\"\",\"\",INDEX(I_PFC!$A:$N,DX117,AV$107))","v":""},{"$f":"IF($E117=\"\",\"\",INDEX(I_PFC!$A:$N,DY117,AW$107))","v":""},{"$f":"IF($E117=\"\",\"\",INDEX(I_PFC!$A:$N,DZ117,AX$107))","v":""},{"$f":"IF($E117=\"\",\"\",INDEX(I_PFC!$A:$N,EA117,AY$107))","v":""},{"$f":"IF($E117=\"\",\"\",INDEX(I_PFC!$A:$N,EB117,AZ$107))","v":""},{"$f":"IF($E117=\"\",\"\",INDEX(I_PFC!$A:$N,EC117,BA$107))","v":""},{"$f":"IF($E117=\"\",\"\",INDEX(I_PFC!$A:$N,ED117,BB$107))","v":""},{"$f":"IF($E117=\"\",\"\",INDEX(I_PFC!$A:$N,EE117,BC$107))","v":""},{"$f":"IF($E117=\"\",\"\",INDEX(I_PFC!$A:$N,EF117,BD$107))","v":""},null,null,null,null,null,null,null,null,null,null,null,null,null,null,null,null,null,null,null,null,null,null,null,null,null,null,null,null,null,null,null,"SourceCategory_",{"$f":"INDEX(I_PFC!$A$50:$A$60,ROWS($CI$111:CI117))=\"ausblenden\"","v":false},525,526,527,530,531,532,535,536,537,540,541,542,545,546,547,553,560,560,560,560,560,560,560,554,561,561,561,561,561,561,561,555,562,562,562,562,562,562,562,568,568,568,568,568,568,573,579]
[null,{"$f":"IF(OR(B117=\"\",CK118),\"\",I_PFC!D57)","v":""},{"$f":"IF(B118=\"\",\"\",I_PFC!E57)","v":""},{"$f":"IF(B118=\"\",\"\",I_PFC!H57)","v":""},{"$f":"IF($B118=\"\",\"\",INDEX(C_InstallationDescription!F:F,MATCH($CJ118,C_InstallationDescription!$Q:$Q,0)))","v":""},{"$f":"IF($E118=\"\",\"\",INDEX(C_InstallationDescription!L:L,MATCH($CJ118,C_InstallationDescription!$Q:$Q,0)))","v":""},{"$f":"IF($E118=\"\",\"\",INDEX(C_InstallationDescription!M:M,MATCH($CJ118,C_InstallationDescription!$Q:$Q,0)))","v":""},{"$f":"IF($E118=\"\",\"\",INDEX(C_InstallationDescription!N:N,MATCH($CJ118,C_InstallationDescription!$Q:$Q,0)))","v":""},{"$f":"IF(INDEX(I_PFC!$L$50:$L$56,MATCH(B118,I_PFC!$D$50:$D$56,0))=\"\",\"\",INDEX(I_PFC!$L$50:$L$56,MATCH(B118,I_PFC!$D$50:$D$56,0)))","v":""},{"$f":"IF($E118=\"\",\"\",INDEX(I_PFC!$A:$N,CL118,J$107))","v":""},{"$f":"IF($E118=\"\",\"\",INDEX(I_PFC!$A:$N,CM118,K$107))","v":""},{"$f":"IF($E118=\"\",\"\",INDEX(I_PFC!$A:$N,CN118,L$107))","v":""},{"$f":"IF($E118=\"\",\"\",INDEX(I_PFC!$A:$N,CO118,M$107))","v":""},{"$f":"IF($E118=\"\",\"\",INDEX(I_PFC!$A:$N,CP118,N$107))","v":""},{"$f":"IF($E118=\"\",\"\",INDEX(I_PFC!$A:$N,CQ118,O$107))","v":""},{"$f":"IF($E118=\"\",\"\",INDEX(I_PFC!$A:$N,CR118,P$107))","v":""},{"$f":"IF($E118=\"\",\"\",INDEX(I_PFC!$A:$N,CS118,Q$107))","v":""},{"$f":"IF($E118=\"\",\"\",INDEX(I_PFC!$A:$N,CT118,R$107))","v":""},{"$f":"IF($E118=\"\",\"\",INDEX(I_PFC!$A:$N,CU118,S$107))","v":""},{"$f":"IF($E118=\"\",\"\",INDEX(I_PFC!$A:$N,CV118,T$107))","v":""},{"$f":"IF($E118=\"\",\"\",INDEX(I_PFC!$A:$N,CW118,U$107))","v":""},{"$f":"IF($E118=\"\",\"\",INDEX(I_PFC!$A:$N,CX118,V$107))","v":""},{"$f":"IF($E118=\"\",\"\",INDEX(I_PFC!$A:$N,CY118,W$107))","v":""},{"$f":"IF($E118=\"\",\"\",INDEX(I_PFC!$A:$N,CZ118,X$107))","v":""},{"$f":"IF($E118=\"\",\"\",INDEX(I_PFC!$A:$N,DA118,Y$107))","v":""},{"$f":"IF($E118=\"\",\"\",INDEX(I_PFC!$A:$N,DB118,Z$107))","v":""},{"$f":"IF($E118=\"\",\"\",INDEX(I_PFC!$A:$N,DC118,AA$107))","v":""},{"$f":"IF($E118=\"\",\"\",INDEX(I_PFC!$A:$N,DD118,AB$107))","v":""},{"$f":"IF($E118=\"\",\"\",INDEX(I_PFC!$A:$N,DE118,AC$107))","v":""},{"$f":"IF($E118=\"\",\"\",INDEX(I_PFC!$A:$N,DF118,AD$107))","v":""},{"$f":"IF($E118=\"\",\"\",INDEX(I_PFC!$A:$N,DG118,AE$107))","v":""},{"$f":"IF($E118=\"\",\"\",INDEX(I_PFC!$A:$N,DH118,AF$107))","v":""},{"$f":"IF($E118=\"\",\"\",INDEX(I_PFC!$A:$N,DI118,AG$107))","v":""},{"$f":"IF($E118=\"\",\"\",INDEX(I_PFC!$A:$N,DJ118,AH$107))","v":""},{"$f":"IF($E118=\"\",\"\",INDEX(I_PFC!$A:$N,DK118,AI$107))","v":""},{"$f":"IF($E118=\"\",\"\",INDEX(I_PFC!$A:$N,DL118,AJ$107))","v":""},{"$f":"IF($E118=\"\",\"\",INDEX(I_PFC!$A:$N,DM118,AK$107))","v":""},{"$f":"IF($E118=\"\",\"\",INDEX(I_PFC!$A:$N,DN118,AL$107))","v":""},{"$f":"IF($E118=\"\",\"\",INDEX(I_PFC!$A:$N,DO118,AM$107))","v":""},{"$f":"IF($E118=\"\",\"\",INDEX(I_PFC!$A:$N,DP118,AN$107))","v":""},{"$f":"IF($E118=\"\",\"\",INDEX(I_PFC!$A:$N,DQ118,AO$107))","v":""},{"$f":"IF($E118=\"\",\"\",INDEX(I_PFC!$A:$N,DR118,AP$107))","v":""},{"$f":"IF($E118=\"\",\"\",INDEX(I_PFC!$A:$N,DS118,AQ$107))","v":""},{"$f":"IF($E118=\"\",\"\",INDEX(I_PFC!$A:$N,DT118,AR$107))","v":""},{"$f":"IF($E118=\"\",\"\",INDEX(I_PFC!$A:$N,DU118,AS$107))","v":""},{"$f":"IF($E118=\"\",\"\",INDEX(I_PFC!$A:$N,DV118,AT$107))","v":""},{"$f":"IF($E118=\"\",\"\",INDEX(I_PFC!$A:$N,DW118,AU$107))","v":""},{"$f":"IF($E118=\"\",\"\",INDEX(I_PFC!$A:$N,DX118,AV$107))","v":""},{"$f":"IF($E118=\"\",\"\",INDEX(I_PFC!$A:$N,DY118,AW$107))","v":""},{"$f":"IF($E118=\"\",\"\",INDEX(I_PFC!$A:$N,DZ118,AX$107))","v":""},{"$f":"IF($E118=\"\",\"\",INDEX(I_PFC!$A:$N,EA118,AY$107))","v":""},{"$f":"IF($E118=\"\",\"\",INDEX(I_PFC!$A:$N,EB118,AZ$107))","v":""},{"$f":"IF($E118=\"\",\"\",INDEX(I_PFC!$A:$N,EC118,BA$107))","v":""},{"$f":"IF($E118=\"\",\"\",INDEX(I_PFC!$A:$N,ED118,BB$107))","v":""},{"$f":"IF($E118=\"\",\"\",INDEX(I_PFC!$A:$N,EE118,BC$107))","v":""},{"$f":"IF($E118=\"\",\"\",INDEX(I_PFC!$A:$N,EF118,BD$107))","v":""},null,null,null,null,null,null,null,null,null,null,null,null,null,null,null,null,null,null,null,null,null,null,null,null,null,null,null,null,null,null,null,"SourceCategory_",{"$f":"INDEX(I_PFC!$A$50:$A$60,ROWS($CI$111:CI118))=\"ausblenden\"","v":false},597,598,599,602,603,604,607,608,609,612,613,614,617,618,619,625,632,632,632,632,632,632,632,626,633,633,{"$f":"DL117+72","v":633},633,633,633,633,627,634,634,634,634,634,634,634,640,640,640,640,640,640,645,651]
[null,{"$f":"IF(OR(B118=\"\",CK119),\"\",I_PFC!D58)","v":""},{"$f":"IF(B119=\"\",\"\",I_PFC!E58)","v":""},{"$f":"IF(B119=\"\",\"\",I_PFC!H58)","v":""},{"$f":"IF($B119=\"\",\"\",INDEX(C_InstallationDescription!F:F,MATCH($CJ119,C_InstallationDescription!$Q:$Q,0)))","v":""},{"$f":"IF($E119=\"\",\"\",INDEX(C_InstallationDescription!L:L,MATCH($CJ119,C_InstallationDescription!$Q:$Q,0)))","v":""},{"$f":"IF($E119=\"\",\"\",INDEX(C_InstallationDescription!M:M,MATCH($CJ119,C_InstallationDescription!$Q:$Q,0)))","v":""},{"$f":"IF($E119=\"\",\"\",INDEX(C_InstallationDescription!N:N,MATCH($CJ119,C_InstallationDescription!$Q:$Q,0)))","v":""},{"$f":"IF(INDEX(I_PFC!$L$50:$L$56,MATCH(B119,I_PFC!$D$50:$D$56,0))=\"\",\"\",INDEX(I_PFC!$L$50:$L$56,MATCH(B119,I_PFC!$D$50:$D$56,0)))","v":""},{"$f":"IF($E119=\"\",\"\",INDEX(I_PFC!$A:$N,CL119,J$107))","v":""},{"$f":"IF($E119=\"\",\"\",INDEX(I_PFC!$A:$N,CM119,K$107))","v":""},{"$f":"IF($E119=\"\",\"\",INDEX(I_PFC!$A:$N,CN119,L$107))","v":""},{"$f":"IF($E119=\"\",\"\",INDEX(I_PFC!$A:$N,CO119,M$107))","v":""},{"$f":"IF($E119=\"\",\"\",INDEX(I_PFC!$A:$N,CP119,N$107))","v":""},{"$f":"IF($E119=\"\",\"\",INDEX(I_PFC!$A:$N,CQ119,O$107))","v":""},{"$f":"IF($E119=\"\",\"\",INDEX(I_PFC!$A:$N,CR119,P$107))","v":""},{"$f":"IF($E119=\"\",\"\",INDEX(I_PFC!$A:$N,CS119,Q$107))","v":""},{"$f":"IF($E119=\"\",\"\",INDEX(I_PFC!$A:$N,CT119,R$107))","v":""},{"$f":"IF($E119=\"\",\"\",INDEX(I_PFC!$A:$N,CU119,S$107))","v":""},{"$f":"IF($E119=\"\",\"\",INDEX(I_PFC!$A:$N,CV119,T$107))","v":""},{"$f":"IF($E119=\"\",\"\",INDEX(I_PFC!$A:$N,CW119,U$107))","v":""},{"$f":"IF($E119=\"\",\"\",INDEX(I_PFC!$A:$N,CX119,V$107))","v":""},{"$f":"IF($E119=\"\",\"\",INDEX(I_PFC!$A:$N,CY119,W$107))","v":""},{"$f":"IF($E119=\"\",\"\",INDEX(I_PFC!$A:$N,CZ119,X$107))","v":""},{"$f":"IF($E119=\"\",\"\",INDEX(I_PFC!$A:$N,DA119,Y$107))","v":""},{"$f":"IF($E119=\"\",\"\",INDEX(I_PFC!$A:$N,DB119,Z$107))","v":""},{"$f":"IF($E119=\"\",\"\",INDEX(I_PFC!$A:$N,DC119,AA$107))","v":""},{"$f":"IF($E119=\"\",\"\",INDEX(I_PFC!$A:$N,DD119,AB$107))","v":""},{"$f":"IF($E119=\"\",\"\",INDEX(I_PFC!$A:$N,DE119,AC$107))","v":""},{"$f":"IF($E119=\"\",\"\",INDEX(I_PFC!$A:$N,DF119,AD$107))","v":""},{"$f":"IF($E119=\"\",\"\",INDEX(I_PFC!$A:$N,DG119,AE$107))","v":""},{"$f":"IF($E119=\"\",\"\",INDEX(I_PFC!$A:$N,DH119,AF$107))","v":""},{"$f":"IF($E119=\"\",\"\",INDEX(I_PFC!$A:$N,DI119,AG$107))","v":""},{"$f":"IF($E119=\"\",\"\",INDEX(I_PFC!$A:$N,DJ119,AH$107))","v":""},{"$f":"IF($E119=\"\",\"\",INDEX(I_PFC!$A:$N,DK119,AI$107))","v":""},{"$f":"IF($E119=\"\",\"\",INDEX(I_PFC!$A:$N,DL119,AJ$107))","v":""},{"$f":"IF($E119=\"\",\"\",INDEX(I_PFC!$A:$N,DM119,AK$107))","v":""},{"$f":"IF($E119=\"\",\"\",INDEX(I_PFC!$A:$N,DN119,AL$107))","v":""},{"$f":"IF($E119=\"\",\"\",INDEX(I_PFC!$A:$N,DO119,AM$107))","v":""},{"$f":"IF($E119=\"\",\"\",INDEX(I_PFC!$A:$N,DP119,AN$107))","v":""},{"$f":"IF($E119=\"\",\"\",INDEX(I_PFC!$A:$N,DQ119,AO$107))","v":""},{"$f":"IF($E119=\"\",\"\",INDEX(I_PFC!$A:$N,DR119,AP$107))","v":""},{"$f":"IF($E119=\"\",\"\",INDEX(I_PFC!$A:$N,DS119,AQ$107))","v":""},{"$f":"IF($E119=\"\",\"\",INDEX(I_PFC!$A:$N,DT119,AR$107))","v":""},{"$f":"IF($E119=\"\",\"\",INDEX(I_PFC!$A:$N,DU119,AS$107))","v":""},{"$f":"IF($E119=\"\",\"\",INDEX(I_PFC!$A:$N,DV119,AT$107))","v":""},{"$f":"IF($E119=\"\",\"\",INDEX(I_PFC!$A:$N,DW119,AU$107))","v":""},{"$f":"IF($E119=\"\",\"\",INDEX(I_PFC!$A:$N,DX119,AV$107))","v":""},{"$f":"IF($E119=\"\",\"\",INDEX(I_PFC!$A:$N,DY119,AW$107))","v":""},{"$f":"IF($E119=\"\",\"\",INDEX(I_PFC!$A:$N,DZ119,AX$107))","v":""},{"$f":"IF($E119=\"\",\"\",INDEX(I_PFC!$A:$N,EA119,AY$107))","v":""},{"$f":"IF($E119=\"\",\"\",INDEX(I_PFC!$A:$N,EB119,AZ$107))","v":""},{"$f":"IF($E119=\"\",\"\",INDEX(I_PFC!$A:$N,EC119,BA$107))","v":""},{"$f":"IF($E119=\"\",\"\",INDEX(I_PFC!$A:$N,ED119,BB$107))","v":""},{"$f":"IF($E119=\"\",\"\",INDEX(I_PFC!$A:$N,EE119,BC$107))","v":""},{"$f":"IF($E119=\"\",\"\",INDEX(I_PFC!$A:$N,EF119,BD$107))","v":""},null,null,null,null,null,null,null,null,null,null,null,null,null,null,null,null,null,null,null,null,null,null,null,null,null,null,null,null,null,null,null,"SourceCategory_",{"$f":"INDEX(I_PFC!$A$50:$A$60,ROWS($CI$111:CI119))=\"ausblenden\"","v":false},669,{"$f":"CM118+72","v":670},671,674,675,676,679,680,681,684,685,686,689,690,691,697,{"$f":"DB118+72","v":704},704,704,704,704,704,704,698,705,705,705,705,705,705,705,699,706,706,706,706,706,706,706,712,712,712,712,712,712,717,723]
[null,{"$f":"IF(OR(B119=\"\",CK120),\"\",I_PFC!D59)","v":""},{"$f":"IF(B120=\"\",\"\",I_PFC!E59)","v":""},{"$f":"IF(B120=\"\",\"\",I_PFC!H59)","v":""},{"$f":"IF($B120=\"\",\"\",INDEX(C_InstallationDescription!F:F,MATCH($CJ120,C_InstallationDescription!$Q:$Q,0)))","v":""},{"$f":"IF($E120=\"\",\"\",INDEX(C_InstallationDescription!L:L,MATCH($CJ120,C_InstallationDescription!$Q:$Q,0)))","v":""},{"$f":"IF($E120=\"\",\"\",INDEX(C_InstallationDescription!M:M,MATCH($CJ120,C_InstallationDescription!$Q:$Q,0)))","v":""},{"$f":"IF($E120=\"\",\"\",INDEX(C_InstallationDescription!N:N,MATCH($CJ120,C_InstallationDescription!$Q:$Q,0)))","v":""},{"$f":"IF(INDEX(I_PFC!$L$50:$L$56,MATCH(B120,I_PFC!$D$50:$D$56,0))=\"\",\"\",INDEX(I_PFC!$L$50:$L$56,MATCH(B120,I_PFC!$D$50:$D$56,0)))","v":""},{"$f":"IF($E120=\"\",\"\",INDEX(I_PFC!$A:$N,CL120,J$107))","v":""},{"$f":"IF($E120=\"\",\"\",INDEX(I_PFC!$A:$N,CM120,K$107))","v":""},{"$f":"IF($E120=\"\",\"\",INDEX(I_PFC!$A:$N,CN120,L$107))","v":""},{"$f":"IF($E120=\"\",\"\",INDEX(I_PFC!$A:$N,CO120,M$107))","v":""},{"$f":"IF($E120=\"\",\"\",INDEX(I_PFC!$A:$N,CP120,N$107))","v":""},{"$f":"IF($E120=\"\",\"\",INDEX(I_PFC!$A:$N,CQ120,O$107))","v":""},{"$f":"IF($E120=\"\",\"\",INDEX(I_PFC!$A:$N,CR120,P$107))","v":""},{"$f":"IF($E120=\"\",\"\",INDEX(I_PFC!$A:$N,CS120,Q$107))","v":""},{"$f":"IF($E120=\"\",\"\",INDEX(I_PFC!$A:$N,CT120,R$107))","v":""},{"$f":"IF($E120=\"\",\"\",INDEX(I_PFC!$A:$N,CU120,S$107))","v":""},{"$f":"IF($E120=\"\",\"\",INDEX(I_PFC!$A:$N,CV120,T$107))","v":""},{"$f":"IF($E120=\"\",\"\",INDEX(I_PFC!$A:$N,CW120,U$107))","v":""},{"$f":"IF($E120=\"\",\"\",INDEX(I_PFC!$A:$N,CX120,V$107))","v":""},{"$f":"IF($E120=\"\",\"\",INDEX(I_PFC!$A:$N,CY120,W$107))","v":""},{"$f":"IF($E120=\"\",\"\",INDEX(I_PFC!$A:$N,CZ120,X$107))","v":""},{"$f":"IF($E120=\"\",\"\",INDEX(I_PFC!$A:$N,DA120,Y$107))","v":""},{"$f":"IF($E120=\"\",\"\",INDEX(I_PFC!$A:$N,DB120,Z$107))","v":""},{"$f":"IF($E120=\"\",\"\",INDEX(I_PFC!$A:$N,DC120,AA$107))","v":""},{"$f":"IF($E120=\"\",\"\",INDEX(I_PFC!$A:$N,DD120,AB$107))","v":""},{"$f":"IF($E120=\"\",\"\",INDEX(I_PFC!$A:$N,DE120,AC$107))","v":""},{"$f":"IF($E120=\"\",\"\",INDEX(I_PFC!$A:$N,DF120,AD$107))","v":""},{"$f":"IF($E120=\"\",\"\",INDEX(I_PFC!$A:$N,DG120,AE$107))","v":""},{"$f":"IF($E120=\"\",\"\",INDEX(I_PFC!$A:$N,DH120,AF$107))","v":""},{"$f":"IF($E120=\"\",\"\",INDEX(I_PFC!$A:$N,DI120,AG$107))","v":""},{"$f":"IF($E120=\"\",\"\",INDEX(I_PFC!$A:$N,DJ120,AH$107))","v":""},{"$f":"IF($E120=\"\",\"\",INDEX(I_PFC!$A:$N,DK120,AI$107))","v":""},{"$f":"IF($E120=\"\",\"\",INDEX(I_PFC!$A:$N,DL120,AJ$107))","v":""},{"$f":"IF($E120=\"\",\"\",INDEX(I_PFC!$A:$N,DM120,AK$107))","v":""},{"$f":"IF($E120=\"\",\"\",INDEX(I_PFC!$A:$N,DN120,AL$107))","v":""},{"$f":"IF($E120=\"\",\"\",INDEX(I_PFC!$A:$N,DO120,AM$107))","v":""},{"$f":"IF($E120=\"\",\"\",INDEX(I_PFC!$A:$N,DP120,AN$107))","v":""},{"$f":"IF($E120=\"\",\"\",INDEX(I_PFC!$A:$N,DQ120,AO$107))","v":""},{"$f":"IF($E120=\"\",\"\",INDEX(I_PFC!$A:$N,DR120,AP$107))","v":""},{"$f":"IF($E120=\"\",\"\",INDEX(I_PFC!$A:$N,DS120,AQ$107))","v":""},{"$f":"IF($E120=\"\",\"\",INDEX(I_PFC!$A:$N,DT120,AR$107))","v":""},{"$f":"IF($E120=\"\",\"\",INDEX(I_PFC!$A:$N,DU120,AS$107))","v":""},{"$f":"IF($E120=\"\",\"\",INDEX(I_PFC!$A:$N,DV120,AT$107))","v":""},{"$f":"IF($E120=\"\",\"\",INDEX(I_PFC!$A:$N,DW120,AU$107))","v":""},{"$f":"IF($E120=\"\",\"\",INDEX(I_PFC!$A:$N,DX120,AV$107))","v":""},{"$f":"IF($E120=\"\",\"\",INDEX(I_PFC!$A:$N,DY120,AW$107))","v":""},{"$f":"IF($E120=\"\",\"\",INDEX(I_PFC!$A:$N,DZ120,AX$107))","v":""},{"$f":"IF($E120=\"\",\"\",INDEX(I_PFC!$A:$N,EA120,AY$107))","v":""},{"$f":"IF($E120=\"\",\"\",INDEX(I_PFC!$A:$N,EB120,AZ$107))","v":""},{"$f":"IF($E120=\"\",\"\",INDEX(I_PFC!$A:$N,EC120,BA$107))","v":""},{"$f":"IF($E120=\"\",\"\",INDEX(I_PFC!$A:$N,ED120,BB$107))","v":""},{"$f":"IF($E120=\"\",\"\",INDEX(I_PFC!$A:$N,EE120,BC$107))","v":""},{"$f":"IF($E120=\"\",\"\",INDEX(I_PFC!$A:$N,EF120,BD$107))","v":""},null,null,null,null,null,null,null,null,null,null,null,null,null,null,null,null,null,null,null,null,null,null,null,null,null,null,null,null,null,null,null,"SourceCategory_",{"$f":"INDEX(I_PFC!$A$50:$A$60,ROWS($CI$111:CI120))=\"ausblenden\"","v":false},741,742,743,746,747,748,751,752,753,756,757,758,761,762,763,769,776,776,776,776,776,776,776,770,777,777,777,777,777,777,777,771,778,778,778,778,778,778,778,784,784,784,784,784,784,789,795]
[]
["ausblenden"]
[null,{"$f":"Translations!$B$1240","v":"Overgebracht CO2 & N2O"}]
[]
[null,{"$f":"'J_Transferred GHG'!E53","v":"Overdrachtsreferentie"},{"$f":"'J_Transferred GHG'!F53","v":"Naam van de installatie"},{"$f":"'J_Transferred GHG'!H53","v":"Naam van de exploitant"},{"$f":"'J_Transferred GHG'!J53","v":"Uniek identificatienr van de installatie"},{"$f":"'J_Transferred GHG'!K53","v":"Type overdracht"},{"$f":"'J_Transferred GHG'!M53","v":"Meetmethode"}]
[null,{"$f":"'J_Transferred GHG'!E54","v":"TR1"},{"$f":"IF($B126=\"\",\"\",IF(INDEX('J_Transferred GHG'!$F$54:$F$60,ROWS($A$126:A126))=\"\",\"\",INDEX('J_Transferred GHG'!$F$54:$F$60,ROWS($A$126:A126))))","v":""},{"$f":"IF($B126=\"\",\"\",IF(INDEX('J_Transferred GHG'!$H$54:$H$60,ROWS($A$126:B126))=\"\",\"\",INDEX('J_Transferred GHG'!$H$54:$H$60,ROWS($A$126:B126))))","v":""},{"$f":"IF($B126=\"\",\"\",IF(INDEX('J_Transferred GHG'!$J$54:$J$60,ROWS($A$126:C126))=\"\",\"\",INDEX('J_Transferred GHG'!$J$54:$J$60,ROWS($A$126:C126))))","v":""},{"$f":"IF($B126=\"\",\"\",IF(INDEX('J_Transferred GHG'!$K$54:$K$60,ROWS($A$126:D126))=\"\",\"\",INDEX('J_Transferred GHG'!$K$54:$K$60,ROWS($A$126:D126))))","v":""},{"$f":"IF($B126=\"\",\"\",IF(INDEX('J_Transferred GHG'!$M$54:$M$60,ROWS($A$126:E126))=\"\",\"\",INDEX('J_Transferred GHG'!$M$54:$M$60,ROWS($A$126:E126))))","v":""},null,null,null,null,null,null,null,null,null,null,null,null,null,null,null,null,null,null,null,null,null,null,null,null,null,null,null,null,null,null,null,null,null,null,null,null,null,null,null,null,null,null,null,null,null,null,null,null,null,null,null,null,null,null,null,null,null,null,null,null,null,null,null,null,null,null,null,null,null,null,null,null,null,null,null,null,null,null,null,null,null,{"$f":"INDEX('J_Transferred GHG'!$A$54:$A$64,ROWS($CI$126:CI126))=\"ausblenden\"","v":false}]
[null,{"$f":"'J_Transferred GHG'!E55","v":"TR2"},{"$f":"IF($B127=\"\",\"\",IF(INDEX('J_Transferred GHG'!$F$54:$F$60,ROWS($A$126:A127))=\"\",\"\",INDEX('J_Transferred GHG'!$F$54:$F$60,ROWS($A$126:A127))))","v":""},{"$f":"IF($B127=\"\",\"\",IF(INDEX('J_Transferred GHG'!$H$54:$H$60,ROWS($A$126:B127))=\"\",\"\",INDEX('J_Transferred GHG'!$H$54:$H$60,ROWS($A$126:B127))))","v":""},{"$f":"IF($B127=\"\",\"\",IF(INDEX('J_Transferred GHG'!$J$54:$J$60,ROWS($A$126:C127))=\"\",\"\",INDEX('J_Transferred GHG'!$J$54:$J$60,ROWS($A$126:C127))))","v":""},{"$f":"IF($B127=\"\",\"\",IF(INDEX('J_Transferred GHG'!$K$54:$K$60,ROWS($A$126:D127))=\"\",\"\",INDEX('J_Transferred GHG'!$K$54:$K$60,ROWS($A$126:D127))))","v":""},{"$f":"IF($B127=\"\",\"\",IF(INDEX('J_Transferred GHG'!$M$54:$M$60,ROWS($A$126:E127))=\"\",\"\",INDEX('J_Transferred GHG'!$M$54:$M$60,ROWS($A$126:E127))))","v":""},null,null,null,null,null,null,null,null,null,null,null,null,null,null,null,null,null,null,null,null,null,null,null,null,null,null,null,null,null,null,null,null,null,null,null,null,null,null,null,null,null,null,null,null,null,null,null,null,null,null,null,null,null,null,null,null,null,null,null,null,null,null,null,null,null,null,null,null,null,null,null,null,null,null,null,null,null,null,null,null,null,{"$f":"INDEX('J_Transferred GHG'!$A$54:$A$64,ROWS($CI$126:CI127))=\"ausblenden\"","v":false}]
[null,{"$f":"'J_Transferred GHG'!E56","v":"TR3"},{"$f":"IF($B128=\"\",\"\",IF(INDEX('J_Transferred GHG'!$F$54:$F$60,ROWS($A$126:A128))=\"\",\"\",INDEX('J_Transferred GHG'!$F$54:$F$60,ROWS($A$126:A128))))","v":""},{"$f":"IF($B128=\"\",\"\",IF(INDEX('J_Transferred GHG'!$H$54:$H$60,ROWS($A$126:B128))=\"\",\"\",INDEX('J_Transferred GHG'!$H$54:$H$60,ROWS($A$126:B128))))","v":""},{"$f":"IF($B128=\"\",\"\",IF(INDEX('J_Transferred GHG'!$J$54:$J$60,ROWS($A$126:C128))=\"\",\"\",INDEX('J_Transferred GHG'!$J$54:$J$60,ROWS($A$126:C128))))","v":""},{"$f":"IF($B128=\"\",\"\",IF(INDEX('J_Transferred GHG'!$K$54:$K$60,ROWS($A$126:D128))=\"\",\"\",INDEX('J_Transferred GHG'!$K$54:$K$60,ROWS($A$126:D128))))","v":""},{"$f":"IF($B128=\"\",\"\",IF(INDEX('J_Transferred GHG'!$M$54:$M$60,ROWS($A$126:E128))=\"\",\"\",INDEX('J_Transferred GHG'!$M$54:$M$60,ROWS($A$126:E128))))","v":""},null,null,null,null,null,null,null,null,null,null,null,null,null,null,null,null,null,null,null,null,null,null,null,null,null,null,null,null,null,null,null,null,null,null,null,null,null,null,null,null,null,null,null,null,null,null,null,null,null,null,null,null,null,null,null,null,null,null,null,null,null,null,null,null,null,null,null,null,null,null,null,null,null,null,null,null,null,null,null,null,null,{"$f":"INDEX('J_Transferred GHG'!$A$54:$A$64,ROWS($CI$126:CI128))=\"ausblenden\"","v":false}]
[null,{"$f":"'J_Transferred GHG'!E57","v":"TR4"},{"$f":"IF($B129=\"\",\"\",IF(INDEX('J_Transferred GHG'!$F$54:$F$60,ROWS($A$126:A129))=\"\",\"\",INDEX('J_Transferred GHG'!$F$54:$F$60,ROWS($A$126:A129))))","v":""},{"$f":"IF($B129=\"\",\"\",IF(INDEX('J_Transferred GHG'!$H$54:$H$60,ROWS($A$126:B129))=\"\",\"\",INDEX('J_Transferred GHG'!$H$54:$H$60,ROWS($A$126:B129))))","v":""},{"$f":"IF($B129=\"\",\"\",IF(INDEX('J_Transferred GHG'!$J$54:$J$60,ROWS($A$126:C129))=\"\",\"\",INDEX('J_Transferred GHG'!$J$54:$J$60,ROWS($A$126:C129))))","v":""},{"$f":"IF($B129=\"\",\"\",IF(INDEX('J_Transferred GHG'!$K$54:$K$60,ROWS($A$126:D129))=\"\",\"\",INDEX('J_Transferred GHG'!$K$54:$K$60,ROWS($A$126:D129))))","v":""},{"$f":"IF($B129=\"\",\"\",IF(INDEX('J_Transferred GHG'!$M$54:$M$60,ROWS($A$126:E129))=\"\",\"\",INDEX('J_Transferred GHG'!$M$54:$M$60,ROWS($A$126:E129))))","v":""},null,null,null,null,null,null,null,null,null,null,null,null,null,null,null,null,null,null,null,null,null,null,null,null,null,null,null,null,null,null,null,null,null,null,null,null,null,null,null,null,null,null,null,null,null,null,null,null,null,null,null,null,null,null,null,null,null,null,null,null,null,null,null,null,null,null,null,null,null,null,null,null,null,null,null,null,null,null,null,null,null,{"$f":"INDEX('J_Transferred GHG'!$A$54:$A$64,ROWS($CI$126:CI129))=\"ausblenden\"","v":false}]
[null,{"$f":"'J_Transferred GHG'!E58","v":"TR5"},{"$f":"IF($B130=\"\",\"\",IF(INDEX('J_Transferred GHG'!$F$54:$F$60,ROWS($A$126:A130))=\"\",\"\",INDEX('J_Transferred GHG'!$F$54:$F$60,ROWS($A$126:A130))))","v":""},{"$f":"IF($B130=\"\",\"\",IF(INDEX('J_Transferred GHG'!$H$54:$H$60,ROWS($A$126:B130))=\"\",\"\",INDEX('J_Transferred GHG'!$H$54:$H$60,ROWS($A$126:B130))))","v":""},{"$f":"IF($B130=\"\",\"\",IF(INDEX('J_Transferred GHG'!$J$54:$J$60,ROWS($A$126:C130))=\"\",\"\",INDEX('J_Transferred GHG'!$J$54:$J$60,ROWS($A$126:C130))))","v":""},{"$f":"IF($B130=\"\",\"\",IF(INDEX('J_Transferred GHG'!$K$54:$K$60,ROWS($A$126:D130))=\"\",\"\",INDEX('J_Transferred GHG'!$K$54:$K$60,ROWS($A$126:D130))))","v":""},{"$f":"IF($B130=\"\",\"\",IF(INDEX('J_Transferred GHG'!$M$54:$M$60,ROWS($A$126:E130))=\"\",\"\",INDEX('J_Transferred GHG'!$M$54:$M$60,ROWS($A$126:E130))))","v":""},null,null,null,null,null,null,null,null,null,null,null,null,null,null,null,null,null,null,null,null,null,null,null,null,null,null,null,null,null,null,null,null,null,null,null,null,null,null,null,null,null,null,null,null,null,null,null,null,null,null,null,null,null,null,null,null,null,null,null,null,null,null,null,null,null,null,null,null,null,null,null,null,null,null,null,null,null,null,null,null,null,{"$f":"INDEX('J_Transferred GHG'!$A$54:$A$64,ROWS($CI$126:CI130))=\"ausblenden\"","v":false}]
[null,{"$f":"IF(OR(B130=\"\",CK131),\"\",I_PFC!D70)","v":""},{"$f":"IF($B131=\"\",\"\",IF(INDEX('J_Transferred GHG'!$F$54:$F$60,ROWS($A$126:A131))=\"\",\"\",INDEX('J_Transferred GHG'!$F$54:$F$60,ROWS($A$126:A131))))","v":""},{"$f":"IF($B131=\"\",\"\",IF(INDEX('J_Transferred GHG'!$H$54:$H$60,ROWS($A$126:B131))=\"\",\"\",INDEX('J_Transferred GHG'!$H$54:$H$60,ROWS($A$126:B131))))","v":""},{"$f":"IF($B131=\"\",\"\",IF(INDEX('J_Transferred GHG'!$J$54:$J$60,ROWS($A$126:C131))=\"\",\"\",INDEX('J_Transferred GHG'!$J$54:$J$60,ROWS($A$126:C131))))","v":""},{"$f":"IF($B131=\"\",\"\",IF(INDEX('J_Transferred GHG'!$K$54:$K$60,ROWS($A$126:D131))=\"\",\"\",INDEX('J_Transferred GHG'!$K$54:$K$60,ROWS($A$126:D131))))","v":""},{"$f":"IF($B131=\"\",\"\",IF(INDEX('J_Transferred GHG'!$M$54:$M$60,ROWS($A$126:E131))=\"\",\"\",INDEX('J_Transferred GHG'!$M$54:$M$60,ROWS($A$126:E131))))","v":""},null,null,null,null,null,null,null,null,null,null,null,null,null,null,null,null,null,null,null,null,null,null,null,null,null,null,null,null,null,null,null,null,null,null,null,null,null,null,null,null,null,null,null,null,null,null,null,null,null,null,null,null,null,null,null,null,null,null,null,null,null,null,null,null,null,null,null,null,null,null,null,null,null,null,null,null,null,null,null,null,null,{"$f":"INDEX('J_Transferred GHG'!$A$54:$A$64,ROWS($CI$126:CI131))=\"ausblenden\"","v":true}]
[null,{"$f":"IF(OR(B131=\"\",CK132),\"\",I_PFC!D71)","v":""},{"$f":"IF($B132=\"\",\"\",IF(INDEX('J_Transferred GHG'!$F$54:$F$60,ROWS($A$126:A132))=\"\",\"\",INDEX('J_Transferred GHG'!$F$54:$F$60,ROWS($A$126:A132))))","v":""},{"$f":"IF($B132=\"\",\"\",IF(INDEX('J_Transferred GHG'!$H$54:$H$60,ROWS($A$126:B132))=\"\",\"\",INDEX('J_Transferred GHG'!$H$54:$H$60,ROWS($A$126:B132))))","v":""},{"$f":"IF($B132=\"\",\"\",IF(INDEX('J_Transferred GHG'!$J$54:$J$60,ROWS($A$126:C132))=\"\",\"\",INDEX('J_Transferred GHG'!$J$54:$J$60,ROWS($A$126:C132))))","v":""},{"$f":"IF($B132=\"\",\"\",IF(INDEX('J_Transferred GHG'!$K$54:$K$60,ROWS($A$126:D132))=\"\",\"\",INDEX('J_Transferred GHG'!$K$54:$K$60,ROWS($A$126:D132))))","v":""},{"$f":"IF($B132=\"\",\"\",IF(INDEX('J_Transferred GHG'!$M$54:$M$60,ROWS($A$126:E132))=\"\",\"\",INDEX('J_Transferred GHG'!$M$54:$M$60,ROWS($A$126:E132))))","v":""},null,null,null,null,null,null,null,null,null,null,null,null,null,null,null,null,null,null,null,null,null,null,null,null,null,null,null,null,null,null,null,null,null,null,null,null,null,null,null,null,null,null,null,null,null,null,null,null,null,null,null,null,null,null,null,null,null,null,null,null,null,null,null,null,null,null,null,null,null,null,null,null,null,null,null,null,null,null,null,null,null,{"$f":"INDEX('J_Transferred GHG'!$A$54:$A$64,ROWS($CI$126:CI132))=\"ausblenden\"","v":false}]
[null,{"$f":"IF(OR(B132=\"\",CK133),\"\",I_PFC!D72)","v":""},{"$f":"IF($B133=\"\",\"\",IF(INDEX('J_Transferred GHG'!$F$54:$F$60,ROWS($A$126:A133))=\"\",\"\",INDEX('J_Transferred GHG'!$F$54:$F$60,ROWS($A$126:A133))))","v":""},{"$f":"IF($B133=\"\",\"\",IF(INDEX('J_Transferred GHG'!$H$54:$H$60,ROWS($A$126:B133))=\"\",\"\",INDEX('J_Transferred GHG'!$H$54:$H$60,ROWS($A$126:B133))))","v":""},{"$f":"IF($B133=\"\",\"\",IF(INDEX('J_Transferred GHG'!$J$54:$J$60,ROWS($A$126:C133))=\"\",\"\",INDEX('J_Transferred GHG'!$J$54:$J$60,ROWS($A$126:C133))))","v":""},{"$f":"IF($B133=\"\",\"\",IF(INDEX('J_Transferred GHG'!$K$54:$K$60,ROWS($A$126:D133))=\"\",\"\",INDEX('J_Transferred GHG'!$K$54:$K$60,ROWS($A$126:D133))))","v":""},{"$f":"IF($B133=\"\",\"\",IF(INDEX('J_Transferred GHG'!$M$54:$M$60,ROWS($A$126:E133))=\"\",\"\",INDEX('J_Transferred GHG'!$M$54:$M$60,ROWS($A$126:E133))))","v":""},null,null,null,null,null,null,null,null,null,null,null,null,null,null,null,null,null,null,null,null,null,null,null,null,null,null,null,null,null,null,null,null,null,null,null,null,null,null,null,null,null,null,null,null,null,null,null,null,null,null,null,null,null,null,null,null,null,null,null,null,null,null,null,null,null,null,null,null,null,null,null,null,null,null,null,null,null,null,null,null,null,{"$f":"INDEX('J_Transferred GHG'!$A$54:$A$64,ROWS($CI$126:CI133))=\"ausblenden\"","v":false}]
[null,{"$f":"IF(OR(B133=\"\",CK134),\"\",I_PFC!D73)","v":""},{"$f":"IF($B134=\"\",\"\",IF(INDEX('J_Transferred GHG'!$F$54:$F$60,ROWS($A$126:A134))=\"\",\"\",INDEX('J_Transferred GHG'!$F$54:$F$60,ROWS($A$126:A134))))","v":""},{"$f":"IF($B134=\"\",\"\",IF(INDEX('J_Transferred GHG'!$H$54:$H$60,ROWS($A$126:B134))=\"\",\"\",INDEX('J_Transferred GHG'!$H$54:$H$60,ROWS($A$126:B134))))","v":""},{"$f":"IF($B134=\"\",\"\",IF(INDEX('J_Transferred GHG'!$J$54:$J$60,ROWS($A$126:C134))=\"\",\"\",INDEX('J_Transferred GHG'!$J$54:$J$60,ROWS($A$126:C134))))","v":""},{"$f":"IF($B134=\"\",\"\",IF(INDEX('J_Transferred GHG'!$K$54:$K$60,ROWS($A$126:D134))=\"\",\"\",INDEX('J_Transferred GHG'!$K$54:$K$60,ROWS($A$126:D134))))","v":""},{"$f":"IF($B134=\"\",\"\",IF(INDEX('J_Transferred GHG'!$M$54:$M$60,ROWS($A$126:E134))=\"\",\"\",INDEX('J_Transferred GHG'!$M$54:$M$60,ROWS($A$126:E134))))","v":""},null,null,null,null,null,null,null,null,null,null,null,null,null,null,null,null,null,null,null,null,null,null,null,null,null,null,null,null,null,null,null,null,null,null,null,null,null,null,null,null,null,null,null,null,null,null,null,null,null,null,null,null,null,null,null,null,null,null,null,null,null,null,null,null,null,null,null,null,null,null,null,null,null,null,null,null,null,null,null,null,null,{"$f":"INDEX('J_Transferred GHG'!$A$54:$A$64,ROWS($CI$126:CI134))=\"ausblenden\"","v":false}]
[null,{"$f":"IF(OR(B134=\"\",CK135),\"\",I_PFC!D74)","v":""},{"$f":"IF($B135=\"\",\"\",IF(INDEX('J_Transferred GHG'!$F$54:$F$60,ROWS($A$126:A135))=\"\",\"\",INDEX('J_Transferred GHG'!$F$54:$F$60,ROWS($A$126:A135))))","v":""},{"$f":"IF($B135=\"\",\"\",IF(INDEX('J_Transferred GHG'!$H$54:$H$60,ROWS($A$126:B135))=\"\",\"\",INDEX('J_Transferred GHG'!$H$54:$H$60,ROWS($A$126:B135))))","v":""},{"$f":"IF($B135=\"\",\"\",IF(INDEX('J_Transferred GHG'!$J$54:$J$60,ROWS($A$126:C135))=\"\",\"\",INDEX('J_Transferred GHG'!$J$54:$J$60,ROWS($A$126:C135))))","v":""},{"$f":"IF($B135=\"\",\"\",IF(INDEX('J_Transferred GHG'!$K$54:$K$60,ROWS($A$126:D135))=\"\",\"\",INDEX('J_Transferred GHG'!$K$54:$K$60,ROWS($A$126:D135))))","v":""},{"$f":"IF($B135=\"\",\"\",IF(INDEX('J_Transferred GHG'!$M$54:$M$60,ROWS($A$126:E135))=\"\",\"\",INDEX('J_Transferred GHG'!$M$54:$M$60,ROWS($A$126:E135))))","v":""},null,null,null,null,null,null,null,null,null,null,null,null,null,null,null,null,null,null,null,null,null,null,null,null,null,null,null,null,null,null,null,null,null,null,null,null,null,null,null,null,null,null,null,null,null,null,null,null,null,null,null,null,null,null,null,null,null,null,null,null,null,null,null,null,null,null,null,null,null,null,null,null,null,null,null,null,null,null,null,null,null,{"$f":"INDEX('J_Transferred GHG'!$A$54:$A$64,ROWS($CI$126:CI135))=\"ausblenden\"","v":false}]

{"sheet":"UBA_Parameters","index":15,"n_rows":31,"n_cols":11,"rows_kept":31,"cut":false,"hidden":true,"merged":[[2,5,2,8],[18,3,18,4],[20,3,20,4],[2,10,4,10],[2,3,2,4],[4,3,4,4],[2,9,4,9],[14,3,14,4],[16,3,16,4],[6,3,6,4],[32,3,32,4],[22,3,22,4],[24,3,24,4],[26,3,26,4],[30,3,30,4],[2,1,4,1],[8,3,8,4],[10,3,10,4],[28,3,28,4],[12,3,12,4]]}
["Please be aware that these parameters are used by the macros. Do NOT make any changes to this page!"]
[]
[null,"ID",null,"RefColumn",null,"HelpAreaColumn",null,null,null,"Anchor name","Further macros attached"]
[null,null,null,"ColumnStart","ColumnEnd","Column","Column","Column","Column"]
[null,null,"# of lines","# of lines",null,"# of lines","# of lines","# of lines","# of lines"]
[null,"AddEmissionSource",1,"E","E","T","V","W",null,"ADD_EmissionSource"]
[null,null,null,1,null,1,1,1]
[null,"AddEmissionPoint",1,"E","E","T","V","W",null,"ADD_EmissionPoint"]
[null,null,null,1,null,1,1,1]
[null,"AddMeasurementPoint",1,"E","E","T","V","W",null,"ADD_MeasurementPoint","ADD_CompleteMeasurementPoint"]
[null,null,null,1,null,1,1,1]
[null,"AddSourceStream",1,"E","E","T","V","W",null,"ADD_SourceStream","ADD_CompleteSourceStream"]
[null,null,null,1,null,1,1,1]
[null,"AddAluSourceStream",1,null,null,"S",null,null,null,"ADD_AluSourceStream","ADD_CompleteAluSourceStream"]
[null,null,null,null,null,1]
[null,"AddActivitiesExcluded",1,"A","A",null,null,null,null,"ADD_ActivitiesExcluded"]
[null,null,null,1]
[null,"AddMPVersion",1,"A","A",null,null,null,null,"ADD_MPVersion"]
[null,null,null,1]
[null,"AddInformationSources",1,"E","E","T","V","W",null,"ADD_InformationSources"]
[null,null,null,1,null,1,1,1]
[null,"AddLaboratories",1,"E","E","T","V","W",null,"ADD_Laboratories"]
[null,null,null,1,null,1,1,1]
[null,"AddMeasuringInstrSheetD",2,"E","E","R","S","T","V","ADD_MeasurementInstrument"]
[null,null,null,2,null,1,2,2,1]
[null,"AddMeasuringInstrSheetF",2,"C","D","R","S","T","V","ADD_MeasurementInstrument"]
[null,null,null,2,null,1,2,2,1]
[null,"AddTransferCO2Installations",1,"E","E",null,null,null,null,"ADD_TransferCO2Installations"]
[null,null,null,1]
[null,"AddPipelineDevices",1,"E","E",null,null,null,null,"ADD_PipelineDevice"]
[null,null,null,1]

{"sheet":"MSParameters","index":16,"n_rows":46,"n_cols":2,"rows_kept":46,"cut":false,"hidden":true,"merged":[]}
[]
[null,"MS are free to use this sheet"]
[]
[null,"Bronstromen"]
[null,"V1 - Verbranding van Aardgas"]
[null,"V2 - Verbranding van gasolie, dieselolie of lichte stookolie"]
[null,"V3 - Verbranding van  Zware stookolie"]
[null,"V4 - Verbranding van Kolen"]
[null,"V5 - Verbranding van propaan"]
[null,"V6 - Verbranding van butaan"]
[null,"V7 - Vloeibaar petroleum gas"]
[null,"V8 - Verbranding van Lamppetroleum"]
[null,"V9 - Verbranding van fossiele resten uit biomateriaal"]
[null,"V10 - Verbranding van mengsels bio-fossiel"]
[null,"V11 - Verbranding van biomaterialen"]
[null,"V12 - Verbranding van restgassen in fakkels zonder warmterecuperatie (exclusief aardgas als steunbrandstof)"]
[null,"V13 - Verbranding van gasvormige delen van grondstoffen in naverbranders zonder warmterecuperatie"]
[null,"V14 - Verbranding van gasvormige delen van grondstoffen uit proces met nuttig gebruik warmte (in boilers, fornuizen, RTO met warmte recup,…)"]
[null,"V15 - Verbranding van vloeibare restproducten in naverbranders zonder warmterecuperatie"]
[null,"V16 - Verbranding van vloeibare of vaste restproducten in boilers, heaters en naverbranders met warmterecuperatie"]
[null,"V17 - Verbranding van hulpstoffen zonder energierecuperatie"]
[null,"V18 - Verbranding van hulpstoffen met energierecuperatie"]
[null,"V19 - KWS als grondstof en als brandstof"]
[null,"V20 - CO2-vrijstelling zonder verbranding"]
[null,"V21 - Cokes als grondstof"]
[null,"V22 - Input voor massabalans"]
[null,"V23 - Output van massabalans"]
[null,"P1 - Input voor massabalans in chemie"]
[null,"P2 - Output voor massabalans in chemie"]
[null,"P3 - Input voor massabalans in raffinaderijen"]
[null,"P4 - Output voor massabalans in raffinaderijen"]
[null,"P5 - Input voor massabalans in siderurgie"]
[null,"P6 - Output voor massabalans in siderurgie"]
[null,"P7 - Input voor massabalans in metallurgie"]
[null,"P8 - Output voor massabalans in metallurgie"]
[null,"P9 - Koolstofhoudende grondstoffen in chemische processen"]
[null,"P10 - Chemische produkten waarbij CO2 vrijkomt tijdens productieproces"]
[null,"P11 - Aardgas voor ammoniakproductie"]
[null,"P12 - Siderurgische produkten waarbij CO2 vrijkomt tijdens productieproces"]
[null,"P13 - Metallurgische produkten waarbij CO2 vrijkomt tijdens productieproces"]
[null,"P14 - Klei(mengsels) voor keramische industrie"]
[null,"P15 - Toevoegingen in keramische industrie"]
[null,"P16 - Kalksteen - CaCO3 voor rookgasreiniging"]
[null,"P17 - Koolstofhoudende grondstoffen in de glasindustrie"]
[null,"P18 - Koolstofhoudende grondstoffen in papierindustrie"]
[null,"P19 - Productieprocessen waarbij N2O vrijkomt"]

{"sheet":"EUwideConstants","index":17,"n_rows":738,"n_cols":40,"rows_kept":738,"cut":false,"hidden":true,"merged":[[225,4,225,8]]}
[]
["EUconst_TrueFalse",true,false]
["EUconst_Fuel",{"$f":"Translations!$B$441","v":"Standaardmethode: Brandstoffen, artikel 24, lid 1"}]
["EUconst_ProcessCarbonate",{"$f":"Translations!$B$783","v":"Standaardmethode: Procedure, artikel 24, lid 2"}]
["EUconst_MassBalance",{"$f":"Translations!$B$784","v":"Massabalansmethode, artikel 25"}]
["EUconst_CNTR_ActivityData","ActivityData_"]
["EUconst_CNTR_NCV","NCV_"]
["EUconst_CNTR_EF","EF_"]
["EUconst_CNTR_CarbonContent","CarbC_"]
["EUconst_CNTR_BiomassContent","BioC_"]
["EUconst_CNTR_OxidationFactor","OxF_"]
["EUconst_CNTR_ConversionFactor","ConvF_"]
["EUconst_CNTR_SourceCategory","SourceCategory_"]
["EUconst_CNTR_SourceStreamName","SourceStreamName_"]
["EUconst_CNTR_SourceStreamClass","SourceStreamClass_"]
["EUconst_CNTR_SmallEmitter","SmallEmitter_"]
["EUconst_CNTR_NoSmallEmitter","NoSmallEmitter_"]
["EUconst_CNTR_CEMS","CEMS_"]
["EUconst_MsgNextSheet",{"$f":"Translations!$B$785","v":"<<< Klik hier om naar het volgende werkblad te gaan >>> "}]
["EUconst_SourceStream",{"$f":"Translations!$B$786","v":"Bronstroom"}]
["EUconst_MeasurementPoint",{"$f":"Translations!$B$787","v":"Meetpunt"}]
["EUconst_OwnerInstrument",{"$f":"Translations!$B$149","v":"Exploitant"},{"$f":"Translations!$B$788","v":"Handelspartner"}]
["EUconst_ActivityDeterminationMethod",{"$f":"Translations!$B$789","v":"Batch"},{"$f":"Translations!$B$457","v":"Voortdurend"}]
["EUconst_FurtherGuidancePoint1",{"$f":"Translations!$B$790","v":"Gedetailleerde instructies voor gegevensinvoer vindt u waar dit invoerveld voor het eerst voorkomt. "}]
["EUconst_NA",{"$f":"Translations!$B$530","v":"n.v.t."}]
["EUconst_Relevant",{"$f":"Translations!$B$791","v":"relevant"}]
["EUconst_NotRelevant",{"$f":"Translations!$B$792","v":"niet relevant"}]
["EUconst_NotApplicable",{"$f":"Translations!$B$793","v":"niet van toepassing!"}]
["EUconst_MsgTierActivityLevel",{"$f":"Translations!$B$794","v":"De onzekerheid bedraagt maximaal"}]
["EUconst_MsgTierCKD",{"$f":"Translations!$B$795","v":"(n.v.t.; gebruik de schatting die gebaseerd is op de beste praktijk)"}]
["EUconst_MsgNextSheet",{"$f":"Translations!$B$785","v":"<<< Klik hier om naar het volgende werkblad te gaan >>> "}]
["EUconst_MsgEnterThisSection",{"$f":"Translations!$B$796","v":"U wordt verzocht bij dit punt gegevens in te voeren"}]
["EUconst_MsgGoOn",{"$f":"Translations!$B$797","v":"Ga naar de onderstaande punten"}]
["EUconst_MsgSmallEmitters",{"$f":"Translations!$B$798","v":"Motiveer waarom er geen historische gegevens beschikbaar of van toepassing zijn"}]
["EUconst_NoTier",{"$f":"Translations!$B$799","v":"Geen niveau"}]
["EUconst_ERR_NoN2OSmallEmitters",{"$f":"Translations!$B$800","v":"Deze regel is niet van toepassing op installaties met N2O-activiteiten!"}]
["EUconst_ERR_ThreshholdDeminimis",{"$f":"Translations!$B$801","v":"De-minimisdrempel overschreden!"}]
["EUconst_ERR_ThreshholdMinor",{"$f":"Translations!$B$802","v":"Lage drempel overschreden!"}]
["EUconst_ERR_CheckEstimatedEmissions",{"$f":"Translations!$B$803","v":"De som bedraagt meer dan 5% van de jaarlijkse emissies (punt 6c)!"}]
["Euconst_VersionTracking",{"$f":"Translations!$B$804","v":"In te vullen door de bevoegde autoriteit"},{"$f":"Translations!$B$805","v":"In te vullen door de exploitant"}]
["EUconst_MSlist",{"$f":"Translations!$B$806","v":"Oostenrijk"},{"$f":"Translations!$B$807","v":"België"},{"$f":"Translations!$B$808","v":"Bulgarije"},{"$f":"Translations!$B$809","v":"Kroatië"},{"$f":"Translations!$B$810","v":"Cyprus"},{"$f":"Translations!$B$811","v":"Tsjechië"},{"$f":"Translations!$B$812","v":"Denemarken"},{"$f":"Translations!$B$813","v":"Estland"},{"$f":"Translations!$B$814","v":"Finland"},{"$f":"Translations!$B$815","v":"Frankrijk"},{"$f":"Translations!$B$816","v":"Duitsland"},{"$f":"Translations!$B$817","v":"Griekenland"},{"$f":"Translations!$B$818","v":"Hongarije"},{"$f":"Translations!$B$819","v":"IJsland"},{"$f":"Translations!$B$820","v":"Ierland"},{"$f":"Translations!$B$821","v":"Italië"},{"$f":"Translations!$B$822","v":"Letland"},{"$f":"Translations!$B$823","v":"Liechtenstein"},{"$f":"Translations!$B$824","v":"Litouwen"},{"$f":"Translations!$B$825","v":"Luxemburg"},{"$f":"Translations!$B$826","v":"Malta"},{"$f":"Translations!$B$827","v":"Nederland"},{"$f":"Translations!$B$828","v":"Noorwegen"},{"$f":"Translations!$B$829","v":"Polen"},{"$f":"Translations!$B$830","v":"Portugal"},{"$f":"Translations!$B$831","v":"Roemenië"},{"$f":"Translations!$B$832","v":"Slowakije"},{"$f":"Translations!$B$833","v":"Slovenië"},{"$f":"Translations!$B$834","v":"Spanje"},{"$f":"Translations!$B$835","v":"Zweden"},{"$f":"Translations!$B$836","v":"Verenigd Koninkrijk"}]
["EUconst_MSlistISOcodes","AT","BE","BG","HR","CY","CZ","DK","EE","FI","FR","DE","EL","HU","IS","IE","IT","LV","LI","LT","LU","MT","NL","NO","PL","PT","RO","SK","SI","ES","SE","UK"]
["Euconst_MPReferenceDateTypes",{"$f":"Translations!$B$140","v":"bij de bevoegde autoriteit ingediend"},{"$f":"Translations!$B$145","v":"goedgekeurd door de bevoegde autoriteit"},{"$f":"Translations!$B$837","v":"afgewezen door de bevoegde autoriteiten"},{"$f":"Translations!$B$142","v":"teruggezonden met commentaar"},{"$f":"Translations!$B$838","v":"werkversie"}]
["EUConst_RelSectionCalc",{"$f":"Translations!$B$839","v":"Relevante punten: 6 (behalve d), 7, 8"}]
["EUConst_RelSectionMeasure",{"$f":"Translations!$B$840","v":"Relevante punten: 6 (behalve e), 9, 10, 11"}]
["EUConst_RelSectionFallback",{"$f":"Translations!$B$841","v":"Relevante punten: 12"}]
["EUConst_RelSectionN2O",{"$f":"Translations!$B$842","v":"Relevante punten: 6 (behalve e), 9, 10, 11, 13"}]
["EUConst_RelSectionPFC",{"$f":"Translations!$B$843","v":"Relevante punten: 6 (behalve d), 7, 14, 15, 16"}]
["EUConst_RelSectionCCS",{"$f":"Translations!$B$844","v":"Relevante punten: 6 (behalve e), 9, 10, 11, 17, 18, 19"}]
["EUconst_CEMSType","CO2","N2O",{"$f":"Translations!$B$845","v":"Overdracht van CO2"},{"$f":"Translations!$B$1241","v":"Overbrenging van N2O"}]
["EUconst_ProcessPFC",{"$f":"Translations!$B$846","v":"Berekeningen met bijzondere bepalingen voor PFK's (bijlage VI, punt 8)"}]
["EUconst_CO2TransferTypes",{"$f":"Translations!$B$847","v":"Ontvangst van inherent CO2"},{"$f":"Translations!$B$848","v":"Overdracht van inherent CO2 naar een ETS-installatie"},{"$f":"Translations!$B$849","v":"Overdracht van inherent CO2 naar een niet-ETS-consument"},{"$f":"Translations!$B$850","v":"Ontvangst van overgebracht CO2"},{"$f":"Translations!$B$851","v":"Overdracht van overgebracht CO2"},{"$f":"Translations!$B$1242","v":"Overdracht van overgebracht CO2 (PCC)"},{"$f":"Translations!$B$1243","v":"Ontvangst van overgebracht N2O"},{"$f":"Translations!$B$1244","v":"Overdracht van overgebracht N2O"}]
["EUconst_TransCO2Approach",{"$f":"Translations!$B$852","v":"Keuze van eigen instrumenten"},{"$f":"Translations!$B$853","v":"gebruik van de instrumenten van andere installaties"},{"$f":"Translations!$B$854","v":"Gebruik de instrumenten van beide partners"}]
["EUconst_PipelineApproaches",{"$f":"Translations!$B$855","v":"Methode A"},{"$f":"Translations!$B$856","v":"Methode B"}]
["EUconst_IRMonth",{"$f":"EUconst_NA","v":"n.v.t."},{"$f":"Translations!$B$1245","v":"Juni"},{"$f":"Translations!$B$1246","v":"Juli"},{"$f":"Translations!$B$1247","v":"Augustus"},{"$f":"Translations!$B$1248","v":"September"}]
[]
[]
[]
[{"$f":"Translations!$B$857","v":"Activiteiten van bijlage I (AnnexIActivities)"}]
[{"$f":"Translations!$B$215","v":"Verbranding van brandstoffen"}]
[{"$f":"Translations!$B$858","v":"Raffineren van aardoliën "}]
[{"$f":"Translations!$B$859","v":"Productie van cokes"}]
[{"$f":"Translations!$B$860","v":"Roosten of sinteren van metaalerts"}]
[{"$f":"Translations!$B$861","v":"Productie van ruwijzer of staal"}]
[{"$f":"Translations!$B$862","v":"Productie of verwerking van ferrometalen"}]
[{"$f":"Translations!$B$863","v":"Productie van primair aluminium"}]
[{"$f":"Translations!$B$864","v":"Productie van secundair aluminium"}]
[{"$f":"Translations!$B$865","v":"Productie of verwerking van non-ferrometalen"}]
[{"$f":"Translations!$B$213","v":"Productie van cementklinkers"}]
[{"$f":"Translations!$B$866","v":"Productie van kalksteen of branden van dolomiet of magnesiet"}]
[{"$f":"Translations!$B$867","v":"Vervaardiging van glas"}]
[{"$f":"Translations!$B$868","v":"Vervaardiging van keramiek"}]
[{"$f":"Translations!$B$869","v":"Vervaardiging van minerale wol"}]
[{"$f":"Translations!$B$870","v":"Productie of verwerking van gips en gipsplaten"}]
[{"$f":"Translations!$B$871","v":"Productie van pulp"}]
[{"$f":"Translations!$B$872","v":"Productie van papier of karton"}]
[{"$f":"Translations!$B$873","v":"Productie van roet"}]
[{"$f":"Translations!$B$874","v":"Productie van salpeterzuur"}]
[{"$f":"Translations!$B$875","v":"Productie van adipinezuur"}]
[{"$f":"Translations!$B$876","v":"Productie van glyoxaal en glyoxaalzuur"}]
[{"$f":"Translations!$B$877","v":"Productie van ammoniak"}]
[{"$f":"Translations!$B$878","v":"Productie van bulkchemicaliën"}]
[{"$f":"Translations!$B$879","v":"Productie van waterstof en synthesegas"}]
[{"$f":"Translations!$B$880","v":"Productie van natriumcarbonaat en natriumbicarbonaat"}]
[{"$f":"Translations!$B$881","v":"Afvangen van broeikasgassen krachtens Richtlijn 2009/31/EG"}]
[{"$f":"Translations!$B$882","v":"Transport van broeikasgassen krachtens Richtlijn 2009/31/EG"}]
[{"$f":"Translations!$B$883","v":"Opslag van broeikasgassen krachtens Richtlijn 2009/31/EG"}]
[]
[{"$f":"Translations!$B$884","v":"Gespecificeerde emissies 2 (SpecifiedEmissions2)"}]
["CO2"]
["N2O"]
[{"$f":"Translations!$B$885","v":"PFK's"}]
[{"$f":"Translations!$B$886","v":"CO2 en N2O"}]
[{"$f":"Translations!$B$887","v":"CO2 en PFK's"}]
[]
[{"$f":"Translations!$B$888","v":"Broncategorie (SourceCategory)"}]
[{"$f":"Translations!$B$313","v":"Groot"}]
[{"$f":"Translations!$B$889","v":"Klein"}]
[{"$f":"Translations!$B$890","v":"De-minimis"}]
[]
[{"$f":"Translations!$B$891","v":"CEMS-broncategorie (SourceCategoryCEMS)"}]
[{"$f":"Translations!$B$313","v":"Groot"}]
[{"$f":"Translations!$B$889","v":"Klein"}]
[]
[]
[{"$f":"Translations!$B$892","v":"Frequentie van de analyses (AnalysisFrequency)"}]
[{"$f":"Translations!$B$893","v":"Voortdurend"}]
[{"$f":"Translations!$B$894","v":"Dagelijks"}]
[{"$f":"Translations!$B$542","v":"Per week"}]
[{"$f":"Translations!$B$895","v":"Per maand"}]
[{"$f":"Translations!$B$896","v":"Per kwartaal"}]
[{"$f":"Translations!$B$897","v":"Tweejaarlijks"}]
[{"$f":"Translations!$B$898","v":"Jaarlijks"}]
[]
[]
[{"$f":"Translations!$B$899","v":"Type handeling (OperationType)"}]
[{"$f":"Translations!$B$900","v":"Normaal bedrijf"}]
[{"$f":"Translations!$B$901","v":"Afwijkend bedrijf"}]
[{"$f":"Translations!$B$584","v":"Normaal of afwijkend bedrijf"}]
[]
[{"$f":"Translations!$B$902","v":"PFK-methoden (PFCMethods)"}]
[{"$f":"Translations!$B$903","v":"Methode A – Hellingsmethode"}]
[{"$f":"Translations!$B$904","v":"Methode B – Overspanningsmethode"}]
[]
[{"$f":"Translations!$B$905","v":"PFK-celtypen (PFCCellTypes)"}]
[{"$f":"Translations!$B$906","v":"Centre Worked Prebake (CWPB)"}]
[{"$f":"Translations!$B$907","v":"Vertical Stud Søderberg (VSS)"}]
[{"$f":"Translations!$B$908","v":"Side-Worked Prebake (SWPB)"}]
[{"$f":"Translations!$B$909","v":"Horizontal Stud Søderberg (HSS)"}]
[]
[{"$f":"Translations!$B$910","v":"Meetinstrumenten (MeteringDevices)"}]
[{"$f":"Translations!$B$366","v":"Rotormeter"}]
[{"$f":"Translations!$B$911","v":"Turbinemeter"}]
[{"$f":"Translations!$B$912","v":"Balgenmeter"}]
[{"$f":"Translations!$B$913","v":"Meetflens"}]
[{"$f":"Translations!$B$914","v":"Venturimeter"}]
[{"$f":"Translations!$B$915","v":"Ultrasone meter"}]
[{"$f":"Translations!$B$916","v":"Vortexmeter"}]
[{"$f":"Translations!$B$917","v":"Coriolismeter"}]
[{"$f":"Translations!$B$918","v":"Ovaalradmeter"}]
[{"$f":"Translations!$B$919","v":"Electronic volume conversion instrument (EVCI)"}]
[{"$f":"Translations!$B$920","v":"Gaschromatograaf"}]
[{"$f":"Translations!$B$367","v":"Weegbrug"}]
[{"$f":"Translations!$B$921","v":"Weegtransportband"}]
[]
[]
["InformationSources"]
[{"$f":"Translations!$B$1249","v":"Monitoring- en rapportageverordening, bijlage VI"}]
[{"$f":"Translations!$B$1250","v":"Nationaal inventarisatiesysteem"}]
[]
[]
[{"$f":"Translations!$B$922","v":"Meetniveaus (MeasurementTiers)"}]
[1]
[2]
[3]
[4]
[]
[{"$f":"Translations!$B$923","v":"PFK-niveaus (PFCTiers)"}]
[1]
[2]
[]
[{"$f":"Translations!$B$924","v":"Biomassaniveaus (BiomassTiers)"}]
[1]
[2]
[3]
[{"$f":"EUconst_NoTier","v":"Geen niveau"}]
[{"$f":"EUconst_NA","v":"n.v.t."}]
[]
[{"$f":"Translations!$B$925","v":"Niveaus voor omrekenfactoren (ConversionFactorTiers)"}]
[1]
[2]
[{"$f":"EUconst_NoTier","v":"Geen niveau"}]
[{"$f":"EUconst_NA","v":"n.v.t."}]
[]
[{"$f":"Translations!$B$926","v":"Niveaus voor activiteitsgegevens (ActivityDataTiers)"}]
[1]
[2]
[3]
[4]
[{"$f":"EUconst_NoTier","v":"Geen niveau"}]
[{"$f":"EUconst_NA","v":"n.v.t."}]
[]
[{"$f":"Translations!$B$927","v":"NCV-niveaus (NCVTiers)"}]
[1]
["2a"]
[{"$f":"Translations!$B$928","v":"2b"}]
[3]
[{"$f":"EUconst_NoTier","v":"Geen niveau"}]
[{"$f":"EUconst_NA","v":"n.v.t."}]
[]
[{"$f":"Translations!$B$929","v":" EF-niveaus (EFTiers)"}]
[1]
[2]
["2a"]
[{"$f":"Translations!$B$928","v":"2b"}]
[3]
[{"$f":"EUconst_NoTier","v":"Geen niveau"}]
[{"$f":"EUconst_NA","v":"n.v.t."}]
[]
[{"$f":"Translations!$B$930","v":"Koolstofgehalteniveaus (CarbonContentTiers)"}]
[1]
["2a"]
[{"$f":"Translations!$B$928","v":"2b"}]
[3]
[{"$f":"EUconst_NoTier","v":"Geen niveau"}]
[{"$f":"EUconst_NA","v":"n.v.t."}]
[]
["NCVUnits"]
[{"$f":"Translations!$B$1251","v":"GJ/t"}]
[{"$f":"Translations!$B$1252","v":"GJ/1 000 Nm³"}]
[]
[]
["EFUnits"]
[{"$f":"Translations!$B$1253","v":"tCO2/TJ"}]
[{"$f":"Translations!$B$1254","v":"tCO2/t"}]
[{"$f":"Translations!$B$1255","v":"tCO2/1 000 Nm³"}]
[]
[]
["PctUnits"]
["%"]
[]
[]
[]
[]
[]
[null,{"$f":"Translations!$B$931","v":"Bijlage I van de richtlijn"},"Directive Annex I (short)",null,"Source Stream Types",null,null,null,null,null,null,{"$f":"Translations!$B$212","v":"Uitgestoten broeikasgassen"},"RowIndex"]
[1,{"$f":"IF(LEN(Translations!$B$933)>250,LEFT(Translations!$B$933,250),Translations!$B$933)","v":"Verbranding van brandstof in installaties met een totaal nominaal thermisch ingangsvermogen van meer dan 20 MW (met uitzondering van installaties voor het verbranden van gevaarlijke afvalstoffen of huishoudelijk afval)"},{"$f":"INDEX(AnnexIActivities,A227)","v":"Verbranding van brandstoffen"},null,null,null,null,null,null,null,null,"CO2"]
[2,{"$f":"Translations!$B$858","v":"Raffineren van aardoliën "},"Raffineren van aardoliën ",null,{"$f":"IFERROR(IF(INDEX($B$261:$B$320,$M228+COLUMNS($E226:E226)-1)<>$C228,\"\",INDEX(EUConst_TierActivityListNames,$M228+COLUMNS($E226:E226)-1)),\"\")","v":"Raffinaderijen: Massabalans"},{"$f":"IFERROR(IF(INDEX($B$261:$B$320,$M228+COLUMNS($E226:F226)-1)<>$C228,\"\",INDEX(EUConst_TierActivityListNames,$M228+COLUMNS($E226:F226)-1)),\"\")","v":"Raffinaderijen: Katalytische-krakerregeneratie"},{"$f":"IFERROR(IF(INDEX($B$261:$B$320,$M228+COLUMNS($E226:G226)-1)<>$C228,\"\",INDEX(EUConst_TierActivityListNames,$M228+COLUMNS($E226:G226)-1)),\"\")","v":"Raffinaderijen: Waterstofproductie"},{"$f":"IFERROR(IF(INDEX($B$261:$B$320,$M228+COLUMNS($E226:H226)-1)<>$C228,\"\",INDEX(EUConst_TierActivityListNames,$M228+COLUMNS($E226:H226)-1)),\"\")","v":""},{"$f":"IFERROR(IF(INDEX($B$261:$B$320,$M228+COLUMNS($E226:I226)-1)<>$C228,\"\",INDEX(EUConst_TierActivityListNames,$M228+COLUMNS($E226:I226)-1)),\"\")","v":""},{"$f":"IFERROR(IF(INDEX($B$261:$B$320,$M228+COLUMNS($E226:J226)-1)<>$C228,\"\",INDEX(EUConst_TierActivityListNames,$M228+COLUMNS($E226:J226)-1)),\"\")","v":""},{"$f":"IFERROR(IF(INDEX($B$261:$B$320,$M228+COLUMNS($E226:K226)-1)<>$C228,\"\",INDEX(EUConst_TierActivityListNames,$M228+COLUMNS($E226:K226)-1)),\"\")","v":""},"CO2",{"$f":"IFERROR(MATCH(C228,$B$261:$B$320,0),\"\")","v":9}]
[3,{"$f":"Translations!$B$859","v":"Productie van cokes"},"Productie van cokes",null,{"$f":"IFERROR(IF(INDEX($B$261:$B$320,$M229+COLUMNS($E227:E227)-1)<>$C229,\"\",INDEX(EUConst_TierActivityListNames,$M229+COLUMNS($E227:E227)-1)),\"\")","v":"Cokes: Brandstofinzet"},{"$f":"IFERROR(IF(INDEX($B$261:$B$320,$M229+COLUMNS($E227:F227)-1)<>$C229,\"\",INDEX(EUConst_TierActivityListNames,$M229+COLUMNS($E227:F227)-1)),\"\")","v":"Cokes: Proces (methode A): alleen carbonaat"},{"$f":"IFERROR(IF(INDEX($B$261:$B$320,$M229+COLUMNS($E227:G227)-1)<>$C229,\"\",INDEX(EUConst_TierActivityListNames,$M229+COLUMNS($E227:G227)-1)),\"\")","v":"Cokes: Proces (methode A): gemengd (carbonaat + niet-carbonaat)"},{"$f":"IFERROR(IF(INDEX($B$261:$B$320,$M229+COLUMNS($E227:H227)-1)<>$C229,\"\",INDEX(EUConst_TierActivityListNames,$M229+COLUMNS($E227:H227)-1)),\"\")","v":"Cokes: Proces (methode A): niet-carbonaat"},{"$f":"IFERROR(IF(INDEX($B$261:$B$320,$M229+COLUMNS($E227:I227)-1)<>$C229,\"\",INDEX(EUConst_TierActivityListNames,$M229+COLUMNS($E227:I227)-1)),\"\")","v":"Cokes: Proces (methode B): oxide-uitgang"},{"$f":"IFERROR(IF(INDEX($B$261:$B$320,$M229+COLUMNS($E227:J227)-1)<>$C229,\"\",INDEX(EUConst_TierActivityListNames,$M229+COLUMNS($E227:J227)-1)),\"\")","v":"Cokes: Massabalans"},{"$f":"IFERROR(IF(INDEX($B$261:$B$320,$M229+COLUMNS($E227:K227)-1)<>$C229,\"\",INDEX(EUConst_TierActivityListNames,$M229+COLUMNS($E227:K227)-1)),\"\")","v":""},"CO2",{"$f":"IFERROR(MATCH(C229,$B$261:$B$320,0),\"\")","v":12}]
[4,{"$f":"IF(LEN(Translations!$B$934)>250,LEFT(Translations!$B$934,250),Translations!$B$934)","v":"Roosten of sinteren van ertsen, met inbegrip van zwavelhoudend erts, inclusief pelletiseren "},"Roosten of sinteren van metaalerts",null,{"$f":"IFERROR(IF(INDEX($B$261:$B$320,$M230+COLUMNS($E228:E228)-1)<>$C230,\"\",INDEX(EUConst_TierActivityListNames,$M230+COLUMNS($E228:E228)-1)),\"\")","v":"Metaalerts: Proces (methode A): alleen carbonaat"},{"$f":"IFERROR(IF(INDEX($B$261:$B$320,$M230+COLUMNS($E228:F228)-1)<>$C230,\"\",INDEX(EUConst_TierActivityListNames,$M230+COLUMNS($E228:F228)-1)),\"\")","v":"Metaalerts: Proces (methode A): gemengd (carbonaat + niet-carbonaat)"},{"$f":"IFERROR(IF(INDEX($B$261:$B$320,$M230+COLUMNS($E228:G228)-1)<>$C230,\"\",INDEX(EUConst_TierActivityListNames,$M230+COLUMNS($E228:G228)-1)),\"\")","v":"Metaalerts: Proces (methode A): niet-carbonaat"},{"$f":"IFERROR(IF(INDEX($B$261:$B$320,$M230+COLUMNS($E228:H228)-1)<>$C230,\"\",INDEX(EUConst_TierActivityListNames,$M230+COLUMNS($E228:H228)-1)),\"\")","v":"Metaalerts: Proces (methode B): oxide-uitgang"},{"$f":"IFERROR(IF(INDEX($B$261:$B$320,$M230+COLUMNS($E228:I228)-1)<>$C230,\"\",INDEX(EUConst_TierActivityListNames,$M230+COLUMNS($E228:I228)-1)),\"\")","v":"Metaalerts: Massabalans"},{"$f":"IFERROR(IF(INDEX($B$261:$B$320,$M230+COLUMNS($E228:J228)-1)<>$C230,\"\",INDEX(EUConst_TierActivityListNames,$M230+COLUMNS($E228:J228)-1)),\"\")","v":""},{"$f":"IFERROR(IF(INDEX($B$261:$B$320,$M230+COLUMNS($E228:K228)-1)<>$C230,\"\",INDEX(EUConst_TierActivityListNames,$M230+COLUMNS($E228:K228)-1)),\"\")","v":""},"CO2",18]
[5,{"$f":"IF(LEN(Translations!$B$935)>250,LEFT(Translations!$B$935,250),Translations!$B$935)","v":"Productie van ruwijzer of staal (primaire of secundaire smelting) inclusief continugieten, met een capaciteit van meer dan 2,5 t per uur "},"Productie van ruwijzer of staal",null,{"$f":"IFERROR(IF(INDEX($B$261:$B$320,$M231+COLUMNS($E229:E229)-1)<>$C231,\"\",INDEX(EUConst_TierActivityListNames,$M231+COLUMNS($E229:E229)-1)),\"\")","v":"IJzer en staal: Brandstofinzet"},{"$f":"IFERROR(IF(INDEX($B$261:$B$320,$M231+COLUMNS($E229:F229)-1)<>$C231,\"\",INDEX(EUConst_TierActivityListNames,$M231+COLUMNS($E229:F229)-1)),\"\")","v":"IJzer en staal: Proces (methode A): alleen carbonaat"},{"$f":"IFERROR(IF(INDEX($B$261:$B$320,$M231+COLUMNS($E229:G229)-1)<>$C231,\"\",INDEX(EUConst_TierActivityListNames,$M231+COLUMNS($E229:G229)-1)),\"\")","v":"IJzer en staal: Proces (methode A): gemengd (carbonaat + niet-carbonaat)"},{"$f":"IFERROR(IF(INDEX($B$261:$B$320,$M231+COLUMNS($E229:H229)-1)<>$C231,\"\",INDEX(EUConst_TierActivityListNames,$M231+COLUMNS($E229:H229)-1)),\"\")","v":"IJzer en staal: Proces (methode A): niet-carbonaat"},{"$f":"IFERROR(IF(INDEX($B$261:$B$320,$M231+COLUMNS($E229:I229)-1)<>$C231,\"\",INDEX(EUConst_TierActivityListNames,$M231+COLUMNS($E229:I229)-1)),\"\")","v":"IJzer en staal: Proces (methode B): oxide-uitgang"},{"$f":"IFERROR(IF(INDEX($B$261:$B$320,$M231+COLUMNS($E229:J229)-1)<>$C231,\"\",INDEX(EUConst_TierActivityListNames,$M231+COLUMNS($E229:J229)-1)),\"\")","v":"IJzer en staal: Massabalans"},{"$f":"IFERROR(IF(INDEX($B$261:$B$320,$M231+COLUMNS($E229:K229)-1)<>$C231,\"\",INDEX(EUConst_TierActivityListNames,$M231+COLUMNS($E229:K229)-1)),\"\")","v":""},"CO2",23]
[6,{"$f":"IF(LEN(Translations!$B$936)>250,LEFT(Translations!$B$936,250),Translations!$B$936)","v":"Productie of bewerking van ferrometalen (inclusief ferrolegeringen) waarbij verbrandingseenheden met een totaal nominaal thermisch ingangsvermogen van meer dan 20 MW worden gebruikt. Bewerking omvat, onder andere, walserijen, herverhitters, gloeioven"},"Productie of verwerking van ferrometalen",null,{"$f":"IFERROR(IF(INDEX($B$261:$B$320,$M232+COLUMNS($E230:E230)-1)<>$C232,\"\",INDEX(EUConst_TierActivityListNames,$M232+COLUMNS($E230:E230)-1)),\"\")","v":"(Non)-ferrometalen, secundair aluminium: Proces (methode A): alleen carbonaat"},{"$f":"IFERROR(IF(INDEX($B$261:$B$320,$M232+COLUMNS($E230:F230)-1)<>$C232,\"\",INDEX(EUConst_TierActivityListNames,$M232+COLUMNS($E230:F230)-1)),\"\")","v":"(Non)-ferrometalen, secundair aluminium: Proces (methode A): gemengd (carbonaat + niet-carbonaat)"},{"$f":"IFERROR(IF(INDEX($B$261:$B$320,$M232+COLUMNS($E230:G230)-1)<>$C232,\"\",INDEX(EUConst_TierActivityListNames,$M232+COLUMNS($E230:G230)-1)),\"\")","v":"(Non)-ferrometalen, secundair aluminium: Proces (methode A): niet-carbonaat"},{"$f":"IFERROR(IF(INDEX($B$261:$B$320,$M232+COLUMNS($E230:H230)-1)<>$C232,\"\",INDEX(EUConst_TierActivityListNames,$M232+COLUMNS($E230:H230)-1)),\"\")","v":"(Non)-ferrometalen, secundair aluminium: Proces (methode B): oxide-uitgang"},{"$f":"IFERROR(IF(INDEX($B$261:$B$320,$M232+COLUMNS($E230:I230)-1)<>$C232,\"\",INDEX(EUConst_TierActivityListNames,$M232+COLUMNS($E230:I230)-1)),\"\")","v":"(Non)-ferrometalen, secundair aluminium: Massabalansmethodiek"},{"$f":"IFERROR(IF(INDEX($B$261:$B$320,$M232+COLUMNS($E230:J230)-1)<>$C232,\"\",INDEX(EUConst_TierActivityListNames,$M232+COLUMNS($E230:J230)-1)),\"\")","v":""},{"$f":"IFERROR(IF(INDEX($B$261:$B$320,$M232+COLUMNS($E230:K230)-1)<>$C232,\"\",INDEX(EUConst_TierActivityListNames,$M232+COLUMNS($E230:K230)-1)),\"\")","v":""},"CO2",52]
[7,{"$f":"Translations!$B$863","v":"Productie van primair aluminium"},"Productie van primair aluminium",null,{"$f":"IFERROR(IF(INDEX($B$261:$B$320,$M233+COLUMNS($E231:E231)-1)<>$C233,\"\",INDEX(EUConst_TierActivityListNames,$M233+COLUMNS($E231:E231)-1)),\"\")","v":"Primair aluminium: Massabalansmethodiek"},{"$f":"IFERROR(IF(INDEX($B$261:$B$320,$M233+COLUMNS($E231:F231)-1)<>$C233,\"\",INDEX(EUConst_TierActivityListNames,$M233+COLUMNS($E231:F231)-1)),\"\")","v":"Primair aluminium: PFK-emissies (hellingsmethode)"},{"$f":"IFERROR(IF(INDEX($B$261:$B$320,$M233+COLUMNS($E231:G231)-1)<>$C233,\"\",INDEX(EUConst_TierActivityListNames,$M233+COLUMNS($E231:G231)-1)),\"\")","v":"Primair aluminium: PFK-emissies (overspanningsmethode)"},{"$f":"IFERROR(IF(INDEX($B$261:$B$320,$M233+COLUMNS($E231:H231)-1)<>$C233,\"\",INDEX(EUConst_TierActivityListNames,$M233+COLUMNS($E231:H231)-1)),\"\")","v":""},{"$f":"IFERROR(IF(INDEX($B$261:$B$320,$M233+COLUMNS($E231:I231)-1)<>$C233,\"\",INDEX(EUConst_TierActivityListNames,$M233+COLUMNS($E231:I231)-1)),\"\")","v":""},{"$f":"IFERROR(IF(INDEX($B$261:$B$320,$M233+COLUMNS($E231:J231)-1)<>$C233,\"\",INDEX(EUConst_TierActivityListNames,$M233+COLUMNS($E231:J231)-1)),\"\")","v":""},{"$f":"IFERROR(IF(INDEX($B$261:$B$320,$M233+COLUMNS($E231:K231)-1)<>$C233,\"\",INDEX(EUConst_TierActivityListNames,$M233+COLUMNS($E231:K231)-1)),\"\")","v":""},{"$f":"Translations!$B$887","v":"CO2 en PFK's"},58]
[8,{"$f":"IF(LEN(Translations!$B$937)>250,LEFT(Translations!$B$937,250),Translations!$B$937)","v":"Productie van secundair aluminium waarbij verbrandingseenheden met een totaal nominaal thermisch ingangsvermogen van meer dan 20 MW worden gebruikt"},"Productie van secundair aluminium",null,{"$f":"IF(E232=\"\",\"\",E232)","v":"(Non)-ferrometalen, secundair aluminium: Proces (methode A): alleen carbonaat"},"(Non)-ferrometalen, secundair aluminium: Proces (methode A): gemengd (carbonaat + niet-carbonaat)","(Non)-ferrometalen, secundair aluminium: Proces (methode A): niet-carbonaat","(Non)-ferrometalen, secundair aluminium: Proces (methode B): oxide-uitgang","(Non)-ferrometalen, secundair aluminium: Massabalansmethodiek","","","CO2",""]
[9,{"$f":"IF(LEN(Translations!$B$938)>250,LEFT(Translations!$B$938,250),Translations!$B$938)","v":"Productie of bewerking van non-ferrometalen, met inbegrip van de productie van legeringen, raffinage, gieterijen enz., waarbij verbrandingseenheden met een totaal nominaal thermisch ingangsvermogen (met inbegrip van brandstoffen die als reductoren wo"},"Productie of verwerking van non-ferrometalen",null,{"$f":"E234","v":"(Non)-ferrometalen, secundair aluminium: Proces (methode A): alleen carbonaat"},"(Non)-ferrometalen, secundair aluminium: Proces (methode A): gemengd (carbonaat + niet-carbonaat)","(Non)-ferrometalen, secundair aluminium: Proces (methode A): niet-carbonaat","(Non)-ferrometalen, secundair aluminium: Proces (methode B): oxide-uitgang","(Non)-ferrometalen, secundair aluminium: Massabalansmethodiek","","","CO2",""]
[10,{"$f":"IF(LEN(Translations!$B$939)>250,LEFT(Translations!$B$939,250),Translations!$B$939)","v":"Productie van cementklinkers in draaiovens met een productiecapaciteit van meer dan 500 t per dag of in andere ovens met een productiecapaciteit van meer dan 50 t per dag "},"Productie van cementklinkers",null,{"$f":"IFERROR(IF(INDEX($B$261:$B$320,$M236+COLUMNS($E234:E234)-1)<>$C236,\"\",INDEX(EUConst_TierActivityListNames,$M236+COLUMNS($E234:E234)-1)),\"\")","v":"Cementklinker: Op basis van inzet in de oven (methode A)"},{"$f":"IFERROR(IF(INDEX($B$261:$B$320,$M236+COLUMNS($E234:F234)-1)<>$C236,\"\",INDEX(EUConst_TierActivityListNames,$M236+COLUMNS($E234:F234)-1)),\"\")","v":"Cementklinker: Op basis van geproduceerde klinker (methode B)"},{"$f":"IFERROR(IF(INDEX($B$261:$B$320,$M236+COLUMNS($E234:G234)-1)<>$C236,\"\",INDEX(EUConst_TierActivityListNames,$M236+COLUMNS($E234:G234)-1)),\"\")","v":"Cementklinker: Cementovenstof"},{"$f":"IFERROR(IF(INDEX($B$261:$B$320,$M236+COLUMNS($E234:H234)-1)<>$C236,\"\",INDEX(EUConst_TierActivityListNames,$M236+COLUMNS($E234:H234)-1)),\"\")","v":"Cementklinker: Niet-carbonaatkoolstof"},{"$f":"IFERROR(IF(INDEX($B$261:$B$320,$M236+COLUMNS($E234:I234)-1)<>$C236,\"\",INDEX(EUConst_TierActivityListNames,$M236+COLUMNS($E234:I234)-1)),\"\")","v":""},{"$f":"IFERROR(IF(INDEX($B$261:$B$320,$M236+COLUMNS($E234:J234)-1)<>$C236,\"\",INDEX(EUConst_TierActivityListNames,$M236+COLUMNS($E234:J234)-1)),\"\")","v":""},{"$f":"IFERROR(IF(INDEX($B$261:$B$320,$M236+COLUMNS($E234:K234)-1)<>$C236,\"\",INDEX(EUConst_TierActivityListNames,$M236+COLUMNS($E234:K234)-1)),\"\")","v":""},"CO2",29]
[11,{"$f":"IF(LEN(Translations!$B$940)>250,LEFT(Translations!$B$940,250),Translations!$B$940)","v":"Productie van kalk of het calcineren van dolomiet of magnesiet in draaiovens of in andere ovens met een productiecapaciteit van meer dan 50 t per dag "},"Productie van kalksteen of branden van dolomiet of magnesiet",null,{"$f":"IFERROR(IF(INDEX($B$261:$B$320,$M237+COLUMNS($E235:E235)-1)<>$C237,\"\",INDEX(EUConst_TierActivityListNames,$M237+COLUMNS($E235:E235)-1)),\"\")","v":"Kalk, dolomiet en magnesiet: Proces (methode A): alleen carbonaat"},{"$f":"IFERROR(IF(INDEX($B$261:$B$320,$M237+COLUMNS($E235:F235)-1)<>$C237,\"\",INDEX(EUConst_TierActivityListNames,$M237+COLUMNS($E235:F235)-1)),\"\")","v":"Kalk, dolomiet en magnesiet: Proces (methode A): gemengd (carbonaat + niet-carbonaat)"},{"$f":"IFERROR(IF(INDEX($B$261:$B$320,$M237+COLUMNS($E235:G235)-1)<>$C237,\"\",INDEX(EUConst_TierActivityListNames,$M237+COLUMNS($E235:G235)-1)),\"\")","v":"Kalk, dolomiet en magnesiet: Proces (methode A): niet-carbonaat"},{"$f":"IFERROR(IF(INDEX($B$261:$B$320,$M237+COLUMNS($E235:H235)-1)<>$C237,\"\",INDEX(EUConst_TierActivityListNames,$M237+COLUMNS($E235:H235)-1)),\"\")","v":"Kalk, dolomiet en magnesiet: Proces (methode B): oxide-uitgang"},{"$f":"IFERROR(IF(INDEX($B$261:$B$320,$M237+COLUMNS($E235:I235)-1)<>$C237,\"\",INDEX(EUConst_TierActivityListNames,$M237+COLUMNS($E235:I235)-1)),\"\")","v":"Kalk, dolomiet en magnesiet: Ovenstof (methode B)"},{"$f":"IFERROR(IF(INDEX($B$261:$B$320,$M237+COLUMNS($E235:J235)-1)<>$C237,\"\",INDEX(EUConst_TierActivityListNames,$M237+COLUMNS($E235:J235)-1)),\"\")","v":""},{"$f":"IFERROR(IF(INDEX($B$261:$B$320,$M237+COLUMNS($E235:K235)-1)<>$C237,\"\",INDEX(EUConst_TierActivityListNames,$M237+COLUMNS($E235:K235)-1)),\"\")","v":""},"CO2",33]
[12,{"$f":"IF(LEN(Translations!$B$941)>250,LEFT(Translations!$B$941,250),Translations!$B$941)","v":"Fabricage van glas, met inbegrip van de fabricage van glasvezels, met een smeltcapaciteit van meer dan 20 ton per dag "},"Vervaardiging van glas",null,{"$f":"IFERROR(IF(INDEX($B$261:$B$320,$M238+COLUMNS($E236:E236)-1)<>$C238,\"\",INDEX(EUConst_TierActivityListNames,$M238+COLUMNS($E236:E236)-1)),\"\")","v":"Glas en minerale wol: Proces (methode A): alleen carbonaat"},{"$f":"IFERROR(IF(INDEX($B$261:$B$320,$M238+COLUMNS($E236:F236)-1)<>$C238,\"\",INDEX(EUConst_TierActivityListNames,$M238+COLUMNS($E236:F236)-1)),\"\")","v":"Glas en minerale wol: Proces (methode A): gemengd (carbonaat + niet-carbonaat)"},{"$f":"IFERROR(IF(INDEX($B$261:$B$320,$M238+COLUMNS($E236:G236)-1)<>$C238,\"\",INDEX(EUConst_TierActivityListNames,$M238+COLUMNS($E236:G236)-1)),\"\")","v":"Glas en minerale wol: Proces (methode A): niet-carbonaat"},{"$f":"IFERROR(IF(INDEX($B$261:$B$320,$M238+COLUMNS($E236:H236)-1)<>$C238,\"\",INDEX(EUConst_TierActivityListNames,$M238+COLUMNS($E236:H236)-1)),\"\")","v":""},{"$f":"IFERROR(IF(INDEX($B$261:$B$320,$M238+COLUMNS($E236:I236)-1)<>$C238,\"\",INDEX(EUConst_TierActivityListNames,$M238+COLUMNS($E236:I236)-1)),\"\")","v":""},{"$f":"IFERROR(IF(INDEX($B$261:$B$320,$M238+COLUMNS($E236:J236)-1)<>$C238,\"\",INDEX(EUConst_TierActivityListNames,$M238+COLUMNS($E236:J236)-1)),\"\")","v":""},{"$f":"IFERROR(IF(INDEX($B$261:$B$320,$M238+COLUMNS($E236:K236)-1)<>$C238,\"\",INDEX(EUConst_TierActivityListNames,$M238+COLUMNS($E236:K236)-1)),\"\")","v":""},"CO2",38]
[13,{"$f":"IF(LEN(Translations!$B$942)>250,LEFT(Translations!$B$942,250),Translations!$B$942)","v":"Fabricage van keramische producten door middel van verhitting, met name dakpannen, bakstenen, vuurvaste stenen, tegels, aardewerk of porselein, met een productiecapaciteit van meer dan 75 t per dag "},"Vervaardiging van keramiek",null,{"$f":"IFERROR(IF(INDEX($B$261:$B$320,$M239+COLUMNS($E237:E237)-1)<>$C239,\"\",INDEX(EUConst_TierActivityListNames,$M239+COLUMNS($E237:E237)-1)),\"\")","v":"Keramiek: Proces (methode A): alleen carbonaat"},{"$f":"IFERROR(IF(INDEX($B$261:$B$320,$M239+COLUMNS($E237:F237)-1)<>$C239,\"\",INDEX(EUConst_TierActivityListNames,$M239+COLUMNS($E237:F237)-1)),\"\")","v":"Keramiek: Proces (methode A): gemengd (carbonaat + niet-carbonaat)"},{"$f":"IFERROR(IF(INDEX($B$261:$B$320,$M239+COLUMNS($E237:G237)-1)<>$C239,\"\",INDEX(EUConst_TierActivityListNames,$M239+COLUMNS($E237:G237)-1)),\"\")","v":"Keramiek: Proces (methode A): niet-carbonaat"},{"$f":"IFERROR(IF(INDEX($B$261:$B$320,$M239+COLUMNS($E237:H237)-1)<>$C239,\"\",INDEX(EUConst_TierActivityListNames,$M239+COLUMNS($E237:H237)-1)),\"\")","v":"Keramiek: Proces (methode B): oxide-uitgang"},{"$f":"IFERROR(IF(INDEX($B$261:$B$320,$M239+COLUMNS($E237:I237)-1)<>$C239,\"\",INDEX(EUConst_TierActivityListNames,$M239+COLUMNS($E237:I237)-1)),\"\")","v":"Keramiek: Gasreiniging"},{"$f":"IFERROR(IF(INDEX($B$261:$B$320,$M239+COLUMNS($E237:J237)-1)<>$C239,\"\",INDEX(EUConst_TierActivityListNames,$M239+COLUMNS($E237:J237)-1)),\"\")","v":""},{"$f":"IFERROR(IF(INDEX($B$261:$B$320,$M239+COLUMNS($E237:K237)-1)<>$C239,\"\",INDEX(EUConst_TierActivityListNames,$M239+COLUMNS($E237:K237)-1)),\"\")","v":""},"CO2",41]
[14,{"$f":"IF(LEN(Translations!$B$943)>250,LEFT(Translations!$B$943,250),Translations!$B$943)","v":"Fabricage van isolatiemateriaal uit minerale wol met gebruikmaking van glas, steen of slakken met een smeltcapaciteit van meer dan 20 t per dag "},"Vervaardiging van minerale wol",null,{"$f":"IF(E238=\"\",\"\",E238)","v":"Glas en minerale wol: Proces (methode A): alleen carbonaat"},"Glas en minerale wol: Proces (methode A): gemengd (carbonaat + niet-carbonaat)","Glas en minerale wol: Proces (methode A): niet-carbonaat","","","","","CO2",""]
[15,{"$f":"IF(LEN(Translations!$B$944)>250,LEFT(Translations!$B$944,250),Translations!$B$944)","v":"Drogen of calcineren van gips of het produceren van gipsplaten en andere gipsproducten, waarbij verbrandingseenheden met een totaal nominaal thermisch ingangsvermogen van meer dan 20 MW worden gebruikt. "},"Productie of verwerking van gips en gipsplaten",null,null,null,null,null,null,null,null,"CO2",""]
[16,{"$f":"Translations!$B$945","v":"Productie van papierpulp uit hout of andere vezelmaterialen "},"Productie van pulp",null,{"$f":"IFERROR(IF(INDEX($B$261:$B$320,$M242+COLUMNS($E240:E240)-1)<>$C242,\"\",INDEX(EUConst_TierActivityListNames,$M242+COLUMNS($E240:E240)-1)),\"\")","v":"Pulp en papier: Aanvullende chemicaliën"},{"$f":"IFERROR(IF(INDEX($B$261:$B$320,$M242+COLUMNS($E240:F240)-1)<>$C242,\"\",INDEX(EUConst_TierActivityListNames,$M242+COLUMNS($E240:F240)-1)),\"\")","v":""},{"$f":"IFERROR(IF(INDEX($B$261:$B$320,$M242+COLUMNS($E240:G240)-1)<>$C242,\"\",INDEX(EUConst_TierActivityListNames,$M242+COLUMNS($E240:G240)-1)),\"\")","v":""},{"$f":"IFERROR(IF(INDEX($B$261:$B$320,$M242+COLUMNS($E240:H240)-1)<>$C242,\"\",INDEX(EUConst_TierActivityListNames,$M242+COLUMNS($E240:H240)-1)),\"\")","v":""},{"$f":"IFERROR(IF(INDEX($B$261:$B$320,$M242+COLUMNS($E240:I240)-1)<>$C242,\"\",INDEX(EUConst_TierActivityListNames,$M242+COLUMNS($E240:I240)-1)),\"\")","v":""},{"$f":"IFERROR(IF(INDEX($B$261:$B$320,$M242+COLUMNS($E240:J240)-1)<>$C242,\"\",INDEX(EUConst_TierActivityListNames,$M242+COLUMNS($E240:J240)-1)),\"\")","v":""},{"$f":"IFERROR(IF(INDEX($B$261:$B$320,$M242+COLUMNS($E240:K240)-1)<>$C242,\"\",INDEX(EUConst_TierActivityListNames,$M242+COLUMNS($E240:K240)-1)),\"\")","v":""},"CO2",46]
[17,{"$f":"IF(LEN(Translations!$B$946)>250,LEFT(Translations!$B$946,250),Translations!$B$946)","v":"Productie van papier en karton met een productiecapaciteit van meer dan 20 ton per dag "},"Productie van papier of karton",null,{"$f":"IF(E242=\"\",\"\",E242)","v":"Pulp en papier: Aanvullende chemicaliën"},{"$f":"IF(F242=\"\",\"\",F242)","v":""},"","","","","","CO2",""]
[18,{"$f":"IF(LEN(Translations!$B$947)>250,LEFT(Translations!$B$947,250),Translations!$B$947)","v":"Productie van roet waarbij organische stoffen zoals olie, teer en kraak- en destillatieresiduen worden verkoold, waarbij verbrandingseenheden met een totaal nominaal thermisch ingangsvermogen van meer dan 20 MW worden gebruikt "},"Productie van roet",null,{"$f":"IFERROR(IF(INDEX($B$261:$B$320,$M244+COLUMNS($E242:E242)-1)<>$C244,\"\",INDEX(EUConst_TierActivityListNames,$M244+COLUMNS($E242:E242)-1)),\"\")","v":"Roet: Massabalansmethodiek"},{"$f":"IFERROR(IF(INDEX($B$261:$B$320,$M244+COLUMNS($E242:F242)-1)<>$C244,\"\",INDEX(EUConst_TierActivityListNames,$M244+COLUMNS($E242:F242)-1)),\"\")","v":""},{"$f":"IFERROR(IF(INDEX($B$261:$B$320,$M244+COLUMNS($E242:G242)-1)<>$C244,\"\",INDEX(EUConst_TierActivityListNames,$M244+COLUMNS($E242:G242)-1)),\"\")","v":""},{"$f":"IFERROR(IF(INDEX($B$261:$B$320,$M244+COLUMNS($E242:H242)-1)<>$C244,\"\",INDEX(EUConst_TierActivityListNames,$M244+COLUMNS($E242:H242)-1)),\"\")","v":""},{"$f":"IFERROR(IF(INDEX($B$261:$B$320,$M244+COLUMNS($E242:I242)-1)<>$C244,\"\",INDEX(EUConst_TierActivityListNames,$M244+COLUMNS($E242:I242)-1)),\"\")","v":""},{"$f":"IFERROR(IF(INDEX($B$261:$B$320,$M244+COLUMNS($E242:J242)-1)<>$C244,\"\",INDEX(EUConst_TierActivityListNames,$M244+COLUMNS($E242:J242)-1)),\"\")","v":""},{"$f":"IFERROR(IF(INDEX($B$261:$B$320,$M244+COLUMNS($E242:K242)-1)<>$C244,\"\",INDEX(EUConst_TierActivityListNames,$M244+COLUMNS($E242:K242)-1)),\"\")","v":""},"CO2",47]
[19,{"$f":"Translations!$B$874","v":"Productie van salpeterzuur"},"Productie van salpeterzuur",null,null,null,null,null,null,null,null,{"$f":"Translations!$B$886","v":"CO2 en N2O"},""]
[20,{"$f":"Translations!$B$875","v":"Productie van adipinezuur"},"Productie van adipinezuur",null,null,null,null,null,null,null,null,{"$f":"Translations!$B$886","v":"CO2 en N2O"},""]
[21,{"$f":"Translations!$B$876","v":"Productie van glyoxaal en glyoxaalzuur"},"Productie van glyoxaal en glyoxaalzuur",null,null,null,null,null,null,null,null,{"$f":"Translations!$B$886","v":"CO2 en N2O"},""]
[22,{"$f":"Translations!$B$877","v":"Productie van ammoniak"},"Productie van ammoniak",null,{"$f":"IFERROR(IF(INDEX($B$261:$B$320,$M248+COLUMNS($E246:E246)-1)<>$C248,\"\",INDEX(EUConst_TierActivityListNames,$M248+COLUMNS($E246:E246)-1)),\"\")","v":"Ammoniak: Brandstofinzet"},{"$f":"IFERROR(IF(INDEX($B$261:$B$320,$M248+COLUMNS($E246:F246)-1)<>$C248,\"\",INDEX(EUConst_TierActivityListNames,$M248+COLUMNS($E246:F246)-1)),\"\")","v":""},{"$f":"IFERROR(IF(INDEX($B$261:$B$320,$M248+COLUMNS($E246:G246)-1)<>$C248,\"\",INDEX(EUConst_TierActivityListNames,$M248+COLUMNS($E246:G246)-1)),\"\")","v":""},{"$f":"IFERROR(IF(INDEX($B$261:$B$320,$M248+COLUMNS($E246:H246)-1)<>$C248,\"\",INDEX(EUConst_TierActivityListNames,$M248+COLUMNS($E246:H246)-1)),\"\")","v":""},{"$f":"IFERROR(IF(INDEX($B$261:$B$320,$M248+COLUMNS($E246:I246)-1)<>$C248,\"\",INDEX(EUConst_TierActivityListNames,$M248+COLUMNS($E246:I246)-1)),\"\")","v":""},{"$f":"IFERROR(IF(INDEX($B$261:$B$320,$M248+COLUMNS($E246:J246)-1)<>$C248,\"\",INDEX(EUConst_TierActivityListNames,$M248+COLUMNS($E246:J246)-1)),\"\")","v":""},{"$f":"IFERROR(IF(INDEX($B$261:$B$320,$M248+COLUMNS($E246:K246)-1)<>$C248,\"\",INDEX(EUConst_TierActivityListNames,$M248+COLUMNS($E246:K246)-1)),\"\")","v":""},"CO2",48]
[23,{"$f":"IF(LEN(Translations!$B$948)>250,LEFT(Translations!$B$948,250),Translations!$B$948)","v":"Productie van organische chemicaliën in bulk door middel van kraken, reforming, gedeeltelijke of volledige oxidatie of door gelijkaardige processen, met een productiecapaciteit van meer dan 100 ton per dag "},"Productie van bulkchemicaliën",null,{"$f":"IFERROR(IF(INDEX($B$261:$B$320,$M249+COLUMNS($E247:E247)-1)<>$C249,\"\",INDEX(EUConst_TierActivityListNames,$M249+COLUMNS($E247:E247)-1)),\"\")","v":"Organische bulkchemicaliën: Massabalansmethodiek"},{"$f":"IFERROR(IF(INDEX($B$261:$B$320,$M249+COLUMNS($E247:F247)-1)<>$C249,\"\",INDEX(EUConst_TierActivityListNames,$M249+COLUMNS($E247:F247)-1)),\"\")","v":""},{"$f":"IFERROR(IF(INDEX($B$261:$B$320,$M249+COLUMNS($E247:G247)-1)<>$C249,\"\",INDEX(EUConst_TierActivityListNames,$M249+COLUMNS($E247:G247)-1)),\"\")","v":""},{"$f":"IFERROR(IF(INDEX($B$261:$B$320,$M249+COLUMNS($E247:H247)-1)<>$C249,\"\",INDEX(EUConst_TierActivityListNames,$M249+COLUMNS($E247:H247)-1)),\"\")","v":""},{"$f":"IFERROR(IF(INDEX($B$261:$B$320,$M249+COLUMNS($E247:I247)-1)<>$C249,\"\",INDEX(EUConst_TierActivityListNames,$M249+COLUMNS($E247:I247)-1)),\"\")","v":""},{"$f":"IFERROR(IF(INDEX($B$261:$B$320,$M249+COLUMNS($E247:J247)-1)<>$C249,\"\",INDEX(EUConst_TierActivityListNames,$M249+COLUMNS($E247:J247)-1)),\"\")","v":""},{"$f":"IFERROR(IF(INDEX($B$261:$B$320,$M249+COLUMNS($E247:K247)-1)<>$C249,\"\",INDEX(EUConst_TierActivityListNames,$M249+COLUMNS($E247:K247)-1)),\"\")","v":""},"CO2",51]
[24,{"$f":"IF(LEN(Translations!$B$949)>250,LEFT(Translations!$B$949,250),Translations!$B$949)","v":"Productie van waterstof (H2) en synthesegas door reforming of gedeeltelijke oxidatie, met een productiecapaciteit van meer dan 25 ton per dag "},"Productie van waterstof en synthesegas",null,{"$f":"IFERROR(IF(INDEX($B$261:$B$320,$M250+COLUMNS($E248:E248)-1)<>$C250,\"\",INDEX(EUConst_TierActivityListNames,$M250+COLUMNS($E248:E248)-1)),\"\")","v":"Waterstof en synthesegas: Brandstofinzet"},{"$f":"IFERROR(IF(INDEX($B$261:$B$320,$M250+COLUMNS($E248:F248)-1)<>$C250,\"\",INDEX(EUConst_TierActivityListNames,$M250+COLUMNS($E248:F248)-1)),\"\")","v":"Waterstof en synthesegas: Massabalansmethodiek"},{"$f":"IFERROR(IF(INDEX($B$261:$B$320,$M250+COLUMNS($E248:G248)-1)<>$C250,\"\",INDEX(EUConst_TierActivityListNames,$M250+COLUMNS($E248:G248)-1)),\"\")","v":""},{"$f":"IFERROR(IF(INDEX($B$261:$B$320,$M250+COLUMNS($E248:H248)-1)<>$C250,\"\",INDEX(EUConst_TierActivityListNames,$M250+COLUMNS($E248:H248)-1)),\"\")","v":""},{"$f":"IFERROR(IF(INDEX($B$261:$B$320,$M250+COLUMNS($E248:I248)-1)<>$C250,\"\",INDEX(EUConst_TierActivityListNames,$M250+COLUMNS($E248:I248)-1)),\"\")","v":""},{"$f":"IFERROR(IF(INDEX($B$261:$B$320,$M250+COLUMNS($E248:J248)-1)<>$C250,\"\",INDEX(EUConst_TierActivityListNames,$M250+COLUMNS($E248:J248)-1)),\"\")","v":""},{"$f":"IFERROR(IF(INDEX($B$261:$B$320,$M250+COLUMNS($E248:K248)-1)<>$C250,\"\",INDEX(EUConst_TierActivityListNames,$M250+COLUMNS($E248:K248)-1)),\"\")","v":""},"CO2",49]
[25,{"$f":"Translations!$B$950","v":"Productie van natriumcarbonaat (Na2CO3) en natriumbicarbonaat (NaHCO3) "},"Productie van natriumcarbonaat en natriumbicarbonaat",null,{"$f":"IFERROR(IF(INDEX($B$261:$B$320,$M251+COLUMNS($E249:E249)-1)<>$C251,\"\",INDEX(EUConst_TierActivityListNames,$M251+COLUMNS($E249:E249)-1)),\"\")","v":"Natriumcarbonaat en natriumbicarbonaat: Massabalansmethodiek"},{"$f":"IFERROR(IF(INDEX($B$261:$B$320,$M251+COLUMNS($E249:F249)-1)<>$C251,\"\",INDEX(EUConst_TierActivityListNames,$M251+COLUMNS($E249:F249)-1)),\"\")","v":""},{"$f":"IFERROR(IF(INDEX($B$261:$B$320,$M251+COLUMNS($E249:G249)-1)<>$C251,\"\",INDEX(EUConst_TierActivityListNames,$M251+COLUMNS($E249:G249)-1)),\"\")","v":""},{"$f":"IFERROR(IF(INDEX($B$261:$B$320,$M251+COLUMNS($E249:H249)-1)<>$C251,\"\",INDEX(EUConst_TierActivityListNames,$M251+COLUMNS($E249:H249)-1)),\"\")","v":""},{"$f":"IFERROR(IF(INDEX($B$261:$B$320,$M251+COLUMNS($E249:I249)-1)<>$C251,\"\",INDEX(EUConst_TierActivityListNames,$M251+COLUMNS($E249:I249)-1)),\"\")","v":""},{"$f":"IFERROR(IF(INDEX($B$261:$B$320,$M251+COLUMNS($E249:J249)-1)<>$C251,\"\",INDEX(EUConst_TierActivityListNames,$M251+COLUMNS($E249:J249)-1)),\"\")","v":""},{"$f":"IFERROR(IF(INDEX($B$261:$B$320,$M251+COLUMNS($E249:K249)-1)<>$C251,\"\",INDEX(EUConst_TierActivityListNames,$M251+COLUMNS($E249:K249)-1)),\"\")","v":""},"CO2",57]
[26,{"$f":"IF(LEN(Translations!$B$951)>250,LEFT(Translations!$B$951,250),Translations!$B$951)","v":"Afvangen van broeikasgassen van installaties die onder deze richtlijn vallen met het oog op vervoer en geologische opslag op een opslaglocatie waarvoor krachtens Richtlijn 2009/31/EG een vergunning is verleend"},"Afvangen van broeikasgassen krachtens Richtlijn 2009/31/EG",null,null,null,null,null,null,null,null,"CO2",""]
[27,{"$f":"IF(LEN(Translations!$B$952)>250,LEFT(Translations!$B$952,250),Translations!$B$952)","v":"Vervoer van broeikasgassen via pijpleidingen met het oog op geologische opslag op een opslaglocatie waarvoor krachtens Richtlijn 2009/31/EG een vergunning is verleend"},"Transport van broeikasgassen krachtens Richtlijn 2009/31/EG",null,null,null,null,null,null,null,null,"CO2",""]
[28,{"$f":"IF(LEN(Translations!$B$953)>250,LEFT(Translations!$B$953,250),Translations!$B$953)","v":"Geologische opslag van broeikasgassen op een opslaglocatie waarvoor krachtens Richtlijn 2009/31/EG een vergunning is verleend"},"Opslag van broeikasgassen krachtens Richtlijn 2009/31/EG",null,null,null,null,null,null,null,null,"CO2",""]
[]
[]
[]
[]
[null,{"$f":"Translations!$B$954","v":"Activiteitsgegevens"},null,null,null,null,{"$f":"Translations!$B$955","v":"Niveau"},{"$f":"Translations!$B$955","v":"Niveau"},{"$f":"Translations!$B$955","v":"Niveau"},{"$f":"Translations!$B$955","v":"Niveau"},{"$f":"Translations!$B$955","v":"Niveau"},{"$f":"Translations!$B$955","v":"Niveau"}]
[null,{"$f":"Translations!$B$956","v":"Activiteit"},{"$f":"Translations!$B$957","v":"Korte naam"},{"$f":"Translations!$B$958","v":"Subactiviteit"},{"$f":"Translations!$B$389","v":"Parameter"},{"$f":"Translations!$B$959","v":"Brontype"},{"$f":"Translations!$B$960","v":"Minimum"},1,2,"2a",{"$f":"Translations!$B$928","v":"2b"},3,4,{"$f":"Translations!$B$961","v":"Hoogste"},null,null,null,null,null,null,null,null,null,{"$f":"Translations!$B$962","v":"grijs kleuren?"}]
[1,{"$f":"C227","v":"Verbranding van brandstoffen"},{"$f":"Translations!$B$964","v":"Verbranding"},{"$f":"Translations!$B$965","v":"Commercieel verhandelbare standaardbrandstoffen"},{"$f":"Translations!$B$442","v":"Brandstofhoeveelheid [t] of [Nm3]"},{"$f":"EUconst_Fuel","v":"Standaardmethode: Brandstoffen, artikel 24, lid 1"},2,{"$f":"Translations!$B$966","v":"± 7,5%"},{"$f":"Translations!$B$967","v":"± 5,0%"},null,null,{"$f":"Translations!$B$968","v":"± 2,5%"},{"$f":"Translations!$B$969","v":"± 1,5%"},{"$f":"COUNTA(H261:M261)","v":4},{"$f":"C261 & \": \" &D261","v":"Verbranding: Commercieel verhandelbare standaardbrandstoffen"},null,{"$f":"EUconst_CNTR_ActivityData&O261","v":"ActivityData_Verbranding: Commercieel verhandelbare standaardbrandstoffen"},null,null,null,null,null,null,{"$f":"IF(G261=EUconst_NA,TRUE,FALSE)","v":false}]
[2,{"$f":"B261","v":"Verbranding van brandstoffen"},"Verbranding",{"$f":"Translations!$B$970","v":"Andere gasvormige en vloeibare brandstoffen"},{"$f":"Translations!$B$442","v":"Brandstofhoeveelheid [t] of [Nm3]"},{"$f":"$F$261","v":"Standaardmethode: Brandstoffen, artikel 24, lid 1"},2,{"$f":"Translations!$B$966","v":"± 7,5%"},{"$f":"Translations!$B$967","v":"± 5,0%"},null,null,{"$f":"Translations!$B$968","v":"± 2,5%"},{"$f":"Translations!$B$969","v":"± 1,5%"},4,"Verbranding: Andere gasvormige en vloeibare brandstoffen",null,"ActivityData_Verbranding: Andere gasvormige en vloeibare brandstoffen",null,null,null,null,null,null,false]
[3,"Verbranding van brandstoffen","Verbranding",{"$f":"Translations!$B$971","v":"Vaste brandstoffen"},{"$f":"Translations!$B$972","v":"Brandstofhoeveelheid [t]"},{"$f":"$F$261","v":"Standaardmethode: Brandstoffen, artikel 24, lid 1"},1,{"$f":"Translations!$B$966","v":"± 7,5%"},{"$f":"Translations!$B$967","v":"± 5,0%"},null,null,{"$f":"Translations!$B$968","v":"± 2,5%"},{"$f":"Translations!$B$969","v":"± 1,5%"},4,"Verbranding: Vaste brandstoffen",null,"ActivityData_Verbranding: Vaste brandstoffen",null,null,null,null,null,null,false]
[4,"Verbranding van brandstoffen",{"$f":"C263","v":"Verbranding"},{"$f":"Translations!$B$973","v":"Gasverwerkingsterminals"},{"$f":"Translations!$B$974","v":"Elk uitgangs- en eindmateriaal [t]"},{"$f":"EUconst_MassBalance","v":"Massabalansmethode, artikel 25"},1,{"$f":"Translations!$B$966","v":"± 7,5%"},{"$f":"Translations!$B$967","v":"± 5,0%"},null,null,{"$f":"Translations!$B$968","v":"± 2,5%"},{"$f":"Translations!$B$969","v":"± 1,5%"},4,"Verbranding: Gasverwerkingsterminals",null,"ActivityData_Verbranding: Gasverwerkingsterminals",null,null,null,null,null,null,false]
[5,{"$f":"B263","v":"Verbranding van brandstoffen"},{"$f":"C263","v":"Verbranding"},{"$f":"Translations!$B$975","v":"Fakkels"},{"$f":"Translations!$B$976","v":"Hoeveelheid afgefakkeld gas [Nm3]"},{"$f":"$F$261","v":"Standaardmethode: Brandstoffen, artikel 24, lid 1"},1,{"$f":"Translations!$B$977","v":"± 17,5%"},{"$f":"Translations!$B$978","v":"± 12,5%"},null,null,{"$f":"Translations!$B$966","v":"± 7,5%"},null,3,"Verbranding: Fakkels",null,"ActivityData_Verbranding: Fakkels",null,null,null,null,null,null,false]
[6,"Verbranding van brandstoffen","Verbranding",{"$f":"Translations!$B$979","v":"Gasreiniging (carbonaat)"},{"$f":"Translations!$B$980","v":"Verbruikte hoeveelheid carbonaat [t]"},{"$f":"EUconst_ProcessCarbonate","v":"Standaardmethode: Procedure, artikel 24, lid 2"},1,{"$f":"Translations!$B$966","v":"± 7,5%"},null,null,null,null,null,1,"Verbranding: Gasreiniging (carbonaat)",null,"ActivityData_Verbranding: Gasreiniging (carbonaat)",null,null,null,null,null,null,false]
[7,"Verbranding van brandstoffen","Verbranding",{"$f":"Translations!$B$981","v":"Gasreiniging (gips)"},{"$f":"Translations!$B$982","v":"Geproduceerde hoeveelheid gips [t]"},{"$f":"$F$266","v":"Standaardmethode: Procedure, artikel 24, lid 2"},1,{"$f":"Translations!$B$966","v":"± 7,5%"},null,null,null,null,null,1,"Verbranding: Gasreiniging (gips)",null,"ActivityData_Verbranding: Gasreiniging (gips)",null,null,null,null,null,null,false]
[8,"Verbranding van brandstoffen","Verbranding",{"$f":"Translations!$B$1256","v":"Gasreiniging (ureum)"},{"$f":"Translations!$B$1257","v":"Verbruikte hoeveelheid ureum [t]"},{"$f":"$F$266","v":"Standaardmethode: Procedure, artikel 24, lid 2"},1,{"$f":"Translations!$B$966","v":"± 7,5%"},null,null,null,null,null,{"$f":"COUNTA(H268:M268)","v":1},{"$f":"C268 & \": \" &D268","v":"Verbranding: Gasreiniging (ureum)"},null,{"$f":"EUconst_CNTR_ActivityData&O268","v":"ActivityData_Verbranding: Gasreiniging (ureum)"},null,null,null,null,null,null,false]
[9,{"$f":"C228","v":"Raffineren van aardoliën "},{"$f":"Translations!$B$983","v":"Raffinaderijen"},{"$f":"Translations!$B$984","v":"Massabalans"},{"$f":"Translations!$B$974","v":"Elk uitgangs- en eindmateriaal [t]"},{"$f":"EUconst_MassBalance","v":"Massabalansmethode, artikel 25"},1,{"$f":"Translations!$B$966","v":"± 7,5%"},{"$f":"Translations!$B$967","v":"± 5,0%"},null,null,{"$f":"Translations!$B$968","v":"± 2,5%"},{"$f":"Translations!$B$969","v":"± 1,5%"},4,"Raffinaderijen: Massabalans",null,"ActivityData_Raffinaderijen: Massabalans",null,null,null,null,null,null,false]
[10,{"$f":"Translations!$B$858","v":"Raffineren van aardoliën "},{"$f":"C269","v":"Raffinaderijen"},{"$f":"Translations!$B$985","v":"Katalytische-krakerregeneratie"},{"$f":"Translations!$B$986","v":"Onzekerheidsvereisten zijn afzonderlijk van toepassing op elke emissiebron"},{"$f":"EUconst_MassBalance","v":"Massabalansmethode, artikel 25"},1,{"$f":"Translations!$B$987","v":"± 10,0% (t CO2)"},{"$f":"Translations!$B$988","v":"± 7,5% (t CO2)"},null,null,{"$f":"Translations!$B$989","v":"± 5,0% (t CO2)"},{"$f":"Translations!$B$990","v":"± 2,5% (t CO2)"},4,"Raffinaderijen: Katalytische-krakerregeneratie",null,"ActivityData_Raffinaderijen: Katalytische-krakerregeneratie",null,null,null,null,null,null,false]
[11,{"$f":"B270","v":"Raffineren van aardoliën "},{"$f":"C270","v":"Raffinaderijen"},{"$f":"Translations!$B$991","v":"Waterstofproductie"},{"$f":"Translations!$B$992","v":"Als grondstof gebruikte koolwaterstoffen [t]"},{"$f":"EUconst_MassBalance","v":"Massabalansmethode, artikel 25"},1,{"$f":"Translations!$B$966","v":"± 7,5%"},{"$f":"Translations!$B$967","v":"± 5,0%"},null,null,{"$f":"Translations!$B$968","v":"± 2,5%"},{"$f":"Translations!$B$969","v":"± 1,5%"},4,"Raffinaderijen: Waterstofproductie",null,"ActivityData_Raffinaderijen: Waterstofproductie",null,null,null,null,null,null,false]
[12,{"$f":"C229","v":"Productie van cokes"},{"$f":"Translations!$B$993","v":"Cokes"},{"$f":"Translations!$B$994","v":"Brandstofinzet"},{"$f":"Translations!$B$442","v":"Brandstofhoeveelheid [t] of [Nm3]"},{"$f":"EUconst_Fuel","v":"Standaardmethode: Brandstoffen, artikel 24, lid 1"},1,{"$f":"Translations!$B$966","v":"± 7,5%"},{"$f":"Translations!$B$967","v":"± 5,0%"},null,null,{"$f":"Translations!$B$968","v":"± 2,5%"},{"$f":"Translations!$B$969","v":"± 1,5%"},4,"Cokes: Brandstofinzet",null,"ActivityData_Cokes: Brandstofinzet",null,null,null,null,null,null,false]
[13,{"$f":"B272","v":"Productie van cokes"},"Cokes",{"$f":"Translations!$B$1258","v":"Proces (methode A): alleen carbonaat"},{"$f":"Translations!$B$1259","v":"Inzet proces [t]"},{"$f":"EUconst_ProcessCarbonate","v":"Standaardmethode: Procedure, artikel 24, lid 2"},1,{"$f":"Translations!$B$966","v":"± 7,5%"},{"$f":"Translations!$B$967","v":"± 5,0%"},null,null,{"$f":"Translations!$B$968","v":"± 2,5%"},null,3,"Cokes: Proces (methode A): alleen carbonaat",null,"ActivityData_Cokes: Proces (methode A): alleen carbonaat",null,null,null,null,null,null,false]
[14,"Productie van cokes","Cokes",{"$f":"Translations!$B$1260","v":"Proces (methode A): gemengd (carbonaat + niet-carbonaat)"},{"$f":"Translations!$B$1259","v":"Inzet proces [t]"},{"$f":"EUconst_ProcessCarbonate","v":"Standaardmethode: Procedure, artikel 24, lid 2"},1,{"$f":"Translations!$B$966","v":"± 7,5%"},{"$f":"Translations!$B$967","v":"± 5,0%"},null,null,{"$f":"Translations!$B$968","v":"± 2,5%"},null,{"$f":"COUNTA(H274:M274)","v":3},{"$f":"C274 & \": \" &D274","v":"Cokes: Proces (methode A): gemengd (carbonaat + niet-carbonaat)"},null,{"$f":"EUconst_CNTR_ActivityData&O274","v":"ActivityData_Cokes: Proces (methode A): gemengd (carbonaat + niet-carbonaat)"},null,null,null,null,null,null,false]
[15,"Productie van cokes","Cokes",{"$f":"Translations!$B$1261","v":"Proces (methode A): niet-carbonaat"},{"$f":"Translations!$B$1259","v":"Inzet proces [t]"},{"$f":"EUconst_ProcessCarbonate","v":"Standaardmethode: Procedure, artikel 24, lid 2"},1,{"$f":"Translations!$B$966","v":"± 7,5%"},{"$f":"Translations!$B$967","v":"± 5,0%"},null,null,{"$f":"Translations!$B$968","v":"± 2,5%"},null,{"$f":"COUNTA(H275:M275)","v":3},{"$f":"C275 & \": \" &D275","v":"Cokes: Proces (methode A): niet-carbonaat"},null,{"$f":"EUconst_CNTR_ActivityData&O275","v":"ActivityData_Cokes: Proces (methode A): niet-carbonaat"},null,null,null,null,null,null,false]
[16,{"$f":"B273","v":"Productie van cokes"},{"$f":"C273","v":"Cokes"},{"$f":"Translations!$B$1262","v":"Proces (methode B): oxide-uitgang"},{"$f":"Translations!$B$998","v":"Oxide-uitgang [t]"},{"$f":"EUconst_ProcessCarbonate","v":"Standaardmethode: Procedure, artikel 24, lid 2"},1,{"$f":"Translations!$B$967","v":"± 5,0%"},{"$f":"Translations!$B$968","v":"± 2,5%"},null,null,null,null,2,"Cokes: Proces (methode B): oxide-uitgang",null,"ActivityData_Cokes: Proces (methode B): oxide-uitgang",null,null,null,null,null,null,false]
[17,"Productie van cokes","Cokes",{"$f":"Translations!$B$984","v":"Massabalans"},{"$f":"Translations!$B$974","v":"Elk uitgangs- en eindmateriaal [t]"},{"$f":"EUconst_MassBalance","v":"Massabalansmethode, artikel 25"},1,{"$f":"Translations!$B$966","v":"± 7,5%"},{"$f":"Translations!$B$967","v":"± 5,0%"},null,null,{"$f":"Translations!$B$968","v":"± 2,5%"},{"$f":"Translations!$B$969","v":"± 1,5%"},4,"Cokes: Massabalans",null,"ActivityData_Cokes: Massabalans",null,null,null,null,null,null,false]
[18,{"$f":"C230","v":"Roosten of sinteren van metaalerts"},{"$f":"Translations!$B$1000","v":"Metaalerts"},{"$f":"Translations!$B$1258","v":"Proces (methode A): alleen carbonaat"},{"$f":"Translations!$B$1259","v":"Inzet proces [t]"},{"$f":"$F$266","v":"Standaardmethode: Procedure, artikel 24, lid 2"},1,{"$f":"Translations!$B$967","v":"± 5,0%"},{"$f":"Translations!$B$968","v":"± 2,5%"},null,null,null,null,2,"Metaalerts: Proces (methode A): alleen carbonaat",null,"ActivityData_Metaalerts: Proces (methode A): alleen carbonaat",null,null,null,null,null,null,false]
[19,{"$f":"B278","v":"Roosten of sinteren van metaalerts"},"Metaalerts",{"$f":"Translations!$B$1260","v":"Proces (methode A): gemengd (carbonaat + niet-carbonaat)"},{"$f":"Translations!$B$1259","v":"Inzet proces [t]"},{"$f":"EUconst_ProcessCarbonate","v":"Standaardmethode: Procedure, artikel 24, lid 2"},1,{"$f":"Translations!$B$966","v":"± 7,5%"},{"$f":"Translations!$B$967","v":"± 5,0%"},null,null,{"$f":"Translations!$B$968","v":"± 2,5%"},null,{"$f":"COUNTA(H279:M279)","v":3},{"$f":"C279 & \": \" &D279","v":"Metaalerts: Proces (methode A): gemengd (carbonaat + niet-carbonaat)"},null,{"$f":"EUconst_CNTR_ActivityData&O279","v":"ActivityData_Metaalerts: Proces (methode A): gemengd (carbonaat + niet-carbonaat)"},null,null,null,null,null,null,false]
[20,"Roosten of sinteren van metaalerts","Metaalerts",{"$f":"Translations!$B$1261","v":"Proces (methode A): niet-carbonaat"},{"$f":"Translations!$B$1259","v":"Inzet proces [t]"},{"$f":"EUconst_ProcessCarbonate","v":"Standaardmethode: Procedure, artikel 24, lid 2"},1,{"$f":"Translations!$B$966","v":"± 7,5%"},{"$f":"Translations!$B$967","v":"± 5,0%"},null,null,{"$f":"Translations!$B$968","v":"± 2,5%"},null,{"$f":"COUNTA(H280:M280)","v":3},{"$f":"C280 & \": \" &D280","v":"Metaalerts: Proces (methode A): niet-carbonaat"},null,{"$f":"EUconst_CNTR_ActivityData&O280","v":"ActivityData_Metaalerts: Proces (methode A): niet-carbonaat"},null,null,null,null,null,null,false]
[21,"Roosten of sinteren van metaalerts","Metaalerts",{"$f":"Translations!$B$1262","v":"Proces (methode B): oxide-uitgang"},{"$f":"Translations!$B$998","v":"Oxide-uitgang [t]"},{"$f":"EUconst_ProcessCarbonate","v":"Standaardmethode: Procedure, artikel 24, lid 2"},1,{"$f":"Translations!$B$967","v":"± 5,0%"},{"$f":"Translations!$B$968","v":"± 2,5%"},null,null,null,null,{"$f":"COUNTA(H281:M281)","v":2},{"$f":"C281 & \": \" &D281","v":"Metaalerts: Proces (methode B): oxide-uitgang"},null,{"$f":"EUconst_CNTR_ActivityData&O281","v":"ActivityData_Metaalerts: Proces (methode B): oxide-uitgang"},null,null,null,null,null,null,false]
[22,{"$f":"B278","v":"Roosten of sinteren van metaalerts"},{"$f":"C278","v":"Metaalerts"},{"$f":"Translations!$B$984","v":"Massabalans"},{"$f":"Translations!$B$974","v":"Elk uitgangs- en eindmateriaal [t]"},{"$f":"EUconst_MassBalance","v":"Massabalansmethode, artikel 25"},1,{"$f":"Translations!$B$966","v":"± 7,5%"},{"$f":"Translations!$B$967","v":"± 5,0%"},null,null,{"$f":"Translations!$B$968","v":"± 2,5%"},{"$f":"Translations!$B$969","v":"± 1,5%"},4,"Metaalerts: Massabalans",null,"ActivityData_Metaalerts: Massabalans",null,null,null,null,null,null,false]
[23,{"$f":"C231","v":"Productie van ruwijzer of staal"},{"$f":"Translations!$B$1004","v":"IJzer en staal"},{"$f":"Translations!$B$994","v":"Brandstofinzet"},{"$f":"Translations!$B$1005","v":"Elke massastroom naar en van de installatie [t]"},{"$f":"$F$261","v":"Standaardmethode: Brandstoffen, artikel 24, lid 1"},1,{"$f":"Translations!$B$966","v":"± 7,5%"},{"$f":"Translations!$B$967","v":"± 5,0%"},null,null,{"$f":"Translations!$B$968","v":"± 2,5%"},{"$f":"Translations!$B$969","v":"± 1,5%"},4,"IJzer en staal: Brandstofinzet",null,"ActivityData_IJzer en staal: Brandstofinzet",null,null,null,null,null,null,false]
[24,{"$f":"B283","v":"Productie van ruwijzer of staal"},"IJzer en staal",{"$f":"Translations!$B$1258","v":"Proces (methode A): alleen carbonaat"},{"$f":"Translations!$B$1259","v":"Inzet proces [t]"},{"$f":"$F$266","v":"Standaardmethode: Procedure, artikel 24, lid 2"},1,{"$f":"Translations!$B$966","v":"± 7,5%"},{"$f":"Translations!$B$967","v":"± 5,0%"},null,null,{"$f":"Translations!$B$968","v":"± 2,5%"},null,3,"IJzer en staal: Proces (methode A): alleen carbonaat",null,"ActivityData_IJzer en staal: Proces (methode A): alleen carbonaat",null,null,null,null,null,null,false]
[25,"Productie van ruwijzer of staal","IJzer en staal",{"$f":"Translations!$B$1260","v":"Proces (methode A): gemengd (carbonaat + niet-carbonaat)"},{"$f":"Translations!$B$1259","v":"Inzet proces [t]"},{"$f":"$F$266","v":"Standaardmethode: Procedure, artikel 24, lid 2"},1,{"$f":"Translations!$B$966","v":"± 7,5%"},{"$f":"Translations!$B$967","v":"± 5,0%"},null,null,{"$f":"Translations!$B$968","v":"± 2,5%"},null,{"$f":"COUNTA(H285:M285)","v":3},{"$f":"C285 & \": \" &D285","v":"IJzer en staal: Proces (methode A): gemengd (carbonaat + niet-carbonaat)"},null,{"$f":"EUconst_CNTR_ActivityData&O285","v":"ActivityData_IJzer en staal: Proces (methode A): gemengd (carbonaat + niet-carbonaat)"},null,null,null,null,null,null,false]
[26,"Productie van ruwijzer of staal","IJzer en staal",{"$f":"Translations!$B$1261","v":"Proces (methode A): niet-carbonaat"},{"$f":"Translations!$B$1259","v":"Inzet proces [t]"},{"$f":"$F$266","v":"Standaardmethode: Procedure, artikel 24, lid 2"},1,{"$f":"Translations!$B$966","v":"± 7,5%"},{"$f":"Translations!$B$967","v":"± 5,0%"},null,null,{"$f":"Translations!$B$968","v":"± 2,5%"},null,3,"IJzer en staal: Proces (methode A): niet-carbonaat",null,"ActivityData_IJzer en staal: Proces (methode A): niet-carbonaat",null,null,null,null,null,null,false]
[27,"Productie van ruwijzer of staal","IJzer en staal",{"$f":"Translations!$B$1262","v":"Proces (methode B): oxide-uitgang"},{"$f":"Translations!$B$998","v":"Oxide-uitgang [t]"},{"$f":"$F$266","v":"Standaardmethode: Procedure, artikel 24, lid 2"},1,{"$f":"Translations!$B$967","v":"± 5,0%"},{"$f":"Translations!$B$968","v":"± 2,5%"},null,null,null,null,2,"IJzer en staal: Proces (methode B): oxide-uitgang",null,"ActivityData_IJzer en staal: Proces (methode B): oxide-uitgang",null,null,null,null,null,null,false]
[28,{"$f":"B283","v":"Productie van ruwijzer of staal"},{"$f":"C283","v":"IJzer en staal"},{"$f":"Translations!$B$984","v":"Massabalans"},{"$f":"Translations!$B$974","v":"Elk uitgangs- en eindmateriaal [t]"},{"$f":"EUconst_MassBalance","v":"Massabalansmethode, artikel 25"},1,{"$f":"Translations!$B$966","v":"± 7,5%"},{"$f":"Translations!$B$967","v":"± 5,0%"},null,null,{"$f":"Translations!$B$968","v":"± 2,5%"},{"$f":"Translations!$B$969","v":"± 1,5%"},4,"IJzer en staal: Massabalans",null,"ActivityData_IJzer en staal: Massabalans",null,null,null,null,null,null,false]
[29,{"$f":"C236","v":"Productie van cementklinkers"},{"$f":"Translations!$B$1006","v":"Cementklinker"},{"$f":"Translations!$B$1007","v":"Op basis van inzet in de oven (methode A)"},{"$f":"Translations!$B$1008","v":"Elk relevant in de oven ingezet materiaal [t]"},{"$f":"$F$266","v":"Standaardmethode: Procedure, artikel 24, lid 2"},1,{"$f":"Translations!$B$966","v":"± 7,5%"},{"$f":"Translations!$B$967","v":"± 5,0%"},null,null,{"$f":"Translations!$B$968","v":"± 2,5%"},null,3,"Cementklinker: Op basis van inzet in de oven (methode A)",null,"ActivityData_Cementklinker: Op basis van inzet in de oven (methode A)",null,null,null,null,null,null,false]
[30,{"$f":"B289","v":"Productie van cementklinkers"},"Cementklinker",{"$f":"Translations!$B$1009","v":"Op basis van geproduceerde klinker (methode B)"},{"$f":"Translations!$B$1010","v":"Geproduceerde klinker [t]"},"Standaardmethode: Procedure, artikel 24, lid 2",1,{"$f":"Translations!$B$967","v":"± 5,0%"},{"$f":"Translations!$B$968","v":"± 2,5%"},null,null,null,null,2,"Cementklinker: Op basis van geproduceerde klinker (methode B)",null,"ActivityData_Cementklinker: Op basis van geproduceerde klinker (methode B)",null,null,null,null,null,null,false]
[31,"Productie van cementklinkers","Cementklinker",{"$f":"Translations!$B$1011","v":"Cementovenstof"},{"$f":"Translations!$B$1012","v":"Cementovenstof of bypass-stof [t]"},"Standaardmethode: Procedure, artikel 24, lid 2",1,{"$f":"EUconst_MsgTierCKD","v":"(n.v.t.; gebruik de schatting die gebaseerd is op de beste praktijk)"},{"$f":"Translations!$B$966","v":"± 7,5%"},null,null,null,null,2,"Cementklinker: Cementovenstof",null,"ActivityData_Cementklinker: Cementovenstof",null,null,null,null,null,null,false]
[32,"Productie van cementklinkers","Cementklinker",{"$f":"Translations!$B$1013","v":"Niet-carbonaatkoolstof"},{"$f":"Translations!$B$1014","v":"Elke grondstof [t]"},"Standaardmethode: Procedure, artikel 24, lid 2",1,{"$f":"Translations!$B$1015","v":"± 15,0%"},{"$f":"Translations!$B$966","v":"± 7,5%"},null,null,null,null,2,"Cementklinker: Niet-carbonaatkoolstof",null,"ActivityData_Cementklinker: Niet-carbonaatkoolstof",null,null,null,null,null,null,false]
[33,{"$f":"C237","v":"Productie van kalksteen of branden van dolomiet of magnesiet"},{"$f":"Translations!$B$1017","v":"Kalk, dolomiet en magnesiet"},{"$f":"Translations!$B$1258","v":"Proces (methode A): alleen carbonaat"},{"$f":"Translations!$B$1259","v":"Inzet proces [t]"},"Standaardmethode: Procedure, artikel 24, lid 2",1,{"$f":"Translations!$B$966","v":"± 7,5%"},{"$f":"Translations!$B$967","v":"± 5,0%"},null,null,{"$f":"Translations!$B$968","v":"± 2,5%"},null,3,"Kalk, dolomiet en magnesiet: Proces (methode A): alleen carbonaat",null,"ActivityData_Kalk, dolomiet en magnesiet: Proces (methode A): alleen carbonaat",null,null,null,null,null,null,false]
[34,{"$f":"B293","v":"Productie van kalksteen of branden van dolomiet of magnesiet"},{"$f":"Translations!$B$1017","v":"Kalk, dolomiet en magnesiet"},{"$f":"Translations!$B$1260","v":"Proces (methode A): gemengd (carbonaat + niet-carbonaat)"},{"$f":"Translations!$B$1259","v":"Inzet proces [t]"},"Standaardmethode: Procedure, artikel 24, lid 2",1,{"$f":"Translations!$B$966","v":"± 7,5%"},{"$f":"Translations!$B$967","v":"± 5,0%"},null,null,{"$f":"Translations!$B$968","v":"± 2,5%"},null,3,"Kalk, dolomiet en magnesiet: Proces (methode A): gemengd (carbonaat + niet-carbonaat)",null,"ActivityData_Kalk, dolomiet en magnesiet: Proces (methode A): gemengd (carbonaat + niet-carbonaat)",null,null,null,null,null,null,false]
[35,{"$f":"B294","v":"Productie van kalksteen of branden van dolomiet of magnesiet"},{"$f":"Translations!$B$1017","v":"Kalk, dolomiet en magnesiet"},{"$f":"Translations!$B$1261","v":"Proces (methode A): niet-carbonaat"},{"$f":"Translations!$B$1259","v":"Inzet proces [t]"},"Standaardmethode: Procedure, artikel 24, lid 2",1,{"$f":"Translations!$B$966","v":"± 7,5%"},{"$f":"Translations!$B$967","v":"± 5,0%"},null,null,{"$f":"Translations!$B$968","v":"± 2,5%"},null,3,"Kalk, dolomiet en magnesiet: Proces (methode A): niet-carbonaat",null,"ActivityData_Kalk, dolomiet en magnesiet: Proces (methode A): niet-carbonaat",null,null,null,null,null,null,false]
[36,{"$f":"B293","v":"Productie van kalksteen of branden van dolomiet of magnesiet"},{"$f":"C293","v":"Kalk, dolomiet en magnesiet"},{"$f":"Translations!$B$1262","v":"Proces (methode B): oxide-uitgang"},{"$f":"Translations!$B$998","v":"Oxide-uitgang [t]"},"Standaardmethode: Procedure, artikel 24, lid 2",1,{"$f":"Translations!$B$967","v":"± 5,0%"},{"$f":"Translations!$B$968","v":"± 2,5%"},null,null,null,null,2,"Kalk, dolomiet en magnesiet: Proces (methode B): oxide-uitgang",null,"ActivityData_Kalk, dolomiet en magnesiet: Proces (methode B): oxide-uitgang",null,null,null,null,null,null,false]
[37,{"$f":"B296","v":"Productie van kalksteen of branden van dolomiet of magnesiet"},{"$f":"C296","v":"Kalk, dolomiet en magnesiet"},{"$f":"Translations!$B$1021","v":"Ovenstof (methode B)"},{"$f":"Translations!$B$1022","v":"Ovenstof [t]"},"Standaardmethode: Procedure, artikel 24, lid 2",1,{"$f":"EUconst_MsgTierCKD","v":"(n.v.t.; gebruik de schatting die gebaseerd is op de beste praktijk)"},{"$f":"Translations!$B$966","v":"± 7,5%"},null,null,null,null,2,"Kalk, dolomiet en magnesiet: Ovenstof (methode B)",null,"ActivityData_Kalk, dolomiet en magnesiet: Ovenstof (methode B)",null,null,null,null,null,null,false]
[38,{"$f":"C238","v":"Vervaardiging van glas"},{"$f":"Translations!$B$1024","v":"Glas en minerale wol"},{"$f":"Translations!$B$1258","v":"Proces (methode A): alleen carbonaat"},{"$f":"Translations!$B$1259","v":"Inzet proces [t]"},"Standaardmethode: Procedure, artikel 24, lid 2",1,{"$f":"Translations!$B$968","v":"± 2,5%"},{"$f":"Translations!$B$969","v":"± 1,5%"},null,null,null,null,2,"Glas en minerale wol: Proces (methode A): alleen carbonaat",null,"ActivityData_Glas en minerale wol: Proces (methode A): alleen carbonaat",null,null,null,null,null,null,false]
[39,{"$f":"C238","v":"Vervaardiging van glas"},{"$f":"Translations!$B$1024","v":"Glas en minerale wol"},{"$f":"Translations!$B$1260","v":"Proces (methode A): gemengd (carbonaat + niet-carbonaat)"},{"$f":"Translations!$B$1259","v":"Inzet proces [t]"},"Standaardmethode: Procedure, artikel 24, lid 2",1,{"$f":"Translations!$B$968","v":"± 2,5%"},{"$f":"Translations!$B$969","v":"± 1,5%"},null,null,null,null,2,"Glas en minerale wol: Proces (methode A): gemengd (carbonaat + niet-carbonaat)",null,"ActivityData_Glas en minerale wol: Proces (methode A): gemengd (carbonaat + niet-carbonaat)",null,null,null,null,null,null,false]
[40,{"$f":"B299","v":"Vervaardiging van glas"},{"$f":"Translations!$B$1024","v":"Glas en minerale wol"},{"$f":"Translations!$B$1261","v":"Proces (methode A): niet-carbonaat"},{"$f":"Translations!$B$1259","v":"Inzet proces [t]"},"Standaardmethode: Procedure, artikel 24, lid 2",1,{"$f":"Translations!$B$968","v":"± 2,5%"},{"$f":"Translations!$B$969","v":"± 1,5%"},null,null,null,null,2,"Glas en minerale wol: Proces (methode A): niet-carbonaat",null,"ActivityData_Glas en minerale wol: Proces (methode A): niet-carbonaat",null,null,null,null,null,null,false]
[41,{"$f":"C239","v":"Vervaardiging van keramiek"},{"$f":"Translations!$B$1028","v":"Keramiek"},{"$f":"Translations!$B$1258","v":"Proces (methode A): alleen carbonaat"},{"$f":"Translations!$B$1259","v":"Inzet proces [t]"},"Standaardmethode: Procedure, artikel 24, lid 2",1,{"$f":"Translations!$B$966","v":"± 7,5%"},{"$f":"Translations!$B$967","v":"± 5,0%"},null,null,{"$f":"Translations!$B$968","v":"± 2,5%"},null,3,"Keramiek: Proces (methode A): alleen carbonaat",null,"ActivityData_Keramiek: Proces (methode A): alleen carbonaat",null,null,null,null,null,null,false]
[42,{"$f":"B301","v":"Vervaardiging van keramiek"},{"$f":"C301","v":"Keramiek"},{"$f":"Translations!$B$1260","v":"Proces (methode A): gemengd (carbonaat + niet-carbonaat)"},{"$f":"Translations!$B$1259","v":"Inzet proces [t]"},{"$f":"EUconst_ProcessCarbonate","v":"Standaardmethode: Procedure, artikel 24, lid 2"},1,{"$f":"Translations!$B$966","v":"± 7,5%"},{"$f":"Translations!$B$967","v":"± 5,0%"},null,null,{"$f":"Translations!$B$968","v":"± 2,5%"},null,3,"Keramiek: Proces (methode A): gemengd (carbonaat + niet-carbonaat)",null,"ActivityData_Keramiek: Proces (methode A): gemengd (carbonaat + niet-carbonaat)",null,null,null,null,null,null,false]
[43,{"$f":"B302","v":"Vervaardiging van keramiek"},{"$f":"C302","v":"Keramiek"},{"$f":"Translations!$B$1261","v":"Proces (methode A): niet-carbonaat"},{"$f":"Translations!$B$1259","v":"Inzet proces [t]"},{"$f":"EUconst_ProcessCarbonate","v":"Standaardmethode: Procedure, artikel 24, lid 2"},1,{"$f":"Translations!$B$966","v":"± 7,5%"},{"$f":"Translations!$B$967","v":"± 5,0%"},null,null,{"$f":"Translations!$B$968","v":"± 2,5%"},null,3,"Keramiek: Proces (methode A): niet-carbonaat",null,"ActivityData_Keramiek: Proces (methode A): niet-carbonaat",null,null,null,null,null,null,false]
[44,{"$f":"B303","v":"Vervaardiging van keramiek"},{"$f":"C301","v":"Keramiek"},{"$f":"Translations!$B$1262","v":"Proces (methode B): oxide-uitgang"},{"$f":"Translations!$B$1032","v":"Brutoproductie met inbegrip van verworpen producten en scherven uit de ovens en ten gevolge van vervoer [t]"},"Standaardmethode: Procedure, artikel 24, lid 2",1,{"$f":"Translations!$B$966","v":"± 7,5%"},{"$f":"Translations!$B$967","v":"± 5,0%"},null,null,{"$f":"Translations!$B$968","v":"± 2,5%"},null,3,"Keramiek: Proces (methode B): oxide-uitgang",null,"ActivityData_Keramiek: Proces (methode B): oxide-uitgang",null,null,null,null,null,null,false]
[45,{"$f":"B304","v":"Vervaardiging van keramiek"},{"$f":"C304","v":"Keramiek"},{"$f":"Translations!$B$1033","v":"Gasreiniging"},{"$f":"Translations!$B$1034","v":"Verbruikt droog CaCO3 [t]"},"Standaardmethode: Procedure, artikel 24, lid 2",1,{"$f":"Translations!$B$966","v":"± 7,5%"},null,null,null,null,null,1,"Keramiek: Gasreiniging",null,"ActivityData_Keramiek: Gasreiniging",null,null,null,null,null,null,{"$f":"IF(G305=EUconst_NA,TRUE,FALSE)","v":false}]
[46,{"$f":"C242","v":"Productie van pulp"},{"$f":"Translations!$B$1036","v":"Pulp en papier"},{"$f":"Translations!$B$1037","v":"Aanvullende chemicaliën"},{"$f":"Translations!$B$1038","v":"Hoeveelheid CaCO3 en Na2CO3 [t]"},"Standaardmethode: Procedure, artikel 24, lid 2",1,{"$f":"Translations!$B$968","v":"± 2,5%"},{"$f":"Translations!$B$969","v":"± 1,5%"},null,null,null,null,2,"Pulp en papier: Aanvullende chemicaliën",null,"ActivityData_Pulp en papier: Aanvullende chemicaliën",null,null,null,null,null,null,false]
[47,{"$f":"C244","v":"Productie van roet"},{"$f":"Translations!$B$1039","v":"Roet"},{"$f":"Translations!$B$1040","v":"Massabalansmethodiek"},{"$f":"Translations!$B$974","v":"Elk uitgangs- en eindmateriaal [t]"},{"$f":"EUconst_MassBalance","v":"Massabalansmethode, artikel 25"},1,{"$f":"Translations!$B$966","v":"± 7,5%"},{"$f":"Translations!$B$967","v":"± 5,0%"},null,null,{"$f":"Translations!$B$968","v":"± 2,5%"},{"$f":"Translations!$B$969","v":"± 1,5%"},4,"Roet: Massabalansmethodiek",null,"ActivityData_Roet: Massabalansmethodiek",null,null,null,null,null,null,false]
[48,{"$f":"C248","v":"Productie van ammoniak"},{"$f":"Translations!$B$1041","v":"Ammoniak"},{"$f":"Translations!$B$994","v":"Brandstofinzet"},{"$f":"Translations!$B$1042","v":"Hoeveelheid brandstof gebruikt als ingezet materiaal voor het proces [t] of [Nm3]"},{"$f":"$F$261","v":"Standaardmethode: Brandstoffen, artikel 24, lid 1"},2,{"$f":"Translations!$B$966","v":"± 7,5%"},{"$f":"Translations!$B$967","v":"± 5,0%"},null,null,{"$f":"Translations!$B$968","v":"± 2,5%"},{"$f":"Translations!$B$969","v":"± 1,5%"},4,"Ammoniak: Brandstofinzet",null,"ActivityData_Ammoniak: Brandstofinzet",null,null,null,null,null,null,false]
[49,{"$f":"C250","v":"Productie van waterstof en synthesegas"},{"$f":"Translations!$B$1043","v":"Waterstof en synthesegas"},{"$f":"Translations!$B$994","v":"Brandstofinzet"},{"$f":"Translations!$B$1044","v":"Hoeveelheid brandstof gebruikt als ingezet materiaal voor het proces voor hydrogeenproductie [t] of [Nm3]"},{"$f":"$F$261","v":"Standaardmethode: Brandstoffen, artikel 24, lid 1"},2,{"$f":"Translations!$B$966","v":"± 7,5%"},{"$f":"Translations!$B$967","v":"± 5,0%"},null,null,{"$f":"Translations!$B$968","v":"± 2,5%"},{"$f":"Translations!$B$969","v":"± 1,5%"},4,"Waterstof en synthesegas: Brandstofinzet",null,"ActivityData_Waterstof en synthesegas: Brandstofinzet",null,null,null,null,null,null,false]
[50,{"$f":"B309","v":"Productie van waterstof en synthesegas"},{"$f":"C309","v":"Waterstof en synthesegas"},{"$f":"Translations!$B$1040","v":"Massabalansmethodiek"},{"$f":"Translations!$B$974","v":"Elk uitgangs- en eindmateriaal [t]"},{"$f":"EUconst_MassBalance","v":"Massabalansmethode, artikel 25"},1,{"$f":"Translations!$B$966","v":"± 7,5%"},{"$f":"Translations!$B$967","v":"± 5,0%"},null,null,{"$f":"Translations!$B$968","v":"± 2,5%"},{"$f":"Translations!$B$969","v":"± 1,5%"},4,"Waterstof en synthesegas: Massabalansmethodiek",null,"ActivityData_Waterstof en synthesegas: Massabalansmethodiek",null,null,null,null,null,null,false]
[51,{"$f":"C249","v":"Productie van bulkchemicaliën"},{"$f":"Translations!$B$1046","v":"Organische bulkchemicaliën"},{"$f":"Translations!$B$1040","v":"Massabalansmethodiek"},{"$f":"Translations!$B$974","v":"Elk uitgangs- en eindmateriaal [t]"},{"$f":"EUconst_MassBalance","v":"Massabalansmethode, artikel 25"},1,{"$f":"Translations!$B$966","v":"± 7,5%"},{"$f":"Translations!$B$967","v":"± 5,0%"},null,null,{"$f":"Translations!$B$968","v":"± 2,5%"},{"$f":"Translations!$B$969","v":"± 1,5%"},4,"Organische bulkchemicaliën: Massabalansmethodiek",null,"ActivityData_Organische bulkchemicaliën: Massabalansmethodiek",null,null,null,null,null,null,false]
[52,{"$f":"C232","v":"Productie of verwerking van ferrometalen"},{"$f":"Translations!$B$1048","v":"(Non)-ferrometalen, secundair aluminium"},{"$f":"Translations!$B$1258","v":"Proces (methode A): alleen carbonaat"},{"$f":"Translations!$B$1259","v":"Inzet proces [t]"},{"$f":"$F$266","v":"Standaardmethode: Procedure, artikel 24, lid 2"},1,{"$f":"Translations!$B$967","v":"± 5,0%"},{"$f":"Translations!$B$968","v":"± 2,5%"},null,null,null,null,2,"(Non)-ferrometalen, secundair aluminium: Proces (methode A): alleen carbonaat",null,"ActivityData_(Non)-ferrometalen, secundair aluminium: Proces (methode A): alleen carbonaat",null,null,null,null,null,null,false]
[53,{"$f":"B312","v":"Productie of verwerking van ferrometalen"},{"$f":"Translations!$B$1048","v":"(Non)-ferrometalen, secundair aluminium"},{"$f":"Translations!$B$1260","v":"Proces (methode A): gemengd (carbonaat + niet-carbonaat)"},{"$f":"Translations!$B$1259","v":"Inzet proces [t]"},{"$f":"$F$266","v":"Standaardmethode: Procedure, artikel 24, lid 2"},1,{"$f":"Translations!$B$967","v":"± 5,0%"},{"$f":"Translations!$B$968","v":"± 2,5%"},null,null,null,null,2,"(Non)-ferrometalen, secundair aluminium: Proces (methode A): gemengd (carbonaat + niet-carbonaat)",null,"ActivityData_(Non)-ferrometalen, secundair aluminium: Proces (methode A): gemengd (carbonaat + niet-carbonaat)",null,null,null,null,null,null,false]
[54,{"$f":"B313","v":"Productie of verwerking van ferrometalen"},{"$f":"Translations!$B$1048","v":"(Non)-ferrometalen, secundair aluminium"},{"$f":"Translations!$B$1261","v":"Proces (methode A): niet-carbonaat"},{"$f":"Translations!$B$1259","v":"Inzet proces [t]"},{"$f":"$F$266","v":"Standaardmethode: Procedure, artikel 24, lid 2"},1,{"$f":"Translations!$B$967","v":"± 5,0%"},{"$f":"Translations!$B$968","v":"± 2,5%"},null,null,null,null,2,"(Non)-ferrometalen, secundair aluminium: Proces (methode A): niet-carbonaat",null,"ActivityData_(Non)-ferrometalen, secundair aluminium: Proces (methode A): niet-carbonaat",null,null,null,null,null,null,false]
[55,{"$f":"B314","v":"Productie of verwerking van ferrometalen"},{"$f":"Translations!$B$1048","v":"(Non)-ferrometalen, secundair aluminium"},{"$f":"Translations!$B$1262","v":"Proces (methode B): oxide-uitgang"},{"$f":"Translations!$B$998","v":"Oxide-uitgang [t]"},{"$f":"$F$266","v":"Standaardmethode: Procedure, artikel 24, lid 2"},1,{"$f":"Translations!$B$967","v":"± 5,0%"},{"$f":"Translations!$B$968","v":"± 2,5%"},null,null,null,null,2,"(Non)-ferrometalen, secundair aluminium: Proces (methode B): oxide-uitgang",null,"ActivityData_(Non)-ferrometalen, secundair aluminium: Proces (methode B): oxide-uitgang",null,null,null,null,null,null,false]
[56,{"$f":"B315","v":"Productie of verwerking van ferrometalen"},{"$f":"C312","v":"(Non)-ferrometalen, secundair aluminium"},{"$f":"Translations!$B$1040","v":"Massabalansmethodiek"},{"$f":"Translations!$B$974","v":"Elk uitgangs- en eindmateriaal [t]"},{"$f":"EUconst_MassBalance","v":"Massabalansmethode, artikel 25"},1,{"$f":"Translations!$B$966","v":"± 7,5%"},{"$f":"Translations!$B$967","v":"± 5,0%"},null,null,{"$f":"Translations!$B$968","v":"± 2,5%"},{"$f":"Translations!$B$969","v":"± 1,5%"},4,"(Non)-ferrometalen, secundair aluminium: Massabalansmethodiek",null,"ActivityData_(Non)-ferrometalen, secundair aluminium: Massabalansmethodiek",null,null,null,null,null,null,false]
[57,{"$f":"C251","v":"Productie van natriumcarbonaat en natriumbicarbonaat"},{"$f":"Translations!$B$1051","v":"Natriumcarbonaat en natriumbicarbonaat"},{"$f":"Translations!$B$1040","v":"Massabalansmethodiek"},{"$f":"Translations!$B$974","v":"Elk uitgangs- en eindmateriaal [t]"},{"$f":"EUconst_MassBalance","v":"Massabalansmethode, artikel 25"},1,{"$f":"Translations!$B$966","v":"± 7,5%"},{"$f":"Translations!$B$967","v":"± 5,0%"},null,null,{"$f":"Translations!$B$968","v":"± 2,5%"},{"$f":"Translations!$B$969","v":"± 1,5%"},4,"Natriumcarbonaat en natriumbicarbonaat: Massabalansmethodiek",null,"ActivityData_Natriumcarbonaat en natriumbicarbonaat: Massabalansmethodiek",null,null,null,null,null,null,false]
[58,{"$f":"C233","v":"Productie van primair aluminium"},{"$f":"Translations!$B$1053","v":"Primair aluminium"},{"$f":"Translations!$B$1040","v":"Massabalansmethodiek"},{"$f":"Translations!$B$974","v":"Elk uitgangs- en eindmateriaal [t]"},{"$f":"EUconst_MassBalance","v":"Massabalansmethode, artikel 25"},1,{"$f":"Translations!$B$966","v":"± 7,5%"},{"$f":"Translations!$B$967","v":"± 5,0%"},null,null,{"$f":"Translations!$B$968","v":"± 2,5%"},{"$f":"Translations!$B$969","v":"± 1,5%"},4,"Primair aluminium: Massabalansmethodiek",null,"ActivityData_Primair aluminium: Massabalansmethodiek",null,null,null,null,null,null,false]
[59,{"$f":"B318","v":"Productie van primair aluminium"},{"$f":"C318","v":"Primair aluminium"},{"$f":"Translations!$B$1054","v":"PFK-emissies (hellingsmethode)"},{"$f":"Translations!$B$1055","v":"productie van primair aluminium in [t], anode-effectminuten in [aantal anode-effecten/cel-dag] en [anode-effectminuten/voorval]"},{"$f":"EUconst_ProcessPFC","v":"Berekeningen met bijzondere bepalingen voor PFK's (bijlage VI, punt 8)"},1,{"$f":"Translations!$B$968","v":"± 2,5%"},{"$f":"Translations!$B$969","v":"± 1,5%"},null,null,null,null,2,"Primair aluminium: PFK-emissies (hellingsmethode)",null,"ActivityData_Primair aluminium: PFK-emissies (hellingsmethode)",null,null,null,null,null,null,false]
[60,{"$f":"B319","v":"Productie van primair aluminium"},{"$f":"C319","v":"Primair aluminium"},{"$f":"Translations!$B$1056","v":"PFK-emissies (overspanningsmethode)"},{"$f":"Translations!$B$1057","v":"productie van primair aluminium in [r], anode-effectoverspanning [mV] en stroomrendement [-]"},{"$f":"EUconst_ProcessPFC","v":"Berekeningen met bijzondere bepalingen voor PFK's (bijlage VI, punt 8)"},1,{"$f":"Translations!$B$968","v":"± 2,5%"},{"$f":"Translations!$B$969","v":"± 1,5%"},null,null,null,null,2,"Primair aluminium: PFK-emissies (overspanningsmethode)",null,"ActivityData_Primair aluminium: PFK-emissies (overspanningsmethode)",null,null,null,null,null,null,false]
[null,null,null,null,null,null,null,null,null,null,null,null,null,null,null,null,null,null,null,null,null,null,null,{"$f":"IF(G321=EUconst_NA,TRUE,FALSE)","v":false}]
["NEW",{"$f":"Translations!$B$1059","v":"Emissiefactor"},{"$f":"Translations!$B$957","v":"Korte naam"},{"$f":"Translations!$B$958","v":"Subactiviteit"},{"$f":"Translations!$B$389","v":"Parameter"},{"$f":"Translations!$B$959","v":"Brontype"},{"$f":"Translations!$B$960","v":"Minimum"},1,2,"2a",{"$f":"Translations!$B$928","v":"2b"},3,4,{"$f":"Translations!$B$961","v":"Hoogste"},null,null,null,null,null,null,null,null,null,{"$f":"Translations!$B$962","v":"grijs kleuren?"},null,null,null,null,null,null,null,null,null,null,"1=default value, 2=lab",1,2,"2a",{"$f":"Translations!$B$928","v":"2b"},3]
[1,{"$f":"B261","v":"Verbranding van brandstoffen"},"Verbranding","Commercieel verhandelbare standaardbrandstoffen",null,{"$f":"F261","v":"Standaardmethode: Brandstoffen, artikel 24, lid 1"},"2a/2b",{"$f":"Translations!$B$493","v":"Standaardwaarden van het type I"},null,{"$f":"Translations!$B$528","v":"Standaardwaarden van het type II"},{"$f":"Translations!$B$1061","v":"Aanvaarde proxy’s (indien van toepassing)"},{"$f":"Translations!$B$527","v":"Laboratoriumanalyses"},null,{"$f":"G323","v":"2a/2b"},{"$f":"C323 & \": \" &D323","v":"Verbranding: Commercieel verhandelbare standaardbrandstoffen"},null,{"$f":"EUconst_CNTR_EF&O323","v":"EF_Verbranding: Commercieel verhandelbare standaardbrandstoffen"},null,null,null,null,null,null,{"$f":"IF(G323=EUconst_NA,TRUE,FALSE)","v":false},null,null,null,null,null,null,null,null,null,null,null,1,"",1,2,2]
[2,"Verbranding van brandstoffen","Verbranding","Andere gasvormige en vloeibare brandstoffen",null,"Standaardmethode: Brandstoffen, artikel 24, lid 1","2a/2b",{"$f":"Translations!$B$493","v":"Standaardwaarden van het type I"},null,{"$f":"Translations!$B$528","v":"Standaardwaarden van het type II"},{"$f":"Translations!$B$1061","v":"Aanvaarde proxy’s (indien van toepassing)"},{"$f":"Translations!$B$527","v":"Laboratoriumanalyses"},null,{"$f":"IF(G324=EUconst_NA,EUconst_NA,IF(ISBLANK(J324),COUNTA(H324:M324),COUNTA(H324,J324,L324)))","v":3},"Verbranding: Andere gasvormige en vloeibare brandstoffen",null,"EF_Verbranding: Andere gasvormige en vloeibare brandstoffen",null,null,null,null,null,null,false,null,null,null,null,null,null,null,null,null,null,null,1,"",1,2,2]
[3,"Verbranding van brandstoffen","Verbranding","Vaste brandstoffen",null,"Standaardmethode: Brandstoffen, artikel 24, lid 1","2a/2b",{"$f":"Translations!$B$493","v":"Standaardwaarden van het type I"},null,{"$f":"Translations!$B$528","v":"Standaardwaarden van het type II"},{"$f":"Translations!$B$1061","v":"Aanvaarde proxy’s (indien van toepassing)"},{"$f":"Translations!$B$527","v":"Laboratoriumanalyses"},null,3,"Verbranding: Vaste brandstoffen",null,"EF_Verbranding: Vaste brandstoffen",null,null,null,null,null,null,false,null,null,null,null,null,null,null,null,null,null,null,1,"",1,2,2]
[4,"Verbranding van brandstoffen","Verbranding","Gasverwerkingsterminals",null,"Massabalansmethode, artikel 25",{"$f":"EUconst_NA","v":"n.v.t."},null,null,null,null,null,null,"n.v.t.","Verbranding: Gasverwerkingsterminals",null,"EF_Verbranding: Gasverwerkingsterminals",null,null,null,null,null,null,true,null,null,null,null,null,null,null,null,null,null,null,"","","","",""]
[5,"Verbranding van brandstoffen","Verbranding","Fakkels",null,"Standaardmethode: Brandstoffen, artikel 24, lid 1",1,{"$f":"Translations!$B$1066","v":"0,00393 t CO2/Nm3"},null,{"$f":"Translations!$B$528","v":"Standaardwaarden van het type II"},{"$f":"Translations!$B$1067","v":"Installatiespecifieke factoren"},{"$f":"Translations!$B$527","v":"Laboratoriumanalyses"},null,3,"Verbranding: Fakkels",null,"EF_Verbranding: Fakkels",null,null,null,null,null,null,false,null,null,null,null,null,null,null,null,null,null,null,1,"",1,{"$f":"Translations!$B$1067","v":"Installatiespecifieke factoren"},2]
[6,"Verbranding van brandstoffen","Verbranding","Gasreiniging (carbonaat)",null,"Standaardmethode: Procedure, artikel 24, lid 2",1,{"$f":"Translations!$B$1085","v":"Beste werkwijzen"},null,null,null,null,null,1,"Verbranding: Gasreiniging (carbonaat)",null,"EF_Verbranding: Gasreiniging (carbonaat)",null,null,null,null,null,null,false,null,null,null,null,null,null,null,null,null,null,null,2,"","","",""]
[7,"Verbranding van brandstoffen","Verbranding","Gasreiniging (gips)",null,"Standaardmethode: Procedure, artikel 24, lid 2",1,{"$f":"Translations!$B$1263","v":"0,2558 t CO2/t gips"},null,null,null,null,null,1,"Verbranding: Gasreiniging (gips)",null,"EF_Verbranding: Gasreiniging (gips)",null,null,null,null,null,null,false,null,null,null,null,null,null,null,null,null,null,null,1,"","","",""]
[8,"Verbranding van brandstoffen","Verbranding","Gasreiniging (ureum)",null,"Standaardmethode: Procedure, artikel 24, lid 2",1,{"$f":"Translations!$B$1264","v":"0,7328 t CO2/t ureum"},null,null,null,null,null,1,"Verbranding: Gasreiniging (ureum)",null,"EF_Verbranding: Gasreiniging (ureum)",null,null,null,null,null,null,false,null,null,null,null,null,null,null,null,null,null,null,1,"","","",""]
[9,"Raffineren van aardoliën ","Raffinaderijen","Massabalans",null,"Massabalansmethode, artikel 25",{"$f":"EUconst_NA","v":"n.v.t."},null,null,null,null,null,null,"n.v.t.","Raffinaderijen: Massabalans",null,"EF_Raffinaderijen: Massabalans",null,null,null,null,null,null,true,null,null,null,null,null,null,null,null,null,null,null,"","","","",""]
[10,"Raffineren van aardoliën ","Raffinaderijen","Katalytische-krakerregeneratie",null,"Massabalansmethode, artikel 25",{"$f":"EUconst_NA","v":"n.v.t."},null,null,null,null,null,null,{"$f":"IF(G332=EUconst_NA,EUconst_NA,IF(ISBLANK(J332),COUNTA(H332:M332),COUNTA(H332,J332,L332)))","v":"n.v.t."},{"$f":"C332 & \": \" &D332","v":"Raffinaderijen: Katalytische-krakerregeneratie"},null,{"$f":"EUconst_CNTR_EF&O332","v":"EF_Raffinaderijen: Katalytische-krakerregeneratie"},null,null,null,null,null,null,true,null,null,null,null,null,null,null,null,null,null,null,"","","","",""]
[11,"Raffineren van aardoliën ","Raffinaderijen","Waterstofproductie",null,"Massabalansmethode, artikel 25",{"$f":"EUconst_NA","v":"n.v.t."},null,null,null,null,null,null,{"$f":"IF(G333=EUconst_NA,EUconst_NA,IF(ISBLANK(J333),COUNTA(H333:M333),COUNTA(H333,J333,L333)))","v":"n.v.t."},"Raffinaderijen: Waterstofproductie",null,"EF_Raffinaderijen: Waterstofproductie",null,null,null,null,null,null,true,null,null,null,null,null,null,null,null,null,null,null,1,"",1,2,2]
[12,"Productie van cokes","Cokes","Brandstofinzet",null,"Standaardmethode: Brandstoffen, artikel 24, lid 1","2a/2b",{"$f":"Translations!$B$493","v":"Standaardwaarden van het type I"},{"$f":"Translations!$B$528","v":"Standaardwaarden van het type II"},null,null,{"$f":"Translations!$B$527","v":"Laboratoriumanalyses"},null,3,"Cokes: Brandstofinzet",null,"EF_Cokes: Brandstofinzet",null,null,null,null,null,null,false,null,null,null,null,null,null,null,null,null,null,null,1,1,"","",2]
[13,"Productie van cokes","Cokes","Proces (methode A): alleen carbonaat",null,"Standaardmethode: Procedure, artikel 24, lid 2",1,{"$f":"Translations!$B$493","v":"Standaardwaarden van het type I"},{"$f":"Translations!$B$528","v":"Standaardwaarden van het type II"},null,null,{"$f":"Translations!$B$527","v":"Laboratoriumanalyses"},null,3,"Cokes: Proces (methode A): alleen carbonaat",null,"EF_Cokes: Proces (methode A): alleen carbonaat",null,null,null,null,null,null,false,null,null,null,null,null,null,null,null,null,null,null,1,1,"","",2]
[14,"Productie van cokes","Cokes","Proces (methode A): gemengd (carbonaat + niet-carbonaat)",null,"Standaardmethode: Procedure, artikel 24, lid 2",1,{"$f":"EUconst_NA","v":"n.v.t."},{"$f":"EUconst_NA","v":"n.v.t."},null,null,{"$f":"Translations!$B$527","v":"Laboratoriumanalyses"},null,3,"Cokes: Proces (methode A): gemengd (carbonaat + niet-carbonaat)",null,"EF_Cokes: Proces (methode A): gemengd (carbonaat + niet-carbonaat)",null,null,null,null,null,null,false,null,null,null,null,null,null,null,null,null,null,null,{"$f":"Translations!$B$530","v":"n.v.t."},{"$f":"Translations!$B$530","v":"n.v.t."},"","",2]
[15,"Productie van cokes","Cokes","Proces (methode A): niet-carbonaat",null,"Standaardmethode: Procedure, artikel 24, lid 2",1,{"$f":"Translations!$B$493","v":"Standaardwaarden van het type I"},{"$f":"Translations!$B$528","v":"Standaardwaarden van het type II"},null,null,{"$f":"Translations!$B$527","v":"Laboratoriumanalyses"},null,3,"Cokes: Proces (methode A): niet-carbonaat",null,"EF_Cokes: Proces (methode A): niet-carbonaat",null,null,null,null,null,null,false,null,null,null,null,null,null,null,null,null,null,null,1,1,"","",2]
[16,"Productie van cokes","Cokes","Proces (methode B): oxide-uitgang",null,"Standaardmethode: Procedure, artikel 24, lid 2",1,{"$f":"Translations!$B$493","v":"Standaardwaarden van het type I"},{"$f":"Translations!$B$528","v":"Standaardwaarden van het type II"},null,null,{"$f":"Translations!$B$527","v":"Laboratoriumanalyses"},null,{"$f":"IF(G338=EUconst_NA,EUconst_NA,IF(ISBLANK(J338),COUNTA(H338:M338),COUNTA(H338,J338,L338)))","v":3},{"$f":"C338 & \": \" &D338","v":"Cokes: Proces (methode B): oxide-uitgang"},null,{"$f":"EUconst_CNTR_EF&O338","v":"EF_Cokes: Proces (methode B): oxide-uitgang"},null,null,null,null,null,null,false,null,null,null,null,null,null,null,null,null,null,null,1,1,"","",2]
[17,"Productie van cokes","Cokes","Massabalans",null,"Massabalansmethode, artikel 25",{"$f":"EUconst_NA","v":"n.v.t."},null,null,null,null,null,null,"n.v.t.","Cokes: Massabalans",null,"EF_Cokes: Massabalans",null,null,null,null,null,null,true,null,null,null,null,null,null,null,null,null,null,null,"","","","",""]
[18,"Roosten of sinteren van metaalerts","Metaalerts","Proces (methode A): alleen carbonaat",null,"Standaardmethode: Procedure, artikel 24, lid 2",1,{"$f":"Translations!$B$493","v":"Standaardwaarden van het type I"},{"$f":"Translations!$B$528","v":"Standaardwaarden van het type II"},null,null,{"$f":"Translations!$B$527","v":"Laboratoriumanalyses"},null,3,"Metaalerts: Proces (methode A): alleen carbonaat",null,"EF_Metaalerts: Proces (methode A): alleen carbonaat",null,null,null,null,null,null,false,null,null,null,null,null,null,null,null,null,null,null,1,1,"","",2]
[19,"Roosten of sinteren van metaalerts","Metaalerts","Proces (methode A): gemengd (carbonaat + niet-carbonaat)",null,"Standaardmethode: Procedure, artikel 24, lid 2",1,{"$f":"EUconst_NA","v":"n.v.t."},{"$f":"EUconst_NA","v":"n.v.t."},null,null,{"$f":"Translations!$B$527","v":"Laboratoriumanalyses"},null,3,"Metaalerts: Proces (methode A): gemengd (carbonaat + niet-carbonaat)",null,"EF_Metaalerts: Proces (methode A): gemengd (carbonaat + niet-carbonaat)",null,null,null,null,null,null,false,null,null,null,null,null,null,null,null,null,null,null,{"$f":"Translations!$B$530","v":"n.v.t."},{"$f":"Translations!$B$530","v":"n.v.t."},"","",2]
[20,"Roosten of sinteren van metaalerts","Metaalerts","Proces (methode A): niet-carbonaat",null,"Standaardmethode: Procedure, artikel 24, lid 2",1,{"$f":"Translations!$B$493","v":"Standaardwaarden van het type I"},{"$f":"Translations!$B$528","v":"Standaardwaarden van het type II"},null,null,{"$f":"Translations!$B$527","v":"Laboratoriumanalyses"},null,3,"Metaalerts: Proces (methode A): niet-carbonaat",null,"EF_Metaalerts: Proces (methode A): niet-carbonaat",null,null,null,null,null,null,false,null,null,null,null,null,null,null,null,null,null,null,1,1,"","",2]
[21,{"$f":"B281","v":"Roosten of sinteren van metaalerts"},"Metaalerts","Proces (methode B): oxide-uitgang",null,"Standaardmethode: Procedure, artikel 24, lid 2",1,{"$f":"Translations!$B$493","v":"Standaardwaarden van het type I"},{"$f":"Translations!$B$528","v":"Standaardwaarden van het type II"},null,null,{"$f":"Translations!$B$527","v":"Laboratoriumanalyses"},null,3,"Metaalerts: Proces (methode B): oxide-uitgang",null,"EF_Metaalerts: Proces (methode B): oxide-uitgang",null,null,null,null,null,null,false,null,null,null,null,null,null,null,null,null,null,null,1,1,"","",2]
[22,"Roosten of sinteren van metaalerts","Metaalerts","Massabalans",null,"Massabalansmethode, artikel 25",{"$f":"EUconst_NA","v":"n.v.t."},null,null,null,null,null,null,"n.v.t.","Metaalerts: Massabalans",null,"EF_Metaalerts: Massabalans",null,null,null,null,null,null,true,null,null,null,null,null,null,null,null,null,null,null,"","","","",""]
[23,"Productie van ruwijzer of staal","IJzer en staal","Brandstofinzet",null,"Standaardmethode: Brandstoffen, artikel 24, lid 1",2,{"$f":"Translations!$B$493","v":"Standaardwaarden van het type I"},null,{"$f":"Translations!$B$528","v":"Standaardwaarden van het type II"},{"$f":"Translations!$B$1061","v":"Aanvaarde proxy’s (indien van toepassing)"},{"$f":"Translations!$B$527","v":"Laboratoriumanalyses"},null,3,"IJzer en staal: Brandstofinzet",null,"EF_IJzer en staal: Brandstofinzet",null,null,null,null,null,null,false,null,null,null,null,null,null,null,null,null,null,null,1,"",1,2,2]
[24,"Productie van ruwijzer of staal","IJzer en staal","Proces (methode A): alleen carbonaat",null,"Standaardmethode: Procedure, artikel 24, lid 2",1,{"$f":"Translations!$B$493","v":"Standaardwaarden van het type I"},{"$f":"Translations!$B$528","v":"Standaardwaarden van het type II"},null,null,{"$f":"Translations!$B$527","v":"Laboratoriumanalyses"},null,3,"IJzer en staal: Proces (methode A): alleen carbonaat",null,"EF_IJzer en staal: Proces (methode A): alleen carbonaat",null,null,null,null,null,null,false,null,null,null,null,null,null,null,null,null,null,null,1,1,"","",2]
[25,"Productie van ruwijzer of staal","IJzer en staal","Proces (methode A): gemengd (carbonaat + niet-carbonaat)",null,"Standaardmethode: Procedure, artikel 24, lid 2",1,{"$f":"EUconst_NA","v":"n.v.t."},{"$f":"EUconst_NA","v":"n.v.t."},null,null,{"$f":"Translations!$B$527","v":"Laboratoriumanalyses"},null,3,"IJzer en staal: Proces (methode A): gemengd (carbonaat + niet-carbonaat)",null,"EF_IJzer en staal: Proces (methode A): gemengd (carbonaat + niet-carbonaat)",null,null,null,null,null,null,false,null,null,null,null,null,null,null,null,null,null,null,null,null,"","",""]
[26,"Productie van ruwijzer of staal","IJzer en staal","Proces (methode A): niet-carbonaat",null,"Standaardmethode: Procedure, artikel 24, lid 2",1,{"$f":"Translations!$B$493","v":"Standaardwaarden van het type I"},{"$f":"Translations!$B$528","v":"Standaardwaarden van het type II"},null,null,{"$f":"Translations!$B$527","v":"Laboratoriumanalyses"},null,3,"IJzer en staal: Proces (methode A): niet-carbonaat",null,"EF_IJzer en staal: Proces (methode A): niet-carbonaat",null,null,null,null,null,null,false,null,null,null,null,null,null,null,null,null,null,null,2,2,"","",""]
[27,"Productie van ruwijzer of staal","IJzer en staal","Proces (methode B): oxide-uitgang",null,"Standaardmethode: Procedure, artikel 24, lid 2",1,{"$f":"Translations!$B$493","v":"Standaardwaarden van het type I"},{"$f":"Translations!$B$528","v":"Standaardwaarden van het type II"},null,null,{"$f":"Translations!$B$527","v":"Laboratoriumanalyses"},null,3,"IJzer en staal: Proces (methode B): oxide-uitgang",null,"EF_IJzer en staal: Proces (methode B): oxide-uitgang",null,null,null,null,null,null,false,null,null,null,null,null,null,null,null,null,null,null,1,1,"","",2]
[28,"Productie van ruwijzer of staal","IJzer en staal","Massabalans",null,"Massabalansmethode, artikel 25",{"$f":"EUconst_NA","v":"n.v.t."},null,null,null,null,null,null,"n.v.t.","IJzer en staal: Massabalans",null,"EF_IJzer en staal: Massabalans",null,null,null,null,null,null,true,null,null,null,null,null,null,null,null,null,null,null,"","","","",""]
[29,"Productie van cementklinkers","Cementklinker","Op basis van inzet in de oven (methode A)",null,"Standaardmethode: Procedure, artikel 24, lid 2",1,{"$f":"Translations!$B$527","v":"Laboratoriumanalyses"},null,null,null,null,null,1,"Cementklinker: Op basis van inzet in de oven (methode A)",null,"EF_Cementklinker: Op basis van inzet in de oven (methode A)",null,null,null,null,null,null,false,null,null,null,null,null,null,null,null,null,null,null,2,"","","",""]
[30,"Productie van cementklinkers","Cementklinker","Op basis van geproduceerde klinker (methode B)",null,"Standaardmethode: Procedure, artikel 24, lid 2",1,{"$f":"Translations!$B$1078","v":"0,525 t CO2/t klinker."},{"$f":"Translations!$B$528","v":"Standaardwaarden van het type II"},null,null,{"$f":"Translations!$B$527","v":"Laboratoriumanalyses"},null,3,"Cementklinker: Op basis van geproduceerde klinker (methode B)",null,"EF_Cementklinker: Op basis van geproduceerde klinker (methode B)",null,null,null,null,null,null,false,null,null,null,null,null,null,null,null,null,null,null,1,1,"","",2]
[31,"Productie van cementklinkers","Cementklinker","Cementovenstof",null,"Standaardmethode: Procedure, artikel 24, lid 2",1,{"$f":"Translations!$B$1082","v":"0,525 t CO2/t stof."},{"$f":"Translations!$B$527","v":"Laboratoriumanalyses"},null,null,null,null,2,"Cementklinker: Cementovenstof",null,"EF_Cementklinker: Cementovenstof",null,null,null,null,null,null,false,null,null,null,null,null,null,null,null,null,null,null,1,2,"","",""]
[32,"Productie van cementklinkers","Cementklinker","Niet-carbonaatkoolstof",null,"Standaardmethode: Procedure, artikel 24, lid 2",1,{"$f":"Translations!$B$1085","v":"Beste werkwijzen"},{"$f":"Translations!$B$527","v":"Laboratoriumanalyses"},null,null,null,null,2,"Cementklinker: Niet-carbonaatkoolstof",null,"EF_Cementklinker: Niet-carbonaatkoolstof",null,null,null,null,null,null,false,null,null,null,null,null,null,null,null,null,null,null,2,2,"","",""]
[33,"Productie van kalksteen of branden van dolomiet of magnesiet","Kalk, dolomiet en magnesiet","Proces (methode A): alleen carbonaat",null,{"$f":"F293","v":"Standaardmethode: Procedure, artikel 24, lid 2"},1,{"$f":"Translations!$B$493","v":"Standaardwaarden van het type I"},{"$f":"Translations!$B$528","v":"Standaardwaarden van het type II"},null,null,{"$f":"Translations!$B$527","v":"Laboratoriumanalyses"},null,3,"Kalk, dolomiet en magnesiet: Proces (methode A): alleen carbonaat",null,"EF_Kalk, dolomiet en magnesiet: Proces (methode A): alleen carbonaat",null,null,null,null,null,null,false,null,null,null,null,null,null,null,null,null,null,null,1,1,"","",2]
[34,"Productie van kalksteen of branden van dolomiet of magnesiet","Kalk, dolomiet en magnesiet","Proces (methode A): gemengd (carbonaat + niet-carbonaat)",null,"Standaardmethode: Procedure, artikel 24, lid 2",1,{"$f":"EUconst_NA","v":"n.v.t."},{"$f":"EUconst_NA","v":"n.v.t."},null,null,{"$f":"Translations!$B$527","v":"Laboratoriumanalyses"},null,3,"Kalk, dolomiet en magnesiet: Proces (methode A): gemengd (carbonaat + niet-carbonaat)",null,"EF_Kalk, dolomiet en magnesiet: Proces (methode A): gemengd (carbonaat + niet-carbonaat)",null,null,null,null,null,null,false,null,null,null,null,null,null,null,null,null,null,null,{"$f":"Translations!$B$530","v":"n.v.t."},{"$f":"Translations!$B$530","v":"n.v.t."},"","",2]
[35,"Productie van kalksteen of branden van dolomiet of magnesiet","Kalk, dolomiet en magnesiet","Proces (methode A): niet-carbonaat",null,"Standaardmethode: Procedure, artikel 24, lid 2",1,{"$f":"Translations!$B$1085","v":"Beste werkwijzen"},{"$f":"Translations!$B$527","v":"Laboratoriumanalyses"},null,null,null,null,2,"Kalk, dolomiet en magnesiet: Proces (methode A): niet-carbonaat",null,"EF_Kalk, dolomiet en magnesiet: Proces (methode A): niet-carbonaat",null,null,null,null,null,null,false,null,null,null,null,null,null,null,null,null,null,null,2,2,"","",""]
[36,"Productie van kalksteen of branden van dolomiet of magnesiet","Kalk, dolomiet en magnesiet","Proces (methode B): oxide-uitgang",null,"Standaardmethode: Procedure, artikel 24, lid 2",1,{"$f":"Translations!$B$493","v":"Standaardwaarden van het type I"},{"$f":"Translations!$B$528","v":"Standaardwaarden van het type II"},null,null,{"$f":"Translations!$B$527","v":"Laboratoriumanalyses"},null,3,"Kalk, dolomiet en magnesiet: Proces (methode B): oxide-uitgang",null,"EF_Kalk, dolomiet en magnesiet: Proces (methode B): oxide-uitgang",null,null,null,null,null,null,false,null,null,null,null,null,null,null,null,null,null,null,1,1,"","",2]
[37,"Productie van kalksteen of branden van dolomiet of magnesiet","Kalk, dolomiet en magnesiet","Ovenstof (methode B)",null,"Standaardmethode: Procedure, artikel 24, lid 2",1,{"$f":"Translations!$B$493","v":"Standaardwaarden van het type I"},{"$f":"Translations!$B$528","v":"Standaardwaarden van het type II"},null,null,{"$f":"Translations!$B$527","v":"Laboratoriumanalyses"},null,3,"Kalk, dolomiet en magnesiet: Ovenstof (methode B)",null,"EF_Kalk, dolomiet en magnesiet: Ovenstof (methode B)",null,null,null,null,null,null,false,null,null,null,null,null,null,null,null,null,null,null,1,1,"","",2]
[38,"Vervaardiging van glas","Glas en minerale wol","Proces (methode A): alleen carbonaat",null,"Standaardmethode: Procedure, artikel 24, lid 2",1,{"$f":"Translations!$B$1085","v":"Beste werkwijzen"},{"$f":"Translations!$B$527","v":"Laboratoriumanalyses"},null,null,null,null,2,"Glas en minerale wol: Proces (methode A): alleen carbonaat",null,"EF_Glas en minerale wol: Proces (methode A): alleen carbonaat",null,null,null,null,null,null,false,null,null,null,null,null,null,null,null,null,null,null,2,2,"","",""]
[39,"Vervaardiging van glas","Glas en minerale wol","Proces (methode A): gemengd (carbonaat + niet-carbonaat)",null,"Standaardmethode: Procedure, artikel 24, lid 2",1,{"$f":"EUconst_NA","v":"n.v.t."},{"$f":"EUconst_NA","v":"n.v.t."},null,null,{"$f":"Translations!$B$527","v":"Laboratoriumanalyses"},null,3,"Glas en minerale wol: Proces (methode A): gemengd (carbonaat + niet-carbonaat)",null,"EF_Glas en minerale wol: Proces (methode A): gemengd (carbonaat + niet-carbonaat)",null,null,null,null,null,null,false,null,null,null,null,null,null,null,null,null,null,null,{"$f":"Translations!$B$530","v":"n.v.t."},{"$f":"Translations!$B$530","v":"n.v.t."},"","",2]
[40,"Vervaardiging van glas","Glas en minerale wol","Proces (methode A): niet-carbonaat",null,"Standaardmethode: Procedure, artikel 24, lid 2",1,{"$f":"Translations!$B$1070","v":"Type I standaardwaarde en beste praktijken"},{"$f":"Translations!$B$527","v":"Laboratoriumanalyses"},null,null,null,null,2,"Glas en minerale wol: Proces (methode A): niet-carbonaat",null,"EF_Glas en minerale wol: Proces (methode A): niet-carbonaat",null,null,null,null,null,null,false,null,null,null,null,null,null,null,null,null,null,null,1,2,"","",""]
[41,{"$f":"B301","v":"Vervaardiging van keramiek"},"Keramiek","Proces (methode A): alleen carbonaat",null,"Standaardmethode: Procedure, artikel 24, lid 2",1,{"$f":"Translations!$B$1093","v":"0,08794 ton CO2 per ton droge klei"},{"$f":"Translations!$B$1085","v":"Beste werkwijzen"},null,null,{"$f":"Translations!$B$527","v":"Laboratoriumanalyses"},null,3,"Keramiek: Proces (methode A): alleen carbonaat",null,"EF_Keramiek: Proces (methode A): alleen carbonaat",null,null,null,null,null,null,false,null,null,null,null,null,null,null,null,null,null,null,1,2,"","",2]
[42,"Vervaardiging van keramiek","Keramiek","Proces (methode A): gemengd (carbonaat + niet-carbonaat)",null,"Standaardmethode: Procedure, artikel 24, lid 2",1,{"$f":"Translations!$B$1093","v":"0,08794 ton CO2 per ton droge klei"},{"$f":"Translations!$B$1085","v":"Beste werkwijzen"},null,null,{"$f":"Translations!$B$527","v":"Laboratoriumanalyses"},null,3,"Keramiek: Proces (methode A): gemengd (carbonaat + niet-carbonaat)",null,"EF_Keramiek: Proces (methode A): gemengd (carbonaat + niet-carbonaat)",null,null,null,null,null,null,false,null,null,null,null,null,null,null,null,null,null,null,1,2,"","",2]
[43,"Vervaardiging van keramiek","Keramiek","Proces (methode A): niet-carbonaat",null,"Standaardmethode: Procedure, artikel 24, lid 2",1,{"$f":"Translations!$B$1093","v":"0,08794 ton CO2 per ton droge klei"},{"$f":"Translations!$B$1085","v":"Beste werkwijzen"},null,null,{"$f":"Translations!$B$527","v":"Laboratoriumanalyses"},null,3,"Keramiek: Proces (methode A): niet-carbonaat",null,"EF_Keramiek: Proces (methode A): niet-carbonaat",null,null,null,null,null,null,false,null,null,null,null,null,null,null,null,null,null,null,1,2,"","",2]
[44,"Vervaardiging van keramiek","Keramiek","Proces (methode B): oxide-uitgang",null,"Standaardmethode: Procedure, artikel 24, lid 2",1,{"$f":"Translations!$B$1096","v":"0,09642 ton CO2 per ton product"},{"$f":"Translations!$B$1085","v":"Beste werkwijzen"},null,null,{"$f":"Translations!$B$527","v":"Laboratoriumanalyses"},null,3,"Keramiek: Proces (methode B): oxide-uitgang",null,"EF_Keramiek: Proces (methode B): oxide-uitgang",null,null,null,null,null,null,false,null,null,null,null,null,null,null,null,null,null,null,1,2,"","",2]
[45,"Vervaardiging van keramiek","Keramiek","Gasreiniging",null,"Standaardmethode: Procedure, artikel 24, lid 2",1,{"$f":"Translations!$B$493","v":"Standaardwaarden van het type I"},null,null,null,null,null,1,"Keramiek: Gasreiniging",null,"EF_Keramiek: Gasreiniging",null,null,null,null,null,null,false,null,null,null,null,null,null,null,null,null,null,null,1,"","","",""]
[46,"Productie van pulp","Pulp en papier","Aanvullende chemicaliën",null,"Standaardmethode: Procedure, artikel 24, lid 2",1,{"$f":"Translations!$B$1070","v":"Type I standaardwaarde en beste praktijken"},{"$f":"Translations!$B$527","v":"Laboratoriumanalyses"},null,null,null,null,2,"Pulp en papier: Aanvullende chemicaliën",null,"EF_Pulp en papier: Aanvullende chemicaliën",null,null,null,null,null,null,false,null,null,null,null,null,null,null,null,null,null,null,1,2,"","",""]
[47,"Productie van roet","Roet","Massabalansmethodiek",null,"Massabalansmethode, artikel 25",{"$f":"EUconst_NA","v":"n.v.t."},null,null,null,null,null,null,"n.v.t.","Roet: Massabalansmethodiek",null,"EF_Roet: Massabalansmethodiek",null,null,null,null,null,null,true,null,null,null,null,null,null,null,null,null,null,null,"","","","",""]
[48,"Productie van ammoniak","Ammoniak","Brandstofinzet",null,"Standaardmethode: Brandstoffen, artikel 24, lid 1","2a/2b",{"$f":"Translations!$B$493","v":"Standaardwaarden van het type I"},null,{"$f":"Translations!$B$528","v":"Standaardwaarden van het type II"},{"$f":"Translations!$B$1061","v":"Aanvaarde proxy’s (indien van toepassing)"},{"$f":"Translations!$B$527","v":"Laboratoriumanalyses"},null,3,"Ammoniak: Brandstofinzet",null,"EF_Ammoniak: Brandstofinzet",null,null,null,null,null,null,false,null,null,null,null,null,null,null,null,null,null,null,1,"",1,2,2]
[49,"Productie van waterstof en synthesegas","Waterstof en synthesegas","Brandstofinzet",null,"Standaardmethode: Brandstoffen, artikel 24, lid 1","2a/2b",{"$f":"Translations!$B$493","v":"Standaardwaarden van het type I"},null,{"$f":"Translations!$B$528","v":"Standaardwaarden van het type II"},{"$f":"Translations!$B$1061","v":"Aanvaarde proxy’s (indien van toepassing)"},{"$f":"Translations!$B$527","v":"Laboratoriumanalyses"},null,3,"Waterstof en synthesegas: Brandstofinzet",null,"EF_Waterstof en synthesegas: Brandstofinzet",null,null,null,null,null,null,{"$f":"IF(G371=EUconst_NA,TRUE,FALSE)","v":false},null,null,null,null,null,null,null,null,null,null,null,1,"",1,2,2]
[50,"Productie van waterstof en synthesegas","Waterstof en synthesegas","Massabalansmethodiek",null,"Massabalansmethode, artikel 25",{"$f":"EUconst_NA","v":"n.v.t."},null,null,null,null,null,null,"n.v.t.","Waterstof en synthesegas: Massabalansmethodiek",null,"EF_Waterstof en synthesegas: Massabalansmethodiek",null,null,null,null,null,null,true,null,null,null,null,null,null,null,null,null,null,null,"","","","",""]
[51,"Productie van bulkchemicaliën","Organische bulkchemicaliën","Massabalansmethodiek",null,"Massabalansmethode, artikel 25",{"$f":"EUconst_NA","v":"n.v.t."},null,null,null,null,null,null,"n.v.t.","Organische bulkchemicaliën: Massabalansmethodiek",null,"EF_Organische bulkchemicaliën: Massabalansmethodiek",null,null,null,null,null,null,true,null,null,null,null,null,null,null,null,null,null,null,"","","","",""]
[52,"Productie of verwerking van ferrometalen","(Non)-ferrometalen, secundair aluminium","Proces (methode A): alleen carbonaat",null,"Standaardmethode: Procedure, artikel 24, lid 2",1,{"$f":"Translations!$B$493","v":"Standaardwaarden van het type I"},{"$f":"Translations!$B$528","v":"Standaardwaarden van het type II"},null,null,{"$f":"Translations!$B$527","v":"Laboratoriumanalyses"},null,3,"(Non)-ferrometalen, secundair aluminium: Proces (methode A): alleen carbonaat",null,"EF_(Non)-ferrometalen, secundair aluminium: Proces (methode A): alleen carbonaat",null,null,null,null,null,null,false,null,null,null,null,null,null,null,null,null,null,null,1,1,"","",2]
[53,"Productie of verwerking van ferrometalen","(Non)-ferrometalen, secundair aluminium","Proces (methode A): gemengd (carbonaat + niet-carbonaat)",null,"Standaardmethode: Procedure, artikel 24, lid 2",1,{"$f":"EUconst_NA","v":"n.v.t."},{"$f":"EUconst_NA","v":"n.v.t."},null,null,{"$f":"Translations!$B$527","v":"Laboratoriumanalyses"},null,3,"(Non)-ferrometalen, secundair aluminium: Proces (methode A): gemengd (carbonaat + niet-carbonaat)",null,"EF_(Non)-ferrometalen, secundair aluminium: Proces (methode A): gemengd (carbonaat + niet-carbonaat)",null,null,null,null,null,null,false,null,null,null,null,null,null,null,null,null,null,null,{"$f":"Translations!$B$530","v":"n.v.t."},{"$f":"Translations!$B$530","v":"n.v.t."},"","",2]
[54,"Productie of verwerking van ferrometalen","(Non)-ferrometalen, secundair aluminium","Proces (methode A): niet-carbonaat",null,"Standaardmethode: Procedure, artikel 24, lid 2",1,{"$f":"Translations!$B$493","v":"Standaardwaarden van het type I"},{"$f":"Translations!$B$528","v":"Standaardwaarden van het type II"},null,null,{"$f":"Translations!$B$527","v":"Laboratoriumanalyses"},null,3,"(Non)-ferrometalen, secundair aluminium: Proces (methode A): niet-carbonaat",null,"EF_(Non)-ferrometalen, secundair aluminium: Proces (methode A): niet-carbonaat",null,null,null,null,null,null,false,null,null,null,null,null,null,null,null,null,null,null,1,1,"","",2]
[55,"Productie of verwerking van ferrometalen","(Non)-ferrometalen, secundair aluminium","Proces (methode B): oxide-uitgang",null,"Standaardmethode: Procedure, artikel 24, lid 2",1,{"$f":"Translations!$B$493","v":"Standaardwaarden van het type I"},{"$f":"Translations!$B$528","v":"Standaardwaarden van het type II"},null,null,{"$f":"Translations!$B$527","v":"Laboratoriumanalyses"},null,3,"(Non)-ferrometalen, secundair aluminium: Proces (methode B): oxide-uitgang",null,"EF_(Non)-ferrometalen, secundair aluminium: Proces (methode B): oxide-uitgang",null,null,null,null,null,null,false,null,null,null,null,null,null,null,null,null,null,null,1,1,"","",2]
[56,"Productie of verwerking van ferrometalen","(Non)-ferrometalen, secundair aluminium","Massabalansmethodiek",null,"Massabalansmethode, artikel 25",{"$f":"EUconst_NA","v":"n.v.t."},null,null,null,null,null,null,"n.v.t.","(Non)-ferrometalen, secundair aluminium: Massabalansmethodiek",null,"EF_(Non)-ferrometalen, secundair aluminium: Massabalansmethodiek",null,null,null,null,null,null,{"$f":"IF(G378=EUconst_NA,TRUE,FALSE)","v":true},null,null,null,null,null,null,null,null,null,null,null,"","","","",""]
[57,"Productie van natriumcarbonaat en natriumbicarbonaat","Natriumcarbonaat en natriumbicarbonaat","Massabalansmethodiek",null,"Massabalansmethode, artikel 25",{"$f":"EUconst_NA","v":"n.v.t."},null,null,null,null,null,null,"n.v.t.","Natriumcarbonaat en natriumbicarbonaat: Massabalansmethodiek",null,"EF_Natriumcarbonaat en natriumbicarbonaat: Massabalansmethodiek",null,null,null,null,null,null,true,null,null,null,null,null,null,null,null,null,null,null,"","","","",""]
[58,"Productie van primair aluminium","Primair aluminium","Massabalansmethodiek",null,"Massabalansmethode, artikel 25",{"$f":"EUconst_NA","v":"n.v.t."},null,null,null,null,null,null,{"$f":"IF(G380=EUconst_NA,EUconst_NA,IF(ISBLANK(J380),COUNTA(H380:M380),COUNTA(H380,J380,L380)))","v":"n.v.t."},{"$f":"C380 & \": \" &D380","v":"Primair aluminium: Massabalansmethodiek"},null,{"$f":"EUconst_CNTR_EF&O380","v":"EF_Primair aluminium: Massabalansmethodiek"},null,null,null,null,null,null,true,null,null,null,null,null,null,null,null,null,null,null,"","","","",""]
[59,"Productie van primair aluminium","Primair aluminium","PFK-emissies (hellingsmethode)",null,"Berekeningen met bijzondere bepalingen voor PFK's (bijlage VI, punt 8)",1,{"$f":"Translations!$B$493","v":"Standaardwaarden van het type I"},{"$f":"Translations!$B$1101","v":"Installatiespecifieke emissiefactoren"},null,null,null,null,2,"Primair aluminium: PFK-emissies (hellingsmethode)",null,"EF_Primair aluminium: PFK-emissies (hellingsmethode)",null,null,null,null,null,null,false,null,null,null,null,null,null,null,null,null,null,null,1,2,"","",""]
[60,"Productie van primair aluminium","Primair aluminium","PFK-emissies (overspanningsmethode)",null,"Berekeningen met bijzondere bepalingen voor PFK's (bijlage VI, punt 8)",1,{"$f":"Translations!$B$493","v":"Standaardwaarden van het type I"},{"$f":"Translations!$B$1101","v":"Installatiespecifieke emissiefactoren"},null,null,null,null,2,"Primair aluminium: PFK-emissies (overspanningsmethode)",null,"EF_Primair aluminium: PFK-emissies (overspanningsmethode)",null,null,null,null,null,null,false,null,null,null,null,null,null,null,null,null,null,null,1,2,"","",""]
[null,null,null,null,null,null,null,null,null,null,null,null,null,null,null,null,null,null,null,null,null,null,null,false]
["NEW",{"$f":"Translations!$B$1108","v":"Calorische onderwaarde"},{"$f":"Translations!$B$957","v":"Korte naam"},{"$f":"Translations!$B$958","v":"Subactiviteit"},{"$f":"Translations!$B$389","v":"Parameter"},{"$f":"Translations!$B$959","v":"Brontype"},{"$f":"Translations!$B$960","v":"Minimum"},1,2,"2a",{"$f":"Translations!$B$928","v":"2b"},3,4,{"$f":"Translations!$B$961","v":"Hoogste"},null,null,null,null,null,null,null,null,null,{"$f":"Translations!$B$962","v":"grijs kleuren?"},null,null,null,null,null,null,null,null,null,null,"1=default value, 2=lab",1,2,"2a",{"$f":"Translations!$B$928","v":"2b"},3]
[1,{"$f":"B323","v":"Verbranding van brandstoffen"},"Verbranding","Commercieel verhandelbare standaardbrandstoffen",null,{"$f":"F323","v":"Standaardmethode: Brandstoffen, artikel 24, lid 1"},"2a/2b",{"$f":"Translations!$B$493","v":"Standaardwaarden van het type I"},null,{"$f":"Translations!$B$528","v":"Standaardwaarden van het type II"},{"$f":"Translations!$B$1109","v":"Aankoopgegevens (indien van toepassing)"},{"$f":"Translations!$B$527","v":"Laboratoriumanalyses"},null,{"$f":"G385","v":"2a/2b"},{"$f":"C385 & \": \" &D385","v":"Verbranding: Commercieel verhandelbare standaardbrandstoffen"},null,{"$f":"EUconst_CNTR_NCV&O385","v":"NCV_Verbranding: Commercieel verhandelbare standaardbrandstoffen"},null,null,null,null,null,null,{"$f":"IF(G385=EUconst_NA,TRUE,FALSE)","v":false},null,null,null,null,null,null,null,null,null,null,null,1,"",1,{"$f":"Translations!$B$1109","v":"Aankoopgegevens (indien van toepassing)"},2]
[2,"Verbranding van brandstoffen","Verbranding","Andere gasvormige en vloeibare brandstoffen",null,"Standaardmethode: Brandstoffen, artikel 24, lid 1","2a/2b",{"$f":"Translations!$B$493","v":"Standaardwaarden van het type I"},null,{"$f":"Translations!$B$528","v":"Standaardwaarden van het type II"},{"$f":"Translations!$B$1109","v":"Aankoopgegevens (indien van toepassing)"},{"$f":"Translations!$B$527","v":"Laboratoriumanalyses"},null,{"$f":"IF(G386=EUconst_NA,EUconst_NA,IF(ISBLANK(J386),COUNTA(H386:M386),COUNTA(H386,J386,L386)))","v":3},{"$f":"C386 & \": \" &D386","v":"Verbranding: Andere gasvormige en vloeibare brandstoffen"},null,{"$f":"EUconst_CNTR_NCV&O386","v":"NCV_Verbranding: Andere gasvormige en vloeibare brandstoffen"},null,null,null,null,null,null,false,null,null,null,null,null,null,null,null,null,null,null,1,"",1,{"$f":"Translations!$B$1109","v":"Aankoopgegevens (indien van toepassing)"},2]
[3,"Verbranding van brandstoffen","Verbranding","Vaste brandstoffen",null,"Standaardmethode: Brandstoffen, artikel 24, lid 1","2a/2b",{"$f":"Translations!$B$493","v":"Standaardwaarden van het type I"},null,{"$f":"Translations!$B$528","v":"Standaardwaarden van het type II"},{"$f":"Translations!$B$1109","v":"Aankoopgegevens (indien van toepassing)"},{"$f":"Translations!$B$527","v":"Laboratoriumanalyses"},null,3,"Verbranding: Vaste brandstoffen",null,"NCV_Verbranding: Vaste brandstoffen",null,null,null,null,null,null,false,null,null,null,null,null,null,null,null,null,null,null,1,"",1,{"$f":"Translations!$B$1109","v":"Aankoopgegevens (indien van toepassing)"},2]
[4,"Verbranding van brandstoffen","Verbranding","Gasverwerkingsterminals",null,"Massabalansmethode, artikel 25",1,{"$f":"Translations!$B$493","v":"Standaardwaarden van het type I"},null,{"$f":"Translations!$B$528","v":"Standaardwaarden van het type II"},{"$f":"Translations!$B$1109","v":"Aankoopgegevens (indien van toepassing)"},{"$f":"Translations!$B$527","v":"Laboratoriumanalyses"},null,3,"Verbranding: Gasverwerkingsterminals",null,"NCV_Verbranding: Gasverwerkingsterminals",null,null,null,null,null,null,false,null,null,null,null,null,null,null,null,null,null,null,1,"",1,{"$f":"Translations!$B$1109","v":"Aankoopgegevens (indien van toepassing)"},2]
[5,"Verbranding van brandstoffen","Verbranding","Fakkels",null,"Standaardmethode: Brandstoffen, artikel 24, lid 1",{"$f":"\"\"","v":""},{"$f":"Translations!$B$493","v":"Standaardwaarden van het type I"},null,{"$f":"Translations!$B$528","v":"Standaardwaarden van het type II"},{"$f":"Translations!$B$1109","v":"Aankoopgegevens (indien van toepassing)"},{"$f":"Translations!$B$527","v":"Laboratoriumanalyses"},null,3,"Verbranding: Fakkels",null,"NCV_Verbranding: Fakkels",null,null,null,null,null,null,false,null,null,null,null,null,null,null,null,null,null,null,1,"",1,{"$f":"Translations!$B$1109","v":"Aankoopgegevens (indien van toepassing)"},2]
[6,"Verbranding van brandstoffen","Verbranding","Gasreiniging (carbonaat)",null,"Standaardmethode: Procedure, artikel 24, lid 2",{"$f":"EUconst_NA","v":"n.v.t."},null,null,null,null,null,null,"n.v.t.","Verbranding: Gasreiniging (carbonaat)",null,"NCV_Verbranding: Gasreiniging (carbonaat)",null,null,null,null,null,null,true,null,null,null,null,null,null,null,null,null,null,null,"","","","",""]
[7,"Verbranding van brandstoffen","Verbranding","Gasreiniging (gips)",null,"Standaardmethode: Procedure, artikel 24, lid 2",{"$f":"EUconst_NA","v":"n.v.t."},null,null,null,null,null,null,"n.v.t.","Verbranding: Gasreiniging (gips)",null,"NCV_Verbranding: Gasreiniging (gips)",null,null,null,null,null,null,true,null,null,null,null,null,null,null,null,null,null,null,"","","","",""]
[8,"Verbranding van brandstoffen","Verbranding","Gasreiniging (ureum)",null,"Standaardmethode: Procedure, artikel 24, lid 2",{"$f":"EUconst_NA","v":"n.v.t."},null,null,null,null,null,null,"n.v.t.","Verbranding: Gasreiniging (ureum)",null,"NCV_Verbranding: Gasreiniging (ureum)",null,null,null,null,null,null,true,null,null,null,null,null,null,null,null,null,null,null,"","","","",""]
[9,"Raffineren van aardoliën ","Raffinaderijen","Massabalans",null,"Massabalansmethode, artikel 25",{"$f":"\"\"","v":""},{"$f":"Translations!$B$493","v":"Standaardwaarden van het type I"},null,{"$f":"Translations!$B$528","v":"Standaardwaarden van het type II"},{"$f":"Translations!$B$1109","v":"Aankoopgegevens (indien van toepassing)"},{"$f":"Translations!$B$527","v":"Laboratoriumanalyses"},null,3,"Raffinaderijen: Massabalans",null,"NCV_Raffinaderijen: Massabalans",null,null,null,null,null,null,false,null,null,null,null,null,null,null,null,null,null,null,1,"",1,{"$f":"Translations!$B$1109","v":"Aankoopgegevens (indien van toepassing)"},2]
[10,"Raffineren van aardoliën ","Raffinaderijen","Katalytische-krakerregeneratie",null,"Massabalansmethode, artikel 25",{"$f":"EUconst_NA","v":"n.v.t."},null,null,null,null,null,null,"n.v.t.","Raffinaderijen: Katalytische-krakerregeneratie",null,"NCV_Raffinaderijen: Katalytische-krakerregeneratie",null,null,null,null,null,null,true,null,null,null,null,null,null,null,null,null,null,null,"","","","",""]
[11,"Raffineren van aardoliën ","Raffinaderijen","Waterstofproductie",null,"Massabalansmethode, artikel 25",{"$f":"\"\"","v":""},{"$f":"Translations!$B$493","v":"Standaardwaarden van het type I"},null,{"$f":"Translations!$B$528","v":"Standaardwaarden van het type II"},{"$f":"Translations!$B$1109","v":"Aankoopgegevens (indien van toepassing)"},{"$f":"Translations!$B$527","v":"Laboratoriumanalyses"},null,3,"Raffinaderijen: Waterstofproductie",null,"NCV_Raffinaderijen: Waterstofproductie",null,null,null,null,null,null,false,null,null,null,null,null,null,null,null,null,null,null,1,"",1,{"$f":"Translations!$B$1109","v":"Aankoopgegevens (indien van toepassing)"},2]
[12,"Productie van cokes","Cokes","Brandstofinzet",null,"Standaardmethode: Brandstoffen, artikel 24, lid 1","2a/2b",{"$f":"Translations!$B$493","v":"Standaardwaarden van het type I"},null,{"$f":"Translations!$B$528","v":"Standaardwaarden van het type II"},{"$f":"Translations!$B$1109","v":"Aankoopgegevens (indien van toepassing)"},{"$f":"Translations!$B$527","v":"Laboratoriumanalyses"},null,3,"Cokes: Brandstofinzet",null,"NCV_Cokes: Brandstofinzet",null,null,null,null,null,null,false,null,null,null,null,null,null,null,null,null,null,null,1,"",1,{"$f":"Translations!$B$1109","v":"Aankoopgegevens (indien van toepassing)"},2]
[13,"Productie van cokes","Cokes","Proces (methode A): alleen carbonaat",null,"Standaardmethode: Procedure, artikel 24, lid 2",{"$f":"EUconst_NA","v":"n.v.t."},null,null,null,null,null,null,"n.v.t.","Cokes: Proces (methode A): alleen carbonaat",null,"NCV_Cokes: Proces (methode A): alleen carbonaat",null,null,null,null,null,null,true,null,null,null,null,null,null,null,null,null,null,null,"","","","",""]
[14,"Productie van cokes","Cokes","Proces (methode A): gemengd (carbonaat + niet-carbonaat)",null,"Standaardmethode: Procedure, artikel 24, lid 2","2a/2b",{"$f":"Translations!$B$493","v":"Standaardwaarden van het type I"},null,{"$f":"Translations!$B$528","v":"Standaardwaarden van het type II"},{"$f":"Translations!$B$1109","v":"Aankoopgegevens (indien van toepassing)"},{"$f":"Translations!$B$527","v":"Laboratoriumanalyses"},null,3,"Cokes: Proces (methode A): gemengd (carbonaat + niet-carbonaat)",null,"NCV_Cokes: Proces (methode A): gemengd (carbonaat + niet-carbonaat)",null,null,null,null,null,null,false,null,null,null,null,null,null,null,null,null,null,null,1,"",1,{"$f":"Translations!$B$1109","v":"Aankoopgegevens (indien van toepassing)"},2]
[15,"Productie van cokes","Cokes","Proces (methode A): niet-carbonaat",null,"Standaardmethode: Procedure, artikel 24, lid 2","2a/2b",{"$f":"Translations!$B$493","v":"Standaardwaarden van het type I"},null,{"$f":"Translations!$B$528","v":"Standaardwaarden van het type II"},{"$f":"Translations!$B$1109","v":"Aankoopgegevens (indien van toepassing)"},{"$f":"Translations!$B$527","v":"Laboratoriumanalyses"},null,3,"Cokes: Proces (methode A): niet-carbonaat",null,"NCV_Cokes: Proces (methode A): niet-carbonaat",null,null,null,null,null,null,false,null,null,null,null,null,null,null,null,null,null,null,1,"",1,{"$f":"Translations!$B$1109","v":"Aankoopgegevens (indien van toepassing)"},2]
[16,"Productie van cokes","Cokes","Proces (methode B): oxide-uitgang",null,"Standaardmethode: Procedure, artikel 24, lid 2",{"$f":"EUconst_NA","v":"n.v.t."},null,null,null,null,null,null,"n.v.t.","Cokes: Proces (methode B): oxide-uitgang",null,"NCV_Cokes: Proces (methode B): oxide-uitgang",null,null,null,null,null,null,true,null,null,null,null,null,null,null,null,null,null,null,"","","","",""]
[17,"Productie van cokes","Cokes","Massabalans",null,"Massabalansmethode, artikel 25",{"$f":"\"\"","v":""},{"$f":"Translations!$B$493","v":"Standaardwaarden van het type I"},null,{"$f":"Translations!$B$528","v":"Standaardwaarden van het type II"},{"$f":"Translations!$B$1109","v":"Aankoopgegevens (indien van toepassing)"},{"$f":"Translations!$B$527","v":"Laboratoriumanalyses"},null,3,"Cokes: Massabalans",null,"NCV_Cokes: Massabalans",null,null,null,null,null,null,false,null,null,null,null,null,null,null,null,null,null,null,1,"",1,{"$f":"Translations!$B$1109","v":"Aankoopgegevens (indien van toepassing)"},2]
[18,"Roosten of sinteren van metaalerts","Metaalerts","Proces (methode A): alleen carbonaat",null,"Standaardmethode: Procedure, artikel 24, lid 2",{"$f":"EUconst_NA","v":"n.v.t."},null,null,null,null,null,null,"n.v.t.","Metaalerts: Proces (methode A): alleen carbonaat",null,"NCV_Metaalerts: Proces (methode A): alleen carbonaat",null,null,null,null,null,null,true,null,null,null,null,null,null,null,null,null,null,null,"","","","",""]
[19,"Roosten of sinteren van metaalerts","Metaalerts","Proces (methode A): gemengd (carbonaat + niet-carbonaat)",null,"Standaardmethode: Procedure, artikel 24, lid 2","2a/2b",{"$f":"Translations!$B$493","v":"Standaardwaarden van het type I"},null,{"$f":"Translations!$B$528","v":"Standaardwaarden van het type II"},{"$f":"Translations!$B$1109","v":"Aankoopgegevens (indien van toepassing)"},{"$f":"Translations!$B$527","v":"Laboratoriumanalyses"},null,3,"Metaalerts: Proces (methode A): gemengd (carbonaat + niet-carbonaat)",null,"NCV_Metaalerts: Proces (methode A): gemengd (carbonaat + niet-carbonaat)",null,null,null,null,null,null,false,null,null,null,null,null,null,null,null,null,null,null,1,"",1,{"$f":"Translations!$B$1109","v":"Aankoopgegevens (indien van toepassing)"},2]
[20,"Roosten of sinteren van metaalerts","Metaalerts","Proces (methode A): niet-carbonaat",null,"Standaardmethode: Procedure, artikel 24, lid 2","2a/2b",{"$f":"Translations!$B$493","v":"Standaardwaarden van het type I"},null,{"$f":"Translations!$B$528","v":"Standaardwaarden van het type II"},{"$f":"Translations!$B$1109","v":"Aankoopgegevens (indien van toepassing)"},{"$f":"Translations!$B$527","v":"Laboratoriumanalyses"},null,3,"Metaalerts: Proces (methode A): niet-carbonaat",null,"NCV_Metaalerts: Proces (methode A): niet-carbonaat",null,null,null,null,null,null,false,null,null,null,null,null,null,null,null,null,null,null,1,"",1,{"$f":"Translations!$B$1109","v":"Aankoopgegevens (indien van toepassing)"},2]
[21,{"$f":"B343","v":"Roosten of sinteren van metaalerts"},"Metaalerts","Proces (methode B): oxide-uitgang",null,"Standaardmethode: Procedure, artikel 24, lid 2",{"$f":"EUconst_NA","v":"n.v.t."},null,null,null,null,null,null,"n.v.t.","Metaalerts: Proces (methode B): oxide-uitgang",null,"NCV_Metaalerts: Proces (methode B): oxide-uitgang",null,null,null,null,null,null,true,null,null,null,null,null,null,null,null,null,null,null,"","","","",""]
[22,"Roosten of sinteren van metaalerts","Metaalerts","Massabalans",null,"Massabalansmethode, artikel 25",{"$f":"\"\"","v":""},{"$f":"Translations!$B$493","v":"Standaardwaarden van het type I"},null,{"$f":"Translations!$B$528","v":"Standaardwaarden van het type II"},{"$f":"Translations!$B$1109","v":"Aankoopgegevens (indien van toepassing)"},{"$f":"Translations!$B$527","v":"Laboratoriumanalyses"},null,3,"Metaalerts: Massabalans",null,"NCV_Metaalerts: Massabalans",null,null,null,null,null,null,false,null,null,null,null,null,null,null,null,null,null,null,1,"",1,{"$f":"Translations!$B$1109","v":"Aankoopgegevens (indien van toepassing)"},2]
[23,"Productie van ruwijzer of staal","IJzer en staal","Brandstofinzet",null,"Standaardmethode: Brandstoffen, artikel 24, lid 1","2a/2b",{"$f":"Translations!$B$493","v":"Standaardwaarden van het type I"},null,{"$f":"Translations!$B$528","v":"Standaardwaarden van het type II"},{"$f":"Translations!$B$1109","v":"Aankoopgegevens (indien van toepassing)"},{"$f":"Translations!$B$527","v":"Laboratoriumanalyses"},null,3,"IJzer en staal: Brandstofinzet",null,"NCV_IJzer en staal: Brandstofinzet",null,null,null,null,null,null,false,null,null,null,null,null,null,null,null,null,null,null,1,"",1,{"$f":"Translations!$B$1109","v":"Aankoopgegevens (indien van toepassing)"},2]
[24,"Productie van ruwijzer of staal","IJzer en staal","Proces (methode A): alleen carbonaat",null,"Standaardmethode: Procedure, artikel 24, lid 2",{"$f":"EUconst_NA","v":"n.v.t."},null,null,null,null,null,null,"n.v.t.","IJzer en staal: Proces (methode A): alleen carbonaat",null,"NCV_IJzer en staal: Proces (methode A): alleen carbonaat",null,null,null,null,null,null,true,null,null,null,null,null,null,null,null,null,null,null,"","","","",""]
[25,"Productie van ruwijzer of staal","IJzer en staal","Proces (methode A): gemengd (carbonaat + niet-carbonaat)",null,"Standaardmethode: Procedure, artikel 24, lid 2","2a/2b",{"$f":"Translations!$B$493","v":"Standaardwaarden van het type I"},null,{"$f":"Translations!$B$528","v":"Standaardwaarden van het type II"},{"$f":"Translations!$B$1109","v":"Aankoopgegevens (indien van toepassing)"},{"$f":"Translations!$B$527","v":"Laboratoriumanalyses"},null,3,"IJzer en staal: Proces (methode A): gemengd (carbonaat + niet-carbonaat)",null,"NCV_IJzer en staal: Proces (methode A): gemengd (carbonaat + niet-carbonaat)",null,null,null,null,null,null,false,null,null,null,null,null,null,null,null,null,null,null,1,"",1,{"$f":"Translations!$B$1109","v":"Aankoopgegevens (indien van toepassing)"},2]
[26,"Productie van ruwijzer of staal","IJzer en staal","Proces (methode A): niet-carbonaat",null,"Standaardmethode: Procedure, artikel 24, lid 2","2a/2b",{"$f":"Translations!$B$493","v":"Standaardwaarden van het type I"},null,{"$f":"Translations!$B$528","v":"Standaardwaarden van het type II"},{"$f":"Translations!$B$1109","v":"Aankoopgegevens (indien van toepassing)"},{"$f":"Translations!$B$527","v":"Laboratoriumanalyses"},null,3,"IJzer en staal: Proces (methode A): niet-carbonaat",null,"NCV_IJzer en staal: Proces (methode A): niet-carbonaat",null,null,null,null,null,null,false,null,null,null,null,null,null,null,null,null,null,null,1,"",1,{"$f":"Translations!$B$1109","v":"Aankoopgegevens (indien van toepassing)"},2]
[27,"Productie van ruwijzer of staal","IJzer en staal","Proces (methode B): oxide-uitgang",null,"Standaardmethode: Procedure, artikel 24, lid 2",{"$f":"EUconst_NA","v":"n.v.t."},null,null,null,null,null,null,"n.v.t.","IJzer en staal: Proces (methode B): oxide-uitgang",null,"NCV_IJzer en staal: Proces (methode B): oxide-uitgang",null,null,null,null,null,null,true,null,null,null,null,null,null,null,null,null,null,null,"","","","",""]
[28,"Productie van ruwijzer of staal","IJzer en staal","Massabalans",null,"Massabalansmethode, artikel 25",{"$f":"\"\"","v":""},{"$f":"Translations!$B$493","v":"Standaardwaarden van het type I"},null,{"$f":"Translations!$B$528","v":"Standaardwaarden van het type II"},{"$f":"Translations!$B$1109","v":"Aankoopgegevens (indien van toepassing)"},{"$f":"Translations!$B$527","v":"Laboratoriumanalyses"},null,3,"IJzer en staal: Massabalans",null,"NCV_IJzer en staal: Massabalans",null,null,null,null,null,null,false,null,null,null,null,null,null,null,null,null,null,null,1,"",1,{"$f":"Translations!$B$1109","v":"Aankoopgegevens (indien van toepassing)"},2]
[29,"Productie van cementklinkers","Cementklinker","Op basis van inzet in de oven (methode A)",null,"Standaardmethode: Procedure, artikel 24, lid 2",{"$f":"EUconst_NA","v":"n.v.t."},null,null,null,null,null,null,"n.v.t.","Cementklinker: Op basis van inzet in de oven (methode A)",null,"NCV_Cementklinker: Op basis van inzet in de oven (methode A)",null,null,null,null,null,null,true,null,null,null,null,null,null,null,null,null,null,null,"","","","",""]
[30,"Productie van cementklinkers","Cementklinker","Op basis van geproduceerde klinker (methode B)",null,"Standaardmethode: Procedure, artikel 24, lid 2",{"$f":"EUconst_NA","v":"n.v.t."},null,null,null,null,null,null,"n.v.t.","Cementklinker: Op basis van geproduceerde klinker (methode B)",null,"NCV_Cementklinker: Op basis van geproduceerde klinker (methode B)",null,null,null,null,null,null,true,null,null,null,null,null,null,null,null,null,null,null,"","","","",""]
[31,"Productie van cementklinkers","Cementklinker","Cementovenstof",null,"Standaardmethode: Procedure, artikel 24, lid 2",{"$f":"EUconst_NA","v":"n.v.t."},null,null,null,null,null,null,"n.v.t.","Cementklinker: Cementovenstof",null,"NCV_Cementklinker: Cementovenstof",null,null,null,null,null,null,true,null,null,null,null,null,null,null,null,null,null,null,"","","","",""]
[32,"Productie van cementklinkers","Cementklinker","Niet-carbonaatkoolstof",null,"Standaardmethode: Procedure, artikel 24, lid 2",{"$f":"EUconst_NA","v":"n.v.t."},null,null,null,null,null,null,"n.v.t.","Cementklinker: Niet-carbonaatkoolstof",null,"NCV_Cementklinker: Niet-carbonaatkoolstof",null,null,null,null,null,null,true,null,null,null,null,null,null,null,null,null,null,null,"","","","",""]
[33,"Productie van kalksteen of branden van dolomiet of magnesiet","Kalk, dolomiet en magnesiet","Proces (methode A): alleen carbonaat",null,{"$f":"F355","v":"Standaardmethode: Procedure, artikel 24, lid 2"},{"$f":"EUconst_NA","v":"n.v.t."},null,null,null,null,null,null,"n.v.t.","Kalk, dolomiet en magnesiet: Proces (methode A): alleen carbonaat",null,"NCV_Kalk, dolomiet en magnesiet: Proces (methode A): alleen carbonaat",null,null,null,null,null,null,true,null,null,null,null,null,null,null,null,null,null,null,"","","","",""]
[34,"Productie van kalksteen of branden van dolomiet of magnesiet","Kalk, dolomiet en magnesiet","Proces (methode A): gemengd (carbonaat + niet-carbonaat)",null,"Standaardmethode: Procedure, artikel 24, lid 2","2a/2b",{"$f":"Translations!$B$493","v":"Standaardwaarden van het type I"},null,{"$f":"Translations!$B$528","v":"Standaardwaarden van het type II"},{"$f":"Translations!$B$1109","v":"Aankoopgegevens (indien van toepassing)"},{"$f":"Translations!$B$527","v":"Laboratoriumanalyses"},null,3,"Kalk, dolomiet en magnesiet: Proces (methode A): gemengd (carbonaat + niet-carbonaat)",null,"NCV_Kalk, dolomiet en magnesiet: Proces (methode A): gemengd (carbonaat + niet-carbonaat)",null,null,null,null,null,null,false,null,null,null,null,null,null,null,null,null,null,null,1,"",1,{"$f":"Translations!$B$1109","v":"Aankoopgegevens (indien van toepassing)"},2]
[35,"Productie van kalksteen of branden van dolomiet of magnesiet","Kalk, dolomiet en magnesiet","Proces (methode A): niet-carbonaat",null,"Standaardmethode: Procedure, artikel 24, lid 2","2a/2b",{"$f":"Translations!$B$493","v":"Standaardwaarden van het type I"},null,{"$f":"Translations!$B$528","v":"Standaardwaarden van het type II"},{"$f":"Translations!$B$1109","v":"Aankoopgegevens (indien van toepassing)"},{"$f":"Translations!$B$527","v":"Laboratoriumanalyses"},null,3,"Kalk, dolomiet en magnesiet: Proces (methode A): niet-carbonaat",null,"NCV_Kalk, dolomiet en magnesiet: Proces (methode A): niet-carbonaat",null,null,null,null,null,null,false,null,null,null,null,null,null,null,null,null,null,null,1,"",1,{"$f":"Translations!$B$1109","v":"Aankoopgegevens (indien van toepassing)"},2]
[36,"Productie van kalksteen of branden van dolomiet of magnesiet","Kalk, dolomiet en magnesiet","Proces (methode B): oxide-uitgang",null,"Standaardmethode: Procedure, artikel 24, lid 2",{"$f":"EUconst_NA","v":"n.v.t."},null,null,null,null,null,null,"n.v.t.","Kalk, dolomiet en magnesiet: Proces (methode B): oxide-uitgang",null,"NCV_Kalk, dolomiet en magnesiet: Proces (methode B): oxide-uitgang",null,null,null,null,null,null,true,null,null,null,null,null,null,null,null,null,null,null,"","","","",""]
[37,"Productie van kalksteen of branden van dolomiet of magnesiet","Kalk, dolomiet en magnesiet","Ovenstof (methode B)",null,"Standaardmethode: Procedure, artikel 24, lid 2",{"$f":"EUconst_NA","v":"n.v.t."},null,null,null,null,null,null,{"$f":"IF(G421=EUconst_NA,EUconst_NA,IF(ISBLANK(J421),COUNTA(H421:M421),COUNTA(H421,J421,L421)))","v":"n.v.t."},"Kalk, dolomiet en magnesiet: Ovenstof (methode B)",null,"NCV_Kalk, dolomiet en magnesiet: Ovenstof (methode B)",null,null,null,null,null,null,true,null,null,null,null,null,null,null,null,null,null,null,"","","","",""]
[38,"Vervaardiging van glas","Glas en minerale wol","Proces (methode A): alleen carbonaat",null,"Standaardmethode: Procedure, artikel 24, lid 2",{"$f":"EUconst_NA","v":"n.v.t."},null,null,null,null,null,null,"n.v.t.","Glas en minerale wol: Proces (methode A): alleen carbonaat",null,"NCV_Glas en minerale wol: Proces (methode A): alleen carbonaat",null,null,null,null,null,null,true,null,null,null,null,null,null,null,null,null,null,null,"","","","",""]
[39,"Vervaardiging van glas","Glas en minerale wol","Proces (methode A): gemengd (carbonaat + niet-carbonaat)",null,"Standaardmethode: Procedure, artikel 24, lid 2","2a/2b",{"$f":"Translations!$B$493","v":"Standaardwaarden van het type I"},null,{"$f":"Translations!$B$528","v":"Standaardwaarden van het type II"},{"$f":"Translations!$B$1109","v":"Aankoopgegevens (indien van toepassing)"},{"$f":"Translations!$B$527","v":"Laboratoriumanalyses"},null,3,"Glas en minerale wol: Proces (methode A): gemengd (carbonaat + niet-carbonaat)",null,"NCV_Glas en minerale wol: Proces (methode A): gemengd (carbonaat + niet-carbonaat)",null,null,null,null,null,null,false,null,null,null,null,null,null,null,null,null,null,null,1,"",1,{"$f":"Translations!$B$1109","v":"Aankoopgegevens (indien van toepassing)"},2]
[40,"Vervaardiging van glas","Glas en minerale wol","Proces (methode A): niet-carbonaat",null,"Standaardmethode: Procedure, artikel 24, lid 2","2a/2b",{"$f":"Translations!$B$493","v":"Standaardwaarden van het type I"},null,{"$f":"Translations!$B$528","v":"Standaardwaarden van het type II"},{"$f":"Translations!$B$1109","v":"Aankoopgegevens (indien van toepassing)"},{"$f":"Translations!$B$527","v":"Laboratoriumanalyses"},null,3,"Glas en minerale wol: Proces (methode A): niet-carbonaat",null,"NCV_Glas en minerale wol: Proces (methode A): niet-carbonaat",null,null,null,null,null,null,false,null,null,null,null,null,null,null,null,null,null,null,1,"",1,{"$f":"Translations!$B$1109","v":"Aankoopgegevens (indien van toepassing)"},2]
[41,{"$f":"B363","v":"Vervaardiging van keramiek"},"Keramiek","Proces (methode A): alleen carbonaat",null,"Standaardmethode: Procedure, artikel 24, lid 2",{"$f":"EUconst_NA","v":"n.v.t."},null,null,null,null,null,null,"n.v.t.","Keramiek: Proces (methode A): alleen carbonaat",null,"NCV_Keramiek: Proces (methode A): alleen carbonaat",null,null,null,null,null,null,true,null,null,null,null,null,null,null,null,null,null,null,"","","","",""]
[42,"Vervaardiging van keramiek","Keramiek","Proces (methode A): gemengd (carbonaat + niet-carbonaat)",null,"Standaardmethode: Procedure, artikel 24, lid 2","2a/2b",{"$f":"Translations!$B$493","v":"Standaardwaarden van het type I"},null,{"$f":"Translations!$B$528","v":"Standaardwaarden van het type II"},{"$f":"Translations!$B$1109","v":"Aankoopgegevens (indien van toepassing)"},{"$f":"Translations!$B$527","v":"Laboratoriumanalyses"},null,3,"Keramiek: Proces (methode A): gemengd (carbonaat + niet-carbonaat)",null,"NCV_Keramiek: Proces (methode A): gemengd (carbonaat + niet-carbonaat)",null,null,null,null,null,null,false,null,null,null,null,null,null,null,null,null,null,null,1,"",1,{"$f":"Translations!$B$1109","v":"Aankoopgegevens (indien van toepassing)"},2]
[43,"Vervaardiging van keramiek","Keramiek","Proces (methode A): niet-carbonaat",null,"Standaardmethode: Procedure, artikel 24, lid 2","2a/2b",{"$f":"Translations!$B$493","v":"Standaardwaarden van het type I"},null,{"$f":"Translations!$B$528","v":"Standaardwaarden van het type II"},{"$f":"Translations!$B$1109","v":"Aankoopgegevens (indien van toepassing)"},{"$f":"Translations!$B$527","v":"Laboratoriumanalyses"},null,3,"Keramiek: Proces (methode A): niet-carbonaat",null,"NCV_Keramiek: Proces (methode A): niet-carbonaat",null,null,null,null,null,null,false,null,null,null,null,null,null,null,null,null,null,null,1,"",1,{"$f":"Translations!$B$1109","v":"Aankoopgegevens (indien van toepassing)"},2]
[44,"Vervaardiging van keramiek","Keramiek","Proces (methode B): oxide-uitgang",null,"Standaardmethode: Procedure, artikel 24, lid 2",{"$f":"EUconst_NA","v":"n.v.t."},null,null,null,null,null,null,"n.v.t.","Keramiek: Proces (methode B): oxide-uitgang",null,"NCV_Keramiek: Proces (methode B): oxide-uitgang",null,null,null,null,null,null,true,null,null,null,null,null,null,null,null,null,null,null,"","","","",""]
[45,"Vervaardiging van keramiek","Keramiek","Gasreiniging",null,"Standaardmethode: Procedure, artikel 24, lid 2",{"$f":"\"\"","v":""},{"$f":"Translations!$B$493","v":"Standaardwaarden van het type I"},null,null,null,null,null,1,"Keramiek: Gasreiniging",null,"NCV_Keramiek: Gasreiniging",null,null,null,null,null,null,false,null,null,null,null,null,null,null,null,null,null,null,1,"","","",""]
[46,"Productie van pulp","Pulp en papier","Aanvullende chemicaliën",null,"Standaardmethode: Procedure, artikel 24, lid 2",{"$f":"EUconst_NA","v":"n.v.t."},null,null,null,null,null,null,"n.v.t.","Pulp en papier: Aanvullende chemicaliën",null,"NCV_Pulp en papier: Aanvullende chemicaliën",null,null,null,null,null,null,true,null,null,null,null,null,null,null,null,null,null,null,"","","","",""]
[47,"Productie van roet","Roet","Massabalansmethodiek",null,"Massabalansmethode, artikel 25",{"$f":"\"\"","v":""},{"$f":"Translations!$B$493","v":"Standaardwaarden van het type I"},null,{"$f":"Translations!$B$528","v":"Standaardwaarden van het type II"},{"$f":"Translations!$B$1109","v":"Aankoopgegevens (indien van toepassing)"},{"$f":"Translations!$B$527","v":"Laboratoriumanalyses"},null,3,"Roet: Massabalansmethodiek",null,"NCV_Roet: Massabalansmethodiek",null,null,null,null,null,null,false,null,null,null,null,null,null,null,null,null,null,null,1,"",1,{"$f":"Translations!$B$1109","v":"Aankoopgegevens (indien van toepassing)"},2]
[48,"Productie van ammoniak","Ammoniak","Brandstofinzet",null,"Standaardmethode: Brandstoffen, artikel 24, lid 1","2a/2b",{"$f":"Translations!$B$493","v":"Standaardwaarden van het type I"},null,{"$f":"Translations!$B$528","v":"Standaardwaarden van het type II"},{"$f":"Translations!$B$1109","v":"Aankoopgegevens (indien van toepassing)"},{"$f":"Translations!$B$527","v":"Laboratoriumanalyses"},null,3,"Ammoniak: Brandstofinzet",null,"NCV_Ammoniak: Brandstofinzet",null,null,null,null,null,null,false,null,null,null,null,null,null,null,null,null,null,null,1,"",1,{"$f":"Translations!$B$1109","v":"Aankoopgegevens (indien van toepassing)"},2]
[49,"Productie van waterstof en synthesegas","Waterstof en synthesegas","Brandstofinzet",null,"Standaardmethode: Brandstoffen, artikel 24, lid 1","2a/2b",{"$f":"Translations!$B$493","v":"Standaardwaarden van het type I"},null,{"$f":"Translations!$B$528","v":"Standaardwaarden van het type II"},{"$f":"Translations!$B$1109","v":"Aankoopgegevens (indien van toepassing)"},{"$f":"Translations!$B$527","v":"Laboratoriumanalyses"},null,3,"Waterstof en synthesegas: Brandstofinzet",null,"NCV_Waterstof en synthesegas: Brandstofinzet",null,null,null,null,null,null,false,null,null,null,null,null,null,null,null,null,null,null,1,"",1,{"$f":"Translations!$B$1109","v":"Aankoopgegevens (indien van toepassing)"},2]
[50,"Productie van waterstof en synthesegas","Waterstof en synthesegas","Massabalansmethodiek",null,"Massabalansmethode, artikel 25",{"$f":"\"\"","v":""},{"$f":"Translations!$B$493","v":"Standaardwaarden van het type I"},null,{"$f":"Translations!$B$528","v":"Standaardwaarden van het type II"},{"$f":"Translations!$B$1109","v":"Aankoopgegevens (indien van toepassing)"},{"$f":"Translations!$B$527","v":"Laboratoriumanalyses"},null,3,"Waterstof en synthesegas: Massabalansmethodiek",null,"NCV_Waterstof en synthesegas: Massabalansmethodiek",null,null,null,null,null,null,false,null,null,null,null,null,null,null,null,null,null,null,1,"",1,{"$f":"Translations!$B$1109","v":"Aankoopgegevens (indien van toepassing)"},2]
[51,"Productie van bulkchemicaliën","Organische bulkchemicaliën","Massabalansmethodiek",null,"Massabalansmethode, artikel 25",{"$f":"\"\"","v":""},{"$f":"Translations!$B$493","v":"Standaardwaarden van het type I"},null,{"$f":"Translations!$B$528","v":"Standaardwaarden van het type II"},{"$f":"Translations!$B$1109","v":"Aankoopgegevens (indien van toepassing)"},{"$f":"Translations!$B$527","v":"Laboratoriumanalyses"},null,3,"Organische bulkchemicaliën: Massabalansmethodiek",null,"NCV_Organische bulkchemicaliën: Massabalansmethodiek",null,null,null,null,null,null,false,null,null,null,null,null,null,null,null,null,null,null,1,"",1,{"$f":"Translations!$B$1109","v":"Aankoopgegevens (indien van toepassing)"},2]
[52,"Productie of verwerking van ferrometalen","(Non)-ferrometalen, secundair aluminium","Proces (methode A): alleen carbonaat",null,"Standaardmethode: Procedure, artikel 24, lid 2",{"$f":"EUconst_NA","v":"n.v.t."},null,null,null,null,null,null,"n.v.t.","(Non)-ferrometalen, secundair aluminium: Proces (methode A): alleen carbonaat",null,"NCV_(Non)-ferrometalen, secundair aluminium: Proces (methode A): alleen carbonaat",null,null,null,null,null,null,true,null,null,null,null,null,null,null,null,null,null,null,"","","","",""]
[53,"Productie of verwerking van ferrometalen","(Non)-ferrometalen, secundair aluminium","Proces (methode A): gemengd (carbonaat + niet-carbonaat)",null,"Standaardmethode: Procedure, artikel 24, lid 2","2a/2b",{"$f":"Translations!$B$493","v":"Standaardwaarden van het type I"},null,{"$f":"Translations!$B$528","v":"Standaardwaarden van het type II"},{"$f":"Translations!$B$1109","v":"Aankoopgegevens (indien van toepassing)"},{"$f":"Translations!$B$527","v":"Laboratoriumanalyses"},null,3,"(Non)-ferrometalen, secundair aluminium: Proces (methode A): gemengd (carbonaat + niet-carbonaat)",null,"NCV_(Non)-ferrometalen, secundair aluminium: Proces (methode A): gemengd (carbonaat + niet-carbonaat)",null,null,null,null,null,null,false,null,null,null,null,null,null,null,null,null,null,null,1,"",1,{"$f":"Translations!$B$1109","v":"Aankoopgegevens (indien van toepassing)"},2]
[54,"Productie of verwerking van ferrometalen","(Non)-ferrometalen, secundair aluminium","Proces (methode A): niet-carbonaat",null,"Standaardmethode: Procedure, artikel 24, lid 2","2a/2b",{"$f":"Translations!$B$493","v":"Standaardwaarden van het type I"},null,{"$f":"Translations!$B$528","v":"Standaardwaarden van het type II"},{"$f":"Translations!$B$1109","v":"Aankoopgegevens (indien van toepassing)"},{"$f":"Translations!$B$527","v":"Laboratoriumanalyses"},null,3,"(Non)-ferrometalen, secundair aluminium: Proces (methode A): niet-carbonaat",null,"NCV_(Non)-ferrometalen, secundair aluminium: Proces (methode A): niet-carbonaat",null,null,null,null,null,null,false,null,null,null,null,null,null,null,null,null,null,null,1,"",1,{"$f":"Translations!$B$1109","v":"Aankoopgegevens (indien van toepassing)"},2]
[55,"Productie of verwerking van ferrometalen","(Non)-ferrometalen, secundair aluminium","Proces (methode B): oxide-uitgang",null,"Standaardmethode: Procedure, artikel 24, lid 2",{"$f":"EUconst_NA","v":"n.v.t."},null,null,null,null,null,null,"n.v.t.","(Non)-ferrometalen, secundair aluminium: Proces (methode B): oxide-uitgang",null,"NCV_(Non)-ferrometalen, secundair aluminium: Proces (methode B): oxide-uitgang",null,null,null,null,null,null,true,null,null,null,null,null,null,null,null,null,null,null,"","","","",""]
[56,"Productie of verwerking van ferrometalen","(Non)-ferrometalen, secundair aluminium","Massabalansmethodiek",null,"Massabalansmethode, artikel 25",{"$f":"\"\"","v":""},{"$f":"Translations!$B$493","v":"Standaardwaarden van het type I"},null,{"$f":"Translations!$B$528","v":"Standaardwaarden van het type II"},{"$f":"Translations!$B$1109","v":"Aankoopgegevens (indien van toepassing)"},{"$f":"Translations!$B$527","v":"Laboratoriumanalyses"},null,3,"(Non)-ferrometalen, secundair aluminium: Massabalansmethodiek",null,"NCV_(Non)-ferrometalen, secundair aluminium: Massabalansmethodiek",null,null,null,null,null,null,false,null,null,null,null,null,null,null,null,null,null,null,1,"",1,{"$f":"Translations!$B$1109","v":"Aankoopgegevens (indien van toepassing)"},2]
[57,"Productie van natriumcarbonaat en natriumbicarbonaat","Natriumcarbonaat en natriumbicarbonaat","Massabalansmethodiek",null,"Massabalansmethode, artikel 25",{"$f":"\"\"","v":""},{"$f":"Translations!$B$493","v":"Standaardwaarden van het type I"},null,{"$f":"Translations!$B$528","v":"Standaardwaarden van het type II"},{"$f":"Translations!$B$1109","v":"Aankoopgegevens (indien van toepassing)"},{"$f":"Translations!$B$527","v":"Laboratoriumanalyses"},null,3,"Natriumcarbonaat en natriumbicarbonaat: Massabalansmethodiek",null,"NCV_Natriumcarbonaat en natriumbicarbonaat: Massabalansmethodiek",null,null,null,null,null,null,false,null,null,null,null,null,null,null,null,null,null,null,1,"",1,{"$f":"Translations!$B$1109","v":"Aankoopgegevens (indien van toepassing)"},2]
[58,"Productie van primair aluminium","Primair aluminium","Massabalansmethodiek",null,"Massabalansmethode, artikel 25",{"$f":"\"\"","v":""},{"$f":"Translations!$B$493","v":"Standaardwaarden van het type I"},null,{"$f":"Translations!$B$528","v":"Standaardwaarden van het type II"},{"$f":"Translations!$B$1109","v":"Aankoopgegevens (indien van toepassing)"},{"$f":"Translations!$B$527","v":"Laboratoriumanalyses"},null,3,"Primair aluminium: Massabalansmethodiek",null,"NCV_Primair aluminium: Massabalansmethodiek",null,null,null,null,null,null,false,null,null,null,null,null,null,null,null,null,null,null,1,"",1,{"$f":"Translations!$B$1109","v":"Aankoopgegevens (indien van toepassing)"},2]
[59,"Productie van primair aluminium","Primair aluminium","PFK-emissies (hellingsmethode)",null,"Berekeningen met bijzondere bepalingen voor PFK's (bijlage VI, punt 8)",{"$f":"EUconst_NA","v":"n.v.t."},null,null,null,null,null,null,"n.v.t.","Primair aluminium: PFK-emissies (hellingsmethode)",null,"NCV_Primair aluminium: PFK-emissies (hellingsmethode)",null,null,null,null,null,null,true,null,null,null,null,null,null,null,null,null,null,null,"","","","",""]
[60,"Productie van primair aluminium","Primair aluminium","PFK-emissies (overspanningsmethode)",null,"Berekeningen met bijzondere bepalingen voor PFK's (bijlage VI, punt 8)",{"$f":"EUconst_NA","v":"n.v.t."},null,null,null,null,null,null,"n.v.t.","Primair aluminium: PFK-emissies (overspanningsmethode)",null,"NCV_Primair aluminium: PFK-emissies (overspanningsmethode)",null,null,null,null,null,null,{"$f":"IF(G444=EUconst_NA,TRUE,FALSE)","v":true},null,null,null,null,null,null,null,null,null,null,null,"","","","",""]
[null,null,null,null,null,null,null,null,null,null,null,null,null,null,null,null,null,null,null,null,null,null,null,{"$f":"IF(G445=EUconst_NA,TRUE,FALSE)","v":false}]
["NEW",{"$f":"Translations!$B$524","v":"Koolstofgehalte"},{"$f":"Translations!$B$957","v":"Korte naam"},{"$f":"Translations!$B$958","v":"Subactiviteit"},{"$f":"Translations!$B$389","v":"Parameter"},{"$f":"Translations!$B$959","v":"Brontype"},{"$f":"Translations!$B$960","v":"Minimum"},1,2,"2a",{"$f":"Translations!$B$928","v":"2b"},3,4,{"$f":"Translations!$B$961","v":"Hoogste"},null,null,null,null,null,null,null,null,null,{"$f":"Translations!$B$962","v":"grijs kleuren?"},null,null,null,null,null,null,null,null,null,null,"1=default value, 2=lab",1,2,"2a",{"$f":"Translations!$B$928","v":"2b"},3]
[1,{"$f":"B385","v":"Verbranding van brandstoffen"},"Verbranding","Commercieel verhandelbare standaardbrandstoffen",null,{"$f":"F385","v":"Standaardmethode: Brandstoffen, artikel 24, lid 1"},{"$f":"EUconst_NA","v":"n.v.t."},null,null,null,null,null,null,{"$f":"G447","v":"n.v.t."},{"$f":"C447 & \": \" &D447","v":"Verbranding: Commercieel verhandelbare standaardbrandstoffen"},null,{"$f":"EUconst_CNTR_CarbonContent&O447","v":"CarbC_Verbranding: Commercieel verhandelbare standaardbrandstoffen"},null,null,null,null,null,null,{"$f":"IF(G447=EUconst_NA,TRUE,FALSE)","v":true},null,null,null,null,null,null,null,null,null,null,null,"","","","",""]
[2,"Verbranding van brandstoffen","Verbranding","Andere gasvormige en vloeibare brandstoffen",null,"Standaardmethode: Brandstoffen, artikel 24, lid 1",{"$f":"EUconst_NA","v":"n.v.t."},null,null,null,null,null,null,{"$f":"IF(G448=EUconst_NA,EUconst_NA,IF(ISBLANK(J448),COUNTA(H448:M448),COUNTA(H448,J448,L448)))","v":"n.v.t."},{"$f":"C448 & \": \" &D448","v":"Verbranding: Andere gasvormige en vloeibare brandstoffen"},null,"CarbC_Verbranding: Andere gasvormige en vloeibare brandstoffen",null,null,null,null,null,null,true,null,null,null,null,null,null,null,null,null,null,null,"","","","",""]
[3,"Verbranding van brandstoffen","Verbranding","Vaste brandstoffen",null,"Standaardmethode: Brandstoffen, artikel 24, lid 1",{"$f":"EUconst_NA","v":"n.v.t."},null,null,null,null,null,null,"n.v.t.","Verbranding: Vaste brandstoffen",null,"CarbC_Verbranding: Vaste brandstoffen",null,null,null,null,null,null,true,null,null,null,null,null,null,null,null,null,null,null,"","","","",""]
[4,"Verbranding van brandstoffen","Verbranding","Gasverwerkingsterminals",null,"Massabalansmethode, artikel 25",1,{"$f":"Translations!$B$493","v":"Standaardwaarden van het type I"},null,{"$f":"Translations!$B$528","v":"Standaardwaarden van het type II"},{"$f":"Translations!$B$1061","v":"Aanvaarde proxy’s (indien van toepassing)"},{"$f":"Translations!$B$527","v":"Laboratoriumanalyses"},null,3,"Verbranding: Gasverwerkingsterminals",null,"CarbC_Verbranding: Gasverwerkingsterminals",null,null,null,null,null,null,false,null,null,null,null,null,null,null,null,null,null,null,1,"",1,2,2]
[5,"Verbranding van brandstoffen","Verbranding","Fakkels",null,"Standaardmethode: Brandstoffen, artikel 24, lid 1",{"$f":"EUconst_NA","v":"n.v.t."},null,null,null,null,null,null,"n.v.t.","Verbranding: Fakkels",null,"CarbC_Verbranding: Fakkels",null,null,null,null,null,null,true,null,null,null,null,null,null,null,null,null,null,null,"","","","",""]
[6,"Verbranding van brandstoffen","Verbranding","Gasreiniging (carbonaat)",null,"Standaardmethode: Procedure, artikel 24, lid 2",{"$f":"EUconst_NA","v":"n.v.t."},null,null,null,null,null,null,"n.v.t.","Verbranding: Gasreiniging (carbonaat)",null,"CarbC_Verbranding: Gasreiniging (carbonaat)",null,null,null,null,null,null,true,null,null,null,null,null,null,null,null,null,null,null,"","","","",""]
[7,"Verbranding van brandstoffen","Verbranding","Gasreiniging (gips)",null,"Standaardmethode: Procedure, artikel 24, lid 2",{"$f":"EUconst_NA","v":"n.v.t."},null,null,null,null,null,null,"n.v.t.","Verbranding: Gasreiniging (gips)",null,"CarbC_Verbranding: Gasreiniging (gips)",null,null,null,null,null,null,true,null,null,null,null,null,null,null,null,null,null,null,"","","","",""]
[8,"Verbranding van brandstoffen","Verbranding","Gasreiniging (ureum)",null,"Standaardmethode: Procedure, artikel 24, lid 2",{"$f":"EUconst_NA","v":"n.v.t."},null,null,null,null,null,null,"n.v.t.","Verbranding: Gasreiniging (ureum)",null,"CarbC_Verbranding: Gasreiniging (ureum)",null,null,null,null,null,null,true,null,null,null,null,null,null,null,null,null,null,null,"","","","",""]
[9,"Raffineren van aardoliën ","Raffinaderijen","Massabalans",null,"Massabalansmethode, artikel 25","2a/2b",{"$f":"Translations!$B$493","v":"Standaardwaarden van het type I"},null,{"$f":"Translations!$B$528","v":"Standaardwaarden van het type II"},{"$f":"Translations!$B$1061","v":"Aanvaarde proxy’s (indien van toepassing)"},{"$f":"Translations!$B$527","v":"Laboratoriumanalyses"},null,3,"Raffinaderijen: Massabalans",null,"CarbC_Raffinaderijen: Massabalans",null,null,null,null,null,null,false,null,null,null,null,null,null,null,null,null,null,null,1,"",1,2,2]
[10,"Raffineren van aardoliën ","Raffinaderijen","Katalytische-krakerregeneratie",null,"Massabalansmethode, artikel 25",{"$f":"EUconst_NA","v":"n.v.t."},null,null,null,null,null,null,"n.v.t.","Raffinaderijen: Katalytische-krakerregeneratie",null,"CarbC_Raffinaderijen: Katalytische-krakerregeneratie",null,null,null,null,null,null,true,null,null,null,null,null,null,null,null,null,null,null,"","","","",""]
[11,"Raffineren van aardoliën ","Raffinaderijen","Waterstofproductie",null,"Massabalansmethode, artikel 25","2a/2b",{"$f":"Translations!$B$493","v":"Standaardwaarden van het type I"},null,{"$f":"Translations!$B$528","v":"Standaardwaarden van het type II"},{"$f":"Translations!$B$1061","v":"Aanvaarde proxy’s (indien van toepassing)"},{"$f":"Translations!$B$527","v":"Laboratoriumanalyses"},null,3,"Raffinaderijen: Waterstofproductie",null,"CarbC_Raffinaderijen: Waterstofproductie",null,null,null,null,null,null,false,null,null,null,null,null,null,null,null,null,null,null,1,"",1,2,2]
[12,"Productie van cokes","Cokes","Brandstofinzet",null,"Standaardmethode: Brandstoffen, artikel 24, lid 1","n.v.t.",null,null,null,null,null,null,{"$f":"IF(G458=EUconst_NA,EUconst_NA,IF(ISBLANK(J458),COUNTA(H458:M458),COUNTA(H458,J458,L458)))","v":"n.v.t."},"Cokes: Brandstofinzet",null,"CarbC_Cokes: Brandstofinzet",null,null,null,null,null,null,true,null,null,null,null,null,null,null,null,null,null,null,"","","","",""]
[13,"Productie van cokes","Cokes","Proces (methode A): alleen carbonaat",null,"Standaardmethode: Procedure, artikel 24, lid 2","n.v.t.",null,null,null,null,null,null,{"$f":"IF(G459=EUconst_NA,EUconst_NA,IF(ISBLANK(J459),COUNTA(H459:M459),COUNTA(H459,J459,L459)))","v":"n.v.t."},"Cokes: Proces (methode A): alleen carbonaat",null,"CarbC_Cokes: Proces (methode A): alleen carbonaat",null,null,null,null,null,null,true,null,null,null,null,null,null,null,null,null,null,null,"","","","",""]
[14,"Productie van cokes","Cokes","Proces (methode A): gemengd (carbonaat + niet-carbonaat)",null,"Standaardmethode: Procedure, artikel 24, lid 2","n.v.t.",null,null,null,null,null,null,{"$f":"IF(G460=EUconst_NA,EUconst_NA,IF(ISBLANK(J460),COUNTA(H460:M460),COUNTA(H460,J460,L460)))","v":"n.v.t."},"Cokes: Proces (methode A): gemengd (carbonaat + niet-carbonaat)",null,"CarbC_Cokes: Proces (methode A): gemengd (carbonaat + niet-carbonaat)",null,null,null,null,null,null,true,null,null,null,null,null,null,null,null,null,null,null,"","","","",""]
[15,"Productie van cokes","Cokes","Proces (methode A): niet-carbonaat",null,"Standaardmethode: Procedure, artikel 24, lid 2","n.v.t.",null,null,null,null,null,null,{"$f":"IF(G461=EUconst_NA,EUconst_NA,IF(ISBLANK(J461),COUNTA(H461:M461),COUNTA(H461,J461,L461)))","v":"n.v.t."},"Cokes: Proces (methode A): niet-carbonaat",null,"CarbC_Cokes: Proces (methode A): niet-carbonaat",null,null,null,null,null,null,true,null,null,null,null,null,null,null,null,null,null,null,"","","","",""]
[16,"Productie van cokes","Cokes","Proces (methode B): oxide-uitgang",null,"Standaardmethode: Procedure, artikel 24, lid 2","n.v.t.",null,null,null,null,null,null,{"$f":"IF(G462=EUconst_NA,EUconst_NA,IF(ISBLANK(J462),COUNTA(H462:M462),COUNTA(H462,J462,L462)))","v":"n.v.t."},"Cokes: Proces (methode B): oxide-uitgang",null,"CarbC_Cokes: Proces (methode B): oxide-uitgang",null,null,null,null,null,null,true,null,null,null,null,null,null,null,null,null,null,null,"","","","",""]
[17,"Productie van cokes","Cokes","Massabalans",null,"Massabalansmethode, artikel 25","2a/2b",{"$f":"Translations!$B$493","v":"Standaardwaarden van het type I"},null,{"$f":"Translations!$B$528","v":"Standaardwaarden van het type II"},{"$f":"Translations!$B$1061","v":"Aanvaarde proxy’s (indien van toepassing)"},{"$f":"Translations!$B$527","v":"Laboratoriumanalyses"},null,{"$f":"IF(G463=EUconst_NA,EUconst_NA,IF(ISBLANK(J463),COUNTA(H463:M463),COUNTA(H463,J463,L463)))","v":3},"Cokes: Massabalans",null,"CarbC_Cokes: Massabalans",null,null,null,null,null,null,false,null,null,null,null,null,null,null,null,null,null,null,1,"",1,2,2]
[18,"Roosten of sinteren van metaalerts","Metaalerts","Proces (methode A): alleen carbonaat",null,"Standaardmethode: Procedure, artikel 24, lid 2",{"$f":"EUconst_NA","v":"n.v.t."},null,null,null,null,null,null,"n.v.t.","Metaalerts: Proces (methode A): alleen carbonaat",null,"CarbC_Metaalerts: Proces (methode A): alleen carbonaat",null,null,null,null,null,null,true,null,null,null,null,null,null,null,null,null,null,null,"","","","",""]
[19,"Roosten of sinteren van metaalerts","Metaalerts","Proces (methode A): gemengd (carbonaat + niet-carbonaat)",null,"Standaardmethode: Procedure, artikel 24, lid 2",{"$f":"EUconst_NA","v":"n.v.t."},null,null,null,null,null,null,"n.v.t.","Metaalerts: Proces (methode A): gemengd (carbonaat + niet-carbonaat)",null,"CarbC_Metaalerts: Proces (methode A): gemengd (carbonaat + niet-carbonaat)",null,null,null,null,null,null,true,null,null,null,null,null,null,null,null,null,null,null,1,"",1,2,2]
[20,"Roosten of sinteren van metaalerts","Metaalerts","Proces (methode A): niet-carbonaat",null,"Standaardmethode: Procedure, artikel 24, lid 2",{"$f":"EUconst_NA","v":"n.v.t."},null,null,null,null,null,null,"n.v.t.","Metaalerts: Proces (methode A): niet-carbonaat",null,"CarbC_Metaalerts: Proces (methode A): niet-carbonaat",null,null,null,null,null,null,true,null,null,null,null,null,null,null,null,null,null,null,"","","","",""]
[21,{"$f":"B405","v":"Roosten of sinteren van metaalerts"},"Metaalerts","Proces (methode B): oxide-uitgang",null,"Standaardmethode: Procedure, artikel 24, lid 2",{"$f":"EUconst_NA","v":"n.v.t."},null,null,null,null,null,null,"n.v.t.","Metaalerts: Proces (methode B): oxide-uitgang",null,"CarbC_Metaalerts: Proces (methode B): oxide-uitgang",null,null,null,null,null,null,true,null,null,null,null,null,null,null,null,null,null,null,"","","","",""]
[22,"Roosten of sinteren van metaalerts","Metaalerts","Massabalans",null,"Massabalansmethode, artikel 25","2a/2b",{"$f":"Translations!$B$493","v":"Standaardwaarden van het type I"},null,{"$f":"Translations!$B$528","v":"Standaardwaarden van het type II"},{"$f":"Translations!$B$1061","v":"Aanvaarde proxy’s (indien van toepassing)"},{"$f":"Translations!$B$527","v":"Laboratoriumanalyses"},null,3,"Metaalerts: Massabalans",null,"CarbC_Metaalerts: Massabalans",null,null,null,null,null,null,false,null,null,null,null,null,null,null,null,null,null,null,1,"",1,2,2]
[23,"Productie van ruwijzer of staal","IJzer en staal","Brandstofinzet",null,"Standaardmethode: Brandstoffen, artikel 24, lid 1",{"$f":"EUconst_NA","v":"n.v.t."},null,null,null,null,null,null,"n.v.t.","IJzer en staal: Brandstofinzet",null,"CarbC_IJzer en staal: Brandstofinzet",null,null,null,null,null,null,true,null,null,null,null,null,null,null,null,null,null,null,"","","","",""]
[24,"Productie van ruwijzer of staal","IJzer en staal","Proces (methode A): alleen carbonaat",null,"Standaardmethode: Procedure, artikel 24, lid 2",{"$f":"EUconst_NA","v":"n.v.t."},null,null,null,null,null,null,"n.v.t.","IJzer en staal: Proces (methode A): alleen carbonaat",null,"CarbC_IJzer en staal: Proces (methode A): alleen carbonaat",null,null,null,null,null,null,true,null,null,null,null,null,null,null,null,null,null,null,"","","","",""]
[25,"Productie van ruwijzer of staal","IJzer en staal","Proces (methode A): gemengd (carbonaat + niet-carbonaat)",null,"Standaardmethode: Procedure, artikel 24, lid 2",{"$f":"EUconst_NA","v":"n.v.t."},null,null,null,null,null,null,"n.v.t.","IJzer en staal: Proces (methode A): gemengd (carbonaat + niet-carbonaat)",null,"CarbC_IJzer en staal: Proces (methode A): gemengd (carbonaat + niet-carbonaat)",null,null,null,null,null,null,true,null,null,null,null,null,null,null,null,null,null,null,"","","","",""]
[26,"Productie van ruwijzer of staal","IJzer en staal","Proces (methode A): niet-carbonaat",null,"Standaardmethode: Procedure, artikel 24, lid 2",{"$f":"EUconst_NA","v":"n.v.t."},null,null,null,null,null,null,"n.v.t.","IJzer en staal: Proces (methode A): niet-carbonaat",null,"CarbC_IJzer en staal: Proces (methode A): niet-carbonaat",null,null,null,null,null,null,true,null,null,null,null,null,null,null,null,null,null,null,"","","","",""]
[27,"Productie van ruwijzer of staal","IJzer en staal","Proces (methode B): oxide-uitgang",null,"Standaardmethode: Procedure, artikel 24, lid 2",{"$f":"EUconst_NA","v":"n.v.t."},null,null,null,null,null,null,"n.v.t.","IJzer en staal: Proces (methode B): oxide-uitgang",null,"CarbC_IJzer en staal: Proces (methode B): oxide-uitgang",null,null,null,null,null,null,true,null,null,null,null,null,null,null,null,null,null,null,"","","","",""]
[28,"Productie van ruwijzer of staal","IJzer en staal","Massabalans",null,"Massabalansmethode, artikel 25","2a/2b",{"$f":"Translations!$B$493","v":"Standaardwaarden van het type I"},null,{"$f":"Translations!$B$528","v":"Standaardwaarden van het type II"},{"$f":"Translations!$B$1061","v":"Aanvaarde proxy’s (indien van toepassing)"},{"$f":"Translations!$B$527","v":"Laboratoriumanalyses"},null,3,"IJzer en staal: Massabalans",null,"CarbC_IJzer en staal: Massabalans",null,null,null,null,null,null,false,null,null,null,null,null,null,null,null,null,null,null,1,"",1,2,2]
[29,"Productie van cementklinkers","Cementklinker","Op basis van inzet in de oven (methode A)",null,"Standaardmethode: Procedure, artikel 24, lid 2",{"$f":"EUconst_NA","v":"n.v.t."},null,null,null,null,null,null,{"$f":"IF(G475=EUconst_NA,EUconst_NA,IF(ISBLANK(J475),COUNTA(H475:M475),COUNTA(H475,J475,L475)))","v":"n.v.t."},"Cementklinker: Op basis van inzet in de oven (methode A)",null,"CarbC_Cementklinker: Op basis van inzet in de oven (methode A)",null,null,null,null,null,null,true,null,null,null,null,null,null,null,null,null,null,null,"","","","",""]
[30,"Productie van cementklinkers","Cementklinker","Op basis van geproduceerde klinker (methode B)",null,"Standaardmethode: Procedure, artikel 24, lid 2","n.v.t.",null,null,null,null,null,null,"n.v.t.","Cementklinker: Op basis van geproduceerde klinker (methode B)",null,"CarbC_Cementklinker: Op basis van geproduceerde klinker (methode B)",null,null,null,null,null,null,true,null,null,null,null,null,null,null,null,null,null,null,"","","","",""]
[31,"Productie van cementklinkers","Cementklinker","Cementovenstof",null,"Standaardmethode: Procedure, artikel 24, lid 2","n.v.t.",null,null,null,null,null,null,"n.v.t.","Cementklinker: Cementovenstof",null,"CarbC_Cementklinker: Cementovenstof",null,null,null,null,null,null,true,null,null,null,null,null,null,null,null,null,null,null,"","","","",""]
[32,"Productie van cementklinkers","Cementklinker","Niet-carbonaatkoolstof",null,"Standaardmethode: Procedure, artikel 24, lid 2","n.v.t.",null,null,null,null,null,null,"n.v.t.","Cementklinker: Niet-carbonaatkoolstof",null,"CarbC_Cementklinker: Niet-carbonaatkoolstof",null,null,null,null,null,null,true,null,null,null,null,null,null,null,null,null,null,null,"","","","",""]
[33,"Productie van kalksteen of branden van dolomiet of magnesiet","Kalk, dolomiet en magnesiet","Proces (methode A): alleen carbonaat",null,{"$f":"F417","v":"Standaardmethode: Procedure, artikel 24, lid 2"},"n.v.t.",null,null,null,null,null,null,"n.v.t.","Kalk, dolomiet en magnesiet: Proces (methode A): alleen carbonaat",null,{"$f":"EUconst_CNTR_CarbonContent&O479","v":"CarbC_Kalk, dolomiet en magnesiet: Proces (methode A): alleen carbonaat"},null,null,null,null,null,null,true,null,null,null,null,null,null,null,null,null,null,null,"","","","",""]
[34,"Productie van kalksteen of branden van dolomiet of magnesiet","Kalk, dolomiet en magnesiet","Proces (methode A): gemengd (carbonaat + niet-carbonaat)",null,"Standaardmethode: Procedure, artikel 24, lid 2","n.v.t.",null,null,null,null,null,null,"n.v.t.","Kalk, dolomiet en magnesiet: Proces (methode A): gemengd (carbonaat + niet-carbonaat)",null,"CarbC_Kalk, dolomiet en magnesiet: Proces (methode A): gemengd (carbonaat + niet-carbonaat)",null,null,null,null,null,null,true,null,null,null,null,null,null,null,null,null,null,null,"","","","",""]
[35,"Productie van kalksteen of branden van dolomiet of magnesiet","Kalk, dolomiet en magnesiet","Proces (methode A): niet-carbonaat",null,"Standaardmethode: Procedure, artikel 24, lid 2","n.v.t.",null,null,null,null,null,null,"n.v.t.","Kalk, dolomiet en magnesiet: Proces (methode A): niet-carbonaat",null,"CarbC_Kalk, dolomiet en magnesiet: Proces (methode A): niet-carbonaat",null,null,null,null,null,null,true,null,null,null,null,null,null,null,null,null,null,null,"","","","",""]
[36,"Productie van kalksteen of branden van dolomiet of magnesiet","Kalk, dolomiet en magnesiet","Proces (methode B): oxide-uitgang",null,"Standaardmethode: Procedure, artikel 24, lid 2","n.v.t.",null,null,null,null,null,null,"n.v.t.","Kalk, dolomiet en magnesiet: Proces (methode B): oxide-uitgang",null,"CarbC_Kalk, dolomiet en magnesiet: Proces (methode B): oxide-uitgang",null,null,null,null,null,null,true,null,null,null,null,null,null,null,null,null,null,null,"","","","",""]
[37,"Productie van kalksteen of branden van dolomiet of magnesiet","Kalk, dolomiet en magnesiet","Ovenstof (methode B)",null,"Standaardmethode: Procedure, artikel 24, lid 2","n.v.t.",null,null,null,null,null,null,"n.v.t.","Kalk, dolomiet en magnesiet: Ovenstof (methode B)",null,"CarbC_Kalk, dolomiet en magnesiet: Ovenstof (methode B)",null,null,null,null,null,null,true,null,null,null,null,null,null,null,null,null,null,null,"","","","",""]
[38,"Vervaardiging van glas","Glas en minerale wol","Proces (methode A): alleen carbonaat",null,"Standaardmethode: Procedure, artikel 24, lid 2","n.v.t.",null,null,null,null,null,null,"n.v.t.","Glas en minerale wol: Proces (methode A): alleen carbonaat",null,"CarbC_Glas en minerale wol: Proces (methode A): alleen carbonaat",null,null,null,null,null,null,true,null,null,null,null,null,null,null,null,null,null,null,"","","","",""]
[39,"Vervaardiging van glas","Glas en minerale wol","Proces (methode A): gemengd (carbonaat + niet-carbonaat)",null,"Standaardmethode: Procedure, artikel 24, lid 2","n.v.t.",null,null,null,null,null,null,"n.v.t.","Glas en minerale wol: Proces (methode A): gemengd (carbonaat + niet-carbonaat)",null,"CarbC_Glas en minerale wol: Proces (methode A): gemengd (carbonaat + niet-carbonaat)",null,null,null,null,null,null,true,null,null,null,null,null,null,null,null,null,null,null,"","","","",""]
[40,"Vervaardiging van glas","Glas en minerale wol","Proces (methode A): niet-carbonaat",null,"Standaardmethode: Procedure, artikel 24, lid 2","n.v.t.",null,null,null,null,null,null,"n.v.t.","Glas en minerale wol: Proces (methode A): niet-carbonaat",null,"CarbC_Glas en minerale wol: Proces (methode A): niet-carbonaat",null,null,null,null,null,null,true,null,null,null,null,null,null,null,null,null,null,null,"","","","",""]
[41,{"$f":"B425","v":"Vervaardiging van keramiek"},"Keramiek","Proces (methode A): alleen carbonaat",null,"Standaardmethode: Procedure, artikel 24, lid 2","n.v.t.",null,null,null,null,null,null,"n.v.t.","Keramiek: Proces (methode A): alleen carbonaat",null,"CarbC_Keramiek: Proces (methode A): alleen carbonaat",null,null,null,null,null,null,true,null,null,null,null,null,null,null,null,null,null,null,"","","","",""]
[42,"Vervaardiging van keramiek","Keramiek","Proces (methode A): gemengd (carbonaat + niet-carbonaat)",null,"Standaardmethode: Procedure, artikel 24, lid 2","n.v.t.",null,null,null,null,null,null,"n.v.t.","Keramiek: Proces (methode A): gemengd (carbonaat + niet-carbonaat)",null,"CarbC_Keramiek: Proces (methode A): gemengd (carbonaat + niet-carbonaat)",null,null,null,null,null,null,true,null,null,null,null,null,null,null,null,null,null,null,"","","","",""]
[43,"Vervaardiging van keramiek","Keramiek","Proces (methode A): niet-carbonaat",null,"Standaardmethode: Procedure, artikel 24, lid 2","n.v.t.",null,null,null,null,null,null,"n.v.t.","Keramiek: Proces (methode A): niet-carbonaat",null,"CarbC_Keramiek: Proces (methode A): niet-carbonaat",null,null,null,null,null,null,true,null,null,null,null,null,null,null,null,null,null,null,"","","","",""]
[44,"Vervaardiging van keramiek","Keramiek","Proces (methode B): oxide-uitgang",null,"Standaardmethode: Procedure, artikel 24, lid 2","n.v.t.",null,null,null,null,null,null,"n.v.t.","Keramiek: Proces (methode B): oxide-uitgang",null,"CarbC_Keramiek: Proces (methode B): oxide-uitgang",null,null,null,null,null,null,true,null,null,null,null,null,null,null,null,null,null,null,"","","","",""]
[45,"Vervaardiging van keramiek","Keramiek","Gasreiniging",null,"Standaardmethode: Procedure, artikel 24, lid 2","n.v.t.",null,null,null,null,null,null,"n.v.t.","Keramiek: Gasreiniging",null,"CarbC_Keramiek: Gasreiniging",null,null,null,null,null,null,true,null,null,null,null,null,null,null,null,null,null,null,"","","","",""]
[46,"Productie van pulp","Pulp en papier","Aanvullende chemicaliën",null,"Standaardmethode: Procedure, artikel 24, lid 2","n.v.t.",null,null,null,null,null,null,"n.v.t.","Pulp en papier: Aanvullende chemicaliën",null,"CarbC_Pulp en papier: Aanvullende chemicaliën",null,null,null,null,null,null,true,null,null,null,null,null,null,null,null,null,null,null,"","","","",""]
[47,"Productie van roet","Roet","Massabalansmethodiek",null,"Massabalansmethode, artikel 25",1,{"$f":"Translations!$B$493","v":"Standaardwaarden van het type I"},null,{"$f":"Translations!$B$528","v":"Standaardwaarden van het type II"},{"$f":"Translations!$B$1061","v":"Aanvaarde proxy’s (indien van toepassing)"},{"$f":"Translations!$B$527","v":"Laboratoriumanalyses"},null,{"$f":"IF(G493=EUconst_NA,EUconst_NA,IF(ISBLANK(J493),COUNTA(H493:M493),COUNTA(H493,J493,L493)))","v":3},"Roet: Massabalansmethodiek",null,"CarbC_Roet: Massabalansmethodiek",null,null,null,null,null,null,false,null,null,null,null,null,null,null,null,null,null,null,1,"",1,2,2]
[48,"Productie van ammoniak","Ammoniak","Brandstofinzet",null,"Standaardmethode: Brandstoffen, artikel 24, lid 1",{"$f":"EUconst_NA","v":"n.v.t."},null,null,null,null,null,null,"n.v.t.","Ammoniak: Brandstofinzet",null,"CarbC_Ammoniak: Brandstofinzet",null,null,null,null,null,null,true,null,null,null,null,null,null,null,null,null,null,null,"","","","",""]
[49,"Productie van waterstof en synthesegas","Waterstof en synthesegas","Brandstofinzet",null,"Standaardmethode: Brandstoffen, artikel 24, lid 1",{"$f":"EUconst_NA","v":"n.v.t."},null,null,null,null,null,null,"n.v.t.","Waterstof en synthesegas: Brandstofinzet",null,"CarbC_Waterstof en synthesegas: Brandstofinzet",null,null,null,null,null,null,true,null,null,null,null,null,null,null,null,null,null,null,"","","","",""]
[50,"Productie van waterstof en synthesegas","Waterstof en synthesegas","Massabalansmethodiek",null,"Massabalansmethode, artikel 25","2a/2b",{"$f":"Translations!$B$493","v":"Standaardwaarden van het type I"},null,{"$f":"Translations!$B$528","v":"Standaardwaarden van het type II"},{"$f":"Translations!$B$1061","v":"Aanvaarde proxy’s (indien van toepassing)"},{"$f":"Translations!$B$527","v":"Laboratoriumanalyses"},null,3,"Waterstof en synthesegas: Massabalansmethodiek",null,"CarbC_Waterstof en synthesegas: Massabalansmethodiek",null,null,null,null,null,null,false,null,null,null,null,null,null,null,null,null,null,null,1,"",1,2,2]
[51,"Productie van bulkchemicaliën","Organische bulkchemicaliën","Massabalansmethodiek",null,"Massabalansmethode, artikel 25","2a/2b",{"$f":"Translations!$B$493","v":"Standaardwaarden van het type I"},null,{"$f":"Translations!$B$528","v":"Standaardwaarden van het type II"},{"$f":"Translations!$B$1061","v":"Aanvaarde proxy’s (indien van toepassing)"},{"$f":"Translations!$B$527","v":"Laboratoriumanalyses"},null,3,"Organische bulkchemicaliën: Massabalansmethodiek",null,"CarbC_Organische bulkchemicaliën: Massabalansmethodiek",null,null,null,null,null,null,false,null,null,null,null,null,null,null,null,null,null,null,1,"",1,2,2]
[52,"Productie of verwerking van ferrometalen","(Non)-ferrometalen, secundair aluminium","Proces (methode A): alleen carbonaat",null,"Standaardmethode: Procedure, artikel 24, lid 2",{"$f":"EUconst_NA","v":"n.v.t."},null,null,null,null,null,null,"n.v.t.","(Non)-ferrometalen, secundair aluminium: Proces (methode A): alleen carbonaat",null,"CarbC_(Non)-ferrometalen, secundair aluminium: Proces (methode A): alleen carbonaat",null,null,null,null,null,null,true,null,null,null,null,null,null,null,null,null,null,null,"","","","",""]
[53,"Productie of verwerking van ferrometalen","(Non)-ferrometalen, secundair aluminium","Proces (methode A): gemengd (carbonaat + niet-carbonaat)",null,"Standaardmethode: Procedure, artikel 24, lid 2",{"$f":"EUconst_NA","v":"n.v.t."},null,null,null,null,null,null,"n.v.t.","(Non)-ferrometalen, secundair aluminium: Proces (methode A): gemengd (carbonaat + niet-carbonaat)",null,"CarbC_(Non)-ferrometalen, secundair aluminium: Proces (methode A): gemengd (carbonaat + niet-carbonaat)",null,null,null,null,null,null,true,null,null,null,null,null,null,null,null,null,null,null,"","","","",""]
[54,"Productie of verwerking van ferrometalen","(Non)-ferrometalen, secundair aluminium","Proces (methode A): niet-carbonaat",null,"Standaardmethode: Procedure, artikel 24, lid 2",{"$f":"EUconst_NA","v":"n.v.t."},null,null,null,null,null,null,"n.v.t.","(Non)-ferrometalen, secundair aluminium: Proces (methode A): niet-carbonaat",null,"CarbC_(Non)-ferrometalen, secundair aluminium: Proces (methode A): niet-carbonaat",null,null,null,null,null,null,true,null,null,null,null,null,null,null,null,null,null,null,"","","","",""]
[55,"Productie of verwerking van ferrometalen","(Non)-ferrometalen, secundair aluminium","Proces (methode B): oxide-uitgang",null,"Standaardmethode: Procedure, artikel 24, lid 2",{"$f":"EUconst_NA","v":"n.v.t."},null,null,null,null,null,null,"n.v.t.","(Non)-ferrometalen, secundair aluminium: Proces (methode B): oxide-uitgang",null,"CarbC_(Non)-ferrometalen, secundair aluminium: Proces (methode B): oxide-uitgang",null,null,null,null,null,null,true,null,null,null,null,null,null,null,null,null,null,null,"","","","",""]
[56,"Productie of verwerking van ferrometalen","(Non)-ferrometalen, secundair aluminium","Massabalansmethodiek",null,"Massabalansmethode, artikel 25","2a/2b",{"$f":"Translations!$B$493","v":"Standaardwaarden van het type I"},null,{"$f":"Translations!$B$528","v":"Standaardwaarden van het type II"},{"$f":"Translations!$B$1061","v":"Aanvaarde proxy’s (indien van toepassing)"},{"$f":"Translations!$B$527","v":"Laboratoriumanalyses"},null,3,"(Non)-ferrometalen, secundair aluminium: Massabalansmethodiek",null,"CarbC_(Non)-ferrometalen, secundair aluminium: Massabalansmethodiek",null,null,null,null,null,null,false,null,null,null,null,null,null,null,null,null,null,null,1,"",1,2,2]
[57,"Productie van natriumcarbonaat en natriumbicarbonaat","Natriumcarbonaat en natriumbicarbonaat","Massabalansmethodiek",null,"Massabalansmethode, artikel 25","2a/2b",{"$f":"Translations!$B$493","v":"Standaardwaarden van het type I"},null,{"$f":"Translations!$B$528","v":"Standaardwaarden van het type II"},{"$f":"Translations!$B$1061","v":"Aanvaarde proxy’s (indien van toepassing)"},{"$f":"Translations!$B$527","v":"Laboratoriumanalyses"},null,3,"Natriumcarbonaat en natriumbicarbonaat: Massabalansmethodiek",null,"CarbC_Natriumcarbonaat en natriumbicarbonaat: Massabalansmethodiek",null,null,null,null,null,null,false,null,null,null,null,null,null,null,null,null,null,null,1,"",1,2,2]
[58,"Productie van primair aluminium","Primair aluminium","Massabalansmethodiek",null,"Massabalansmethode, artikel 25","2a/2b",{"$f":"Translations!$B$493","v":"Standaardwaarden van het type I"},null,{"$f":"Translations!$B$528","v":"Standaardwaarden van het type II"},{"$f":"Translations!$B$1061","v":"Aanvaarde proxy’s (indien van toepassing)"},{"$f":"Translations!$B$527","v":"Laboratoriumanalyses"},null,3,"Primair aluminium: Massabalansmethodiek",null,"CarbC_Primair aluminium: Massabalansmethodiek",null,null,null,null,null,null,false,null,null,null,null,null,null,null,null,null,null,null,1,"",1,2,2]
[59,"Productie van primair aluminium","Primair aluminium","PFK-emissies (hellingsmethode)",null,"Berekeningen met bijzondere bepalingen voor PFK's (bijlage VI, punt 8)",{"$f":"EUconst_NA","v":"n.v.t."},null,null,null,null,null,null,"n.v.t.","Primair aluminium: PFK-emissies (hellingsmethode)",null,"CarbC_Primair aluminium: PFK-emissies (hellingsmethode)",null,null,null,null,null,null,true,null,null,null,null,null,null,null,null,null,null,null,"","","","",""]
[60,"Productie van primair aluminium","Primair aluminium","PFK-emissies (overspanningsmethode)",null,"Berekeningen met bijzondere bepalingen voor PFK's (bijlage VI, punt 8)",{"$f":"EUconst_NA","v":"n.v.t."},null,null,null,null,null,null,"n.v.t.","Primair aluminium: PFK-emissies (overspanningsmethode)",null,"CarbC_Primair aluminium: PFK-emissies (overspanningsmethode)",null,null,null,null,null,null,{"$f":"IF(G506=EUconst_NA,TRUE,FALSE)","v":true},null,null,null,null,null,null,null,null,null,null,null,"","","","",""]
[null,null,null,null,null,null,null,null,null,null,null,null,null,null,null,null,null,null,null,null,null,null,null,{"$f":"IF(G507=EUconst_NA,TRUE,FALSE)","v":false}]
["NEW","Biomass fraction",{"$f":"Translations!$B$957","v":"Korte naam"},{"$f":"Translations!$B$958","v":"Subactiviteit"},{"$f":"Translations!$B$389","v":"Parameter"},{"$f":"Translations!$B$959","v":"Brontype"},{"$f":"Translations!$B$960","v":"Minimum"},1,2,"2a",{"$f":"Translations!$B$928","v":"2b"},3,4,{"$f":"Translations!$B$961","v":"Hoogste"},null,null,null,null,null,null,null,null,null,{"$f":"Translations!$B$962","v":"grijs kleuren?"},null,null,null,null,null,null,null,null,null,null,"1=default value, 2=lab",1,2,"2a",{"$f":"Translations!$B$928","v":"2b"},3]
[1,{"$f":"B447","v":"Verbranding van brandstoffen"},"Verbranding","Commercieel verhandelbare standaardbrandstoffen",null,{"$f":"F447","v":"Standaardmethode: Brandstoffen, artikel 24, lid 1"},1,{"$f":"Translations!$B$505","v":"Biomassafractie van het type I"},{"$f":"Translations!$B$510","v":"Biomassafractie van het type II"},null,null,{"$f":"Translations!$B$1266","v":"Analyse van de biomassafractie"},null,{"$f":"G509","v":1},{"$f":"C509 & \": \" &D509","v":"Verbranding: Commercieel verhandelbare standaardbrandstoffen"},null,{"$f":"EUconst_CNTR_BiomassContent&O509","v":"BioC_Verbranding: Commercieel verhandelbare standaardbrandstoffen"},null,null,null,null,null,null,{"$f":"IF(G509=EUconst_NA,TRUE,FALSE)","v":false},null,null,null,null,null,null,null,null,null,null,null,1,{"$f":"Translations!$B$510","v":"Biomassafractie van het type II"},"","",2]
[2,"Verbranding van brandstoffen","Verbranding","Andere gasvormige en vloeibare brandstoffen",null,"Standaardmethode: Brandstoffen, artikel 24, lid 1",1,{"$f":"Translations!$B$505","v":"Biomassafractie van het type I"},{"$f":"Translations!$B$510","v":"Biomassafractie van het type II"},null,null,{"$f":"Translations!$B$1266","v":"Analyse van de biomassafractie"},null,{"$f":"IF(G510=EUconst_NA,EUconst_NA,IF(ISBLANK(J510),COUNTA(H510:M510),COUNTA(H510,J510,L510)))","v":3},{"$f":"C510 & \": \" &D510","v":"Verbranding: Andere gasvormige en vloeibare brandstoffen"},null,"BioC_Verbranding: Andere gasvormige en vloeibare brandstoffen",null,null,null,null,null,null,false,null,null,null,null,null,null,null,null,null,null,null,1,{"$f":"Translations!$B$510","v":"Biomassafractie van het type II"},"","",2]
[3,"Verbranding van brandstoffen","Verbranding","Vaste brandstoffen",null,"Standaardmethode: Brandstoffen, artikel 24, lid 1",1,{"$f":"Translations!$B$505","v":"Biomassafractie van het type I"},{"$f":"Translations!$B$510","v":"Biomassafractie van het type II"},null,null,{"$f":"Translations!$B$1266","v":"Analyse van de biomassafractie"},null,{"$f":"IF(G511=EUconst_NA,EUconst_NA,IF(ISBLANK(J511),COUNTA(H511:M511),COUNTA(H511,J511,L511)))","v":3},{"$f":"C511 & \": \" &D511","v":"Verbranding: Vaste brandstoffen"},null,{"$f":"EUconst_CNTR_BiomassContent&O511","v":"BioC_Verbranding: Vaste brandstoffen"},null,null,null,null,null,null,false,null,null,null,null,null,null,null,null,null,null,null,1,{"$f":"Translations!$B$510","v":"Biomassafractie van het type II"},"","",2]
[4,"Verbranding van brandstoffen","Verbranding","Gasverwerkingsterminals",null,"Massabalansmethode, artikel 25",1,{"$f":"Translations!$B$505","v":"Biomassafractie van het type I"},{"$f":"Translations!$B$510","v":"Biomassafractie van het type II"},null,null,{"$f":"Translations!$B$1266","v":"Analyse van de biomassafractie"},null,{"$f":"IF(G512=EUconst_NA,EUconst_NA,IF(ISBLANK(J512),COUNTA(H512:M512),COUNTA(H512,J512,L512)))","v":3},{"$f":"C512 & \": \" &D512","v":"Verbranding: Gasverwerkingsterminals"},null,"BioC_Verbranding: Gasverwerkingsterminals",null,null,null,null,null,null,false,null,null,null,null,null,null,null,null,null,null,null,1,{"$f":"Translations!$B$510","v":"Biomassafractie van het type II"},"","",2]
[5,"Verbranding van brandstoffen","Verbranding","Fakkels",null,"Standaardmethode: Brandstoffen, artikel 24, lid 1",1,{"$f":"Translations!$B$505","v":"Biomassafractie van het type I"},{"$f":"Translations!$B$510","v":"Biomassafractie van het type II"},null,null,{"$f":"Translations!$B$1266","v":"Analyse van de biomassafractie"},null,{"$f":"IF(G513=EUconst_NA,EUconst_NA,IF(ISBLANK(J513),COUNTA(H513:M513),COUNTA(H513,J513,L513)))","v":3},"Verbranding: Fakkels",null,"BioC_Verbranding: Fakkels",null,null,null,null,null,null,false,null,null,null,null,null,null,null,null,null,null,null,1,{"$f":"Translations!$B$510","v":"Biomassafractie van het type II"},"","",2]
[6,"Verbranding van brandstoffen","Verbranding","Gasreiniging (carbonaat)",null,"Standaardmethode: Procedure, artikel 24, lid 2",{"$f":"EUconst_NA","v":"n.v.t."},null,null,null,null,null,null,"n.v.t.","Verbranding: Gasreiniging (carbonaat)",null,"BioC_Verbranding: Gasreiniging (carbonaat)",null,null,null,null,null,null,true,null,null,null,null,null,null,null,null,null,null,null,"","","","",""]
[7,"Verbranding van brandstoffen","Verbranding","Gasreiniging (gips)",null,"Standaardmethode: Procedure, artikel 24, lid 2",{"$f":"EUconst_NA","v":"n.v.t."},null,null,null,null,null,null,"n.v.t.","Verbranding: Gasreiniging (gips)",null,"BioC_Verbranding: Gasreiniging (gips)",null,null,null,null,null,null,true,null,null,null,null,null,null,null,null,null,null,null,"","","","",""]
[8,"Verbranding van brandstoffen","Verbranding","Gasreiniging (ureum)",null,"Standaardmethode: Procedure, artikel 24, lid 2",{"$f":"EUconst_NA","v":"n.v.t."},null,null,null,null,null,null,"n.v.t.","Verbranding: Gasreiniging (ureum)",null,"BioC_Verbranding: Gasreiniging (ureum)",null,null,null,null,null,null,true,null,null,null,null,null,null,null,null,null,null,null,"","","","",""]
[9,"Raffineren van aardoliën ","Raffinaderijen","Massabalans",null,"Massabalansmethode, artikel 25",1,{"$f":"Translations!$B$505","v":"Biomassafractie van het type I"},{"$f":"Translations!$B$510","v":"Biomassafractie van het type II"},null,null,{"$f":"Translations!$B$1266","v":"Analyse van de biomassafractie"},null,3,"Raffinaderijen: Massabalans",null,"BioC_Raffinaderijen: Massabalans",null,null,null,null,null,null,false,null,null,null,null,null,null,null,null,null,null,null,1,{"$f":"Translations!$B$510","v":"Biomassafractie van het type II"},"","",2]
[10,"Raffineren van aardoliën ","Raffinaderijen","Katalytische-krakerregeneratie",null,"Massabalansmethode, artikel 25",1,{"$f":"Translations!$B$505","v":"Biomassafractie van het type I"},{"$f":"Translations!$B$510","v":"Biomassafractie van het type II"},null,null,{"$f":"Translations!$B$1266","v":"Analyse van de biomassafractie"},null,3,"Raffinaderijen: Katalytische-krakerregeneratie",null,"BioC_Raffinaderijen: Katalytische-krakerregeneratie",null,null,null,null,null,null,false,null,null,null,null,null,null,null,null,null,null,null,1,{"$f":"Translations!$B$510","v":"Biomassafractie van het type II"},"","",2]
[11,"Raffineren van aardoliën ","Raffinaderijen","Waterstofproductie",null,"Massabalansmethode, artikel 25",1,{"$f":"Translations!$B$505","v":"Biomassafractie van het type I"},{"$f":"Translations!$B$510","v":"Biomassafractie van het type II"},null,null,{"$f":"Translations!$B$1266","v":"Analyse van de biomassafractie"},null,3,"Raffinaderijen: Waterstofproductie",null,"BioC_Raffinaderijen: Waterstofproductie",null,null,null,null,null,null,false,null,null,null,null,null,null,null,null,null,null,null,1,{"$f":"Translations!$B$510","v":"Biomassafractie van het type II"},"","",2]
[12,"Productie van cokes","Cokes","Brandstofinzet",null,"Standaardmethode: Brandstoffen, artikel 24, lid 1",1,{"$f":"Translations!$B$505","v":"Biomassafractie van het type I"},{"$f":"Translations!$B$510","v":"Biomassafractie van het type II"},null,null,{"$f":"Translations!$B$1266","v":"Analyse van de biomassafractie"},null,3,"Cokes: Brandstofinzet",null,"BioC_Cokes: Brandstofinzet",null,null,null,null,null,null,false,null,null,null,null,null,null,null,null,null,null,null,1,{"$f":"Translations!$B$510","v":"Biomassafractie van het type II"},"","",2]
[13,"Productie van cokes","Cokes","Proces (methode A): alleen carbonaat",null,"Standaardmethode: Procedure, artikel 24, lid 2",{"$f":"EUconst_NA","v":"n.v.t."},null,null,null,null,null,null,"n.v.t.","Cokes: Proces (methode A): alleen carbonaat",null,"BioC_Cokes: Proces (methode A): alleen carbonaat",null,null,null,null,null,null,true,null,null,null,null,null,null,null,null,null,null,null,"","","","",""]
[14,"Productie van cokes","Cokes","Proces (methode A): gemengd (carbonaat + niet-carbonaat)",null,"Standaardmethode: Procedure, artikel 24, lid 2",1,{"$f":"Translations!$B$505","v":"Biomassafractie van het type I"},{"$f":"Translations!$B$510","v":"Biomassafractie van het type II"},null,null,{"$f":"Translations!$B$1266","v":"Analyse van de biomassafractie"},null,3,"Cokes: Proces (methode A): gemengd (carbonaat + niet-carbonaat)",null,"BioC_Cokes: Proces (methode A): gemengd (carbonaat + niet-carbonaat)",null,null,null,null,null,null,false,null,null,null,null,null,null,null,null,null,null,null,1,{"$f":"Translations!$B$510","v":"Biomassafractie van het type II"},"","",2]
[15,"Productie van cokes","Cokes","Proces (methode A): niet-carbonaat",null,"Standaardmethode: Procedure, artikel 24, lid 2",1,{"$f":"Translations!$B$505","v":"Biomassafractie van het type I"},{"$f":"Translations!$B$510","v":"Biomassafractie van het type II"},null,null,{"$f":"Translations!$B$1266","v":"Analyse van de biomassafractie"},null,3,"Cokes: Proces (methode A): niet-carbonaat",null,"BioC_Cokes: Proces (methode A): niet-carbonaat",null,null,null,null,null,null,false,null,null,null,null,null,null,null,null,null,null,null,1,{"$f":"Translations!$B$510","v":"Biomassafractie van het type II"},"","",2]
[16,"Productie van cokes","Cokes","Proces (methode B): oxide-uitgang",null,"Standaardmethode: Procedure, artikel 24, lid 2",{"$f":"EUconst_NA","v":"n.v.t."},null,null,null,null,null,null,"n.v.t.","Cokes: Proces (methode B): oxide-uitgang",null,"BioC_Cokes: Proces (methode B): oxide-uitgang",null,null,null,null,null,null,true,null,null,null,null,null,null,null,null,null,null,null,"","","","",""]
[17,"Productie van cokes","Cokes","Massabalans",null,"Massabalansmethode, artikel 25",1,{"$f":"Translations!$B$505","v":"Biomassafractie van het type I"},{"$f":"Translations!$B$510","v":"Biomassafractie van het type II"},null,null,{"$f":"Translations!$B$1266","v":"Analyse van de biomassafractie"},null,3,"Cokes: Massabalans",null,"BioC_Cokes: Massabalans",null,null,null,null,null,null,false,null,null,null,null,null,null,null,null,null,null,null,1,{"$f":"Translations!$B$510","v":"Biomassafractie van het type II"},"","",2]
[18,"Roosten of sinteren van metaalerts","Metaalerts","Proces (methode A): alleen carbonaat",null,"Standaardmethode: Procedure, artikel 24, lid 2",{"$f":"EUconst_NA","v":"n.v.t."},null,null,null,null,null,null,"n.v.t.","Metaalerts: Proces (methode A): alleen carbonaat",null,"BioC_Metaalerts: Proces (methode A): alleen carbonaat",null,null,null,null,null,null,true,null,null,null,null,null,null,null,null,null,null,null,"","","","",""]
[19,"Roosten of sinteren van metaalerts","Metaalerts","Proces (methode A): gemengd (carbonaat + niet-carbonaat)",null,"Standaardmethode: Procedure, artikel 24, lid 2",1,{"$f":"Translations!$B$505","v":"Biomassafractie van het type I"},{"$f":"Translations!$B$510","v":"Biomassafractie van het type II"},null,null,{"$f":"Translations!$B$1266","v":"Analyse van de biomassafractie"},null,3,"Metaalerts: Proces (methode A): gemengd (carbonaat + niet-carbonaat)",null,"BioC_Metaalerts: Proces (methode A): gemengd (carbonaat + niet-carbonaat)",null,null,null,null,null,null,false,null,null,null,null,null,null,null,null,null,null,null,1,{"$f":"Translations!$B$510","v":"Biomassafractie van het type II"},"","",2]
[20,"Roosten of sinteren van metaalerts","Metaalerts","Proces (methode A): niet-carbonaat",null,"Standaardmethode: Procedure, artikel 24, lid 2",1,{"$f":"Translations!$B$505","v":"Biomassafractie van het type I"},{"$f":"Translations!$B$510","v":"Biomassafractie van het type II"},null,null,{"$f":"Translations!$B$1266","v":"Analyse van de biomassafractie"},null,3,"Metaalerts: Proces (methode A): niet-carbonaat",null,"BioC_Metaalerts: Proces (methode A): niet-carbonaat",null,null,null,null,null,null,false,null,null,null,null,null,null,null,null,null,null,null,1,{"$f":"Translations!$B$510","v":"Biomassafractie van het type II"},"","",2]
[21,{"$f":"B467","v":"Roosten of sinteren van metaalerts"},"Metaalerts","Proces (methode B): oxide-uitgang",null,"Standaardmethode: Procedure, artikel 24, lid 2",{"$f":"EUconst_NA","v":"n.v.t."},null,null,null,null,null,null,"n.v.t.","Metaalerts: Proces (methode B): oxide-uitgang",null,"BioC_Metaalerts: Proces (methode B): oxide-uitgang",null,null,null,null,null,null,true,null,null,null,null,null,null,null,null,null,null,null,"","","","",""]
[22,"Roosten of sinteren van metaalerts","Metaalerts","Massabalans",null,"Massabalansmethode, artikel 25",1,{"$f":"Translations!$B$505","v":"Biomassafractie van het type I"},{"$f":"Translations!$B$510","v":"Biomassafractie van het type II"},null,null,{"$f":"Translations!$B$1266","v":"Analyse van de biomassafractie"},null,3,"Metaalerts: Massabalans",null,"BioC_Metaalerts: Massabalans",null,null,null,null,null,null,false,null,null,null,null,null,null,null,null,null,null,null,1,{"$f":"Translations!$B$510","v":"Biomassafractie van het type II"},"","",2]
[23,"Productie van ruwijzer of staal","IJzer en staal","Brandstofinzet",null,"Standaardmethode: Brandstoffen, artikel 24, lid 1",1,{"$f":"Translations!$B$505","v":"Biomassafractie van het type I"},{"$f":"Translations!$B$510","v":"Biomassafractie van het type II"},null,null,{"$f":"Translations!$B$1266","v":"Analyse van de biomassafractie"},null,3,"IJzer en staal: Brandstofinzet",null,"BioC_IJzer en staal: Brandstofinzet",null,null,null,null,null,null,false,null,null,null,null,null,null,null,null,null,null,null,1,{"$f":"Translations!$B$510","v":"Biomassafractie van het type II"},"","",2]
[24,"Productie van ruwijzer of staal","IJzer en staal","Proces (methode A): alleen carbonaat",null,"Standaardmethode: Procedure, artikel 24, lid 2",{"$f":"EUconst_NA","v":"n.v.t."},null,null,null,null,null,null,"n.v.t.","IJzer en staal: Proces (methode A): alleen carbonaat",null,"BioC_IJzer en staal: Proces (methode A): alleen carbonaat",null,null,null,null,null,null,true,null,null,null,null,null,null,null,null,null,null,null,"","","","",""]
[25,"Productie van ruwijzer of staal","IJzer en staal","Proces (methode A): gemengd (carbonaat + niet-carbonaat)",null,"Standaardmethode: Procedure, artikel 24, lid 2",1,{"$f":"Translations!$B$505","v":"Biomassafractie van het type I"},{"$f":"Translations!$B$510","v":"Biomassafractie van het type II"},null,null,{"$f":"Translations!$B$1266","v":"Analyse van de biomassafractie"},null,3,"IJzer en staal: Proces (methode A): gemengd (carbonaat + niet-carbonaat)",null,"BioC_IJzer en staal: Proces (methode A): gemengd (carbonaat + niet-carbonaat)",null,null,null,null,null,null,false,null,null,null,null,null,null,null,null,null,null,null,1,{"$f":"Translations!$B$510","v":"Biomassafractie van het type II"},"","",2]
[26,"Productie van ruwijzer of staal","IJzer en staal","Proces (methode A): niet-carbonaat",null,"Standaardmethode: Procedure, artikel 24, lid 2",1,{"$f":"Translations!$B$505","v":"Biomassafractie van het type I"},{"$f":"Translations!$B$510","v":"Biomassafractie van het type II"},null,null,{"$f":"Translations!$B$1266","v":"Analyse van de biomassafractie"},null,3,"IJzer en staal: Proces (methode A): niet-carbonaat",null,"BioC_IJzer en staal: Proces (methode A): niet-carbonaat",null,null,null,null,null,null,false,null,null,null,null,null,null,null,null,null,null,null,1,{"$f":"Translations!$B$510","v":"Biomassafractie van het type II"},"","",2]
[27,"Productie van ruwijzer of staal","IJzer en staal","Proces (methode B): oxide-uitgang",null,"Standaardmethode: Procedure, artikel 24, lid 2",{"$f":"EUconst_NA","v":"n.v.t."},null,null,null,null,null,null,"n.v.t.","IJzer en staal: Proces (methode B): oxide-uitgang",null,"BioC_IJzer en staal: Proces (methode B): oxide-uitgang",null,null,null,null,null,null,true,null,null,null,null,null,null,null,null,null,null,null,"","","","",""]
[28,"Productie van ruwijzer of staal","IJzer en staal","Massabalans",null,"Massabalansmethode, artikel 25",1,{"$f":"Translations!$B$505","v":"Biomassafractie van het type I"},{"$f":"Translations!$B$510","v":"Biomassafractie van het type II"},null,null,{"$f":"Translations!$B$1266","v":"Analyse van de biomassafractie"},null,3,"IJzer en staal: Massabalans",null,"BioC_IJzer en staal: Massabalans",null,null,null,null,null,null,false,null,null,null,null,null,null,null,null,null,null,null,1,{"$f":"Translations!$B$510","v":"Biomassafractie van het type II"},"","",2]
[29,"Productie van cementklinkers","Cementklinker","Op basis van inzet in de oven (methode A)",null,"Standaardmethode: Procedure, artikel 24, lid 2",{"$f":"EUconst_NA","v":"n.v.t."},null,null,null,null,null,null,"n.v.t.","Cementklinker: Op basis van inzet in de oven (methode A)",null,"BioC_Cementklinker: Op basis van inzet in de oven (methode A)",null,null,null,null,null,null,true,null,null,null,null,null,null,null,null,null,null,null,"","","","",""]
[30,"Productie van cementklinkers","Cementklinker","Op basis van geproduceerde klinker (methode B)",null,"Standaardmethode: Procedure, artikel 24, lid 2",{"$f":"EUconst_NA","v":"n.v.t."},null,null,null,null,null,null,"n.v.t.","Cementklinker: Op basis van geproduceerde klinker (methode B)",null,"BioC_Cementklinker: Op basis van geproduceerde klinker (methode B)",null,null,null,null,null,null,true,null,null,null,null,null,null,null,null,null,null,null,"","","","",""]
[31,"Productie van cementklinkers","Cementklinker","Cementovenstof",null,"Standaardmethode: Procedure, artikel 24, lid 2",{"$f":"EUconst_NA","v":"n.v.t."},null,null,null,null,null,null,"n.v.t.","Cementklinker: Cementovenstof",null,"BioC_Cementklinker: Cementovenstof",null,null,null,null,null,null,true,null,null,null,null,null,null,null,null,null,null,null,"","","","",""]
[32,"Productie van cementklinkers","Cementklinker","Niet-carbonaatkoolstof",null,"Standaardmethode: Procedure, artikel 24, lid 2",1,{"$f":"Translations!$B$505","v":"Biomassafractie van het type I"},{"$f":"Translations!$B$510","v":"Biomassafractie van het type II"},null,null,{"$f":"Translations!$B$1266","v":"Analyse van de biomassafractie"},null,3,"Cementklinker: Niet-carbonaatkoolstof",null,"BioC_Cementklinker: Niet-carbonaatkoolstof",null,null,null,null,null,null,false,null,null,null,null,null,null,null,null,null,null,null,1,{"$f":"Translations!$B$510","v":"Biomassafractie van het type II"},"","",2]
[33,"Productie van kalksteen of branden van dolomiet of magnesiet","Kalk, dolomiet en magnesiet","Proces (methode A): alleen carbonaat",null,{"$f":"F479","v":"Standaardmethode: Procedure, artikel 24, lid 2"},{"$f":"EUconst_NA","v":"n.v.t."},null,null,null,null,null,null,"n.v.t.","Kalk, dolomiet en magnesiet: Proces (methode A): alleen carbonaat",null,{"$f":"EUconst_CNTR_BiomassContent&O541","v":"BioC_Kalk, dolomiet en magnesiet: Proces (methode A): alleen carbonaat"},null,null,null,null,null,null,true,null,null,null,null,null,null,null,null,null,null,null,"","","","",""]
[34,"Productie van kalksteen of branden van dolomiet of magnesiet","Kalk, dolomiet en magnesiet","Proces (methode A): gemengd (carbonaat + niet-carbonaat)",null,"Standaardmethode: Procedure, artikel 24, lid 2",1,{"$f":"Translations!$B$505","v":"Biomassafractie van het type I"},{"$f":"Translations!$B$510","v":"Biomassafractie van het type II"},null,null,{"$f":"Translations!$B$1266","v":"Analyse van de biomassafractie"},null,3,"Kalk, dolomiet en magnesiet: Proces (methode A): gemengd (carbonaat + niet-carbonaat)",null,"BioC_Kalk, dolomiet en magnesiet: Proces (methode A): gemengd (carbonaat + niet-carbonaat)",null,null,null,null,null,null,false,null,null,null,null,null,null,null,null,null,null,null,1,{"$f":"Translations!$B$510","v":"Biomassafractie van het type II"},"","",2]
[35,"Productie van kalksteen of branden van dolomiet of magnesiet","Kalk, dolomiet en magnesiet","Proces (methode A): niet-carbonaat",null,"Standaardmethode: Procedure, artikel 24, lid 2",1,{"$f":"Translations!$B$505","v":"Biomassafractie van het type I"},{"$f":"Translations!$B$510","v":"Biomassafractie van het type II"},null,null,{"$f":"Translations!$B$1266","v":"Analyse van de biomassafractie"},null,3,"Kalk, dolomiet en magnesiet: Proces (methode A): niet-carbonaat",null,"BioC_Kalk, dolomiet en magnesiet: Proces (methode A): niet-carbonaat",null,null,null,null,null,null,false,null,null,null,null,null,null,null,null,null,null,null,1,{"$f":"Translations!$B$510","v":"Biomassafractie van het type II"},"","",2]
[36,"Productie van kalksteen of branden van dolomiet of magnesiet","Kalk, dolomiet en magnesiet","Proces (methode B): oxide-uitgang",null,"Standaardmethode: Procedure, artikel 24, lid 2",{"$f":"EUconst_NA","v":"n.v.t."},null,null,null,null,null,null,"n.v.t.","Kalk, dolomiet en magnesiet: Proces (methode B): oxide-uitgang",null,"BioC_Kalk, dolomiet en magnesiet: Proces (methode B): oxide-uitgang",null,null,null,null,null,null,true,null,null,null,null,null,null,null,null,null,null,null,"","","","",""]
[37,"Productie van kalksteen of branden van dolomiet of magnesiet","Kalk, dolomiet en magnesiet","Ovenstof (methode B)",null,"Standaardmethode: Procedure, artikel 24, lid 2",{"$f":"EUconst_NA","v":"n.v.t."},null,null,null,null,null,null,"n.v.t.","Kalk, dolomiet en magnesiet: Ovenstof (methode B)",null,"BioC_Kalk, dolomiet en magnesiet: Ovenstof (methode B)",null,null,null,null,null,null,true,null,null,null,null,null,null,null,null,null,null,null,"","","","",""]
[38,"Vervaardiging van glas","Glas en minerale wol","Proces (methode A): alleen carbonaat",null,"Standaardmethode: Procedure, artikel 24, lid 2",{"$f":"EUconst_NA","v":"n.v.t."},null,null,null,null,null,null,"n.v.t.","Glas en minerale wol: Proces (methode A): alleen carbonaat",null,"BioC_Glas en minerale wol: Proces (methode A): alleen carbonaat",null,null,null,null,null,null,true,null,null,null,null,null,null,null,null,null,null,null,"","","","",""]
[39,"Vervaardiging van glas","Glas en minerale wol","Proces (methode A): gemengd (carbonaat + niet-carbonaat)",null,"Standaardmethode: Procedure, artikel 24, lid 2",1,{"$f":"Translations!$B$505","v":"Biomassafractie van het type I"},{"$f":"Translations!$B$510","v":"Biomassafractie van het type II"},null,null,{"$f":"Translations!$B$1266","v":"Analyse van de biomassafractie"},null,3,"Glas en minerale wol: Proces (methode A): gemengd (carbonaat + niet-carbonaat)",null,"BioC_Glas en minerale wol: Proces (methode A): gemengd (carbonaat + niet-carbonaat)",null,null,null,null,null,null,false,null,null,null,null,null,null,null,null,null,null,null,1,{"$f":"Translations!$B$510","v":"Biomassafractie van het type II"},"","",2]
[40,"Vervaardiging van glas","Glas en minerale wol","Proces (methode A): niet-carbonaat",null,"Standaardmethode: Procedure, artikel 24, lid 2",1,{"$f":"Translations!$B$505","v":"Biomassafractie van het type I"},{"$f":"Translations!$B$510","v":"Biomassafractie van het type II"},null,null,{"$f":"Translations!$B$1266","v":"Analyse van de biomassafractie"},null,3,"Glas en minerale wol: Proces (methode A): niet-carbonaat",null,"BioC_Glas en minerale wol: Proces (methode A): niet-carbonaat",null,null,null,null,null,null,false,null,null,null,null,null,null,null,null,null,null,null,1,{"$f":"Translations!$B$510","v":"Biomassafractie van het type II"},"","",2]
[41,{"$f":"B487","v":"Vervaardiging van keramiek"},"Keramiek","Proces (methode A): alleen carbonaat",null,"Standaardmethode: Procedure, artikel 24, lid 2",{"$f":"EUconst_NA","v":"n.v.t."},null,null,null,null,null,null,"n.v.t.","Keramiek: Proces (methode A): alleen carbonaat",null,"BioC_Keramiek: Proces (methode A): alleen carbonaat",null,null,null,null,null,null,true,null,null,null,null,null,null,null,null,null,null,null,"","","","",""]
[42,"Vervaardiging van keramiek","Keramiek","Proces (methode A): gemengd (carbonaat + niet-carbonaat)",null,"Standaardmethode: Procedure, artikel 24, lid 2",1,{"$f":"Translations!$B$505","v":"Biomassafractie van het type I"},{"$f":"Translations!$B$510","v":"Biomassafractie van het type II"},null,null,{"$f":"Translations!$B$1266","v":"Analyse van de biomassafractie"},null,3,"Keramiek: Proces (methode A): gemengd (carbonaat + niet-carbonaat)",null,"BioC_Keramiek: Proces (methode A): gemengd (carbonaat + niet-carbonaat)",null,null,null,null,null,null,false,null,null,null,null,null,null,null,null,null,null,null,1,{"$f":"Translations!$B$510","v":"Biomassafractie van het type II"},"","",2]
[43,"Vervaardiging van keramiek","Keramiek","Proces (methode A): niet-carbonaat",null,"Standaardmethode: Procedure, artikel 24, lid 2",1,{"$f":"Translations!$B$505","v":"Biomassafractie van het type I"},{"$f":"Translations!$B$510","v":"Biomassafractie van het type II"},null,null,{"$f":"Translations!$B$1266","v":"Analyse van de biomassafractie"},null,3,"Keramiek: Proces (methode A): niet-carbonaat",null,"BioC_Keramiek: Proces (methode A): niet-carbonaat",null,null,null,null,null,null,false,null,null,null,null,null,null,null,null,null,null,null,1,{"$f":"Translations!$B$510","v":"Biomassafractie van het type II"},"","",2]
[44,"Vervaardiging van keramiek","Keramiek","Proces (methode B): oxide-uitgang",null,"Standaardmethode: Procedure, artikel 24, lid 2",{"$f":"EUconst_NA","v":"n.v.t."},null,null,null,null,null,null,"n.v.t.","Keramiek: Proces (methode B): oxide-uitgang",null,"BioC_Keramiek: Proces (methode B): oxide-uitgang",null,null,null,null,null,null,true,null,null,null,null,null,null,null,null,null,null,null,"","","","",""]
[45,"Vervaardiging van keramiek","Keramiek","Gasreiniging",null,"Standaardmethode: Procedure, artikel 24, lid 2",{"$f":"EUconst_NA","v":"n.v.t."},null,null,null,null,null,null,"n.v.t.","Keramiek: Gasreiniging",null,"BioC_Keramiek: Gasreiniging",null,null,null,null,null,null,true,null,null,null,null,null,null,null,null,null,null,null,"","","","",""]
[46,"Productie van pulp","Pulp en papier","Aanvullende chemicaliën",null,"Standaardmethode: Procedure, artikel 24, lid 2",{"$f":"EUconst_NA","v":"n.v.t."},null,null,null,null,null,null,"n.v.t.","Pulp en papier: Aanvullende chemicaliën",null,"BioC_Pulp en papier: Aanvullende chemicaliën",null,null,null,null,null,null,true,null,null,null,null,null,null,null,null,null,null,null,"","","","",""]
[47,"Productie van roet","Roet","Massabalansmethodiek",null,"Massabalansmethode, artikel 25",1,{"$f":"Translations!$B$505","v":"Biomassafractie van het type I"},{"$f":"Translations!$B$510","v":"Biomassafractie van het type II"},null,null,{"$f":"Translations!$B$1266","v":"Analyse van de biomassafractie"},null,3,"Roet: Massabalansmethodiek",null,"BioC_Roet: Massabalansmethodiek",null,null,null,null,null,null,false,null,null,null,null,null,null,null,null,null,null,null,1,{"$f":"Translations!$B$510","v":"Biomassafractie van het type II"},"","",2]
[48,"Productie van ammoniak","Ammoniak","Brandstofinzet",null,"Standaardmethode: Brandstoffen, artikel 24, lid 1",1,{"$f":"Translations!$B$505","v":"Biomassafractie van het type I"},{"$f":"Translations!$B$510","v":"Biomassafractie van het type II"},null,null,{"$f":"Translations!$B$1266","v":"Analyse van de biomassafractie"},null,3,"Ammoniak: Brandstofinzet",null,"BioC_Ammoniak: Brandstofinzet",null,null,null,null,null,null,false,null,null,null,null,null,null,null,null,null,null,null,1,{"$f":"Translations!$B$510","v":"Biomassafractie van het type II"},"","",2]
[49,"Productie van waterstof en synthesegas","Waterstof en synthesegas","Brandstofinzet",null,"Standaardmethode: Brandstoffen, artikel 24, lid 1",1,{"$f":"Translations!$B$505","v":"Biomassafractie van het type I"},{"$f":"Translations!$B$510","v":"Biomassafractie van het type II"},null,null,{"$f":"Translations!$B$1266","v":"Analyse van de biomassafractie"},null,3,"Waterstof en synthesegas: Brandstofinzet",null,"BioC_Waterstof en synthesegas: Brandstofinzet",null,null,null,null,null,null,false,null,null,null,null,null,null,null,null,null,null,null,1,{"$f":"Translations!$B$510","v":"Biomassafractie van het type II"},"","",2]
[50,"Productie van waterstof en synthesegas","Waterstof en synthesegas","Massabalansmethodiek",null,"Massabalansmethode, artikel 25",1,{"$f":"Translations!$B$505","v":"Biomassafractie van het type I"},{"$f":"Translations!$B$510","v":"Biomassafractie van het type II"},null,null,{"$f":"Translations!$B$1266","v":"Analyse van de biomassafractie"},null,3,"Waterstof en synthesegas: Massabalansmethodiek",null,"BioC_Waterstof en synthesegas: Massabalansmethodiek",null,null,null,null,null,null,false,null,null,null,null,null,null,null,null,null,null,null,1,{"$f":"Translations!$B$510","v":"Biomassafractie van het type II"},"","",2]
[51,"Productie van bulkchemicaliën","Organische bulkchemicaliën","Massabalansmethodiek",null,"Massabalansmethode, artikel 25",1,{"$f":"Translations!$B$505","v":"Biomassafractie van het type I"},{"$f":"Translations!$B$510","v":"Biomassafractie van het type II"},null,null,{"$f":"Translations!$B$1266","v":"Analyse van de biomassafractie"},null,3,"Organische bulkchemicaliën: Massabalansmethodiek",null,"BioC_Organische bulkchemicaliën: Massabalansmethodiek",null,null,null,null,null,null,false,null,null,null,null,null,null,null,null,null,null,null,1,{"$f":"Translations!$B$510","v":"Biomassafractie van het type II"},"","",2]
[52,"Productie of verwerking van ferrometalen","(Non)-ferrometalen, secundair aluminium","Proces (methode A): alleen carbonaat",null,"Standaardmethode: Procedure, artikel 24, lid 2",{"$f":"EUconst_NA","v":"n.v.t."},null,null,null,null,null,null,"n.v.t.","(Non)-ferrometalen, secundair aluminium: Proces (methode A): alleen carbonaat",null,"BioC_(Non)-ferrometalen, secundair aluminium: Proces (methode A): alleen carbonaat",null,null,null,null,null,null,true,null,null,null,null,null,null,null,null,null,null,null,"","","","",""]
[53,"Productie of verwerking van ferrometalen","(Non)-ferrometalen, secundair aluminium","Proces (methode A): gemengd (carbonaat + niet-carbonaat)",null,"Standaardmethode: Procedure, artikel 24, lid 2",1,{"$f":"Translations!$B$505","v":"Biomassafractie van het type I"},{"$f":"Translations!$B$510","v":"Biomassafractie van het type II"},null,null,{"$f":"Translations!$B$1266","v":"Analyse van de biomassafractie"},null,3,"(Non)-ferrometalen, secundair aluminium: Proces (methode A): gemengd (carbonaat + niet-carbonaat)",null,"BioC_(Non)-ferrometalen, secundair aluminium: Proces (methode A): gemengd (carbonaat + niet-carbonaat)",null,null,null,null,null,null,false,null,null,null,null,null,null,null,null,null,null,null,1,{"$f":"Translations!$B$510","v":"Biomassafractie van het type II"},"","",2]
[54,"Productie of verwerking van ferrometalen","(Non)-ferrometalen, secundair aluminium","Proces (methode A): niet-carbonaat",null,"Standaardmethode: Procedure, artikel 24, lid 2",1,{"$f":"Translations!$B$505","v":"Biomassafractie van het type I"},{"$f":"Translations!$B$510","v":"Biomassafractie van het type II"},null,null,{"$f":"Translations!$B$1266","v":"Analyse van de biomassafractie"},null,3,"(Non)-ferrometalen, secundair aluminium: Proces (methode A): niet-carbonaat",null,"BioC_(Non)-ferrometalen, secundair aluminium: Proces (methode A): niet-carbonaat",null,null,null,null,null,null,false,null,null,null,null,null,null,null,null,null,null,null,1,{"$f":"Translations!$B$510","v":"Biomassafractie van het type II"},"","",2]
[55,"Productie of verwerking van ferrometalen","(Non)-ferrometalen, secundair aluminium","Proces (methode B): oxide-uitgang",null,"Standaardmethode: Procedure, artikel 24, lid 2",{"$f":"EUconst_NA","v":"n.v.t."},null,null,null,null,null,null,"n.v.t.","(Non)-ferrometalen, secundair aluminium: Proces (methode B): oxide-uitgang",null,"BioC_(Non)-ferrometalen, secundair aluminium: Proces (methode B): oxide-uitgang",null,null,null,null,null,null,true,null,null,null,null,null,null,null,null,null,null,null,"","","","",""]
[56,"Productie of verwerking van ferrometalen","(Non)-ferrometalen, secundair aluminium","Massabalansmethodiek",null,"Massabalansmethode, artikel 25",1,{"$f":"Translations!$B$505","v":"Biomassafractie van het type I"},{"$f":"Translations!$B$510","v":"Biomassafractie van het type II"},null,null,{"$f":"Translations!$B$1266","v":"Analyse van de biomassafractie"},null,3,"(Non)-ferrometalen, secundair aluminium: Massabalansmethodiek",null,"BioC_(Non)-ferrometalen, secundair aluminium: Massabalansmethodiek",null,null,null,null,null,null,false,null,null,null,null,null,null,null,null,null,null,null,1,{"$f":"Translations!$B$510","v":"Biomassafractie van het type II"},"","",2]
[57,"Productie van natriumcarbonaat en natriumbicarbonaat","Natriumcarbonaat en natriumbicarbonaat","Massabalansmethodiek",null,"Massabalansmethode, artikel 25",1,{"$f":"Translations!$B$505","v":"Biomassafractie van het type I"},{"$f":"Translations!$B$510","v":"Biomassafractie van het type II"},null,null,{"$f":"Translations!$B$1266","v":"Analyse van de biomassafractie"},null,3,"Natriumcarbonaat en natriumbicarbonaat: Massabalansmethodiek",null,"BioC_Natriumcarbonaat en natriumbicarbonaat: Massabalansmethodiek",null,null,null,null,null,null,false,null,null,null,null,null,null,null,null,null,null,null,1,{"$f":"Translations!$B$510","v":"Biomassafractie van het type II"},"","",2]
[58,"Productie van primair aluminium","Primair aluminium","Massabalansmethodiek",null,"Massabalansmethode, artikel 25",1,{"$f":"Translations!$B$505","v":"Biomassafractie van het type I"},{"$f":"Translations!$B$510","v":"Biomassafractie van het type II"},null,null,{"$f":"Translations!$B$1266","v":"Analyse van de biomassafractie"},null,3,"Primair aluminium: Massabalansmethodiek",null,"BioC_Primair aluminium: Massabalansmethodiek",null,null,null,null,null,null,false,null,null,null,null,null,null,null,null,null,null,null,1,{"$f":"Translations!$B$510","v":"Biomassafractie van het type II"},"","",2]
[59,"Productie van primair aluminium","Primair aluminium","PFK-emissies (hellingsmethode)",null,"Berekeningen met bijzondere bepalingen voor PFK's (bijlage VI, punt 8)",{"$f":"EUconst_NA","v":"n.v.t."},null,null,null,null,null,null,"n.v.t.","Primair aluminium: PFK-emissies (hellingsmethode)",null,"BioC_Primair aluminium: PFK-emissies (hellingsmethode)",null,null,null,null,null,null,true,null,null,null,null,null,null,null,null,null,null,null,"","","","",""]
[60,"Productie van primair aluminium","Primair aluminium","PFK-emissies (overspanningsmethode)",null,"Berekeningen met bijzondere bepalingen voor PFK's (bijlage VI, punt 8)",{"$f":"EUconst_NA","v":"n.v.t."},null,null,null,null,null,null,"n.v.t.","Primair aluminium: PFK-emissies (overspanningsmethode)",null,"BioC_Primair aluminium: PFK-emissies (overspanningsmethode)",null,null,null,null,null,null,true,null,null,null,null,null,null,null,null,null,null,null,"","","","",""]
[null,null,null,null,null,null,null,null,null,null,null,null,null,null,null,null,null,null,null,null,null,null,null,{"$f":"IF(G569=EUconst_NA,TRUE,FALSE)","v":false}]
["NEW",{"$f":"Translations!$B$522","v":"Oxidatiefactor"},{"$f":"Translations!$B$957","v":"Korte naam"},{"$f":"Translations!$B$958","v":"Subactiviteit"},{"$f":"Translations!$B$389","v":"Parameter"},{"$f":"Translations!$B$959","v":"Brontype"},{"$f":"Translations!$B$960","v":"Minimum"},1,2,"2a",{"$f":"Translations!$B$928","v":"2b"},3,4,{"$f":"Translations!$B$961","v":"Hoogste"},null,null,null,null,null,null,null,null,null,{"$f":"Translations!$B$962","v":"grijs kleuren?"},null,null,null,null,null,null,null,null,null,null,"1=default value, 2=lab",1,2,"2a",{"$f":"Translations!$B$928","v":"2b"},3]
[1,{"$f":"B509","v":"Verbranding van brandstoffen"},"Verbranding","Commercieel verhandelbare standaardbrandstoffen",null,{"$f":"F509","v":"Standaardmethode: Brandstoffen, artikel 24, lid 1"},1,{"$f":"Translations!$B$529","v":"Standaardwaarde OF=1 "},{"$f":"Translations!$B$528","v":"Standaardwaarden van het type II"},null,null,{"$f":"Translations!$B$527","v":"Laboratoriumanalyses"},null,{"$f":"G571","v":1},{"$f":"C571 & \": \" &D571","v":"Verbranding: Commercieel verhandelbare standaardbrandstoffen"},null,{"$f":"EUconst_CNTR_OxidationFactor&O571","v":"OxF_Verbranding: Commercieel verhandelbare standaardbrandstoffen"},null,null,null,null,null,null,{"$f":"IF(G571=EUconst_NA,TRUE,FALSE)","v":false},null,null,null,null,null,null,null,null,null,null,null,1,1,"","",2]
[2,"Verbranding van brandstoffen","Verbranding","Andere gasvormige en vloeibare brandstoffen",null,"Standaardmethode: Brandstoffen, artikel 24, lid 1",1,{"$f":"Translations!$B$529","v":"Standaardwaarde OF=1 "},{"$f":"Translations!$B$528","v":"Standaardwaarden van het type II"},null,null,{"$f":"Translations!$B$527","v":"Laboratoriumanalyses"},null,{"$f":"G572","v":1},{"$f":"C572 & \": \" &D572","v":"Verbranding: Andere gasvormige en vloeibare brandstoffen"},null,"OxF_Verbranding: Andere gasvormige en vloeibare brandstoffen",null,null,null,null,null,null,false,null,null,null,null,null,null,null,null,null,null,null,1,1,"","",2]
[3,"Verbranding van brandstoffen","Verbranding","Vaste brandstoffen",null,"Standaardmethode: Brandstoffen, artikel 24, lid 1",1,{"$f":"Translations!$B$529","v":"Standaardwaarde OF=1 "},{"$f":"Translations!$B$528","v":"Standaardwaarden van het type II"},null,null,{"$f":"Translations!$B$527","v":"Laboratoriumanalyses"},null,{"$f":"G573","v":1},{"$f":"C573 & \": \" &D573","v":"Verbranding: Vaste brandstoffen"},null,"OxF_Verbranding: Vaste brandstoffen",null,null,null,null,null,null,false,null,null,null,null,null,null,null,null,null,null,null,1,1,"","",2]
[4,"Verbranding van brandstoffen","Verbranding","Gasverwerkingsterminals",null,"Massabalansmethode, artikel 25",{"$f":"EUconst_NA","v":"n.v.t."},null,null,null,null,null,null,{"$f":"G574","v":"n.v.t."},"Verbranding: Gasverwerkingsterminals",null,"OxF_Verbranding: Gasverwerkingsterminals",null,null,null,null,null,null,true,null,null,null,null,null,null,null,null,null,null,null,"","","","",""]
[5,"Verbranding van brandstoffen","Verbranding","Fakkels",null,"Standaardmethode: Brandstoffen, artikel 24, lid 1",1,{"$f":"Translations!$B$529","v":"Standaardwaarde OF=1 "},{"$f":"Translations!$B$528","v":"Standaardwaarden van het type II"},null,null,null,null,1,"Verbranding: Fakkels",null,"OxF_Verbranding: Fakkels",null,null,null,null,null,null,false,null,null,null,null,null,null,null,null,null,null,null,1,1,"","",2]
[6,"Verbranding van brandstoffen","Verbranding","Gasreiniging (carbonaat)",null,"Standaardmethode: Procedure, artikel 24, lid 2",{"$f":"EUconst_NA","v":"n.v.t."},null,null,null,null,null,null,"n.v.t.","Verbranding: Gasreiniging (carbonaat)",null,"OxF_Verbranding: Gasreiniging (carbonaat)",null,null,null,null,null,null,true,null,null,null,null,null,null,null,null,null,null,null,"","","","",""]
[7,"Verbranding van brandstoffen","Verbranding","Gasreiniging (gips)",null,"Standaardmethode: Procedure, artikel 24, lid 2","n.v.t.",null,null,null,null,null,null,"n.v.t.","Verbranding: Gasreiniging (gips)",null,"OxF_Verbranding: Gasreiniging (gips)",null,null,null,null,null,null,true,null,null,null,null,null,null,null,null,null,null,null,"","","","",""]
[8,"Verbranding van brandstoffen","Verbranding","Gasreiniging (ureum)",null,"Standaardmethode: Procedure, artikel 24, lid 2","n.v.t.",null,null,null,null,null,null,"n.v.t.","Verbranding: Gasreiniging (ureum)",null,"OxF_Verbranding: Gasreiniging (ureum)",null,null,null,null,null,null,true,null,null,null,null,null,null,null,null,null,null,null,"","","","",""]
[9,"Raffineren van aardoliën ","Raffinaderijen","Massabalans",null,"Massabalansmethode, artikel 25","n.v.t.",null,null,null,null,null,null,"n.v.t.","Raffinaderijen: Massabalans",null,"OxF_Raffinaderijen: Massabalans",null,null,null,null,null,null,true,null,null,null,null,null,null,null,null,null,null,null,"","","","",""]
[10,"Raffineren van aardoliën ","Raffinaderijen","Katalytische-krakerregeneratie",null,"Massabalansmethode, artikel 25","n.v.t.",null,null,null,null,null,null,"n.v.t.","Raffinaderijen: Katalytische-krakerregeneratie",null,"OxF_Raffinaderijen: Katalytische-krakerregeneratie",null,null,null,null,null,null,true,null,null,null,null,null,null,null,null,null,null,null,"","","","",""]
[11,"Raffineren van aardoliën ","Raffinaderijen","Waterstofproductie",null,"Massabalansmethode, artikel 25","n.v.t.",null,null,null,null,null,null,"n.v.t.","Raffinaderijen: Waterstofproductie",null,"OxF_Raffinaderijen: Waterstofproductie",null,null,null,null,null,null,true,null,null,null,null,null,null,null,null,null,null,null,"","","","",""]
[12,"Productie van cokes","Cokes","Brandstofinzet",null,"Standaardmethode: Brandstoffen, artikel 24, lid 1","n.v.t.",null,null,null,null,null,null,"n.v.t.","Cokes: Brandstofinzet",null,"OxF_Cokes: Brandstofinzet",null,null,null,null,null,null,true,null,null,null,null,null,null,null,null,null,null,null,"","","","",""]
[13,"Productie van cokes","Cokes","Proces (methode A): alleen carbonaat",null,"Standaardmethode: Procedure, artikel 24, lid 2","n.v.t.",null,null,null,null,null,null,"n.v.t.","Cokes: Proces (methode A): alleen carbonaat",null,"OxF_Cokes: Proces (methode A): alleen carbonaat",null,null,null,null,null,null,true,null,null,null,null,null,null,null,null,null,null,null,"","","","",""]
[14,"Productie van cokes","Cokes","Proces (methode A): gemengd (carbonaat + niet-carbonaat)",null,"Standaardmethode: Procedure, artikel 24, lid 2","n.v.t.",null,null,null,null,null,null,"n.v.t.","Cokes: Proces (methode A): gemengd (carbonaat + niet-carbonaat)",null,"OxF_Cokes: Proces (methode A): gemengd (carbonaat + niet-carbonaat)",null,null,null,null,null,null,true,null,null,null,null,null,null,null,null,null,null,null,"","","","",""]
[15,"Productie van cokes","Cokes","Proces (methode A): niet-carbonaat",null,"Standaardmethode: Procedure, artikel 24, lid 2","n.v.t.",null,null,null,null,null,null,"n.v.t.","Cokes: Proces (methode A): niet-carbonaat",null,"OxF_Cokes: Proces (methode A): niet-carbonaat",null,null,null,null,null,null,true,null,null,null,null,null,null,null,null,null,null,null,"","","","",""]
[16,"Productie van cokes","Cokes","Proces (methode B): oxide-uitgang",null,"Standaardmethode: Procedure, artikel 24, lid 2","n.v.t.",null,null,null,null,null,null,"n.v.t.","Cokes: Proces (methode B): oxide-uitgang",null,"OxF_Cokes: Proces (methode B): oxide-uitgang",null,null,null,null,null,null,true,null,null,null,null,null,null,null,null,null,null,null,"","","","",""]
[17,"Productie van cokes","Cokes","Massabalans",null,"Massabalansmethode, artikel 25","n.v.t.",null,null,null,null,null,null,"n.v.t.","Cokes: Massabalans",null,"OxF_Cokes: Massabalans",null,null,null,null,null,null,true,null,null,null,null,null,null,null,null,null,null,null,"","","","",""]
[18,"Roosten of sinteren van metaalerts","Metaalerts","Proces (methode A): alleen carbonaat",null,"Standaardmethode: Procedure, artikel 24, lid 2","n.v.t.",null,null,null,null,null,null,"n.v.t.","Metaalerts: Proces (methode A): alleen carbonaat",null,"OxF_Metaalerts: Proces (methode A): alleen carbonaat",null,null,null,null,null,null,true,null,null,null,null,null,null,null,null,null,null,null,"","","","",""]
[19,"Roosten of sinteren van metaalerts","Metaalerts","Proces (methode A): gemengd (carbonaat + niet-carbonaat)",null,"Standaardmethode: Procedure, artikel 24, lid 2","n.v.t.",null,null,null,null,null,null,"n.v.t.","Metaalerts: Proces (methode A): gemengd (carbonaat + niet-carbonaat)",null,"OxF_Metaalerts: Proces (methode A): gemengd (carbonaat + niet-carbonaat)",null,null,null,null,null,null,true,null,null,null,null,null,null,null,null,null,null,null,"","","","",""]
[20,"Roosten of sinteren van metaalerts","Metaalerts","Proces (methode A): niet-carbonaat",null,"Standaardmethode: Procedure, artikel 24, lid 2","n.v.t.",null,null,null,null,null,null,"n.v.t.","Metaalerts: Proces (methode A): niet-carbonaat",null,"OxF_Metaalerts: Proces (methode A): niet-carbonaat",null,null,null,null,null,null,true,null,null,null,null,null,null,null,null,null,null,null,"","","","",""]
[21,{"$f":"B529","v":"Roosten of sinteren van metaalerts"},"Metaalerts","Proces (methode B): oxide-uitgang",null,"Standaardmethode: Procedure, artikel 24, lid 2","n.v.t.",null,null,null,null,null,null,"n.v.t.","Metaalerts: Proces (methode B): oxide-uitgang",null,"OxF_Metaalerts: Proces (methode B): oxide-uitgang",null,null,null,null,null,null,true,null,null,null,null,null,null,null,null,null,null,null,"","","","",""]
[22,"Roosten of sinteren van metaalerts","Metaalerts","Massabalans",null,"Massabalansmethode, artikel 25","n.v.t.",null,null,null,null,null,null,"n.v.t.","Metaalerts: Massabalans",null,"OxF_Metaalerts: Massabalans",null,null,null,null,null,null,true,null,null,null,null,null,null,null,null,null,null,null,"","","","",""]
[23,"Productie van ruwijzer of staal","IJzer en staal","Brandstofinzet",null,"Standaardmethode: Brandstoffen, artikel 24, lid 1","n.v.t.",null,null,null,null,null,null,"n.v.t.","IJzer en staal: Brandstofinzet",null,"OxF_IJzer en staal: Brandstofinzet",null,null,null,null,null,null,true,null,null,null,null,null,null,null,null,null,null,null,"","","","",""]
[24,"Productie van ruwijzer of staal","IJzer en staal","Proces (methode A): alleen carbonaat",null,"Standaardmethode: Procedure, artikel 24, lid 2","n.v.t.",null,null,null,null,null,null,"n.v.t.","IJzer en staal: Proces (methode A): alleen carbonaat",null,"OxF_IJzer en staal: Proces (methode A): alleen carbonaat",null,null,null,null,null,null,true,null,null,null,null,null,null,null,null,null,null,null,"","","","",""]
[25,"Productie van ruwijzer of staal","IJzer en staal","Proces (methode A): gemengd (carbonaat + niet-carbonaat)",null,"Standaardmethode: Procedure, artikel 24, lid 2","n.v.t.",null,null,null,null,null,null,"n.v.t.","IJzer en staal: Proces (methode A): gemengd (carbonaat + niet-carbonaat)",null,"OxF_IJzer en staal: Proces (methode A): gemengd (carbonaat + niet-carbonaat)",null,null,null,null,null,null,true,null,null,null,null,null,null,null,null,null,null,null,"","","","",""]
[26,"Productie van ruwijzer of staal","IJzer en staal","Proces (methode A): niet-carbonaat",null,"Standaardmethode: Procedure, artikel 24, lid 2","n.v.t.",null,null,null,null,null,null,"n.v.t.","IJzer en staal: Proces (methode A): niet-carbonaat",null,"OxF_IJzer en staal: Proces (methode A): niet-carbonaat",null,null,null,null,null,null,true,null,null,null,null,null,null,null,null,null,null,null,"","","","",""]
[27,"Productie van ruwijzer of staal","IJzer en staal","Proces (methode B): oxide-uitgang",null,"Standaardmethode: Procedure, artikel 24, lid 2","n.v.t.",null,null,null,null,null,null,"n.v.t.","IJzer en staal: Proces (methode B): oxide-uitgang",null,"OxF_IJzer en staal: Proces (methode B): oxide-uitgang",null,null,null,null,null,null,true,null,null,null,null,null,null,null,null,null,null,null,"","","","",""]
[28,"Productie van ruwijzer of staal","IJzer en staal","Massabalans",null,"Massabalansmethode, artikel 25","n.v.t.",null,null,null,null,null,null,"n.v.t.","IJzer en staal: Massabalans",null,"OxF_IJzer en staal: Massabalans",null,null,null,null,null,null,true,null,null,null,null,null,null,null,null,null,null,null,"","","","",""]
[29,"Productie van cementklinkers","Cementklinker","Op basis van inzet in de oven (methode A)",null,"Standaardmethode: Procedure, artikel 24, lid 2","n.v.t.",null,null,null,null,null,null,"n.v.t.","Cementklinker: Op basis van inzet in de oven (methode A)",null,"OxF_Cementklinker: Op basis van inzet in de oven (methode A)",null,null,null,null,null,null,true,null,null,null,null,null,null,null,null,null,null,null,"","","","",""]
[30,"Productie van cementklinkers","Cementklinker","Op basis van geproduceerde klinker (methode B)",null,"Standaardmethode: Procedure, artikel 24, lid 2","n.v.t.",null,null,null,null,null,null,"n.v.t.","Cementklinker: Op basis van geproduceerde klinker (methode B)",null,"OxF_Cementklinker: Op basis van geproduceerde klinker (methode B)",null,null,null,null,null,null,true,null,null,null,null,null,null,null,null,null,null,null,"","","","",""]
[31,"Productie van cementklinkers","Cementklinker","Cementovenstof",null,"Standaardmethode: Procedure, artikel 24, lid 2","n.v.t.",null,null,null,null,null,null,"n.v.t.","Cementklinker: Cementovenstof",null,"OxF_Cementklinker: Cementovenstof",null,null,null,null,null,null,true,null,null,null,null,null,null,null,null,null,null,null,"","","","",""]
[32,"Productie van cementklinkers","Cementklinker","Niet-carbonaatkoolstof",null,"Standaardmethode: Procedure, artikel 24, lid 2","n.v.t.",null,null,null,null,null,null,"n.v.t.","Cementklinker: Niet-carbonaatkoolstof",null,"OxF_Cementklinker: Niet-carbonaatkoolstof",null,null,null,null,null,null,true,null,null,null,null,null,null,null,null,null,null,null,"","","","",""]
[33,"Productie van kalksteen of branden van dolomiet of magnesiet","Kalk, dolomiet en magnesiet","Proces (methode A): alleen carbonaat",null,{"$f":"F541","v":"Standaardmethode: Procedure, artikel 24, lid 2"},"n.v.t.",null,null,null,null,null,null,"n.v.t.","Kalk, dolomiet en magnesiet: Proces (methode A): alleen carbonaat",null,{"$f":"EUconst_CNTR_OxidationFactor&O603","v":"OxF_Kalk, dolomiet en magnesiet: Proces (methode A): alleen carbonaat"},null,null,null,null,null,null,true,null,null,null,null,null,null,null,null,null,null,null,"","","","",""]
[34,"Productie van kalksteen of branden van dolomiet of magnesiet","Kalk, dolomiet en magnesiet","Proces (methode A): gemengd (carbonaat + niet-carbonaat)",null,"Standaardmethode: Procedure, artikel 24, lid 2","n.v.t.",null,null,null,null,null,null,"n.v.t.","Kalk, dolomiet en magnesiet: Proces (methode A): gemengd (carbonaat + niet-carbonaat)",null,"OxF_Kalk, dolomiet en magnesiet: Proces (methode A): gemengd (carbonaat + niet-carbonaat)",null,null,null,null,null,null,true,null,null,null,null,null,null,null,null,null,null,null,"","","","",""]
[35,"Productie van kalksteen of branden van dolomiet of magnesiet","Kalk, dolomiet en magnesiet","Proces (methode A): niet-carbonaat",null,"Standaardmethode: Procedure, artikel 24, lid 2","n.v.t.",null,null,null,null,null,null,"n.v.t.","Kalk, dolomiet en magnesiet: Proces (methode A): niet-carbonaat",null,"OxF_Kalk, dolomiet en magnesiet: Proces (methode A): niet-carbonaat",null,null,null,null,null,null,true,null,null,null,null,null,null,null,null,null,null,null,"","","","",""]
[36,"Productie van kalksteen of branden van dolomiet of magnesiet","Kalk, dolomiet en magnesiet","Proces (methode B): oxide-uitgang",null,"Standaardmethode: Procedure, artikel 24, lid 2","n.v.t.",null,null,null,null,null,null,"n.v.t.","Kalk, dolomiet en magnesiet: Proces (methode B): oxide-uitgang",null,"OxF_Kalk, dolomiet en magnesiet: Proces (methode B): oxide-uitgang",null,null,null,null,null,null,true,null,null,null,null,null,null,null,null,null,null,null,"","","","",""]
[37,"Productie van kalksteen of branden van dolomiet of magnesiet","Kalk, dolomiet en magnesiet","Ovenstof (methode B)",null,"Standaardmethode: Procedure, artikel 24, lid 2","n.v.t.",null,null,null,null,null,null,"n.v.t.","Kalk, dolomiet en magnesiet: Ovenstof (methode B)",null,"OxF_Kalk, dolomiet en magnesiet: Ovenstof (methode B)",null,null,null,null,null,null,true,null,null,null,null,null,null,null,null,null,null,null,"","","","",""]
[38,"Vervaardiging van glas","Glas en minerale wol","Proces (methode A): alleen carbonaat",null,"Standaardmethode: Procedure, artikel 24, lid 2",{"$f":"EUconst_NA","v":"n.v.t."},null,null,null,null,null,null,"n.v.t.","Glas en minerale wol: Proces (methode A): alleen carbonaat",null,"OxF_Glas en minerale wol: Proces (methode A): alleen carbonaat",null,null,null,null,null,null,true,null,null,null,null,null,null,null,null,null,null,null,"","","","",""]
[39,"Vervaardiging van glas","Glas en minerale wol","Proces (methode A): gemengd (carbonaat + niet-carbonaat)",null,"Standaardmethode: Procedure, artikel 24, lid 2","n.v.t.",null,null,null,null,null,null,"n.v.t.","Glas en minerale wol: Proces (methode A): gemengd (carbonaat + niet-carbonaat)",null,"OxF_Glas en minerale wol: Proces (methode A): gemengd (carbonaat + niet-carbonaat)",null,null,null,null,null,null,true,null,null,null,null,null,null,null,null,null,null,null,"","","","",""]
[40,"Vervaardiging van glas","Glas en minerale wol","Proces (methode A): niet-carbonaat",null,"Standaardmethode: Procedure, artikel 24, lid 2","n.v.t.",null,null,null,null,null,null,"n.v.t.","Glas en minerale wol: Proces (methode A): niet-carbonaat",null,"OxF_Glas en minerale wol: Proces (methode A): niet-carbonaat",null,null,null,null,null,null,true,null,null,null,null,null,null,null,null,null,null,null,"","","","",""]
[41,{"$f":"B549","v":"Vervaardiging van keramiek"},"Keramiek","Proces (methode A): alleen carbonaat",null,"Standaardmethode: Procedure, artikel 24, lid 2","n.v.t.",null,null,null,null,null,null,"n.v.t.","Keramiek: Proces (methode A): alleen carbonaat",null,"OxF_Keramiek: Proces (methode A): alleen carbonaat",null,null,null,null,null,null,true,null,null,null,null,null,null,null,null,null,null,null,"","","","",""]
[42,"Vervaardiging van keramiek","Keramiek","Proces (methode A): gemengd (carbonaat + niet-carbonaat)",null,"Standaardmethode: Procedure, artikel 24, lid 2","n.v.t.",null,null,null,null,null,null,"n.v.t.","Keramiek: Proces (methode A): gemengd (carbonaat + niet-carbonaat)",null,"OxF_Keramiek: Proces (methode A): gemengd (carbonaat + niet-carbonaat)",null,null,null,null,null,null,true,null,null,null,null,null,null,null,null,null,null,null,"","","","",""]
[43,"Vervaardiging van keramiek","Keramiek","Proces (methode A): niet-carbonaat",null,"Standaardmethode: Procedure, artikel 24, lid 2","n.v.t.",null,null,null,null,null,null,"n.v.t.","Keramiek: Proces (methode A): niet-carbonaat",null,"OxF_Keramiek: Proces (methode A): niet-carbonaat",null,null,null,null,null,null,true,null,null,null,null,null,null,null,null,null,null,null,"","","","",""]
[44,"Vervaardiging van keramiek","Keramiek","Proces (methode B): oxide-uitgang",null,"Standaardmethode: Procedure, artikel 24, lid 2","n.v.t.",null,null,null,null,null,null,"n.v.t.","Keramiek: Proces (methode B): oxide-uitgang",null,"OxF_Keramiek: Proces (methode B): oxide-uitgang",null,null,null,null,null,null,true,null,null,null,null,null,null,null,null,null,null,null,"","","","",""]
[45,"Vervaardiging van keramiek","Keramiek","Gasreiniging",null,"Standaardmethode: Procedure, artikel 24, lid 2","n.v.t.",null,null,null,null,null,null,"n.v.t.","Keramiek: Gasreiniging",null,"OxF_Keramiek: Gasreiniging",null,null,null,null,null,null,true,null,null,null,null,null,null,null,null,null,null,null,"","","","",""]
[46,"Productie van pulp","Pulp en papier","Aanvullende chemicaliën",null,"Standaardmethode: Procedure, artikel 24, lid 2","n.v.t.",null,null,null,null,null,null,"n.v.t.","Pulp en papier: Aanvullende chemicaliën",null,"OxF_Pulp en papier: Aanvullende chemicaliën",null,null,null,null,null,null,true,null,null,null,null,null,null,null,null,null,null,null,"","","","",""]
[47,"Productie van roet","Roet","Massabalansmethodiek",null,"Massabalansmethode, artikel 25","n.v.t.",null,null,null,null,null,null,"n.v.t.","Roet: Massabalansmethodiek",null,"OxF_Roet: Massabalansmethodiek",null,null,null,null,null,null,true,null,null,null,null,null,null,null,null,null,null,null,"","","","",""]
[48,"Productie van ammoniak","Ammoniak","Brandstofinzet",null,"Standaardmethode: Brandstoffen, artikel 24, lid 1","n.v.t.",null,null,null,null,null,null,"n.v.t.","Ammoniak: Brandstofinzet",null,"OxF_Ammoniak: Brandstofinzet",null,null,null,null,null,null,true,null,null,null,null,null,null,null,null,null,null,null,"","","","",""]
[49,"Productie van waterstof en synthesegas","Waterstof en synthesegas","Brandstofinzet",null,"Standaardmethode: Brandstoffen, artikel 24, lid 1","n.v.t.",null,null,null,null,null,null,"n.v.t.","Waterstof en synthesegas: Brandstofinzet",null,"OxF_Waterstof en synthesegas: Brandstofinzet",null,null,null,null,null,null,true,null,null,null,null,null,null,null,null,null,null,null,"","","","",""]
[50,"Productie van waterstof en synthesegas","Waterstof en synthesegas","Massabalansmethodiek",null,"Massabalansmethode, artikel 25","n.v.t.",null,null,null,null,null,null,"n.v.t.","Waterstof en synthesegas: Massabalansmethodiek",null,"OxF_Waterstof en synthesegas: Massabalansmethodiek",null,null,null,null,null,null,true,null,null,null,null,null,null,null,null,null,null,null,"","","","",""]
[51,"Productie van bulkchemicaliën","Organische bulkchemicaliën","Massabalansmethodiek",null,"Massabalansmethode, artikel 25","n.v.t.",null,null,null,null,null,null,"n.v.t.","Organische bulkchemicaliën: Massabalansmethodiek",null,"OxF_Organische bulkchemicaliën: Massabalansmethodiek",null,null,null,null,null,null,true,null,null,null,null,null,null,null,null,null,null,null,"","","","",""]
[52,"Productie of verwerking van ferrometalen","(Non)-ferrometalen, secundair aluminium","Proces (methode A): alleen carbonaat",null,"Standaardmethode: Procedure, artikel 24, lid 2","n.v.t.",null,null,null,null,null,null,"n.v.t.","(Non)-ferrometalen, secundair aluminium: Proces (methode A): alleen carbonaat",null,"OxF_(Non)-ferrometalen, secundair aluminium: Proces (methode A): alleen carbonaat",null,null,null,null,null,null,true,null,null,null,null,null,null,null,null,null,null,null,"","","","",""]
[53,"Productie of verwerking van ferrometalen","(Non)-ferrometalen, secundair aluminium","Proces (methode A): gemengd (carbonaat + niet-carbonaat)",null,"Standaardmethode: Procedure, artikel 24, lid 2","n.v.t.",null,null,null,null,null,null,"n.v.t.","(Non)-ferrometalen, secundair aluminium: Proces (methode A): gemengd (carbonaat + niet-carbonaat)",null,"OxF_(Non)-ferrometalen, secundair aluminium: Proces (methode A): gemengd (carbonaat + niet-carbonaat)",null,null,null,null,null,null,true,null,null,null,null,null,null,null,null,null,null,null,"","","","",""]
[54,"Productie of verwerking van ferrometalen","(Non)-ferrometalen, secundair aluminium","Proces (methode A): niet-carbonaat",null,"Standaardmethode: Procedure, artikel 24, lid 2","n.v.t.",null,null,null,null,null,null,"n.v.t.","(Non)-ferrometalen, secundair aluminium: Proces (methode A): niet-carbonaat",null,"OxF_(Non)-ferrometalen, secundair aluminium: Proces (methode A): niet-carbonaat",null,null,null,null,null,null,true,null,null,null,null,null,null,null,null,null,null,null,"","","","",""]
[55,"Productie of verwerking van ferrometalen","(Non)-ferrometalen, secundair aluminium","Proces (methode B): oxide-uitgang",null,"Standaardmethode: Procedure, artikel 24, lid 2","n.v.t.",null,null,null,null,null,null,"n.v.t.","(Non)-ferrometalen, secundair aluminium: Proces (methode B): oxide-uitgang",null,"OxF_(Non)-ferrometalen, secundair aluminium: Proces (methode B): oxide-uitgang",null,null,null,null,null,null,true,null,null,null,null,null,null,null,null,null,null,null,"","","","",""]
[56,"Productie of verwerking van ferrometalen","(Non)-ferrometalen, secundair aluminium","Massabalansmethodiek",null,"Massabalansmethode, artikel 25","n.v.t.",null,null,null,null,null,null,"n.v.t.","(Non)-ferrometalen, secundair aluminium: Massabalansmethodiek",null,"OxF_(Non)-ferrometalen, secundair aluminium: Massabalansmethodiek",null,null,null,null,null,null,true,null,null,null,null,null,null,null,null,null,null,null,"","","","",""]
[57,"Productie van natriumcarbonaat en natriumbicarbonaat","Natriumcarbonaat en natriumbicarbonaat","Massabalansmethodiek",null,"Massabalansmethode, artikel 25","n.v.t.",null,null,null,null,null,null,"n.v.t.","Natriumcarbonaat en natriumbicarbonaat: Massabalansmethodiek",null,"OxF_Natriumcarbonaat en natriumbicarbonaat: Massabalansmethodiek",null,null,null,null,null,null,true,null,null,null,null,null,null,null,null,null,null,null,"","","","",""]
[58,"Productie van primair aluminium","Primair aluminium","Massabalansmethodiek",null,"Massabalansmethode, artikel 25","n.v.t.",null,null,null,null,null,null,"n.v.t.","Primair aluminium: Massabalansmethodiek",null,"OxF_Primair aluminium: Massabalansmethodiek",null,null,null,null,null,null,true,null,null,null,null,null,null,null,null,null,null,null,"","","","",""]
[59,"Productie van primair aluminium","Primair aluminium","PFK-emissies (hellingsmethode)",null,"Berekeningen met bijzondere bepalingen voor PFK's (bijlage VI, punt 8)","n.v.t.",null,null,null,null,null,null,"n.v.t.","Primair aluminium: PFK-emissies (hellingsmethode)",null,"OxF_Primair aluminium: PFK-emissies (hellingsmethode)",null,null,null,null,null,null,true,null,null,null,null,null,null,null,null,null,null,null,"","","","",""]
[60,"Productie van primair aluminium","Primair aluminium","PFK-emissies (overspanningsmethode)",null,"Berekeningen met bijzondere bepalingen voor PFK's (bijlage VI, punt 8)","n.v.t.",null,null,null,null,null,null,"n.v.t.","Primair aluminium: PFK-emissies (overspanningsmethode)",null,"OxF_Primair aluminium: PFK-emissies (overspanningsmethode)",null,null,null,null,null,null,true,null,null,null,null,null,null,null,null,null,null,null,"","","","",""]
[null,null,null,null,null,null,null,null,null,null,null,null,null,null,null,null,null,null,null,null,null,null,null,{"$f":"IF(G631=EUconst_NA,TRUE,FALSE)","v":false}]
["NEW",{"$f":"Translations!$B$523","v":"Omrekeningsfactor"},{"$f":"Translations!$B$957","v":"Korte naam"},{"$f":"Translations!$B$958","v":"Subactiviteit"},{"$f":"Translations!$B$389","v":"Parameter"},{"$f":"Translations!$B$959","v":"Brontype"},{"$f":"Translations!$B$960","v":"Minimum"},1,2,"2a",{"$f":"Translations!$B$928","v":"2b"},3,4,{"$f":"Translations!$B$961","v":"Hoogste"},null,null,null,null,null,null,null,null,null,{"$f":"Translations!$B$962","v":"grijs kleuren?"},null,null,null,null,null,null,null,null,null,null,"1=default value, 2=lab",1,2,"2a",{"$f":"Translations!$B$928","v":"2b"},3]
[1,{"$f":"B571","v":"Verbranding van brandstoffen"},"Verbranding","Commercieel verhandelbare standaardbrandstoffen",null,{"$f":"F571","v":"Standaardmethode: Brandstoffen, artikel 24, lid 1"},{"$f":"EUconst_NA","v":"n.v.t."},null,null,null,null,null,null,{"$f":"G633","v":"n.v.t."},{"$f":"C633 & \": \" &D633","v":"Verbranding: Commercieel verhandelbare standaardbrandstoffen"},null,{"$f":"EUconst_CNTR_ConversionFactor&O633","v":"ConvF_Verbranding: Commercieel verhandelbare standaardbrandstoffen"},null,null,null,null,null,null,{"$f":"IF(G633=EUconst_NA,TRUE,FALSE)","v":true},null,null,null,null,null,null,null,null,null,null,null,"","","","",""]
[2,"Verbranding van brandstoffen","Verbranding","Andere gasvormige en vloeibare brandstoffen",null,{"$f":"F572","v":"Standaardmethode: Brandstoffen, artikel 24, lid 1"},"n.v.t.",null,null,null,null,null,null,"n.v.t.",{"$f":"C634 & \": \" &D634","v":"Verbranding: Andere gasvormige en vloeibare brandstoffen"},null,"ConvF_Verbranding: Andere gasvormige en vloeibare brandstoffen",null,null,null,null,null,null,true,null,null,null,null,null,null,null,null,null,null,null,"","","","",""]
[3,"Verbranding van brandstoffen","Verbranding","Vaste brandstoffen",null,"Standaardmethode: Brandstoffen, artikel 24, lid 1","n.v.t.",null,null,null,null,null,null,"n.v.t.","Verbranding: Vaste brandstoffen",null,"ConvF_Verbranding: Vaste brandstoffen",null,null,null,null,null,null,true,null,null,null,null,null,null,null,null,null,null,null,"","","","",""]
[4,"Verbranding van brandstoffen","Verbranding","Gasverwerkingsterminals",null,"Massabalansmethode, artikel 25","n.v.t.",null,null,null,null,null,null,"n.v.t.","Verbranding: Gasverwerkingsterminals",null,"ConvF_Verbranding: Gasverwerkingsterminals",null,null,null,null,null,null,true,null,null,null,null,null,null,null,null,null,null,null,"","","","",""]
[5,"Verbranding van brandstoffen","Verbranding","Fakkels",null,"Standaardmethode: Brandstoffen, artikel 24, lid 1","n.v.t.",null,null,null,null,null,null,"n.v.t.","Verbranding: Fakkels",null,"ConvF_Verbranding: Fakkels",null,null,null,null,null,null,true,null,null,null,null,null,null,null,null,null,null,null,"","","","",""]
[6,"Verbranding van brandstoffen","Verbranding","Gasreiniging (carbonaat)",null,"Standaardmethode: Procedure, artikel 24, lid 2","n.v.t.",null,null,null,null,null,null,"n.v.t.","Verbranding: Gasreiniging (carbonaat)",null,"ConvF_Verbranding: Gasreiniging (carbonaat)",null,null,null,null,null,null,true,null,null,null,null,null,null,null,null,null,null,null,"","","","",""]
[7,"Verbranding van brandstoffen","Verbranding","Gasreiniging (gips)",null,"Standaardmethode: Procedure, artikel 24, lid 2","n.v.t.",null,null,null,null,null,null,"n.v.t.","Verbranding: Gasreiniging (gips)",null,"ConvF_Verbranding: Gasreiniging (gips)",null,null,null,null,null,null,true,null,null,null,null,null,null,null,null,null,null,null,"","","","",""]
[8,"Verbranding van brandstoffen","Verbranding","Gasreiniging (ureum)",null,"Standaardmethode: Procedure, artikel 24, lid 2","n.v.t.",null,null,null,null,null,null,"n.v.t.","Verbranding: Gasreiniging (ureum)",null,"ConvF_Verbranding: Gasreiniging (ureum)",null,null,null,null,null,null,true,null,null,null,null,null,null,null,null,null,null,null,"","","","",""]
[9,"Raffineren van aardoliën ","Raffinaderijen","Massabalans",null,"Massabalansmethode, artikel 25","n.v.t.",null,null,null,null,null,null,{"$f":"G641","v":"n.v.t."},"Raffinaderijen: Massabalans",null,"ConvF_Raffinaderijen: Massabalans",null,null,null,null,null,null,true,null,null,null,null,null,null,null,null,null,null,null,"","","","",""]
[10,"Raffineren van aardoliën ","Raffinaderijen","Katalytische-krakerregeneratie",null,"Massabalansmethode, artikel 25","n.v.t.",null,null,null,null,null,null,{"$f":"G642","v":"n.v.t."},"Raffinaderijen: Katalytische-krakerregeneratie",null,"ConvF_Raffinaderijen: Katalytische-krakerregeneratie",null,null,null,null,null,null,true,null,null,null,null,null,null,null,null,null,null,null,"","","","",""]
[11,"Raffineren van aardoliën ","Raffinaderijen","Waterstofproductie",null,"Massabalansmethode, artikel 25","n.v.t.",null,null,null,null,null,null,{"$f":"G643","v":"n.v.t."},"Raffinaderijen: Waterstofproductie",null,"ConvF_Raffinaderijen: Waterstofproductie",null,null,null,null,null,null,true,null,null,null,null,null,null,null,null,null,null,null,"","","","",""]
[12,"Productie van cokes","Cokes","Brandstofinzet",null,"Standaardmethode: Brandstoffen, artikel 24, lid 1","n.v.t.",null,null,null,null,null,null,{"$f":"G644","v":"n.v.t."},"Cokes: Brandstofinzet",null,"ConvF_Cokes: Brandstofinzet",null,null,null,null,null,null,true,null,null,null,null,null,null,null,null,null,null,null,"","","","",""]
[13,"Productie van cokes","Cokes","Proces (methode A): alleen carbonaat",null,"Standaardmethode: Procedure, artikel 24, lid 2",1,{"$f":"Translations!$B$1127","v":"Standaardwaarde CF=1"},{"$f":"Translations!$B$527","v":"Laboratoriumanalyses"},null,null,null,null,{"$f":"G645","v":1},"Cokes: Proces (methode A): alleen carbonaat",null,"ConvF_Cokes: Proces (methode A): alleen carbonaat",null,null,null,null,null,null,false,null,null,null,null,null,null,null,null,null,null,null,1,2,"","",""]
[14,"Productie van cokes","Cokes","Proces (methode A): gemengd (carbonaat + niet-carbonaat)",null,"Standaardmethode: Procedure, artikel 24, lid 2",1,{"$f":"Translations!$B$1127","v":"Standaardwaarde CF=1"},{"$f":"Translations!$B$527","v":"Laboratoriumanalyses"},null,null,null,null,1,"Cokes: Proces (methode A): gemengd (carbonaat + niet-carbonaat)",null,"ConvF_Cokes: Proces (methode A): gemengd (carbonaat + niet-carbonaat)",null,null,null,null,null,null,false,null,null,null,null,null,null,null,null,null,null,null,1,2,"","",""]
[15,"Productie van cokes","Cokes","Proces (methode A): niet-carbonaat",null,"Standaardmethode: Procedure, artikel 24, lid 2",1,{"$f":"Translations!$B$1127","v":"Standaardwaarde CF=1"},{"$f":"Translations!$B$527","v":"Laboratoriumanalyses"},null,null,null,null,1,"Cokes: Proces (methode A): niet-carbonaat",null,"ConvF_Cokes: Proces (methode A): niet-carbonaat",null,null,null,null,null,null,false,null,null,null,null,null,null,null,null,null,null,null,1,2,"","",""]
[16,"Productie van cokes","Cokes","Proces (methode B): oxide-uitgang",null,"Standaardmethode: Procedure, artikel 24, lid 2",1,{"$f":"Translations!$B$1127","v":"Standaardwaarde CF=1"},{"$f":"Translations!$B$527","v":"Laboratoriumanalyses"},null,null,null,null,1,"Cokes: Proces (methode B): oxide-uitgang",null,"ConvF_Cokes: Proces (methode B): oxide-uitgang",null,null,null,null,null,null,false,null,null,null,null,null,null,null,null,null,null,null,1,2,"","",""]
[17,"Productie van cokes","Cokes","Massabalans",null,"Massabalansmethode, artikel 25",{"$f":"EUconst_NA","v":"n.v.t."},null,null,null,null,null,null,"n.v.t.","Cokes: Massabalans",null,"ConvF_Cokes: Massabalans",null,null,null,null,null,null,true,null,null,null,null,null,null,null,null,null,null,null,"","","","",""]
[18,"Roosten of sinteren van metaalerts","Metaalerts","Proces (methode A): alleen carbonaat",null,"Standaardmethode: Procedure, artikel 24, lid 2",1,{"$f":"Translations!$B$1127","v":"Standaardwaarde CF=1"},{"$f":"Translations!$B$527","v":"Laboratoriumanalyses"},null,null,null,null,1,"Metaalerts: Proces (methode A): alleen carbonaat",null,"ConvF_Metaalerts: Proces (methode A): alleen carbonaat",null,null,null,null,null,null,false,null,null,null,null,null,null,null,null,null,null,null,1,2,"","",""]
[19,"Roosten of sinteren van metaalerts","Metaalerts","Proces (methode A): gemengd (carbonaat + niet-carbonaat)",null,"Standaardmethode: Procedure, artikel 24, lid 2",1,{"$f":"Translations!$B$1127","v":"Standaardwaarde CF=1"},{"$f":"Translations!$B$527","v":"Laboratoriumanalyses"},null,null,null,null,1,"Metaalerts: Proces (methode A): gemengd (carbonaat + niet-carbonaat)",null,"ConvF_Metaalerts: Proces (methode A): gemengd (carbonaat + niet-carbonaat)",null,null,null,null,null,null,false,null,null,null,null,null,null,null,null,null,null,null,1,2,"","",""]
[20,"Roosten of sinteren van metaalerts","Metaalerts","Proces (methode A): niet-carbonaat",null,"Standaardmethode: Procedure, artikel 24, lid 2",1,{"$f":"Translations!$B$1127","v":"Standaardwaarde CF=1"},{"$f":"Translations!$B$527","v":"Laboratoriumanalyses"},null,null,null,null,1,"Metaalerts: Proces (methode A): niet-carbonaat",null,"ConvF_Metaalerts: Proces (methode A): niet-carbonaat",null,null,null,null,null,null,false,null,null,null,null,null,null,null,null,null,null,null,1,2,"","",""]
[21,{"$f":"B591","v":"Roosten of sinteren van metaalerts"},"Metaalerts","Proces (methode B): oxide-uitgang",null,"Standaardmethode: Procedure, artikel 24, lid 2",1,{"$f":"Translations!$B$1127","v":"Standaardwaarde CF=1"},{"$f":"Translations!$B$527","v":"Laboratoriumanalyses"},null,null,null,null,1,"Metaalerts: Proces (methode B): oxide-uitgang",null,"ConvF_Metaalerts: Proces (methode B): oxide-uitgang",null,null,null,null,null,null,false,null,null,null,null,null,null,null,null,null,null,null,1,2,"","",""]
[22,"Roosten of sinteren van metaalerts","Metaalerts","Massabalans",null,"Massabalansmethode, artikel 25",{"$f":"EUconst_NA","v":"n.v.t."},null,null,null,null,null,null,"n.v.t.","Metaalerts: Massabalans",null,"ConvF_Metaalerts: Massabalans",null,null,null,null,null,null,true,null,null,null,null,null,null,null,null,null,null,null,"","","","",""]
[23,"Productie van ruwijzer of staal","IJzer en staal","Brandstofinzet",null,"Standaardmethode: Brandstoffen, artikel 24, lid 1",{"$f":"EUconst_NA","v":"n.v.t."},null,null,null,null,null,null,"n.v.t.","IJzer en staal: Brandstofinzet",null,"ConvF_IJzer en staal: Brandstofinzet",null,null,null,null,null,null,true,null,null,null,null,null,null,null,null,null,null,null,"","","","",""]
[24,"Productie van ruwijzer of staal","IJzer en staal","Proces (methode A): alleen carbonaat",null,"Standaardmethode: Procedure, artikel 24, lid 2",1,{"$f":"Translations!$B$1127","v":"Standaardwaarde CF=1"},{"$f":"Translations!$B$527","v":"Laboratoriumanalyses"},null,null,null,null,1,"IJzer en staal: Proces (methode A): alleen carbonaat",null,"ConvF_IJzer en staal: Proces (methode A): alleen carbonaat",null,null,null,null,null,null,false,null,null,null,null,null,null,null,null,null,null,null,1,2,"","",""]
[25,"Productie van ruwijzer of staal","IJzer en staal","Proces (methode A): gemengd (carbonaat + niet-carbonaat)",null,"Standaardmethode: Procedure, artikel 24, lid 2",1,{"$f":"Translations!$B$1127","v":"Standaardwaarde CF=1"},{"$f":"Translations!$B$527","v":"Laboratoriumanalyses"},null,null,null,null,1,"IJzer en staal: Proces (methode A): gemengd (carbonaat + niet-carbonaat)",null,"ConvF_IJzer en staal: Proces (methode A): gemengd (carbonaat + niet-carbonaat)",null,null,null,null,null,null,false,null,null,null,null,null,null,null,null,null,null,null,1,2,"","",""]
[26,"Productie van ruwijzer of staal","IJzer en staal","Proces (methode A): niet-carbonaat",null,"Standaardmethode: Procedure, artikel 24, lid 2",1,{"$f":"Translations!$B$1127","v":"Standaardwaarde CF=1"},{"$f":"Translations!$B$527","v":"Laboratoriumanalyses"},null,null,null,null,1,"IJzer en staal: Proces (methode A): niet-carbonaat",null,"ConvF_IJzer en staal: Proces (methode A): niet-carbonaat",null,null,null,null,null,null,false,null,null,null,null,null,null,null,null,null,null,null,1,2,"","",""]
[27,"Productie van ruwijzer of staal","IJzer en staal","Proces (methode B): oxide-uitgang",null,"Standaardmethode: Procedure, artikel 24, lid 2",1,{"$f":"Translations!$B$1127","v":"Standaardwaarde CF=1"},{"$f":"Translations!$B$527","v":"Laboratoriumanalyses"},null,null,null,null,1,"IJzer en staal: Proces (methode B): oxide-uitgang",null,"ConvF_IJzer en staal: Proces (methode B): oxide-uitgang",null,null,null,null,null,null,false,null,null,null,null,null,null,null,null,null,null,null,1,2,"","",""]
[28,"Productie van ruwijzer of staal","IJzer en staal","Massabalans",null,"Massabalansmethode, artikel 25",{"$f":"EUconst_NA","v":"n.v.t."},null,null,null,null,null,null,"n.v.t.","IJzer en staal: Massabalans",null,"ConvF_IJzer en staal: Massabalans",null,null,null,null,null,null,true,null,null,null,null,null,null,null,null,null,null,null,"","","","",""]
[29,"Productie van cementklinkers","Cementklinker","Op basis van inzet in de oven (methode A)",null,"Standaardmethode: Procedure, artikel 24, lid 2",1,{"$f":"Translations!$B$1127","v":"Standaardwaarde CF=1"},{"$f":"Translations!$B$527","v":"Laboratoriumanalyses"},null,null,null,null,1,"Cementklinker: Op basis van inzet in de oven (methode A)",null,"ConvF_Cementklinker: Op basis van inzet in de oven (methode A)",null,null,null,null,null,null,false,null,null,null,null,null,null,null,null,null,null,null,1,2,"","",""]
[30,"Productie van cementklinkers","Cementklinker","Op basis van geproduceerde klinker (methode B)",null,"Standaardmethode: Procedure, artikel 24, lid 2",1,{"$f":"Translations!$B$1127","v":"Standaardwaarde CF=1"},{"$f":"Translations!$B$527","v":"Laboratoriumanalyses"},null,null,null,null,1,"Cementklinker: Op basis van geproduceerde klinker (methode B)",null,"ConvF_Cementklinker: Op basis van geproduceerde klinker (methode B)",null,null,null,null,null,null,false,null,null,null,null,null,null,null,null,null,null,null,1,2,"","",""]
[31,"Productie van cementklinkers","Cementklinker","Cementovenstof",null,"Standaardmethode: Procedure, artikel 24, lid 2",{"$f":"EUconst_NA","v":"n.v.t."},null,null,null,null,null,null,"n.v.t.","Cementklinker: Cementovenstof",null,"ConvF_Cementklinker: Cementovenstof",null,null,null,null,null,null,true,null,null,null,null,null,null,null,null,null,null,null,"","","","",""]
[32,"Productie van cementklinkers","Cementklinker","Niet-carbonaatkoolstof",null,"Standaardmethode: Procedure, artikel 24, lid 2",1,{"$f":"Translations!$B$1127","v":"Standaardwaarde CF=1"},{"$f":"Translations!$B$1085","v":"Beste werkwijzen"},null,null,null,null,1,"Cementklinker: Niet-carbonaatkoolstof",null,"ConvF_Cementklinker: Niet-carbonaatkoolstof",null,null,null,null,null,null,false,null,null,null,null,null,null,null,null,null,null,null,1,2,"","",""]
[33,"Productie van kalksteen of branden van dolomiet of magnesiet","Kalk, dolomiet en magnesiet","Proces (methode A): alleen carbonaat",null,"Standaardmethode: Procedure, artikel 24, lid 2",1,{"$f":"Translations!$B$1127","v":"Standaardwaarde CF=1"},{"$f":"Translations!$B$527","v":"Laboratoriumanalyses"},null,null,null,null,1,"Kalk, dolomiet en magnesiet: Proces (methode A): alleen carbonaat",null,{"$f":"EUconst_CNTR_ConversionFactor&O665","v":"ConvF_Kalk, dolomiet en magnesiet: Proces (methode A): alleen carbonaat"},null,null,null,null,null,null,false,null,null,null,null,null,null,null,null,null,null,null,1,2,"","",""]
[34,"Productie van kalksteen of branden van dolomiet of magnesiet","Kalk, dolomiet en magnesiet","Proces (methode A): gemengd (carbonaat + niet-carbonaat)",null,"Standaardmethode: Procedure, artikel 24, lid 2",1,{"$f":"Translations!$B$1127","v":"Standaardwaarde CF=1"},{"$f":"Translations!$B$527","v":"Laboratoriumanalyses"},null,null,null,null,1,"Kalk, dolomiet en magnesiet: Proces (methode A): gemengd (carbonaat + niet-carbonaat)",null,"ConvF_Kalk, dolomiet en magnesiet: Proces (methode A): gemengd (carbonaat + niet-carbonaat)",null,null,null,null,null,null,false,null,null,null,null,null,null,null,null,null,null,null,1,2,"","",""]
[35,"Productie van kalksteen of branden van dolomiet of magnesiet","Kalk, dolomiet en magnesiet","Proces (methode A): niet-carbonaat",null,"Standaardmethode: Procedure, artikel 24, lid 2",1,{"$f":"Translations!$B$1127","v":"Standaardwaarde CF=1"},{"$f":"Translations!$B$1085","v":"Beste werkwijzen"},null,null,null,null,1,"Kalk, dolomiet en magnesiet: Proces (methode A): niet-carbonaat",null,"ConvF_Kalk, dolomiet en magnesiet: Proces (methode A): niet-carbonaat",null,null,null,null,null,null,false,null,null,null,null,null,null,null,null,null,null,null,1,2,"","",""]
[36,"Productie van kalksteen of branden van dolomiet of magnesiet","Kalk, dolomiet en magnesiet","Proces (methode B): oxide-uitgang",null,"Standaardmethode: Procedure, artikel 24, lid 2",1,{"$f":"Translations!$B$1127","v":"Standaardwaarde CF=1"},{"$f":"Translations!$B$527","v":"Laboratoriumanalyses"},null,null,null,null,1,"Kalk, dolomiet en magnesiet: Proces (methode B): oxide-uitgang",null,"ConvF_Kalk, dolomiet en magnesiet: Proces (methode B): oxide-uitgang",null,null,null,null,null,null,false,null,null,null,null,null,null,null,null,null,null,null,1,2,"","",""]
[37,"Productie van kalksteen of branden van dolomiet of magnesiet","Kalk, dolomiet en magnesiet","Ovenstof (methode B)",null,"Standaardmethode: Procedure, artikel 24, lid 2",1,{"$f":"Translations!$B$1127","v":"Standaardwaarde CF=1"},{"$f":"Translations!$B$527","v":"Laboratoriumanalyses"},null,null,null,null,1,"Kalk, dolomiet en magnesiet: Ovenstof (methode B)",null,"ConvF_Kalk, dolomiet en magnesiet: Ovenstof (methode B)",null,null,null,null,null,null,false,null,null,null,null,null,null,null,null,null,null,null,1,2,"","",""]
[38,"Vervaardiging van glas","Glas en minerale wol","Proces (methode A): alleen carbonaat",null,"Standaardmethode: Procedure, artikel 24, lid 2",{"$f":"EUconst_NA","v":"n.v.t."},null,null,null,null,null,null,"n.v.t.","Glas en minerale wol: Proces (methode A): alleen carbonaat",null,"ConvF_Glas en minerale wol: Proces (methode A): alleen carbonaat",null,null,null,null,null,null,true,null,null,null,null,null,null,null,null,null,null,null,"","","","",""]
[39,"Vervaardiging van glas","Glas en minerale wol","Proces (methode A): gemengd (carbonaat + niet-carbonaat)",null,"Standaardmethode: Procedure, artikel 24, lid 2",{"$f":"EUconst_NA","v":"n.v.t."},null,null,null,null,null,null,"n.v.t.","Glas en minerale wol: Proces (methode A): gemengd (carbonaat + niet-carbonaat)",null,"ConvF_Glas en minerale wol: Proces (methode A): gemengd (carbonaat + niet-carbonaat)",null,null,null,null,null,null,true,null,null,null,null,null,null,null,null,null,null,null,"","","","",""]
[40,"Vervaardiging van glas","Glas en minerale wol","Proces (methode A): niet-carbonaat",null,"Standaardmethode: Procedure, artikel 24, lid 2",{"$f":"EUconst_NA","v":"n.v.t."},null,null,null,null,null,null,"n.v.t.","Glas en minerale wol: Proces (methode A): niet-carbonaat",null,"ConvF_Glas en minerale wol: Proces (methode A): niet-carbonaat",null,null,null,null,null,null,true,null,null,null,null,null,null,null,null,null,null,null,"","","","",""]
[41,{"$f":"B611","v":"Vervaardiging van keramiek"},"Keramiek","Proces (methode A): alleen carbonaat",null,"Standaardmethode: Procedure, artikel 24, lid 2",1,{"$f":"Translations!$B$1127","v":"Standaardwaarde CF=1"},{"$f":"Translations!$B$527","v":"Laboratoriumanalyses"},null,null,null,null,1,"Keramiek: Proces (methode A): alleen carbonaat",null,"ConvF_Keramiek: Proces (methode A): alleen carbonaat",null,null,null,null,null,null,false,null,null,null,null,null,null,null,null,null,null,null,1,2,"","",""]
[42,"Vervaardiging van keramiek","Keramiek","Proces (methode A): gemengd (carbonaat + niet-carbonaat)",null,"Standaardmethode: Procedure, artikel 24, lid 2",1,{"$f":"Translations!$B$1127","v":"Standaardwaarde CF=1"},{"$f":"Translations!$B$527","v":"Laboratoriumanalyses"},null,null,null,null,1,"Keramiek: Proces (methode A): gemengd (carbonaat + niet-carbonaat)",null,"ConvF_Keramiek: Proces (methode A): gemengd (carbonaat + niet-carbonaat)",null,null,null,null,null,null,false,null,null,null,null,null,null,null,null,null,null,null,1,2,"","",""]
[43,"Vervaardiging van keramiek","Keramiek","Proces (methode A): niet-carbonaat",null,"Standaardmethode: Procedure, artikel 24, lid 2",1,{"$f":"Translations!$B$1127","v":"Standaardwaarde CF=1"},{"$f":"Translations!$B$527","v":"Laboratoriumanalyses"},null,null,null,null,1,"Keramiek: Proces (methode A): niet-carbonaat",null,"ConvF_Keramiek: Proces (methode A): niet-carbonaat",null,null,null,null,null,null,false,null,null,null,null,null,null,null,null,null,null,null,1,2,"","",""]
[44,"Vervaardiging van keramiek","Keramiek","Proces (methode B): oxide-uitgang",null,"Standaardmethode: Procedure, artikel 24, lid 2",1,{"$f":"Translations!$B$1127","v":"Standaardwaarde CF=1"},{"$f":"Translations!$B$527","v":"Laboratoriumanalyses"},null,null,null,null,1,"Keramiek: Proces (methode B): oxide-uitgang",null,"ConvF_Keramiek: Proces (methode B): oxide-uitgang",null,null,null,null,null,null,false,null,null,null,null,null,null,null,null,null,null,null,1,2,"","",""]
[45,"Vervaardiging van keramiek","Keramiek","Gasreiniging",null,"Standaardmethode: Procedure, artikel 24, lid 2",{"$f":"EUconst_NA","v":"n.v.t."},null,null,null,null,null,null,"n.v.t.","Keramiek: Gasreiniging",null,"ConvF_Keramiek: Gasreiniging",null,null,null,null,null,null,true,null,null,null,null,null,null,null,null,null,null,null,"","","","",""]
[46,"Productie van pulp","Pulp en papier","Aanvullende chemicaliën",null,"Standaardmethode: Procedure, artikel 24, lid 2","n.v.t.",null,null,null,null,null,null,"n.v.t.","Pulp en papier: Aanvullende chemicaliën",null,"ConvF_Pulp en papier: Aanvullende chemicaliën",null,null,null,null,null,null,true,null,null,null,null,null,null,null,null,null,null,null,"","","","",""]
[47,"Productie van roet","Roet","Massabalansmethodiek",null,"Massabalansmethode, artikel 25","n.v.t.",null,null,null,null,null,null,"n.v.t.","Roet: Massabalansmethodiek",null,"ConvF_Roet: Massabalansmethodiek",null,null,null,null,null,null,true,null,null,null,null,null,null,null,null,null,null,null,"","","","",""]
[48,"Productie van ammoniak","Ammoniak","Brandstofinzet",null,"Standaardmethode: Brandstoffen, artikel 24, lid 1","n.v.t.",null,null,null,null,null,null,"n.v.t.","Ammoniak: Brandstofinzet",null,"ConvF_Ammoniak: Brandstofinzet",null,null,null,null,null,null,true,null,null,null,null,null,null,null,null,null,null,null,"","","","",""]
[49,"Productie van waterstof en synthesegas","Waterstof en synthesegas","Brandstofinzet",null,"Standaardmethode: Brandstoffen, artikel 24, lid 1","n.v.t.",null,null,null,null,null,null,"n.v.t.","Waterstof en synthesegas: Brandstofinzet",null,"ConvF_Waterstof en synthesegas: Brandstofinzet",null,null,null,null,null,null,true,null,null,null,null,null,null,null,null,null,null,null,"","","","",""]
[50,"Productie van waterstof en synthesegas","Waterstof en synthesegas","Massabalansmethodiek",null,"Massabalansmethode, artikel 25","n.v.t.",null,null,null,null,null,null,"n.v.t.","Waterstof en synthesegas: Massabalansmethodiek",null,"ConvF_Waterstof en synthesegas: Massabalansmethodiek",null,null,null,null,null,null,true,null,null,null,null,null,null,null,null,null,null,null,"","","","",""]
[51,"Productie van bulkchemicaliën","Organische bulkchemicaliën","Massabalansmethodiek",null,"Massabalansmethode, artikel 25","n.v.t.",null,null,null,null,null,null,"n.v.t.","Organische bulkchemicaliën: Massabalansmethodiek",null,"ConvF_Organische bulkchemicaliën: Massabalansmethodiek",null,null,null,null,null,null,true,null,null,null,null,null,null,null,null,null,null,null,"","","","",""]
[52,"Productie of verwerking van ferrometalen","(Non)-ferrometalen, secundair aluminium","Proces (methode A): alleen carbonaat",null,"Standaardmethode: Procedure, artikel 24, lid 2",1,{"$f":"Translations!$B$1127","v":"Standaardwaarde CF=1"},{"$f":"Translations!$B$527","v":"Laboratoriumanalyses"},null,null,null,null,1,"(Non)-ferrometalen, secundair aluminium: Proces (methode A): alleen carbonaat",null,"ConvF_(Non)-ferrometalen, secundair aluminium: Proces (methode A): alleen carbonaat",null,null,null,null,null,null,false,null,null,null,null,null,null,null,null,null,null,null,1,2,"","",""]
[53,"Productie of verwerking van ferrometalen","(Non)-ferrometalen, secundair aluminium","Proces (methode A): gemengd (carbonaat + niet-carbonaat)",null,"Standaardmethode: Procedure, artikel 24, lid 2",1,{"$f":"Translations!$B$1127","v":"Standaardwaarde CF=1"},{"$f":"Translations!$B$527","v":"Laboratoriumanalyses"},null,null,null,null,1,"(Non)-ferrometalen, secundair aluminium: Proces (methode A): gemengd (carbonaat + niet-carbonaat)",null,"ConvF_(Non)-ferrometalen, secundair aluminium: Proces (methode A): gemengd (carbonaat + niet-carbonaat)",null,null,null,null,null,null,false,null,null,null,null,null,null,null,null,null,null,null,1,2,"","",""]
[54,"Productie of verwerking van ferrometalen","(Non)-ferrometalen, secundair aluminium","Proces (methode A): niet-carbonaat",null,"Standaardmethode: Procedure, artikel 24, lid 2",1,{"$f":"Translations!$B$1127","v":"Standaardwaarde CF=1"},{"$f":"Translations!$B$527","v":"Laboratoriumanalyses"},null,null,null,null,1,"(Non)-ferrometalen, secundair aluminium: Proces (methode A): niet-carbonaat",null,"ConvF_(Non)-ferrometalen, secundair aluminium: Proces (methode A): niet-carbonaat",null,null,null,null,null,null,false,null,null,null,null,null,null,null,null,null,null,null,1,2,"","",""]
[55,"Productie of verwerking van ferrometalen","(Non)-ferrometalen, secundair aluminium","Proces (methode B): oxide-uitgang",null,"Standaardmethode: Procedure, artikel 24, lid 2",1,{"$f":"Translations!$B$1127","v":"Standaardwaarde CF=1"},{"$f":"Translations!$B$527","v":"Laboratoriumanalyses"},null,null,null,null,1,"(Non)-ferrometalen, secundair aluminium: Proces (methode B): oxide-uitgang",null,"ConvF_(Non)-ferrometalen, secundair aluminium: Proces (methode B): oxide-uitgang",null,null,null,null,null,null,false,null,null,null,null,null,null,null,null,null,null,null,1,2,"","",""]
[56,"Productie of verwerking van ferrometalen","(Non)-ferrometalen, secundair aluminium","Massabalansmethodiek",null,"Massabalansmethode, artikel 25",{"$f":"EUconst_NA","v":"n.v.t."},null,null,null,null,null,null,{"$f":"G688","v":"n.v.t."},"(Non)-ferrometalen, secundair aluminium: Massabalansmethodiek",null,"ConvF_(Non)-ferrometalen, secundair aluminium: Massabalansmethodiek",null,null,null,null,null,null,true,null,null,null,null,null,null,null,null,null,null,null,"","","","",""]
[57,"Productie van natriumcarbonaat en natriumbicarbonaat","Natriumcarbonaat en natriumbicarbonaat","Massabalansmethodiek",null,"Massabalansmethode, artikel 25",{"$f":"EUconst_NA","v":"n.v.t."},null,null,null,null,null,null,{"$f":"G689","v":"n.v.t."},"Natriumcarbonaat en natriumbicarbonaat: Massabalansmethodiek",null,"ConvF_Natriumcarbonaat en natriumbicarbonaat: Massabalansmethodiek",null,null,null,null,null,null,true,null,null,null,null,null,null,null,null,null,null,null,"","","","",""]
[58,"Productie van primair aluminium","Primair aluminium","Massabalansmethodiek",null,"Massabalansmethode, artikel 25",{"$f":"EUconst_NA","v":"n.v.t."},null,null,null,null,null,null,{"$f":"G690","v":"n.v.t."},"Primair aluminium: Massabalansmethodiek",null,"ConvF_Primair aluminium: Massabalansmethodiek",null,null,null,null,null,null,{"$f":"IF(G690=EUconst_NA,TRUE,FALSE)","v":true},null,null,null,null,null,null,null,null,null,null,null,"","","","",""]
[59,"Productie van primair aluminium","Primair aluminium","PFK-emissies (hellingsmethode)",null,"Berekeningen met bijzondere bepalingen voor PFK's (bijlage VI, punt 8)",{"$f":"EUconst_NA","v":"n.v.t."},null,null,null,null,null,null,{"$f":"G691","v":"n.v.t."},"Primair aluminium: PFK-emissies (hellingsmethode)",null,"ConvF_Primair aluminium: PFK-emissies (hellingsmethode)",null,null,null,null,null,null,true,null,null,null,null,null,null,null,null,null,null,null,"","","","",""]
[60,"Productie van primair aluminium","Primair aluminium","PFK-emissies (overspanningsmethode)",null,"Berekeningen met bijzondere bepalingen voor PFK's (bijlage VI, punt 8)",{"$f":"EUconst_NA","v":"n.v.t."},null,null,null,null,null,null,{"$f":"G692","v":"n.v.t."},"Primair aluminium: PFK-emissies (overspanningsmethode)",null,"ConvF_Primair aluminium: PFK-emissies (overspanningsmethode)",null,null,null,null,null,null,true,null,null,null,null,null,null,null,null,null,null,null,"","","","",""]
[null,null,null,null,null,null,null,null,null,null,null,null,null,null,null,null,null,null,null,null,null,null,null,{"$f":"IF(G693=EUconst_NA,TRUE,FALSE)","v":false}]
[null,{"$f":"Translations!$B$1131","v":"Maateenheid"},null,null,null,null,{"$f":"Translations!$B$960","v":"Minimum"},1,2,"2a",{"$f":"Translations!$B$928","v":"2b"},3,4,{"$f":"Translations!$B$961","v":"Hoogste"}]
[null,{"$f":"B50","v":"CO2"},null,null,null,null,2,{"$f":"Translations!$B$1132","v":"± 10,0%"},{"$f":"Translations!$B$966","v":"± 7,5%"},null,null,{"$f":"Translations!$B$967","v":"± 5,0%"},{"$f":"Translations!$B$968","v":"± 2,5%"},{"$f":"IF(G695=EUconst_NA,EUconst_NA,IF(ISBLANK(J695),COUNTA(H695:M695),COUNTA(H695,J695,L695)))","v":4}]
[null,{"$f":"C50","v":"N2O"},null,null,null,null,2,{"$f":"Translations!$B$1132","v":"± 10,0%"},{"$f":"Translations!$B$966","v":"± 7,5%"},null,null,{"$f":"Translations!$B$967","v":"± 5,0%"},{"$f":"EUconst_NA","v":"n.v.t."},3]
[null,{"$f":"D50","v":"Overdracht van CO2"},null,null,null,null,2,{"$f":"Translations!$B$1132","v":"± 10,0%"},{"$f":"Translations!$B$966","v":"± 7,5%"},null,null,{"$f":"Translations!$B$967","v":"± 5,0%"},{"$f":"Translations!$B$968","v":"± 2,5%"},{"$f":"IF(G697=EUconst_NA,EUconst_NA,IF(ISBLANK(J697),COUNTA(H697:M697),COUNTA(H697,J697,L697)))","v":4}]
[null,{"$f":"Translations!$B$1241","v":"Overbrenging van N2O"},null,null,null,null,2,{"$f":"Translations!$B$1132","v":"± 10,0%"},{"$f":"Translations!$B$966","v":"± 7,5%"},null,null,{"$f":"Translations!$B$967","v":"± 5,0%"},{"$f":"EUconst_NA","v":"n.v.t."},3]
[]
[]
[]
[]
[]
[]
[]
[]
[]
[]
[null,"Tier conversion",null,{"$f":"Translations!$B$1133","v":"Niveaus"}]
[null,null,1,1]
[null,null,2,2]
[null,null,3,"2a"]
[null,null,4,{"$f":"Translations!$B$928","v":"2b"}]
[null,null,5,3]
[null,null,6,4]
[{"$f":"Translations!$B$1134","v":"Berekening – toepasselijke niveaus"}]
[null,{"$f":"Translations!$B$1135","v":"Kleine emittent"},{"$f":"Translations!$B$1136","v":"Categorie"},{"$f":"Translations!$B$1137","v":"Bronstroomcategorie"},null,{"$f":"Translations!$B$1138","v":"Bericht"}]
[null,{"$f":"EUconst_CNTR_SmallEmitter","v":"SmallEmitter_"},"A",1,{"$f":"B718 & C718 & \"_\" & D718","v":"SmallEmitter_A_1"},{"$f":"Translations!$B$1139","v":"Artikel 47, lid 6, installatie met geringe emissies: voor alle bronstromen mag niveau 1 als minimum worden toegepast voor activiteitsgegevens en berekeningsfactoren, tenzij zonder extra inspanningen van de exploitant een grotere nauwkeurigheid kan worden bereikt, zonder dat hij moet bewijzen dat het toepassen van hogere niveaus technisch niet haalbaar is of tot onredelijke kosten zou leiden."}]
[null,{"$f":"EUconst_CNTR_SmallEmitter","v":"SmallEmitter_"},"A",2,{"$f":"B719 & C719 & \"_\" & D719","v":"SmallEmitter_A_2"},{"$f":"Translations!$B$1139","v":"Artikel 47, lid 6, installatie met geringe emissies: voor alle bronstromen mag niveau 1 als minimum worden toegepast voor activiteitsgegevens en berekeningsfactoren, tenzij zonder extra inspanningen van de exploitant een grotere nauwkeurigheid kan worden bereikt, zonder dat hij moet bewijzen dat het toepassen van hogere niveaus technisch niet haalbaar is of tot onredelijke kosten zou leiden."}]
[null,{"$f":"EUconst_CNTR_SmallEmitter","v":"SmallEmitter_"},"A",3,"SmallEmitter_A_3",{"$f":"Translations!$B$1142","v":"Artikel 26, lid 3, de-minimisbronstromen: de activiteitsgegevens en elke berekeningsfactor mogen worden bepaald aan de hand van conservatieve schattingen in plaats van niveaus, tenzij een bepaald niveau haalbaar is zonder extra inspanningen."}]
[null,{"$f":"EUconst_CNTR_NoSmallEmitter","v":"NoSmallEmitter_"},"A",1,"NoSmallEmitter_A_1",{"$f":"Translations!$B$1140","v":"Artikel 26, lid 1: Ten minste worden onderstaande minimale niveaus gehanteerd. \nU mag echter tot twee niveaus lager gebruiken, met als minimum niveau 1, mits u ten genoegen van de bevoegde autoriteit aantoont dat het verplichte niveau overeenkomstig de eerste alinea technisch niet haalbaar is of leidt tot onredelijke kosten."}]
[null,"NoSmallEmitter_","A",2,"NoSmallEmitter_A_2",{"$f":"Translations!$B$1141","v":"Artikel 26, lid 2, kleine bronstromen: Voor activiteitsgegevens en elke berekeningsfactor past de exploitant het hoogste niveau toe dat technisch haalbaar is en niet leidt tot onredelijke kosten, met als minimum niveau 1."}]
[null,"NoSmallEmitter_","A",3,"NoSmallEmitter_A_3",{"$f":"Translations!$B$1142","v":"Artikel 26, lid 3, de-minimisbronstromen: de activiteitsgegevens en elke berekeningsfactor mogen worden bepaald aan de hand van conservatieve schattingen in plaats van niveaus, tenzij een bepaald niveau haalbaar is zonder extra inspanningen."}]
[null,"NoSmallEmitter_","B",1,"NoSmallEmitter_B_1",{"$f":"Translations!$B$453","v":"Artikel 26, lid 1: Ten minste worden onderstaande minimale niveaus gehanteerd.\nU mag echter tot twee niveaus lager gebruiken, met als minimum niveau 1, mits u ten genoegen van de bevoegde autoriteit aantoont dat het verplichte niveau overeenkomstig de eerste alinea technisch niet haalbaar is of leidt tot onredelijke kosten."}]
[null,"NoSmallEmitter_","B",2,"NoSmallEmitter_B_2",{"$f":"Translations!$B$1141","v":"Artikel 26, lid 2, kleine bronstromen: Voor activiteitsgegevens en elke berekeningsfactor past de exploitant het hoogste niveau toe dat technisch haalbaar is en niet leidt tot onredelijke kosten, met als minimum niveau 1."}]
[null,"NoSmallEmitter_","B",3,"NoSmallEmitter_B_3",{"$f":"Translations!$B$1142","v":"Artikel 26, lid 3, de-minimisbronstromen: de activiteitsgegevens en elke berekeningsfactor mogen worden bepaald aan de hand van conservatieve schattingen in plaats van niveaus, tenzij een bepaald niveau haalbaar is zonder extra inspanningen."}]
[null,"NoSmallEmitter_","C",1,"NoSmallEmitter_C_1",{"$f":"Translations!$B$1143","v":"Artikel 26, lid 1: Ten minste worden onderstaande minimale niveaus gehanteerd.\nU mag echter een niveau lager gebruiken, met als minimum niveau 1, mits u ten genoegen van de bevoegde autoriteit kunt aantonen dat het verplichte niveau overeenkomstig de eerste alinea technisch niet haalbaar is of leidt tot onredelijke kosten."}]
[null,"NoSmallEmitter_","C",2,"NoSmallEmitter_C_2",{"$f":"Translations!$B$1141","v":"Artikel 26, lid 2, kleine bronstromen: Voor activiteitsgegevens en elke berekeningsfactor past de exploitant het hoogste niveau toe dat technisch haalbaar is en niet leidt tot onredelijke kosten, met als minimum niveau 1."}]
[null,"NoSmallEmitter_","C",3,"NoSmallEmitter_C_3",{"$f":"Translations!$B$1142","v":"Artikel 26, lid 3, de-minimisbronstromen: de activiteitsgegevens en elke berekeningsfactor mogen worden bepaald aan de hand van conservatieve schattingen in plaats van niveaus, tenzij een bepaald niveau haalbaar is zonder extra inspanningen."}]
[{"$f":"Translations!$B$1144","v":"Meting – toepasselijke niveaus"}]
[null,null,null,{"$f":"Translations!$B$1145","v":"Emissiebroncategorie"},null,{"$f":"Translations!$B$1138","v":"Bericht"}]
[null,{"$f":"EUconst_CNTR_SmallEmitter","v":"SmallEmitter_"},null,1,{"$f":"B732 & \"_\" & D732","v":"SmallEmitter__1"},{"$f":"Translations!$B$1268","v":"Installatie met geringe emissies / grote emissiebron: u mag niveau 1 toepassen, tenzij er zonder extra inspanningen van de exploitant een grotere nauwkeurigheid kan worden bereikt."}]
[null,{"$f":"EUconst_CNTR_SmallEmitter","v":"SmallEmitter_"},null,2,{"$f":"B733 & \"_\" & D733","v":"SmallEmitter__2"},{"$f":"Translations!$B$1269","v":"Installatie met geringe emissies / kleine emissiebron: u mag niveau 1 toepassen, tenzij er zonder extra inspanningen van de exploitant een grotere nauwkeurigheid kan worden bereikt."}]
[null,{"$f":"EUconst_CNTR_NoSmallEmitter","v":"NoSmallEmitter_"},null,1,{"$f":"B734 & \"_\" & D734","v":"NoSmallEmitter__1"},{"$f":"Translations!$B$1270","v":"Grote emissiebron: het hieronder getoonde minimale niveau is van toepassing. \nU mag echter een niveau lager gebruiken, met als minimum niveau 1, mits u ten genoegen van de bevoegde autoriteit kunt aantonen dat het verplichte niveau overeenkomstig de eerste alinea technisch niet haalbaar is of onredelijke kosten met zich meebrengt."}]
[null,{"$f":"EUconst_CNTR_NoSmallEmitter","v":"NoSmallEmitter_"},null,2,{"$f":"B735 & \"_\" & D735","v":"NoSmallEmitter__2"},{"$f":"Translations!$B$1271","v":"Kleine emissiebron: u mag een lager niveau toepassen dan het onderstaande vereiste niveau, met als minimum niveau 1, mits u kunt aantonen dat het toepassen van dat niveau technisch gezien niet haalbaar is of onredelijke kosten met zich meebrengt."}]
[]
[]
["<END of list>"]

{"sheet":"Translations","index":18,"n_rows":1273,"n_cols":3,"rows_kept":1273,"cut":false,"hidden":true,"merged":[]}
["Number","TEXT (Language Version)","English Version (Original)"]
[1,"MONITORINGPLAN 2021-2030"]
[2,"INHOUDSOPGAVE"]
[3,"Werkbladtitels staan in een vet en afdelingstitels in een normaal lettertype."]
[4,"a_Inhoud"]
[5,"b_Richtsnoeren en voorwaarden"]
[6,"A. Versies van het monitoringplan"]
[7,"Lijst met versies van het monitoringplan"]
[8,"B. Informatie over de exploitant en de installatie"]
[9,"Informatie over de exploitant"]
[10,"Informatie over uw installatie"]
[11,"Contactgegevens "]
[12,"C. Beschrijving van de installatie"]
[13,"De activiteiten van de installatie"]
[14,"Informatie over uw emissies"]
[15,"D. Rekenmethoden"]
[16,"Berekening: Informatie die nodig is voor verdere invoer op het volgende werkblad"]
[17,"E. Bronstromen"]
[18,"Informatie over de niveaus die worden toegepast voor activiteitsgegevens en berekeningsfactoren"]
[19,"F. Meetmethoden"]
[20,"Meting van CO2- en N2O-emissies "]
[21,"Informatie over meetpunten"]
[22,"Beheer van en procedures voor meetmethoden"]
[23,"G. \"Fall-back\"-methode"]
[24,"Beschrijving van de \"Fall-back\"-methode"]
[25,"H. N2O-emissies"]
[26,"Beheer van en procedures voor de monitoring van N2O-emissies"]
[27,"I. Bepaling van PFK-emissies uit de productie van primair aluminium"]
[28,"Bepaling van PFK-emissies"]
[29,"Informatie over de monitoring van bronstromen van PFK-emissies"]
[30,"Beheer van en schriftelijke procedures voor PFK-monitoring"]
[31,"J. Bepaling van overgebracht of inherent CO2"]
[32,"Bepaling van overgebracht en inherent CO2"]
[33,"Informatie betreffende pijpleidingsystemen waarmee CO2 wordt getransporteerd"]
[34,"Informatie betreffende installaties voor de geologische opslag van CO2"]
[35,"K. Beheer en controle"]
[36,"Beheer "]
[37,"Dataflow-activiteiten"]
[38,"Controleactiviteiten"]
[39,"Lijst van gebruikte definities en afkortingen"]
[40,"Aanvullende informatie"]
[41,"Veranderingen in de exploitatie"]
[42,"L. Lidstaatspecifieke aanvullende informatie"]
[43,"Opmerkingen"]
[44,"Informatie over dit bestand:"]
[45,"Dit monitoringplan is ingediend door:"]
[46,"Naam van de installatie:"]
[47,"Uniek identificatienummer van de installatie:"]
[48,"Versienummer van dit monitoringplan:"]
[49,"Als de bevoegde autoriteit een ondertekende papieren versie van het monitoringplan verlangt, zet u de handtekening hieronder:"]
[50,"Datum"]
[51,"Naam en handtekening van \nde juridisch verantwoordelijke persoon"]
[52,"Modelversie:"]
[53,"Het model is verstrekt door:"]
[54,"Datum van publicatie:"]
[55,"Taalversie:"]
[56,"Referentie bestandsnaam"]
[57,"b.\nGuide-lines"]
[58,"Navigatiezone:"]
[59,"Inhoudsopgave"]
[60,"Vorig werkblad"]
[61,"Volgend werkblad"]
[62,"Begin werkblad"]
[63,"Einde werkblad"]
[64,"RICHTSNOEREN EN VOORWAARDEN"]
[65,"Krachtens Richtlijn 2003/87/EG (hierna \"de EU-ETS-richtlijn\") dienen exploitanten van installaties die zijn opgenomen in de Regeling van de Unie voor de handel in emissierechten (EU-ETS) in het bezit te zijn van een geldige, door de bevoegde autoriteiten verleende vergunning voor broeikasgasemissies, hun emissies te monitoren en rapporteren en hun rapporten te laten verifiëren door een onafhankelijke en erkende verificateur."]
[66,"De richtlijn kan via de volgende link worden gedownload:"]
[67,"http://eur-lex.europa.eu/LexUriServ/LexUriServ.do?uri=CONSLEG:2003L0087:20090625:NL:PDF"]
[68,"In Verordening (EU) nr. 601/2012 van de Commissie van 21 juni 2012 (de monitoring- en rapportageverordening, hierna de \"MRV\") zijn verdere eisen voor monitoring en rapportage opgenomen. De MRV kan via deze link worden gedownload:"]
[69,"http://eur-lex.europa.eu/LexUriServ/LexUriServ.do?uri=OJ:L:2012:181:0030:0104:NL:PDF"]
[70,"In artikel 12 van de MRV zijn specifieke vereisten voor de inhoud en de indiening van het monitoringplan en de aanpassingen daarvan vastgesteld. In artikel 12 wordt het belang van het monitoringplan als volgt omschreven:"]
[71,"Het monitoringplan bestaat uit een gedetailleerde, volledige en transparante documentatie over de monitoringmethodiek voor een specifieke installatie of vliegtuigexploitant; het bevat ten minste de elementen die zijn opgenomen in bijlage I."]
[72,"In artikel 74, lid 1, is voorts het volgende bepaald:"]
[73,"De lidstaten kunnen eisen dat de exploitanten of vliegtuigexploitanten elektronische modellen of specifieke bestandsformaten gebruiken voor het indienen van monitoringplannen en veranderingen in het monitoringplan, alsook voor het indienen van jaarlijkse emissieverslagen, tonkilometergegevensverslagen, verificatieverslagen en verbeteringsverslagen. \nDeze door de lidstaten opgestelde modellen of bestandsformaatspecificaties bevatten ten minste de informatie opgenomen in de door de Commissie gepubliceerde elektronische modellen of bestandsformaatspecificaties."]
[74,"Dit bestand vormt het genoemde door de diensten van de Commissie ontwikkelde model voor monitoringplannen voor installaties en bevat de in bijlage I vastgestelde vereisten alsook verdere vereisten om de exploitant bij te staan bij het aantonen van de naleving van de MRV. Onder bepaalde omstandigheden, zoals hieronder beschreven, kan het in zekere mate gewijzigd zijn door een bevoegde autoriteit van een lidstaat. "]
[75,"Daarnaast mogen de lidstaten krachtens artikel 13 van de MRV gestandaardiseerde of vereenvoudigde monitoringplannen ontwikkelen voor \"eenvoudige\" installaties. "]
[76,"De lidstaten mogen exploitanten en vliegtuigexploitanten toestemming verlenen om gestandaardiseerde of vereenvoudigde monitoringplannen te gebruiken, onverminderd artikel 12, lid 3. \nHiertoe mogen lidstaten modellen publiceren voor dergelijke monitoringplannen, met inbegrip van de omschrijving van de dataflow- en controleprocedures genoemd in artikel 57 en artikel 58, op basis van de door de Commissie gepubliceerde modellen en richtsnoeren."]
[77,"Overeenkomstig richtsnoer nr. 1 van de Commissie (\"Algemene richtsnoeren voor installaties\") worden dergelijke gestandaardiseerde modellen opgesteld door waar nodig standaardteksten toe te voegen aan dit model."]
[78,"Als uw installatie overeenkomstig de eisen in richtsnoer 1 in aanmerking komt voor een vereenvoudigd en/of gestandaardiseerd monitoringplan, neem dan contact op met de bevoegde autoriteiten of raadpleeg hun website om te vernemen of uw lidstaat vereenvoudigde modellen verstrekt."]
[79,"Alle richtsnoeren van de Commissie betreffende de monitoring- en rapportageverordening zijn hier te raadplegen:"]
[80,"http://ec.europa.eu/clima/policies/ets/monitoring/index_en.htm"]
[81,"U wordt verzocht de volgende stappen te doorlopen voordat u dit document invult:"]
[82,"Lees aandachtig de onderstaande instructies voor het invullen van dit model."]
[83,"Ga na welke bevoegde autoriteit in de lidstaat waar de installatie zich bevindt verantwoordelijk is voor de installatie. Per lidstaat kunnen er meerdere bevoegde autoriteiten zijn. NB \"lidstaat\" staat hier voor alle staten die deelnemen aan EU-ETS. Daartoe behoren ook niet-EU-lidstaten."]
[84,"Raadpleeg de website van de bevoegde autoriteiten of neem contact met hen op om te controleren of u de juiste modelversie gebruikt. De modelversie (de naam van het referentiedocument) staat duidelijk aangegeven op het voorblad van dit bestand."]
[85,"Lidstaten kunnen verlangen dat u gebruik maakt van een alternatieve methode, zoals een online formulier in plaats van een spreadsheet. Ga na welke voorschriften in uw lidstaat gehanteerd worden. De BA zal u op dit punt nader informeren."]
[86,"Dit monitoringplan moet bij de volgende BA worden ingediend op het volgende adres:"]
[87,"Adresgegevens worden verstrekt door de lidstaat"]
[88,"De BA kan eventueel contact met u opnemen om te bespreken welke wijzigingen zouden moeten worden doorgevoerd in uw monitoringplan om accurate en verifieerbare monitoring en rapportage van jaarlijkse emissies, volgens de algemene en specifieke vereisten van de MRV, zeker te stellen. In afwijking van artikel 16, lid 1, van de MRV gebruikt u bij kennisgeving van de goedkeuring van de BA de laatste goedgekeurde versie van de monitoringplannen als methodiek om uw jaarlijkse emissies te bepalen en uw gegevensvergarings- en verwerkingsactiviteiten en controleactiviteiten uit te voeren. Tevens dient dit plan als referentie voor het verifiëren van uw jaarlijkse emissieverslag."]
[89,"U dient de bevoegde autoriteit zonder onnodige vertraging in kennis te stellen van voorstellen tot significante wijzigingen van het monitoringplan. Elke significante wijziging van uw monitoringmethodiek moet worden goedgekeurd door de BA, overeenkomstig artikel 14 en 15 van de MRV. Wanneer u (overeenkomstig artikel 15) redelijkerwijze kunt veronderstellen dat de noodzakelijke actualiseringen van het monitoringplan niet significant zijn, mag u deze actualiseringen eens per jaar gezamenlijk bij de BA aanmelden overeenkomstig de in dat artikel vastgestelde termijn (voor zover de bevoegde autoriteit daarmee instemt)."]
[90,"Overeenkomstig artikel 16 van de MRV dient u alle wijzigingen van het monitoringplan uit te voeren en daar documentatie van te bewaren."]
[91,"Neem contact op met uw bevoegde autoriteit indien u hulp nodig hebt bij het opstellen van uw monitoringplan. Een aantal lidstaten heeft richtsnoeren opgesteld die wellicht handig voor u zijn."]
[92,"Vertrouwelijkheidsverklaring- De in het kader van deze aanvraag ingediende informatie kan publiekelijk toegankelijk worden gemaakt, onder meer krachtens Richtlijn 2003/4/EG inzake de toegang van het publiek tot milieu-informatie. Als u van mening bent dat bepaalde informatie die u in het kader van de aanvraag verstrekt, commercieel vertrouwelijk is, neemt u contact op met de bevoegde autoriteit. NB: overeenkomstig het bepaalde in Richtlijn 2003/4/EG kan de bevoegde autoriteit worden verplicht informatie openbaar te maken die de aanvrager als vertrouwelijk heeft bestempeld."]
[93,"Informatiebronnen:"]
[94,"Websites van de EU:"]
[95,"EU-wetgeving:"]
[96,"http://eur-lex.europa.eu/en/index.htm "]
[97,"Algemene informatie over EU-ETS:"]
[98,"http://ec.europa.eu/clima/policies/ets/index_en.htm"]
[99,"Monitoring en rapportage in het kader van EU-ETS: "]
[100,"Overige websites:"]
[101,"<op te geven door de lidstaat>"]
[102,"Helpdesk:"]
[103,"<waar nodig op te geven door de lidstaat>"]
[104,"Hoe dit bestand te gebruiken:"]
[105,"Dit model is ontwikkeld voor de minimale door de MRV voorgeschreven inhoud van een monitoringplan. Exploitanten dienen zodoende bij het invullen te verwijzen naar de MRV en eventuele aanvullende door de lidstaat vastgestelde vereisten."]
[106,"Aanbevolen wordt om het document van begin tot eind door te nemen. Een aantal functionaliteiten zal u door het formulier leiden. Deze zijn afhankelijk van eerdere invoer. Zo zijn er cellen die van kleur veranderen als u niets hoeft in te voeren (zie onderstaande kleurcodes)."]
[107,"In bepaalde velden kunt u uit voorgedefinieerde waarden kiezen. Om een optie uit een vervolgkeuzelijst te selecteren, klikt u met de muis op het pijltje aan de rechterrand van de cel of klikt u op Alt + pijltje naar beneden als u de cel hebt geselecteerd. In sommige velden met een vervolgkeuzelijst kunt u alsnog eigen tekst invoeren. Dit is mogelijk wanneer de vervolgkeuzelijst lege lijstitems bevat."]
[108,"Kleurcodes en lettertypen:"]
[109,"Zwarte vette tekst:"]
[110,"Deze tekst is in het sjabloon van de Commissie opgenomen en kan niet aangepast worden."]
[111,"Kleinere cursieve letters:"]
[112,"Deze tekst geeft verdere uitleg. De lidstaten kunnen aanvullende informatie opnemen in lidstaatspecifieke versies van het sjabloon."]
[113,"Gele velden moeten worden ingevuld. U hoeft niets in te vullen als het onderwerp niet van toepassing is op de installatie."]
[114,"Voor lichtgele velden geldt dat invoer niet verplicht is."]
[115,"Groene velden tonen automatisch berekende resultaten. Rode tekst geeft aan dat er sprake is van fouten (zoals ontbrekende gegevens)."]
[116,"Gearceerde velden hoeven vanwege invoer in een ander veld niet te worden ingevuld."]
[117,"Grijs gearceerde velden dienen door de lidstaten te worden ingevuld voor publicatie van een aangepaste versie van het sjabloon."]
[118,"Lichtgrijze velden zijn bestemd voor navigatie en hyperlinks."]
[119,"De navigatiepanelen bovenaan elk werkblad bevatten hyperlinks waarmee u snel naar invoersecties navigeert. De eerste regel (\"Inhoudsopgave\", \"Vorig werkblad\", \"Volgend werkblad\") en de punten \"Naar boven\" en \"Naar beneden\" komen op alle werkbladen voor. Afhankelijk van het werkblad kunnen menu-items worden toegevoegd."]
[120,"In dit sjabloon kunnen alleen de gele velden worden ingevuld. Het sjabloon is om redenen van transparantie niet beveiligd met een wachtwoord. Hierdoor kunt u alle formules bekijken. Wanneer u gegevens invoert in dit bestand, is het raadzaam het bestand te beveiligen. U mag de werkbladen alleen onbeveiligd gebruiken als u de geldigheid van formules controleert. U wordt aangeraden dit in een afzonderlijk bestand te doen."]
[121,"Om de formules te beschermen tegen onbedoelde wijzigingen, die meestal leiden tot onjuiste en misleidende resultaten, \ndient u in GEEN GEVAL de KNIP- EN PLAKFUNCTIE te gebruiken.\nAls u gegevens wilt verplaatsen, KOPIEERT en PLAKT u die, waarna u de ongewenste gegevens van de oude (verkeerde) plek kunt verwijderen."]
[122,"Gegevensvelden zijn niet geoptimaliseerd voor bepaalde numerieke en andere formaten. De beveiliging van de werkbladen is echter beperkt, zodat u uw eigen formaten kunt toepassen. Zo kunt u bepalen hoeveel decimalen u gebruikt. Het aantal decimalen staat in principe los van de precisie van de berekening. De optie \"Precisie zoals afgebeeld\" in Microsoft Excel moet in principe worden uitgeschakeld. Voor nadere informatie over dit onderwerp raadpleegt u de helpfunctie in Microsoft Excel."]
[123,"DISCLAIMER: Alle formules zijn zorgvuldig en grondig opgesteld. Fouten kunnen echter niet volledig worden uitgesloten.\nZoals hierboven beschreven wordt bij het controleren van de geldigheid van de berekeningen volledige transparantie betracht. De opstellers van dit document en de Europese Commissie kunnen niet aansprakelijk worden gesteld voor schade die optreedt ten gevolge van onjuiste of misleidende berekeningsresultaten. \nDe gebruiker van dit document (de exploitant van een EU-ETS-installatie) is volledig verantwoordelijk voor het rapporteren van correcte gegevens naar de bevoegde autoriteit."]
[124,"In veel gevallen dient u in dit sjabloon beschrijvingen te geven van de installatie, de werking ervan en de specifieke monitoringmethoden die u hanteert. In dergelijke gevallen kunt u gebruik maken van de tekstvelden, die soms niet alle informatie kunnen bevatten die u wilt invoeren."]
[125," In die gevallen wordt u verzocht de informatie (tekst, formules, referentiebestanden, diagrammen en illustraties) in afzonderlijke bestanden bij te sluiten bij de verzending aan de bevoegde autoriteit. U wordt daarbij verzocht een verwijzing naar die bestanden op te nemen. In die gevallen verwijst u naar de bestandsnaam van de bijlage. Daarnaast wordt u aangeraden de datum van laatste wijziging toe te voegen aan de referentie en deze datum duidelijk leesbaar te vermelden in het (printbare) bestand."]
[126,"De bevoegde instantie kan bepalen welke bestandsformaten worden geaccepteerd. Gebruik alleen standaard bestandsformaten van Microsoft Office, zoals .doc, .xls en .pdf. Neem contact op met de bevoegde autoriteit of raadpleeg haar website voor andere geaccepteerde soorten bestanden."]
[127,"Dit bestand bevat macro's voor een aantal functies (items aan lijsten toevoegen, voorbeelden tonen of verbergen). Als u macro's hebt uitgeschakeld, kunt u het model nog steeds gebruiken, maar deze functies niet. \nOm te garanderen dat de macro's geen virus bevatten, zijn deze elektronisch ondertekend. Zie de website van de Commissie of van de bevoegde autoriteit voor instructies voor het verifiëren van de authenticiteit van het model."]
[128,"Lidstaatspecifieke richtsnoeren vindt u hier:"]
[129,"A.\nMP Versions"]
[130,"Met dit werkblad wordt de versie van het monitoringplan gevolgd. Elke versie van het monitoringplan dient een uniek versienummer en een referentiedatum te hebben."]
[131,"Afhankelijk van de voorschriften van de lidstaat, kunnen de exploitant en de bevoegde autoriteit verschillende versies van het document uitwisselen, of kan de exploitant de verschillende versies zelf bijhouden. De exploitant dient in alle gevallen een kopie van alle versies van het monitoringplan te bewaren."]
[132,"In de statuskolom dient de status van het monitoringplan ten tijde van de referentiedatum te worden aangegeven. Mogelijke statussen zijn bijvoorbeeld \"ingediend bij de bevoegde autoriteit\", \"goedgekeurd door de bevoegde autoriteit\" en \"werkversie\"."]
[133,"De monitoring van de emissies van uw installatie dient altijd te geschieden op basis van de laatste goedgekeurde versie van het monitoringplan, behalve in gevallen waar wijzigingen in het monitoringplan al bij de bevoegde autoriteit zijn ingediend en/of wachten op goedkeuring. Overeenkomstig artikel 16, lid 1, voert de exploitant in dergelijke gevallen de monitoring parallel uit, met gebruik van zowel het gewijzigde als het oorspronkelijke monitoringplan."]
[134,"Voorbeelden van het weergeven of verbergen van informatie vindt u onder de knop \"Voorbeelden\" in de navigatiezone."]
[135,"Versienummer"]
[136,"Referentiedatum"]
[137,"Status ten tijde van de referentiedatum"]
[138,"Hoofdstukken die gewijzigd zijn. \nKorte toelichting op de wijzigingen"]
[139,"bij de bevoegde autoriteit ingediend"]
[140,"Nieuw monitoringplan teneinde te voldoen aan de eisen van de MRV."]
[141,"teruggezonden met commentaar"]
[142,"De bevoegde autoriteit heeft de bronstromen 1 en 2 gecorrigeerd."]
[143,"De suggesties van de bevoegde autoriteit zijn in het monitoringplan verwerkt. Daarnaast is er een nieuwe bronstroom toegevoegd (nr. 4: houtplaatafval verontreinigd met circa 5% fossiele fractie)."]
[144,"goedgekeurd door de bevoegde autoriteit"]
[145,"Zonder wijzigingen goedgekeurd. De exploitant heeft een papieren exemplaar en een bijgewerkte vergunning ontvangen om de echtheid van het per e-mail teruggestuurde monitoringplan te garanderen."]
[146,"Klik op \"+\" om meer versies van het monitoringplan toe te voegen"]
[147,"B.\nOperatorInst ID"]
[148,"Exploitant"]
[149,"Installatie"]
[150,"Contactpersonen"]
[151,"Bevoegde autoriteit"]
[152,"Lidstaat"]
[153,"Registratienummer van de omgevingsvergunning"]
[154,"Kengetal van de lidstaat / bevoegde autoriteit"]
[155,"Naam van de exploitant"]
[156,"Huidig versienummer van het monitoringplan"]
[157,"Opmerking: Dit nummer wordt ook getoond op het voorblad van dit document."]
[158,"Naam van de installatie en de ligging:"]
[159,"Naam van de locatie:"]
[160,"Unieke ID van de installatie (zoals bij de NIMs):"]
[161,"EPRTR:"]
[162,"Neem lidstaatspecifieke richtsnoeren op betreffende de benaming van installaties."]
[163,"Adres / locatie van de installatie:"]
[164,"Adresregel 1:"]
[165,"Adresregel 2:"]
[166,"Plaats:"]
[167,"Staat/provincie/regio:"]
[168,"Postcode:"]
[169,"Land:"]
[170,"Geocoördinaten van de site:"]
[171,"Neem lidstaatspecifieke richtlijnen op betreffende roostercoördinaten."]
[172,"Met wie kunnen we contact opnemen over uw monitoringplan?"]
[173,"Het is handig voor ons als wij rechtstreeks contact met iemand kunnen opnemen als wij vragen hebben over uw monitoringplan. De contactpersoon moet bevoegd zijn om namens de exploitant op te treden. "]
[174,"Eerste contactpersoon:"]
[175,"Titel:"]
[176,"Voornaam:"]
[177,"Achternaam:"]
[178,"Functie:"]
[179,"Naam van de organisatie (indien verschillend van de exploitant):"]
[180,"Telefoonnummer:"]
[181,"E-mailadres:"]
[182,"Tweede contactpersoon:"]
[183,"C.\nInstallation Description"]
[184,"Activiteiten van de installatie "]
[185,"Monitoringbenaderingen "]
[186,"Emissiebronnen en -punten "]
[187,"Meetpunten "]
[188,"Bronstromen "]
[189,"Niet-EU-ETS-activiteiten "]
[190,"Gebruik dit werkblad voor de beschrijving van uw installatie. De informatie die u hier invoert, is van belang voor de gedetailleerde informatie in de volgende tabbladen."]
[191,"Bronstromen worden meer in detail beschreven in het tabblad E_SourceStreams en meetpunten in het tabblad F_MeasurementBasedApproaches. "]
[192,"Beschrijving van de installatie en de activiteiten:"]
[193,"Hier geeft u een korte beschrijving van de locatie en de installatie en geeft u aan waar de installatie zich op het terrein bevindt.  De beschrijving dient ook een niet-technische samenvatting te bevatten van de activiteiten die in de installatie worden verricht. U gaat daarbij kort in op de afzonderlijke activiteiten en de technische eenheden per activiteit.  Uit de beschrijving moet ook duidelijk worden welke onderdelen van de installatie niet door de exploitant worden geëxploiteerd of niet binnen de werkingssfeer van EU-ETS vallen."]
[194,"Deze beschrijving dient de verbindende informatie te bevatten die nodig is om te begrijpen hoe alle informatie die elders in dit sjabloon is ingevoerd, gebruikt wordt bij de emissieberekening. De beschrijving mag zo kort zijn als het voorbeeld bij punt 7a op het werkblad D_CalculationBasedApproaches."]
[195,"Bronstroomdiagram – documenttitel en referentie:"]
[196,"Bij de beschrijving van de activiteiten kan een eenvoudig diagram met de emissiebronnen, bronstromen, monsternemingspunten en meetapparatuur van pas komen.  Verwijs hier naar de bestandsnaam en datum van het diagram, mocht u daarover beschikken, en voeg een exemplaar bij het monitoringplan dat u naar de bevoegde autoriteiten zendt."]
[197,"De bevoegde autoriteit kan dit diagram verplicht stellen."]
[198,"Lijst van activiteiten die conform bijlage I bij de EU-ETS-richtlijn worden uitgevoerd in deze installatie:"]
[199,"U wordt verzocht de volgende technische informatie te verschaffen voor alle activiteiten die u overeenkomstig bijlage I bij de EU-ETS-richtlijn in uw installatie verricht."]
[200,"U wordt tevens verzocht de capaciteit te vermelden van elke activiteit uit bijlage I die op uw installatie van toepassing is."]
[201,"De definitie van 'capaciteit' is daarbij de volgende:"]
[202,"Het nominaal thermisch vermogen (voor activiteiten die boven een drempel van 20MW onder het EU-ETS vallen), oftewel het maximale continue vermogen van de installatie voor de verbranding van brandstoffen vermenigvuldigd met de calorische waarde van de brandstof uitgedrukt in MW(th). "]
[203,"De productiecapciteit van activiteiten uit bijlage I waarvan de productiecapaciteit bepalend is voor opneming in EU-ETS. "]
[204,"Controleer of de grenzen van de installatie kloppen en in overeenstemming zijn met bijlage I bij de EU-ETS-richtlijn. Voor verdere informatie raadpleegt u de punten in de richtsnoeren van de Commissie die de interpretatie van bijlage I betreffen. De richtsnoeren zijn beschikbaar via de volgende link:"]
[205,"http://ec.europa.eu/clima/policies/ets/docs/guidance_interpretation_en.pdf "]
[206,"De hier ingevoerde lijst zal als vervolgkeuzelijst beschikbaar zijn in de onderstaande tabellen, waar u bij het beschrijven van de installatie moet verwijzen naar de activiteit."]
[207,"Activiteitsreferentie (A1, A2 …)"]
[208,"Activiteit van bijlage I"]
[209,"Totale capaciteit van de activiteit "]
[210,"Capaciteitseenheden"]
[211,"Uitgestoten broeikasgassen"]
[212,"Productie van cementklinkers"]
[213,"ton per dag"]
[214,"Verbranding van brandstoffen"]
[215,"MW(th)"]
[216,"Geschatte jaarlijkse emissies:"]
[217,"Voer hier de gemiddelde jaarlijkse emissies van uw installatie in. Deze informatie is nodig om de installatie te classificeren overeenkomstig artikel 19 van de MRV. Vermeld hier de gemiddelde geverifieerde jaarlijkse emissies van de voorgaande handelsperiode, OF als die niet beschikbaar of bruikbaar zijn, een conservatieve schatting van de jaarlijkse gemiddelde emissies, met inbegrip van het overgedragen CO2, maar exclusief het CO2 van biomassa."]
[218,"De aldus vastgestelde categorie wordt gebruikt om de minimale niveaueisen vast te stellen bij punt 8 (Bronstromen)."]
[219,"Geschatte jaarlijkse emissies"]
[220,"Installatiecategorie overeenkomstig artikel 19"]
[221,"Installatie met geringe emissies?"]
[222,"Als u hier \"WAAR\" invult, voldoet de installatie aan de in artikel 47 vastgelegde criteria voor installaties met een geringe emissie."]
[223,"Volgens dat artikel mag de exploitant een vereenvoudigd monitoringplan indienen voor installaties waar geen stikstofoxide wordt uitgestoten en waarvoor kan worden aangetoond dat: "]
[224,"de gemiddelde jaarlijkse emissies van die installatie tijdens de handelsperiode direct voorafgaand aan de huidige handelsperiode minder dan 25 000 ton CO2(e) per jaar bedroegen, of"]
[225,"dat de emissies volgens een conservatieve schattingsmethode de komende vijf jaar minder dan 25 000 ton CO2(e) per jaar bedragen, indien de geverifieerde emissies niet beschikbaar of niet meer van toepassing zijn."]
[226,"Opmerking: bovenstaande gegevens dienen inclusief overgedragen CO2 en exclusief CO2 afkomstig uit biomassa te zijn."]
[227,"Wanneer uw keuze in tegenspraak is met de geschatte emissies onder punt d hierboven, zult u daarvan middels een bericht op de hoogte worden gesteld. Geef hieronder een passende motivering."]
[228,"Als uw installatie een installatie met een geringe emissie zoals gedefinieerd in artikel 47  is, wordt het monitoringplan op een aantal punten vereenvoudigd."]
[229,"Motivering van de geschatte waarde"]
[230,"Als u hebt aangegeven dat het om een installatie met een geringe emissie gaat, maar dit in strijd is met uw invoer bij punt d of het getal niet gebaseerd is op geverifieerde emissies maar op een conservatieve schatting, wordt u verzocht hieronder een korte uitleg te geven."]
[231,"Voorgestelde monitoringmethoden:"]
[232,"Geef aan welke van de volgende monitoringmethoden u wilt toepassen:"]
[233,"Overeenkomstig artikel 21 mag de emissiemonitoring geschieden via een op berekening gebaseerde methode (\"rekenmethode\") of een op meting gebaseerde methode (\"meetmethode\"), behoudens wanneer specifieke methoden worden voorgeschreven door de MRV. "]
[234,"Opmerking: Afhankelijk van de bevoegde autoriteit mag de exploitant voor verschillende bronnen meet- en rekenmethoden combineren.  De exploitant moet erop toezien en aantonen dat er geen hiaten of dubbeltellingen ten aanzien van emissies optreden. "]
[235,"Laat deze velden niet leeg, omdat de invoer in deze velden voorwaardelijke opmaak genereert, aan de hand waarvan u door het document wordt geleid."]
[236,"Rekenmethode voor CO2:"]
[237,"Meetmethode voor CO2:"]
[238,"\"Fall-back\"-methode (artikel 22):"]
[239,"Monitoring van N2O-emissies:"]
[240,"Monitoring van PFK-emissies:"]
[241,"Monitoring van overgedragen of inherent CO2 en CCS:"]
[242,"Controleer of u de rest van dit werkblad hebt ingevuld (de secties per gekozen methode) voordat u verdergaat op het werkblad \"K_ManagementControl\" (punt 20 t/m 25), dat voor alle installaties verplicht is."]
[243,"Emissiebronnen:"]
[244,"Krachtens bijlage I dienen monitoringplannen een beschrijving te bevatten van de installatie en de door de te monitoren installatie uitgevoerde activiteiten, met een lijst van emissiebronnen en bronstromen.  De informatie die u in dit model verstrekt dient verband te houden met de bijlage I-activiteiten in de betreffende installatie en dient betrekking te hebben op één installatie. Hier voert u activiteiten in die in uw installatie worden verricht en laat u verwante, door andere exploitanten ontplooide activiteiten buiten beschouwing."]
[245,"De activiteitenreferentie in de laatste kolom is gekoppeld aan de activiteitenreferentie bij punt 5c. Wanneer een emissiebron onder meerdere activiteiten valt, vult u bijvoorbeeld \"A1, A2\" of \"A1 – A3\" in."]
[246,"Deze lijst zal als vervolgkeuzelijst beschikbaar zijn bij de onderstaande punten c, d en e, waar verwezen moet worden naar de relevante emissiebronnen."]
[247,"Emissiebron-referentie\nS1, S2, ..."]
[248,"Emissiebron (naam, beschrijving)"]
[249,"Activiteits ref."]
[250,"Cementklinker (decarbonisatie van de grondstof, verbranding van brandstoffen)"]
[251,"Met kolen gestookte ketelinstallatie (verbranding van brandstoffen)"]
[252,"Met kolen gestookte ketelinstallatie (rookgasreiniging door ontleding van kalksteen)"]
[253,"Klik op \"+\" om meer emissiebronnen toe te voegen"]
[254,"Emissiepunten en uitgestoten broeikasgassen:"]
[255,"Som alle relevante emissiepunten op (waaronder diffuse emissiebronnen) en omschrijf ze kort."]
[256,"Selecteer in de vervolgkeuzelijsten ook de bijlage I-activiteiten, emissiebronnen en uitgestoten broeikasgassen (deze gegevens zijn gekoppeld aan de gegevens bij punt 5c). Wanneer een emissiebron onder meerdere activiteiten valt, vult u bijvoorbeeld \"A1, A2\" in."]
[257,"Deze lijst zal als vervolgkeuzelijst beschikbaar zijn bij de onderstaande punten d en e, waar verwezen moet worden naar het relevante emissiepunt."]
[258,"Emissiepuntreferentie\nEP1, EP2, ..."]
[259,"Beschrijving van het emissiepunt"]
[260,"Emissiebron ref."]
[261,"Schoorsteen 1 (met kolen gestookte ketelinstallatiel)"]
[262,"Schoorsteen 2 (cementklinker)"]
[263,"Klik op \"+\" om meer emissiepunten toe te voegen"]
[264,"Meetpunten waar continue meetsystemen zijn geïnstalleerd:"]
[265,"U moet eerst de emissiebronnen invoeren waarop meetmethoden worden toegepast. Op die manier kan het model automatisch voorstellen voor emissiebroncategorieën doen."]
[266,"Vermeld en beschrijf hier alle meetpunten waar broeikasgassen worden gemeten door continue emissiemetingssystemen (CEMS). Hieronder vallen ook meetpunten in pijpleidingsystemen die gebruikt worden voor de overdracht van CO2 met als doel om het CO2 geologisch op te slaan."]
[267,"U hoeft niets in te vullen als u bij punt 6a hebt aangegeven dat geen meetmethoden zijn gehanteerd."]
[268,"Vul voor elk meetpunt ook een schatting van de respectieve jaarlijkse emissies in. Deze informatie is nodig bij het bepalen van het niveau (de tier)."]
[269,"Overeenkomstig artikel 41, lid 1, mag voor elke emissiebron die per jaar minder dan 5 000 ton CO2(e) uitstoot, of minder dan 10 % aan de totale jaarlijkse emissies van de installatie bijdraagt, afhankelijk van wat in termen van absolute emissies het hoogste is, een lager niveau worden toegepast (geringe emissiebron)."]
[270,"Alle andere emissiebronnen worden als \"grote\" emissiebronnen beschouwd."]
[271,"De geschatte emissies zijn ook relevant voor het categoriseren van op berekeningen gebaseerde bronstromen onder punt f, voor zover rekenmethoden zijn toegepast. "]
[272,"Meetpunt ref. M1, M2, ..."]
[273,"Omschrijving"]
[274,"Emissiepunt ref."]
[275,"Geschatte emissies in t CO2(e) per jaar"]
[276,"Mogelijke categorie"]
[277,"Gemeten broeikasgassen"]
[278,"Schoorsteen van een op kolen gestookte ketelinstallatie, meetplatform A"]
[279,"Klik op \"+\" om meer meetpunten toe te voegen"]
[280,"Relevante bronstromen:"]
[281,"Hier vermeldt u alle bronstromen (brandstoffen, materialen, producten, ...) in uw installatie die op basis van rekenmethoden (de standaard- of de massabalansmethode) gemonitord worden. Voor een definitie van de term \"bronstroom\" raadpleegt u richtsnoer nr. 1 (\"Algemene richtsnoeren voor installaties\"). Voor een definitie van PFK-bronstromen raadpleegt u punt 14c op het werkblad \"I_PFC\"."]
[282,"Bronstromen hebben namen als \"natuurlijk gas\", \"zware stookolie\", \"cementgrondstof\", ..."]
[283,"Het bronstroomtype is een set regels die overeenkomstig de MRV moeten worden toegepast. Deze classificatie vormt de basis voor verdere verplichtingen, zoals toe te passen niveaus."]
[284,"De vervolgkeuzelijst waarmee u het bronstroomtype selecteert, is gebaseerd op de keuzes die bij punt 5c zijn gemaakt. Dat punt moet zijn ingevuld om het minimale niveau op het werkblad \"E_SourceStreams\" te kunnen bepalen."]
[285,"Selecteer voor elke bronstroom de bijlage I-activiteiten, de emissiebronnen en -punten in de respectievelijke vervolgkeuzelijsten, zodat de bevoegde autoriteit de werking van uw installatie volledig begrijpt. Wanneer een emissiebron onder meerdere activiteiten valt, vult u bijvoorbeeld \"A1, A2\" in."]
[286,"Bronstroom ref. F1, F2, ..."]
[287,"Bronstroomnaam"]
[288,"Type bronstroom"]
[289,"Grondstof"]
[290,"Cementklinker: Op basis van inzet in de oven (methode A)"]
[291,"A1: Productie van cementklinkers"]
[292,"S1: Cementklinker (decarbonisatie van de grondstof, verbranding van brandstoffen)"]
[293,"EP2: Schoorsteen 2 (cementklinker)"]
[294,"Zware stookolie"]
[295,"Verbranding: Andere gasvormige en vloeibare brandstoffen"]
[296,"Klik op \"+\" om meer bronstromen toe te voegen"]
[297,"Geschatte emissies en bronstroomcategorieën:"]
[298,"Voer voor elke bronstroom (via een rekenmethode, inclusief voor PFK-emissies) de geschatte emissies in en selecteer een passende bronstroomcategorie."]
[299,"Bronstroomreferentiegegevens, de volledige naam van de bronstroom en het bronstroomtype zullen automatisch worden overgenomen van punt d."]
[300,"De emissies van uitgaande bronstromen die volgens de massabalansmethode  worden berekend, moeten als negatieve waarden ingevuld worden."]
[301,"Achtergrond: Overeenkomstig artikel 19, lid 3, kunt u elke bronstroom aanmerken als \"groot\", \"klein\" of \"de-minimis\"."]
[302,"\"kleine\" bronstromen vertegenwoordigen gezamenlijk minder dan 5 000 ton fossiel CO2 per jaar of minder dan 10%, tot een totale maximumbijdrage van 100 000 ton fossiel CO2 per jaar, waarbij het criterium dat de hoogste absolute waarde oplevert bepalend is"]
[303,"De-minimisbronstromen vertegenwoordigen gezamenlijk minder dan 1 000 ton fossiel CO2 per jaar of minder dan 2%, tot een totale maximumbijdrage van 20 000 ton fossiel CO2 per jaar, waarbij het criterium dat de hoogste absolute waarde oplevert bepalend is"]
[304,"\"grote\" bronstromen zijn alle bronstromen die niet onder de categorieën \"klein\" of \"de-minimis\" vallen"]
[305,"Bij de classificatie van massabalans-bronstromen worden absolute waarden gehanteerd."]
[306,"Om u te helpen bij het selecteren van de juiste categorie wordt de mogelijke categorie per bronstroom automatisch weergegeven in het groene veld."]
[307,"De automatische weergave geeft alleen informatie over de mogelijke categorie voor elke afzonderlijke bronstroom. Als een van de hierboven genoemde drempelwaarden wordt overschreden, veranderen de mogelijke categorieën niet, maar verschijnt er een foutmelding. In dat geval dient u ten minste een categorie hoger te selecteren."]
[308,"Nadat u voor alle bronstromen de geschatte emissies hebt ingevoerd, wordt de som ervan vergeleken met de totale jaarlijkse emissies die u bij punt 5d hebt ingevoerd. Als de som van de geschatte emissies meer dan 5% van de totale emissies afwijkt, verschijnt er een foutmelding. "]
[309,"Volledige naam van de bronstroom (naam en type)"]
[310,"Geselecteerde categorie"]
[311,"Grondstof; Cementklinker: Op basis van inzet in de oven (methode A)"]
[312,"Groot"]
[313,"Zware stookolie; Verbranding: Andere gasvormige en vloeibare brandstoffen"]
[314,"Foutmelding (som van kleine bronstromen):"]
[315,"Foutmelding (som van de-minimisbronstromen):"]
[316,"Foutmelding (totale emissies verschillen van 5d):"]
[317,"Installatieonderdelen en -activiteiten die niet onder EU-ETS vallen, indien van toepassing:"]
[318,"U wordt verzocht informatie te verschaffen over installatieonderdelen en -activiteiten die niet onder de EU-ETS vallen en waarvan de gebruikte brandstoffen en materialen worden verwerkt door meetinstrumenten die ook bijlage I-activiteiten meten."]
[319,"Voor verdere aanwijzingen raadpleegt u de bovenstaande punten b, c en e. "]
[320,"Emissiebron-referentie"]
[321,"Bronstromen (brandstoffen/materialen)"]
[322,"Emissiebronnen"]
[323,"Emissiepunten"]
[324,"Aardgas (door de installatie naar externe consumenten geleid)"]
[325,"Meerdere ketels (< 3 MW(th) per stuk)"]
[326,"Schoorsteen van een verbonden installatie (Verwarming van een aanpalend ziekenhuis)"]
[327,"Klik op \"+\" om meer niet-EU-ETS-activiteiten toe te voegen"]
[328,"D.\nCalculation Approach"]
[329,"Meetinstrumenten "]
[330,"Informatiebronnen "]
[331,"Laboratoria "]
[332,"Procedures "]
[333,"Gebruik dit werkblad om de noodzakelijke informatie te verstrekken over rekenmethoden. De hier ingevoerde informatie wordt als referentie gebruikt voor de gedetailleerde gegevens op het volgende werkblad (E_SourceStreams)."]
[334,"De lijst van meetinstrumenten is nodig voor de monitoring van activiteitsgegevens, de lijst van informatiebronnen is nodig voor de standaardwaarden voor berekeningsfactoren overeenkomstig artikel 31 en de analysemethoden in gevallen waar berekeningsfactoren geanalyseerd moeten worden."]
[335,"Beschrijving van de rekenmethode voor de monitoring van CO2-emissies in uw installatie, indien van toepassing:"]
[336,"Dit veld hoeft inhoudelijk niet ingevuld te worden indien u ook een “bijlage 4: fiches per bronstroom met detailbepaling hoeveelheid, calorische onderwaarde (CW) en emissiefactor (EF) en eventuele andere berekeningsfactoren” (zoals onder 5.1. “Details van de bronstromen”  in MP 13-20) meestuurt. In dat geval volstaat de vermelding “Zie bijlage 4”.\t "]
[337,"Als de beschrijving te complex is, bijvoorbeeld als er complexe formules worden gebruikt, mag u de beschrijving bijvoegen in een afzonderlijk document met een door de bevoegde autoriteit geaccepteerd formaat. Noem in dat geval hier de bestandsnaam en -datum."]
[338,"Deze beschrijving dient de verbindende informatie te bevatten die nodig is om te begrijpen hoe alle informatie die elders in dit model is ingevoerd, gebruikt wordt bij de emissieberekening. De beschrijving mag zo kort zijn als het voorbeeld."]
[339,"In principe hanteert u de volgende volgorde bij het toepassen van rekenmethoden voor uw installatie:"]
[340,"a) voor elke bronstroom waarbij standaardwaarden voor berekeningsfactoren worden gebruikt (aardgas, zware stookolie en alle kleine bronstromen), worden eerst de activiteitsgegevens opgeteld. Daarna wordt de formule uit artikel 24, lid 1, toegepast."]
[341,"b) voor elke bronstroom waar de berekeningsfactoren gebaseerd zijn op analyseresultaten (steenkool, grondstoffen) worden de activiteitsgegevens en berekeningsfactoren van elke geanalyseerde batch eerst toegepast op de formule uit artikel 24, lid 1. De emissies die daar per batch uit volgen worden vervolgens opgeteld bij de jaarlijkse emissies van de bronstroom."]
[342,"c) waar b) van toepassing is, worden gewogen gemiddelde berekeningsfactoren vastgesteld voor de rapportage."]
[343,"d) de emissies van alle bronstromen worden bij elkaar opgeteld tot de jaarlijkse emissies van de installatie."]
[344,"Voor vaste brandstoffen worden overeenkomstig artikel 27, lid 2, metingen per batch verricht. Alle andere bronstromen worden gemonitord middels continue metingen."]
[345,"Alle informatie over bronstromen (de bepaling van activiteitsgegevens en berekeningsfactoren) komt elders in dit monitoringplan aan bod."]
[346,"Specificatie en locatie van meetsystemen waarmee de activiteitsgegevens van bronstromen worden bepaald:"]
[347,"Geef per bronstroom waarop rekenmethoden van toepassing zijn de specificaties en de locatie van de gebruikte meetsystemen."]
[348,"Bij \"Locatie\" dient u aan te geven waar de meter zich in de installatie bevindt en hoe deze is weergegeven op het stroomschema van het proces."]
[349,"Voor elk meetinstrument voert u de gespecificeerde onzekerheid in, inclusief het bereik ervan, zoals vermeld in de specificatie van de fabrikant. In bepaalde gevallen mag u twee onzekerheidsbereiken opgeven. In dat geval voert u beide bereiken in."]
[350,"Het normale gebruiksbereik verwijst naar het bereik waarvoor het desbetreffende meetinstrument gewoonlijk in uw installatie wordt gebruikt."]
[351,"U dient een beschrijving te geven voor alle meetinstrumenten die relevant zijn voor de emissiemonitoring, inclusief submeters en meters die worden gebruikt om emissies af te trekken die buiten de grenzen van de installatie optreden. Continue emissiemetingssystemen (CEMS) dienen te worden gespecificeerd bij punt 9c op het werkblad F_MeasurementBasedApproaches."]
[352,"\"Type meetinstrument\": Selecteer het type dat van toepassing is in de vervolgkeuzelijst of voer zelf een toepasselijker type in. "]
[353,"De instrumentenlijst die u hier invoert, komt per bronstroom in een vervolgkeuzelijst beschikbaar bij punt b op het werkblad E_SourceStreams, waar wordt verwezen naar de relevante meetinstrumenten."]
[354,"Ga bij gasstroommeters uit van Nm³/u als de p/T-compensatie in het instrument plaatsvindt en ga uit van m³ in bedrijfstoestand als de p/T-compensatie door een afzonderlijk instrument wordt verricht. Als dat laatste het geval is, vermeldt u de afzonderlijke instrumenten."]
[355,"Alle instrumenten moeten duidelijk te onderscheiden zijn middels een uniek identificatienummer (zoals het serienummer). De uitwisseling van instrumenten (bijvoorbeeld ten gevolge van schade) leidt echter niet tot significante wijzigingen in het monitoringplan in de zin van artikel 15, lid 3. Het unieke identificatienummer dient daarom apart van het monitoringplan te worden gedocumenteerd. Zorg ervoor dat u voor dit doel een passende schriftelijke procedure opstelt."]
[356,"Referentie"]
[357,"Type meetinstrument"]
[358,"locatie (intern identificatienummer)"]
[359,"Meetbereik"]
[360,"Gespecificeerde\nonzekerheid\n (+/-%)"]
[361,"Normaal gebruiksbereik"]
[362,"eenheid"]
[363,"ondergrens"]
[364,"bovengrens"]
[365,"Rotormeter"]
[366,"Weegbrug"]
[367,"Klik op \"+\" om meer meetinstrumenten toe te voegen"]
[368,"Naam en referentie van het document ter beoordeling van onzekerheidsberekeningen:"]
[369,"U dient aan te tonen dat u voldoet aan de toegepaste niveaus overeenkomstig artikel 12. Verwijs in bovenstaand vak naar onzekerheidsberekeningen en/of -schema's. "]
[370,"Overeenkomstig artikel 47, lid 3, hoeft dit document niet bij de bevoegde autoriteit te worden ingediend voor installaties met geringe emissies."]
[371,"Lijst met informatiebronnen voor standaardwaarden voor berekeningsfactoren:"]
[372,"Geef een overzicht van alle relevante informatiebronnen op basis waarvan u standaardwaarden voor berekeningsfactoren bepaalt overeenkomstig artikel 31. "]
[373,"Doorgaans gaat het hierbij om statistische bronnen, zoals het nationale inventarisatiesysteem, IPCC, bijlage VI bij de MRV, het Handbook of Chemistry & Physics ...)."]
[374,"Indien de standaardwaarden jaarlijks veranderen, legt de exploitant de gezaghebbende toepasselijke dynamische bron van die waarde, zoals de website van de bevoegde autoriteit, vast in het monitoringplan."]
[375,"Deze lijst komt als vervolgkeuzelijst beschikbaar in tabel (g) op het werkblad E_SourceStreams met als doel om per bronstroom te verwijzen naar de informatiebronnen voor de relevante berekeningsfactoren."]
[376,"Informatiebronreferentie"]
[377,"Beschrijving van de informatiebron "]
[378,"Nationale, jaarlijks bijgewerkte broeikasgasinventarisatie (zie http:/Dummy.adres.test). De meest recente, in 2011 gepubliceerde waarde wordt gebruikt."]
[379,"Handbook of Chemistry and Physics, 92e editie, http://www.hbcpnetbase.com/"]
[380,"NCV- en EF-analyse van de bronstroom \"zware stookolie\" (augustus 2011)"]
[381,"Klik op \"+\" om meer informatiebronnen toe te voegen"]
[382,"Laboratoria en methoden voor de analyse van berekeningsfactoren:"]
[383,"Geef een overzicht van de methoden voor de analyse van brandstoffen en materialen bij het bepalen van alle berekeningsfactoren, indien dat voor het geselecteerde niveau nodig is. Indien het laboratorium niet volgens EN ISO/IEC 17025 is erkend, dient u aan te tonen dat het laboratorium technisch geschikt is overeenkomstig artikel 34. Verwijs hiertoe naar een bijlage."]
[384,"Indien onlinegaschromatografen of al dan niet op extractie berustende gasanalyseapparatuur worden gebruikt, dient u te voldoen aan de eisen van artikel 32."]
[385,"Deze lijst komt als vervolgkeuzelijst beschikbaar in tabel g op het werkblad E_SourceStreams met als doel om per bronstroom te verwijzen naar de analysemethoden voor de relevante berekeningsfactoren."]
[386,"Laboratoriumreferentie"]
[387,"Laboratoriumnaam"]
[388,"Parameter"]
[389,"Analysemethode\n (verwijs naar de procedure en geef een beknopte beschrijving van de methode)"]
[390,"Is het laboratorium voor deze analyse EN ISO/IEC 17025-erkend?"]
[391,"Als dat niet zo is, moet u verwijzen naar bewijsstukken"]
[392,"Laboratorium (voorbeeld)"]
[393,"Koolstofgehalte"]
[394,"EN 15104:2011. Zie de ANA-1233/UBA-procedure"]
[395,"Laboratorium (voorbeeld 2)"]
[396,"Biomassagehalte"]
[397,"EN 15440:2011 – enkele afwijkingen betreffende de steekproefgrootte en de behandeling. Zie de ANA-1234/UBA-procedure"]
[398,"Lab_competence.pdf, 2/3/2012"]
[399,"Klik op \"+\" om meer methoden en laboratoria toe te voegen"]
[400,"Beschrijving van de schriftelijke procedures voor analyses:"]
[401,"Verschaf informatie over de schriftelijke procedures voor de hierboven bij punt 7e genoemde analyses. De beschrijving dient in te gaan op de wezenlijke parameters en uitgevoerde handelingen."]
[402,"Indien meerdere procedures voor een soortgelijk doel worden gebruikt voor verschillende bronstromen of parameters, beschrijft u een overkoepelende procedure waarin de gemeenschappelijke elementen en de kwaliteitswaarborging van de toegepaste methoden worden behandeld."]
[403,"U kunt daarbij verwijzen naar afzonderlijke \"subprocedures\" of informatie verschaffen over elke afzonderlijke relevante procedure. In het tweede geval klikt u op de \"Voeg een procedure toe\"-knop aan het einde van dit werkblad. Zorg er wel voor dat in tabel g (punt 8) duidelijk verwezen wordt naar de betreffende (sub-)procedure."]
[404,"Procedurenaam"]
[405,"Analyse van de calorische onderwaarden van vaste en vloeibare brandstoffen."]
[406,"Verwijzing naar de procedure"]
[407,"Vaste brandstoffen: ANA 1-1/UBA; Vloeibare brandstoffen: ANA 1-2/UBA;  Vergelijking door een extern (erkend) laboratorium: ANA 1-3/ext"]
[408,"Verwijzing naar een diagram (indien van toepassing)"]
[409,"N.V.T."]
[410,"Korte procedurebeschrijving"]
[411,"Er is een bomcalorimeter gebruikt. Het juiste monstervolume is gebaseerd op de ervaringen met eerdere metingen van dergelijke materialen.\nDe monsters worden ten minste zes uur gedroogd bij 120°C. De NCV wordt middels berekeningen gecorrigeerd voor het vochtgehalte."]
[412,"Vaste brandstoffen: conform de norm. Vloeibare brandstoffen: Slechts licht gewijzigd ten opzichte van de norm; de monsters zijn niet gedroogd."]
[413,"Functie of afdeling die verantwoordelijk is voor de procedure en voor gegenereerde gegevens"]
[414,"Het hoofd van het bedrijfslaboratorium. Plaatsvervanger: het hoofd van de afdeling HSEQ."]
[415,"Plaats waar de administratie wordt bewaard"]
[416,"Per post: Laboratory Office, plank 27/9, map \"ETS 01-ANA-jjjj\" (waar jjjj staat voor het huidige jaar).\nElektronisch: \"P:\\ETS_MRV\\labs\\ETS_01-ANA-jjjj.xls\""]
[417,"Naam van het gebruikte IT-systeem (indien van toepassing)."]
[418,"Intern logboek van het laboratorium (Microsoft Access-database): de steekproefaantallen, oorsprong en naam van de steekproef worden samen met de resultaten gevolgd."]
[419,"Een lijst van EN-normen of andere toegepaste normen, indien van toepassing."]
[420,"EN 14918:2009 inclusief wijzigingen geldt ook voor niet-biomassa- en vloeibare brandstoffen."]
[421,"Beschrijving van de procedure voor de bemonsteringsplannen ten behoeve van de analyses:"]
[422,"Onderstaande procedures moeten de elementen van het bemonsteringsplan bestrijken zoals bepaald in artikel 33.  De procedure wordt samen met het monitoringplan bij de bevoegde autoriteit ingediend."]
[423,"Beschrijving van de procedure voor de beoordeling van de geschiktheid van het bemonsteringsplan:"]
[424,"Beschrijving van de procedure voor de schatting van de voorraden aan het begin/eind van een rapporteringsjaar (indien van toepassing):"]
[425,"Beschrijf de procedure voor het schatten van veranderingen in de voorraad van bronstromen die middels batchmetingen worden gemonitord en waarvoor facturen worden gebruikt."]
[426,"Beschrijving van de procedure voor het bijhouden van de instrumenten die in de installatie zijn geïnstalleerd voor het bepalen van activiteitsgegevens."]
[427,"Deze procedure is alleen van toepassing wanneer de exploitant zelf de meetinstrumenten hanteert."]
[428,"Klik op \"+\" om meer procedures toe te voegen"]
[429,"E.\nSource streams"]
[430,"6 tot en met 10 "]
[431,"E. Bronstromen"]
[432,"De aanwijzingen worden alleen voor de eerste bronstroom weergegeven."]
[433,"Als u de gegevens voor meerdere bronstromen wilt weergeven, klik dan op de \"+\"-symbolen aan de linkerkant (gegevensgroepering)."]
[434,"Om verdere bronstromen toe te voegen gebruikt u de macro in punt 6e van het werkblad C_InstallationDescription."]
[435,"Het voorbeeld is in de eerste bronstroom opgenomen."]
[436,"Type bronstroom:"]
[437,"Te gebruiken methode volgens de MRV:"]
[438,"Parameter waarop de onzekerheid wordt toegepast:"]
[439,"Voorbeeldbronstroom:"]
[440,"Standaardmethode: Brandstoffen, artikel 24, lid 1"]
[441,"Brandstofhoeveelheid [t] of [Nm3]"]
[442,"De naam, het type en de categorie van de bronstroom worden automatisch getoond op basis van de invoer bij punt 6e op het werkblad C_InstallationDescription."]
[443,"Als u de bronstroom daar niet in een van de categorieën (groot, klein, de-minimis) hebt ingedeeld, wordt de categorie gebruikt die automatisch wordt weergegeven bij dat punt. In dat geval kan het model hieronder niet aangeven welke niveaus moeten worden toegepast. Selecteer daarom de juiste categorie bij bovengenoemd punt."]
[444,"Wanneer het bronstroomtype zonder problemen gekoppeld kan worden aan een monitoringmethode overeenkomstig artikel 24 en 25 van de MRV en conform de parameters waarop de onzekerheid van de activiteitsgegevens van toepassing is (bijlage II), wordt deze informatie automatisch verstrekt op basis van de MRV."]
[445,"Automatische aanwijzingen over de toepasselijke niveaus:"]
[446,"Bij onderstaande punten (c) en (f) worden de vereiste niveaus voor activiteitsgegevens en berekeningsfactoren in de groene velden getoond op basis van uw invoer bij de punten 5d, 5e, 6e en 6f. Daar vindt u de minimale niveaus voor grote bronstromen van installaties die onder categorie C vallen. Het is echter mogelijk dat lagere eisen worden gesteld. In onderstaand groen tekstvak vindt u passende aanwijzingen die afhankelijk zijn van de volgende punten:"]
[447,"Voor installaties met geringe emissies gelden overeenkomstig artikel 47, lid 2, lagere eisen;"]
[448,"De installatiecategorie (A, B of C) overeenkomstig artikel 19;"]
[449,"Voor bronstormen die krachtens artikel 19, lid 3, als  kleine en de-minimisbronstromen zijn ingedeeld, gelden lagere eisen."]
[450,"Dit bericht over de toe te passen niveaus is van belang voor de activiteitsgegevens en voor alle berekeningsfactoren."]
[451,"Voorbeeldgegevens:"]
[452,"Artikel 26, lid 1: Ten minste worden onderstaande minimale niveaus gehanteerd.\nU mag echter tot twee niveaus lager gebruiken, met als minimum niveau 1, mits u ten genoegen van de bevoegde autoriteit aantoont dat het verplichte niveau overeenkomstig de eerste alinea technisch niet haalbaar is of leidt tot onredelijke kosten."]
[453,"Activiteitsgegevens:"]
[454,"Bepalingsmethode voor activiteitsgegevens:"]
[455,"Bepalingsmethode:"]
[456,"Voortdurend"]
[457,"Krachtens artikel 27, lid 1, kunnen de activiteitsgegevens van een bronstroom worden bepaald (a) op basis van een continue meting in het proces dat de emissies voortbrengt of (b) op basis van de som van afzonderlijke metingen van hoeveelheden, rekening houdend met relevante voorraadwijzigingen (batchmeting)."]
[458,"Verwijzing naar de procedure voor het bepalen van de voorraden aan het einde van het jaar:"]
[459,"Dit is alleen van toepassing als u bij de bepalingsmethode \"Batch\" hebt geselecteerd. Verwijs naar de procedure die bij punt 7i beschreven wordt. "]
[460,"Installaties met geringe emissies (punt 5e) zijn vrijgesteld van de eis om de voorraadbepaling op te nemen in hun beoordeling van de onzekerheid (artikel 47, lid 5)."]
[461,"Het instrument wordt beheerd door:"]
[462,"Selecteer \"exploitant\" als u het meetinstrument beheert en kies voor \"Handelspartner\" als dat niet zo is."]
[463,"Als er sprake is van meerdere instrumenten, selecteert u \"Handelspartner\" als ten minste een van de voor deze bronstroom gebruikte instrumenten niet door u beheerd wordt. Geef in dat geval in het commentaarvak onder punt b aan welke instrumenten door de exploitant en welke instrumenten door de handelspartner worden beheerd."]
[464,"Bevestig dat is voldaan aan de voorwaarden van artikel 29, lid 1:"]
[465,"Dit punt is alleen van toepassing als u niet de eigenaar van het meetinstrument bent."]
[466,"Krachtens  artikel 29, lid 1, mag u alleen gebruik maken van meetsystemen die niet door u worden beheerd als deze u in staat stellen om ten minste aan een even hoog niveau te voldoen, als deze betrouwbaardere resultaten opleveren en minder controlerisico's met zich meebrengen."]
[467,"Bepaalt u de hoeveelheid brandstof of materiaal aan de hand van facturen?"]
[468,"Bevestig dat de handelspartner en de exploitant onafhankelijk zijn:"]
[469,"Dit punt is alleen van toepassing als u niet de eigenaar van het meetinstrument bent "]
[470,"Krachtens artikel 29, lid 1, onder a), mag u alleen facturen gebruiken wanneer de handelspartners onafhankelijk zijn."]
[471,"Toegepaste meetinstrumenten:"]
[472,"Selecteer hier een of meer instrumenten die u bij punt 7b hebt gedefinieerd. "]
[473,"Als u voor deze bronstroom meer dan vijf meetinstrumenten gebruikt, bijvoorbeeld als de p/T-compensatie met verschillende instrumenten wordt verricht, verschaft u daarover informatie in onderstaand tekstvak."]
[474,"Commentaar op / beschrijving van de methode, indien meerdere instrumenten zijn gebruikt:"]
[475,"Verklaar indien van toepassing waarom en op welke wijze meerdere instrumenten worden gebruikt. Zo kan een van de instrumenten benodigd zijn voor het aftrekken van het niet-ETS-deel van de brandstof. U kunt ook weeginstrumenten gebruiken, of instrumenten ter bevestiging, enz."]
[476,"Vereist niveau voor de activiteitsgegevens:"]
[477,"Gebruikt niveau voor de activiteitsgegevens:"]
[478,"Bereikte onzekerheid:"]
[479,"Opmerking:"]
[480,"De onzekerheid mag niet meer bedragen dan ± 5,0%"]
[481,"De onzekerheid mag niet meer bedragen dan ± 2,5%"]
[482,"Onder nationale wettelijke metrologische controle --> maximaal toelaatbare bedrijfsfouten"]
[483,"Met betrekking tot het vereiste en gebruikte niveau verschaft u hier de bereikte onzekerheid over de gehele verslagperiode."]
[484,"Over het algemeen dient deze waarde te volgen uit een onzekerheidsbeoordeling (zie punt 7c). Artikel 28, leden 2 en 3, en artikel 29, lid 2, maken bepaalde vereenvoudigingen mogelijk:"]
[485,"U de maximaal toelaatbare bedrijfsfouten voor het gebruikte meetinstrument gebruiken, of indien lager, de onzekerheid die wordt verkregen door kalibratie, vermenigvuldigd met een conservatieve aanpassingscoëfficiënt om rekening te houden met het effect van de bedrijfsonzekerheid, mits de meetinstrumenten zijn geïnstalleerd in een omgeving die voldoet aan de gebruiksspecificaties van de meetinstrumenten, of"]
[486,"U mag de maximaal toelaatbare bedrijfsfout gebruiken als de verkregen onzekerheid, mits het meetinstrument onderworpen is aan nationale wettelijke metrologische controle."]
[487,"Gebruik onderstaand tekstvak bij punt h om te beschrijven hoe de bereikte onzekerheid voor de gehele periode wordt bepaald."]
[488,"Voor verdere aanwijzingen raadpleegt u artikel 28 en 29 van de MRV en punt 5.3 van richtsnoer nr. 1."]
[489,"Berekeningsfactoren:"]
[490,"Overeenkomstig artikel 30, lid 1, kunnen berekeningsfactoren worden bepaald als standaardwaarden of door laboratoriumonderzoek. De te kiezen optie wordt bepaald door het toegepaste niveau."]
[491,"U wordt geïnformeerd over de volgende niveaucategorieën (overeenkomstig richtsnoer 1):"]
[492,"Standaardwaarden van het type I"]
[493,"Standaardwaarden van het type I: Standaardfactoren zoals opgenomen in bijlage VI (in principe zijn dit IPCC-waarden), of andere constante waarden overeenkomstig artikel 31, lid 1, onder d) en e) (waarden die de leverancier heeft gewaarborgd of die gebaseerd zijn op in het verleden uitgevoerde analyses, maar nog altijd geldig zijn)."]
[494,"Standaardwaarden van het type II:"]
[495,"Standaardwaarden van het type II: Landspecifieke emissiefactoren overeenkomstig artikel 31, lid 1, onder b) en c) (waarden die gebruikt worden voor de nationale broeikasgasinventarisatie, aanvullende waarden die de bevoegde autoriteit verstrekt voor meer uitgesplitste soorten brandstoffen, of andere waarden uit literatuurbronnen die de bevoegde autoriteit heeft goedgekeurd)."]
[496,"Algemeen aanvaarde proxy's: "]
[497,"Deze methoden zijn gebaseerd op empirische correlaties en worden ten minste eenmaal per jaar vastgesteld overeenkomstig de eisen die gelden voor laboratoriumanalyses. Aangezien de analyses echter slechts eenmaal per jaar worden uitgevoerd, wordt dit niveau als een lager niveau dan volledige analyses beschouwd. De proxycorrelaties kunnen gebaseerd zijn op:"]
[498,"dichtheidsmeting van specifieke oliën of gassen, waaronder die welke gewoonlijk worden gehanteerd in raffinaderijen of in de staalindustrie, of"]
[499,"de calorische onderwaarde van specifieke soorten steenkool."]
[500,"Aankoopgegevens: "]
[501,"De calorische onderwaarde mag worden ontleend aan de door de brandstofleverancier afgegeven aankoopbescheiden, voor zover die waarde is verkregen op basis van aanvaarde nationale of internationale normen. (Alleen van toepassing op commercieel verhandelbare brandstoffen)."]
[502,"Laboratoriumanalyses: "]
[503,"In dit geval zijn de in de artikelen 32 tot en met 35 vastgelegde eisen voor analyse volledig van toepassing."]
[504,"Biomassafractie van het type I"]
[505,"Een van de volgende als gelijkwaardig beschouwde methoden wordt toegepast:"]
[506,"Gebruik een standaardwaarde of schattingsmethode zoals door de Commissie gepubliceerd overeenkomstig artikel 39, lid 2."]
[507,"Gebruik een waarde die is bepaald overeenkomstig artikel 39, lid 2, tweede alinea: neem aan dat het materiaal volledig fossiel is (BF=0) of gebruik een door de bevoegde autoriteit toegestane schattingsmethode;"]
[508,"Artikel 39, lid 3, wordt toegepast als biogas wordt geïnjecteerd in aardgasnetwerken: in dat geval gebruikt u, indien deze voorhanden is, een garantie van oorsprong die is vastgesteld overeenkomstig artikel 2, onder j), en artikel 15 van Richtlijn 2009/28/EG (de richtlijn inzake hernieuwbare energiebronnen). "]
[509,"Biomassafractie van het type II"]
[510,"De biomassafractie wordt overeenkomstig artikel 39, lid 1, bepaald door laboratoriumanalyses. In dat geval is voor de gehanteerde relevante normen en analysemethoden de expliciete toestemming van de bevoegde autoriteit vereist."]
[511,"Opmerking:"]
[512,"De vereiste niveaus in onderstaande tabel hebben alle betrekking op grote bronstromen. Verwijs naar de informatie in het tekstvak bij de koptekst van deze bronstroom of er al dan niet lagere eisen mogen worden toegepast."]
[513,"Overeenkomstig artikel 26, lid 4, past de exploitant voor de oxidatiefactor en conversiefactor minimaal de in bijlage II opgenomen laagste niveaus toe."]
[514,"Toegepaste niveaus voor berekeningsfactoren:"]
[515,"berekeningsfactor"]
[516,"vereist niveau"]
[517,"toegepast niveau"]
[518,"volledige tekst voor het toegepaste niveau"]
[519,"Calorische onderwaarde (NCV)"]
[520,"Voorlopige emissiefactor"]
[521,"Oxidatiefactor"]
[522,"Omrekeningsfactor"]
[523,"Koolstofgehalte"]
[524,"Biomassafractie (indien van toepassing)"]
[525,"volledige tekst voor het toegepast niveau"]
[526,"Laboratoriumanalyses"]
[527,"Standaardwaarden van het type II"]
[528,"Standaardwaarde OF=1 "]
[529,"n.v.t."]
[530,"Afhankelijk van het geselecteerde niveau (standaardwaarden of laboratoriumanalyse) moet u de volgende informatie invoeren per gebruikte berekeningsfactor:"]
[531,"Bij gebruik van een standaardwaarde voert u die waarde, de eenheid en de gebruikte literatuur in door te verwijzen naar tabel 7d op het vorige werkblad. De waarde moet overeenkomen met de constante waarde ten tijde van de kennisgeving van het monitoringplan."]
[532,"Wanneer laboratoriumanalyses vereist zijn, vermeldt u de analysemethode en het laboratorium door te verwijzen naar tabel 7e op het vorige werkblad, naar uw steekproefprogramma en naar de toegepaste analysefrequentie."]
[533,"Informatie over berekeningsfactoren:"]
[534,"standaardwaarde"]
[535,"Eenheid"]
[536,"bronreferentie"]
[537,"analysereferentie"]
[538,"steekproefreferentie"]
[539,"Analysefrequentie"]
[540,"NCV_Sample"]
[541,"Per week"]
[542,"IS5: IPCC"]
[543,"IS1: MRV"]
[544,"Opmerkingen en uitleg:"]
[545,"Opmerkingen:"]
[546,"Relevante opmerkingen kunt u hieronder kwijt. Er kan bijvoorbeeld uitleg nodig zijn over de schatting van biomassa-emissies, de proxy- of correlatiemethode, enz."]
[547,"U dient een verklaring te geven als de vereiste niveaus niet worden toegepast:"]
[548,"Hier geeft u een verklaring als de krachtens artikel 26 vereiste niveaus niet worden toegepast voor activiteitsgegevens en de toepasselijke berekeningsfactoren."]
[549,"Verbeterplannen die krachtens artikel 26 vereist zijn dienen met dit monitoringplan te worden ingediend. U dient er hieronder naar te verwijzen. Wanneer u onredelijke kosten als reden opgeeft overeenkomstig artikel 18, moet u de betreffende berekening met dit monitoringplan indienen en dient u er in onderstaande motivering naar te verwijzen."]
[550,"F.\nMeasurement Approach"]
[551,"Emissiemeting"]
[552,"Beheer en procedures"]
[553,"Opmerking: Dit punt moet worden ingevuld voor de continue meting van CO2-emissies en N2O-emissies."]
[554,"Daarnaast verschaft u hier een deel van de informatie die benodigd is voor de monitoring van overgedragen en inherent CO2."]
[555,"Beschrijving van de meetmethode"]
[556,"Geef in onderstaand tekstvak een beknopte beschrijving van de meetmethode aan de hand waarvan u uw jaarlijkse CO2- of N2O-emissies bepaalt. Bij N2O-emissies vermeldt u ook de methode die u hanteert om deze om te zetten naar CO2(e)-gegevens."]
[557,"In de beschrijving dient u de gebruikte instrumenttypen te vermelden, aan te geven of de metingen worden verricht onder natte of droge omstandigheden en de formules voor correctiefactoren te vermelden (p, T, O2 en H2O). Wanneer EN 14181 van toepassing is, dient u de voor kwaliteitsniveau 2-procedures vereiste ijkfactoren te vermelden. Als u het rookgasvolume berekent, geeft u een korte beschrijving van de methode voor de bepaling van dat volume. "]
[558,"Beschrijf hoe de jaarlijkse emissies bepaald worden op basis van concentratie- en rookgasdebietgegevens, waarbij u de frequentie aangeeft waarmee de concentratie en het rookgasdebiet worden bepaald. Vermeld ook welke vervangwaarden worden gebruikt als u geen geldige uurwaarde kunt bepalen."]
[559,"Beschrijf indien van de toepassing de rekenmethode waarmee emissies uit biomassa worden bepaald teneinde deze van de totale emissies af te trekken."]
[560,"Procesdiagram, wanneer de bevoegde autoriteit daarom verzoekt:"]
[561,"Verschaf een procesdiagram met alle relevante emissiepunten bij normaal bedrijf en bij afwijkend bedrijf, bijvoorbeeld gedurende restrictieve en overgangsfasen, waaronder tijdens uitvalperioden of bij de inbedrijfstelling."]
[562,"Specificatie en locatie van meetsystemen voor meetpunten:"]
[563,"Beschrijf de specificatie en locatie van de meetsystemen die per bronstroom gebruikt worden, in het geval van meetmethoden, en van de meetpunten voor de overdracht van CO2."]
[564,"Neem daarin ook instrumenten voor hulpparameters op, zoals het O2- en het vochtgehalte, en neem bij indirecte metingen ook instrumenten op voor de meting van de concentratie van andere bestanddelen van het gas dan CO2."]
[565,"De hier ingevoerde instrumentenlijst komt voor elke emissiebron als vervolgkeuzelijst beschikbaar bij punt 10, waar verwezen wordt naar de relevante meetinstrumenten."]
[566,"Uit de meetfrequentie dient te blijken hoe vaak het instrument metingen verricht bij de meetpunten voordat de gegevens geaggregeerd worden tot uurgemiddelden of gemiddelden voor kortere perioden."]
[567,"Meetfrequentie"]
[568,"CO2-concentratie (NDIR)"]
[569,"Schoorsteen 1, platform A (grafiek: Sch. 1-A)"]
[570,"1 per seconde"]
[571,"Debietmeting (pitotbuisgemiddelde)"]
[572,"Laboratoria en methoden die gebruikt worden voor continue meetmethoden:"]
[573,"Deze lijst komt als vervolgkeuzelijst beschikbaar bij punt 10. U verwijst ermee naar de analysemethoden voor de relevante meetpunten."]
[574,"Kwaliteitsniveau-procedures"]
[575,"EN 14181"]
[576,"CO2-concentratie"]
[577,"ISO 12039"]
[578,"NB: De handleiding wordt alleen getoond bij het eerste meetpunt."]
[579,"Als u de gegevens van verdere meetpunten wilt tonen, klik dan op de \"+\"-tekens aan de linkerkant (gegevensgroepering)."]
[580,"Om meer meetpunten toe te voegen gebruikt u de macro bij punt 6d op het werkblad C_InstallationDescription."]
[581,"Het voorbeeld is opgenomen in het eerste meetpunt."]
[582,"Werking:"]
[583,"Normaal of afwijkend bedrijf"]
[584,"Geef hier aan of het hier een emissie- of meetpunt bij normaal bedrijf of bij afwijkend bedrijf betreft (gedurende restrictieve en overgangsfasen, waaronder tijdens uitvalperioden of bij de inbedrijfstelling)."]
[585,"De informatie in de groene velden wordt automatisch overgenomen uit punt 6d op het werkblad C_InstallationDescription."]
[586,"In onderstaande groene velden worden de vereiste niveaus voor meetmethoden weergegeven. Deze zijn gebaseerd op uw invoer bij de punten 5d en 6d. Het betreft de minimale niveaus voor grote emissiebronnen. Het is echter mogelijk dat lagere eisen worden gesteld. Passende aanwijzingen worden afhankelijk van de volgende punten getoond in onderstaand groen tekstvak:"]
[587,"Verlaagde eisen gelden overeenkomstig artikel 41, lid 1, voor emissiebronnen die per jaar minder dan 5 000 ton CO2(e) uitstoten, of minder dan 10% aan de totale jaarlijkse emissies van de installatie bijdragen, afhankelijk van welke groter is."]
[588,"Artikel 41: Het hieronder getoonde minimale niveau is van toepassing.\nAlleen als u ten genoegen van de bevoegde autoriteit kunt aantonen dat de toepassing van het vereiste niveau technisch niet haalbaar is of tot onredelijke kosten leidt en de toepassing van een rekenmethode op basis van de in artikel 26 vereiste niveaus technisch niet haalbaar is of leidt tot onredelijke kosten, mag het eerstvolgende lagere niveau, met als minimum niveau 1, worden aangehouden."]
[589,"Instrumenten en niveaus:"]
[590,"MM1: CO2"]
[591,"MM2: Debiet"]
[592,"Selecteer hier een of meerdere instrumenten die u hierboven bij punt 9c hebt ingevoerd."]
[593,"Als u voor dit meetpunt meer dan vijf meetinstrumenten gebruikt, dient u in onderstaand commentaarvak uitleg te verschaffen."]
[594,"Vereist niveau:"]
[595,"Toegepast niveau:"]
[596,"Geef hier, met betrekking tot het vereiste en gehanteerde niveau, de totale bereikte onzekerheid over de gehele verslagperiode."]
[597,"Over het algemeen dient deze waarde te volgen uit een onzekerheidsbeoordeling (zie punt 7c). "]
[598,"Normen en procedures:"]
[599,"Toegepaste normen en eventuele afwijkingen van die normen"]
[600,"Verwijs waar nodig naar tabel 9e."]
[601,"Verwijzingen naar procedures"]
[602,"Om de toegepaste methoden volledig te beschrijven dient u de volgende informatie te verschaffen. Verwijs naar de relevante schriftelijke procedures, die verderop in dit werkblad bij punt 11 worden geschetst."]
[603,"De berekeningsformules voor de verzameling van gegevens en de bepaling van de jaarlijkse emissies"]
[604,"De methode om te bepalen of geldige uren of kortere referentieperioden voor elke parameter kunnen worden berekend (uitgaande van de drempelwaarde van artikel 44, lid 2), en voor het bepalen van waarden ter vervanging van ontbrekende gegevens overeenkomstig artikel 45"]
[605,"Berekening van het rookgasdebiet, indien van toepassing"]
[606,"Bepaling van het CO2 afkomstig uit biomassa, afgetrokken van de gemeten CO2-emissies, indien van toepassing"]
[607,"Ter bevestiging uitgevoerde berekeningen overeenkomstig artikel 46, indien van toepassing"]
[608,"Relevante opmerkingen kunt u hieronder kwijt. Mogelijk dient u uitleg te verschaffen over de schattingsmethode voor biomassa, aanvullende kwaliteitsevaluatie/kwaliteitscontrole, enz."]
[609,"Indien van toepassing verklaart u hier waarom u het krachtens artikel 41 voor dit meetpunt vereiste niveau niet gebruikt."]
[610,"Verschaf informatie over de schriftelijke procedures waarin de methode en berekeningsformules zijn opgenomen voor de gegevensverzameling en voor het bepalen van de jaarlijkse CO2(e)-emissies bij gebruik van meetmethoden."]
[611,"Verschaf informatie over de schriftelijke procedures overeenkomstig artikel 44 van de MRV."]
[612,"Indien meerdere procedures voor een soortgelijk doel worden gebruikt voor verschillende emissiebronnen of meetpunten, beschrijft u een overkoepelende procedure waarin de gemeenschappelijke elementen en de kwaliteitswaarborging van de toegepaste methoden worden behandeld."]
[613,"U kunt daarbij verwijzen naar afzonderlijke \"subprocedures\" of informatie verschaffen over elke afzonderlijke relevante procedure. In het tweede geval klikt u op de \"Voeg een procedure toe\"-knop aan het einde van dit werkblad. Zorg ervoor dat u duidelijk kunt verwijzen naar de relevante (sub-)procedures."]
[614,"Beknopte beschrijving van de procedure    In de beschrijving moeten de wezenlijke parameters en uitgevoerde handelingen aan bod komen"]
[615,"Verschaf informatie over de schriftelijke procedures voor de methode om geldige uren (of kortere referentieperioden) voor elke parameter en waarden ter vervanging van ontbrekende gegevens te bepalen."]
[616,"Verschaf informatie over de schriftelijke procedures voor de methode om te bepalen of geldige uren of kortere referentieperioden voor elke parameter kunnen worden geleverd, en voor het bepalen van waarden ter vervanging van ontbrekende gegevens overeenkomstig artikel 45 van de MRV."]
[617,"Als het rookgasdebiet bepaald wordt via een rekenmethode verschaft u informatie over de schriftelijke procedure voor deze berekening per relevante overeenkomstig artikel 43, lid 5, onder a), van de MRV."]
[618,"Als de emissiemeting ook CO2 afkomstig uit biomassa betreft, verschaft u informatie over de schriftelijke procedure aan de hand waarvan deze wordt bepaald en wordt afgetrokken van de gemeten CO2-emissies, overeenkomstig artikel 43, lid 4, van de MRV, indien van toepassing."]
[619,"Verschaf informatie over de schriftelijke procedure voor het uitvoeren van ter bevestiging uitgevoerde berekeningen overeenkomstig artikel 46 van de MRV, indien van toepassing."]
[620,"G. Fall-back approaches"]
[621,"In artikel 22 van de MRV is bepaald dat de exploitant voor geselecteerde bronstromen of emissiebronnen een monitoringmethode mag gebruiken die niet op niveaus is gebaseerd, mits aan de in dat artikel vastgelegde voorwaarden is voldaan. Vul dit punt in als u de \"fall-back\"-methode wilt hanteren voor een bronstroom of emissiebron. De bevoegde autoriteit kan om nadere informatie en motivering verzoeken."]
[622,"Indien een \"fall-back\"-monitoringmethodiek wordt toegepast overeenkomstig artikel 22 van de MRV, verschaft u een gedetailleerde beschrijving van de monitoringmethodiek die is toegepast voor alle bronstromen of emissiebronnen waarvoor geen niveau-aanpak wordt gehanteerd."]
[623,"Geef in onderstaand tekstvak een beknopte beschrijving van de monitoringmethode, inclusief formules, die gebruikt wordt om de jaarlijkse CO2- of CO2(e)-emissies te bepalen."]
[624,"Geef een beknopte motivering voor het toepassen van de \"fall-back\"-methode voor bovenstaande emissiebronnen, overeenkomstig de bepalingen van artikel 22."]
[625,"U moet kunnen aantonen dat de totale onzekerheid met betrekking tot de jaarlijkse broeikasgasemissies van de installatie als geheel niet meer bedraagt dan 7,5% voor installaties van categorie A, 5,0% voor installaties van categorie B en 2,5% voor installaties van categorie C. Opmerking: De bevoegde autoriteit mag u om alle benodigde informatie vragen waaruit blijkt dat een op niveaus gebaseerde reken- of meetmethode technisch onhaalbaar is of tot onredelijke kosten zou leiden."]
[626,"Verschaf informatie over de schriftelijke procedures voor de jaarlijkse onzekerheidsanalyse, zoals vereist krachtens artikel 22 van de MRV."]
[627,"Opmerking: dit punt moet worden ingevuld voor de bepaling van N2O-emissies van gespecificeerde productieactiviteiten in een installatie. N2O-emissies uit de verbranding van brandstoffen vallen hier niet onder.  Zorg ervoor dat de informatie over uw meetsysteem waar nodig wordt ingevoerd op het werkblad F_MeasurementBasedApproaches."]
[628,"Dit werkblad betreft alleen eisen die niet van toepassing zijn op CO2-monitoring."]
[629,"Verschaf informatie over de schriftelijke procedure voor de gebruikte methode en parameters voor de bepaling van de hoeveelheid in het productieproces gebruikte materialen en de maximumhoeveelheid materiaal bij volledige gebruikscapaciteit."]
[630,"Verschaf informatie over de schriftelijke procedure voor de gebruikte methode en parameters voor de omrekening van de geproduceerde hoeveelheid product tot belastingsfactor per uur, uitgedrukt als per uur geproduceerd salpeterzuur (100%), adipinezuur (100%), glyoxal en glyoxylzuur en caprolactam."]
[631,"Verschaf informatie over de schriftelijke procedure voor de gebruikte methode en parameters voor de bepaling van de N2O-concentratie in het rookgas van elke emissiebron, het meetbereik en de onzekerheid van de methode en informatie over eventuele alternatieve methoden die worden gebruikt wanneer de concentraties buiten het meetbereik vallen alsmede over de situaties waarin dit kan voorkomen."]
[632,"Verschaf informatie over de schriftelijke procedure voor de berekeningsmethode voor de bepaling van periodieke ongereinigde N2O-emissies bij de productie van salpeterzuur, adipinezuur, caprolactam, glyoxal en glyoxylzuur."]
[633,"Verschaf informatie over de schriftelijke procedure voor de manier waarop of de mate waarin de installatie een variabele belasting kent, en de wijze waarop het logistieke beheer wordt gevoerd."]
[634,"Verschaf informatie over procesomstandigheden die afwijken van het normale bedrijf. "]
[635,"Daaronder moet zich een indicatie bevinden van de potentiële frequentie en de duur van dergelijke omstandigheden, alsmede een indicatie van de omvang van de N2O-emissies gedurende de afwijkende omstandigheden, bijvoorbeeld bij storingen van de rookgasreinigingsapparatuur."]
[636,"I. PFK-emissies"]
[637,"Opmerking: dit punt dient te worden ingevuld om de emissies van perfluorkoolstoffen uit de productie of bewerking van primair aluminium in een installatie te bepalen.  Als u hier een rekenmethode hanteert, controleert u of u alle benodigde gegevens (behalve de gegevens over de bronstroom en de procedures die u op dit werkblad invult) bij punt 7 op het werkblad D_CalculationBasedApproaches hebt ingevuld."]
[638,"Geef in onderstaand tekstvak een beknopte beschrijving van de methode waarmee u PFK-emissies bepaalt en omrekent naar jaarlijkse CO2(e)-emissies."]
[639,"Geef in onderstaand tekstvak een beknopte beschrijving van de monitoringmethode, inclusief formules, waarmee u de jaarlijkse CO2(e)-emissies bepaalt."]
[640,"Verwijs naar een procesdiagram met alle relevante emissiebronnen en -punten bij normaal bedrijf en in afwijkende situaties, zoals gedurende restrictieve en overgangsfasen, waaronder tijdens uitvalperioden of bij de inbedrijfstelling."]
[641,"Lijst van alle gemonitorde PFK-bronstromen:"]
[642,"Bij PFK-emissies mogen twee methodes (A: Hellingsmethode, B: Overspanningsmethode) worden gebruikt. In een installatie kunnen verschillende celtypen voorkomen (bijvoorbeeld verschillende technologieën of bouwjaren) die over verschillende emissiekenmerken beschikken."]
[643,"Groepen van cellen die volgens dezelfde methode worden gemonitord en die dezelfde emissiekenmerken (en -factoren) vertonen, worden beschouwd als \"bronstromen\" (oftewel: te monitoren eenheden), analoog aan andere op rekenmethoden gebaseerde vormen van monitoring. "]
[644,"Geef in deze lijst met de bronstromen van uw installatie de relevante monitoringmethode en het cel- en anodetype aan. De lijst wordt automatisch overgenomen van punt 6e op het werkblad C_InstallationDescription."]
[645,"Deze lijst wordt bij het volgende punt gebruikt voor het vastleggen van de verdere eigenschappen van de bronstromen."]
[646,"Celtype"]
[647,"Monitoringmethode"]
[648,"In onderstaande groene velden worden de vereiste niveaus voor activiteitsgegevens en berekeningsfactoren weergegeven op basis van uw invoer bij de punten 5d, 5e, 6e en 6f. Daar vindt u de minimale niveaus voor grote bronstromen van installaties die onder categorie C vallen. Het is echter mogelijk dat lagere eisen worden gesteld. Passende aanwijzingen worden afhankelijk van de volgende punten getoond in onderstaand groen tekstvak:"]
[649,"Voor installaties met geringe emissies gelden lagere eisen, overeenkomstig artikel 47, lid 2;"]
[650,"De installatiecategorie (A, B of C) overeenkomstig artikel 19;"]
[651,"Activiteitsgegevens"]
[652,"Productie van primair aluminium:"]
[653,"Methode A: Aantal anode-effecten per celdag"]
[654,"Methode A: gemiddeld aantal anode-effectminuten per gebeurtenis"]
[655,"Methode B: anode-effectoverspanning per cel"]
[656,"Methode B: Stroomrendement"]
[657,"Berekeningsfactoren"]
[658,"Toegepaste niveaus"]
[659,"HEFCF4 Hellingsemissiefactor"]
[660,"OSC (Overspanningscoëfficiënt)"]
[661,"FCF2F6 – Massafractie van C2F6 "]
[662,"Informatie over het niveau"]
[663,"standaard- of meest recente waarde"]
[664,"datum van de meest recente analyse"]
[665,"Opvangrendement voor de verwerking van diffuse emissies"]
[666,"Bepaling van het opvangrendement"]
[667,"Opvangrendement"]
[668,"Relevante opmerkingen kunt u hieronder kwijt. Er kan aanvullende uitleg nodig zijn over de manier waarop berekeningsfactoren worden bepaald, welke meetinstrumenten en procesbewakingsapparatuur worden gehanteerd bij het vaststellen van de activiteitsgegevens, enz."]
[669,"Indien een emissiefactor van niveau 2 wordt toegepast, verschaft u informatie over de schriftelijke procedure voor het bepalen van het tijdschema voor overeenkomstig bijlage IV, punt 8, bij de MRV te verrichten herhaalde metingen (emissiefactoren en opvangrendement)."]
[670,"Indien een emissiefactor van niveau 2 wordt toegepast, verschaft u informatie over de schriftelijke procedure waarmee de installatiespecifieke emissiefactoren voor CF4 en C2F6 worden bepaald. "]
[671,"Opmerking: uit de procedure moet tevens blijken dat de metingen zijn en zullen worden verricht gedurende een periode die lang genoeg is opdat de gemeten waarden zouden convergeren, en ten minste gedurende 72 uur."]
[672,"Verschaf informatie over de schriftelijke procedure betreffende de methode voor het bepalen van het opvangrendement voor diffuse emissies, indien van toepassing."]
[673,"J. Transferred CO2 & CCS"]
[674,"Opmerking: u dient dit punt in te vullen wanneer de overdracht van inherent CO2 dat deel uitmaakt van een brandstof overeenkomstig artikel 48 van de MRV of de overdracht van CO2 overeenkomstig artikel 49 van de MRV wordt uitgevoerd."]
[675,"Op dit blad verschaft u voorts informatie wanneer er sprake is van activiteiten op het gebied van de afvang, het transport via pijpleidingen of de geologische opslag van CO2 die vallen onder bijlage I bij de EU-ETS-richtlijn."]
[676,"Informatie betreffende de meetpunten en -instrumenten vult u in op blad F_MeasurementBasedApproaches."]
[677,"Geef een gedetailleerde beschrijving van de monitoringmethode die gebruikt is bij het bepalen van het inherent of overgedragen CO2. "]
[678,"U dient met name in te gaan op de toe te voegen hoeveelheden CO2 die door overdracht verkregen zijn en de af te trekken CO2 die uit de installatie is overgedragen, indien van toepassing. Zorg ervoor dat de berekening in overeenstemming is met de artikelen 48 en 49 van de MRV."]
[679,"Als de beschrijving te complex is, bijvoorbeeld als er complexe formules worden gebruikt of er een diagram nodig is om de beschrijving te verduidelijken, mag u de beschrijving aanleveren in een afzonderlijk document met een door de bevoegde autoriteit geaccepteerd formaat. Noem in dat geval hier de bestandsnaam en -datum."]
[680,"Verschaf informatie over de ontvangende en overdragende installaties"]
[681,"Verstrek voor elke installatie (of andere eenheid) waarvan of waarnaar u inherent of overgedragen CO2 ontvangt of overdraagt, de volgende informatie:"]
[682,"Naam van de installatie"]
[683,"Geef hier de naam van de installatie of de niet-ETS-eenheid waarvan of waarnaar CO2 wordt overgedragen. Gebruik indien mogelijk dezelfde naam die de bevoegde autoriteit en het register gebruiken."]
[684,"De naam van de exploitant van de installatie of de niet-ETS-eenheid."]
[685,"Uniek identificatienummer"]
[686,"Vermeld voor EU-ETS-installaties het unieke identificatienummer dat in het register wordt gebruikt. In geval van twijfel over het identificatienummer neemt u contact op met de bevoegde autoriteit."]
[687,"Type overdracht"]
[688,"Geef in de vervolgkeuzelijst aan of er sprake is van overdracht van of naar een installatie of niet-ETS-eenheid en of er sprake is van inherent CO2 (artikel 48) of overgedragen CO2 (artikel 49) zoals gedefinieerd in de MRV."]
[689,"Meetmethode"]
[690,"Overeenkomstig artikel 48, lid 3, kunt u het overgedragen of inherent CO2 bepalen via uw eigen instrumenten, middels de metingen die in de andere installatie worden verricht, of door het gemiddelde van beide gemeten waarden te nemen. Geef hier aan welke methode u hebt gebruikt."]
[691,"Opmerking: Informatie over de continue meting, de meetpunten en -instrumenten voert u in op het werkblad F_MeasurementBasedApproaches."]
[692,"Overdrachtsreferentie"]
[693,"Naam van de installatie"]
[694,"Uniek identificatienr van de installatie"]
[695,"Klik op \"+\" om meer installaties toe te voegen"]
[696,"Indien een deel van het overgedragen CO2 afkomstig is uit biomassa, of indien een installatie maar ten dele onder de EU-ETS-richtlijn valt, verschaft u informatie over de schriftelijke procedure voor het aftrekken van de hoeveelheid overgedragen CO2 die niet afkomstig is uit de onder de EU-ETS-richtlijn vallende fossielekoolstofactiviteiten."]
[697,"Geef aan welke monitoringmethode is geselecteerd voor uw transportnetwerk:"]
[698,"Overeenkomstig bijlage IV, punt 22.B, bij de MRV mag u uit beide methoden kiezen. Methode A betreft een meting van de massabalans van al het CO2 dat het netwerk binnenkomt en verlaat, terwijl methode B de bepaling betreft van diffuse en afgeblazen emissies, lekken en de emissies van de installatie."]
[699,"Verwijs indien van toepassing naar de onzekerheidsanalyse:"]
[700,"Als u hebt gekozen voor methode B moet u aantonen dat de totale onzekerheid voor de emissies vanuit het gehele transportnetwerk niet hoger ligt dan 7,5% en dat methode B betrouwbaardere resultaten oplevert. Indien van toepassing verwijst u hier naar het aangehechte document."]
[701,"Beschrijf indien van toepassing de apparatuur voor het meten van de temperatuur en de druk in het transportnetwerk."]
[702,"Geef overeenkomstig bijlage IV, punt 22, bij de MRV een overzicht van alle apparatuur waarmee u de temperatuur en druk in het transportnetwerk meet bij het vaststellen van de emissies uit lekken."]
[703,"Referentie"]
[704,"Locatie"]
[705,"Type meetinstrument"]
[706,"Instrumentreferentie"]
[707,"Klik op \"+\" om meer meetinstrumenten toe te voegen"]
[708,"Verwijzing naar de meer gedetailleerde beschrijving, indien van toepassing:"]
[709,"Waar nodig kunt u de lijst bij punt c en een meer gedetailleerde beschrijving opsturen in een afzonderlijk document met een door de bevoegde autoriteit geaccepteerd formaat. Noem in dat geval hier de bestandsnaam en -datum."]
[710,"Geef indien van toepassing informatie over de schriftelijke procedures voor de preventie, de opsporing en de kwantificatie van lekken in transportnetwerken."]
[711,"Verstrek bij transportnetwerken informatie over de schriftelijke procedures die waarborgen dat CO2 uitsluitend wordt overgebracht naar installaties die beschikken over een geldige broeikasgasemissievergunning, of waar CO2-emissies daadwerkelijk worden gemonitord en in rekening worden gebracht overeenkomstig artikel 49."]
[712,"Als u methode B toepast op pijpleidingsystemen, beschrijf dan hier de procedure die u hanteert om ten minste eenmaal per jaar de resultaten van methode B met behulp van methode A te valideren:"]
[713,"Als u methode B toepast beschrijft u hier de procedure die u hanteert voor het vaststellen van diffuse emissies:"]
[714,"Als u methode B toepast beschrijft u hier de procedure die u hanteert voor het vaststellen van afgeblazen emissies:"]
[715,"Opmerking: Als er sprake is van geologische opslag van CO2 hoeven enkel wanneer er een lek is ontdekt zowel emissies uit het opslagcomplex als CO2 dat vrijkomt in de waterkolom te worden gemonitord. Als er geen lek is ontdekt hoeft het monitoringplan op dit punt geen afzonderlijke bepalingen te bevatten. "]
[716,"Het is daarom van groot belang dat er een procedure is om onmiddellijk te reageren als er een lek is ontdekt. In die gevallen moet het monitoringplan onverwijld worden aangepast."]
[717,"Geef een beschrijving van de procedure voor de regelmatige evaluatie van de geschiktheid van het monitoringplan. Hiertoe gebruikt u punt 19c op het werkblad K_ManagementControl."]
[718,"Indien van toepassing verschaft u informatie over de schriftelijke procedure betreffende methodieken voor de kwantificatie van emissies of in de waterkolom vrijgekomen CO2 ten gevolge van potentiële lekkage, alsmede de toegepaste en eventueel aangepaste methodieken voor de kwantificatie van feitelijke emissies of CO2 vrijgekomen in de waterkolom ten gevolge van lekkage, als gespecificeerd in bijlage IV, punt 23."]
[719,"Beschrijf hier de methode en procedure die u toepast om diffuse of afgeblazen emissies te bepalen, inclusief emissies die bij de tertiaire winning van koolwaterstoffen optreden. Als u geen meetmethoden overeenkomstig de artikelen 41 tot en met 46 hanteert, dient u te motiveren dat er sprake is van onredelijke kosten."]
[720,"Beschrijf hier indien van toepassing de procedure waarmee de onzekerheid van emissies uit lekken wordt bepaald teneinde de omvang van de emissies aan te passen overeenkomstig bijlage IV, punt 23, onder B.3, bij de MRV."]
[721,"K.\nManagement Control"]
[722,"Definities en afkortingen"]
[723,"Dit werkblad is relevant voor alle soorten installaties"]
[724,"Geef aan wie in deze installatie verantwoordelijk is voor de monitoring en de rapportage van emissies, overeenkomstig artikel 61 van de MRV ."]
[725,"Vermeld de functie/positie van de verantwoordelijke personen en geef een beknopt overzicht van hun rol in de monitoring en de rapportage. Voer hieronder alleen eindverantwoordelijken en personen met een belangrijke taak op (vermeld geen gedelegeerde verantwoordelijkheden)."]
[726,"Deze kunnen worden opgenomen in een boomdiagram of organogram dat u meezendt"]
[727,"Als de gegevensstroom en het controlespoor zijn afgerond, dienen alle verantwoordelijken te worden genoemd in de procedureomschrijvingen. U hoeft geen verdere personen toe te voegen."]
[728,"Functie/positie"]
[729,"Verantwoordelijkheden"]
[730,"Beschrijf de procedure voor het toewijzen van verantwoordelijkheden voor monitoring en rapportage binnen de installatie en voor het beheer van de competenties van verantwoordelijk personeel, overeenkomstig artikel 58, lid 3, onder c), van de MRV."]
[731,"Uit deze procedure moet duidelijk worden hoe de verantwoordelijkheden voor monitoring en rapportage worden toegewezen aan de bovenstaande personen, op welke wijze er scholing en evaluatie plaatsvindt en hoe de taken zo gescheiden worden dat alle relevante gegevens worden bevestigd door een persoon die niet betrokken is bij de gegevensregistratie en -verzameling "]
[732,"ETS-personeelsbeheer"]
[733,"• De verantwoordelijke persoon houdt een lijst bij van personeel dat bij het ETS-gegevensbeheer betrokken is"]
[734,"• De verantwoordelijke persoon vergadert jaarlijks ten minste een keer met alle betrokkenen en ten minste vier keer met de belangrijkste betrokkenen, zoals is vastgelegd in de bijlage van de procedure; Doel: Vaststellen van scholingsbehoeften "]
[735,"• De verantwoordelijke persoon regelt interne en externe scholing op basis van de behoeften."]
[736,"Plaatsvervangend hoofd van de afdeling HSEQ"]
[737,"Per post: HSEQ-kantoor, plank 27/9, map \"ETS 01-P\". Elektronisch: \"P:\\ETS_MRV\\manag\\ETS_01-P.xls\""]
[738,"N.V.T. (Normale netwerkstations)"]
[739,"Beschrijf de procedure voor de regelmatige evaluatie van de geschiktheid van het monitoringplan, met name wat betreft mogelijke maatregelen ter verbetering van de monitoringmethodiek."]
[740,"Onderstaande procedure bestaat uit de volgende elementen:"]
[741,"i – controle van de lijst van emissiebronnen en bronstromen en nagaan of de emissies en bronstromen volledig zijn en dat alle relevante wijzigingen in de aard en werking van de installatie worden opgenomen in het monitoringplan;"]
[742,"ii – beoordeling van de naleving van de onzekerheidsdrempels voor activiteitsgegevens en andere parameters (indien van toepassing) voor de toegepaste niveaus voor elke bronstroom en emissiebron; en"]
[743,"iii – beoordeling van potentiële maatregelen ter verbetering van de toegepaste monitoringmethodiek."]
[744,"Verstrek informatie over de procedures voor het beheer van gegevensstroomactiviteiten overeenkomstig artikel 57 van de MRV."]
[745,"Als u meerdere procedures toepast, beschrijft u een overkoepelende procedure die de belangrijkste gegevensstroomactiviteiten bestrijkt en verstrekt u een diagram waaruit duidelijk wordt hoe de gegevensbeheerprocedures met elkaar verbonden zijn (verwijs hieronder naar het diagram en zend het met het monitoringplan mee).  U kunt desgewenst op een afzonderlijk werkblad informatie verstrekken over aanvullende relevante procedures."]
[746,"Beschrijf onder \"Beschrijving van de relevante processtappen\" alle stappen in de gegevensstroom, van primaire gegevens tot jaarlijkse emissies, die de volgorde van en de interactie tussen de gegevensstroomactiviteiten weergeven. Noem hier ook de formules en gegevens waarmee de emissies uit de primaire gegevens zijn bepaald.  Ga in op de desbetreffende elektronische systemen voor gegevensverwerking en -opslag en andere, al dan niet manuele inputs en geef aan hoe de outputs van gegevensstroomactiviteiten worden geregistreerd."]
[747,"Lijst van primaire gegevensbronnen"]
[748,"Beschrijving van de desbetreffende processtappen per dataflow-activiteit "]
[749,"Verschaf overeenkomstig artikel 58 van de MRV informatie over de procedures waarmee de intrinsieke en controlerisico's worden beoordeeld."]
[750,"Uit de korte beschrijving moet blijken hoe de intrinsieke en controlerisico's worden beoordeeld bij het opzetten van een doeltreffend controlesysteem."]
[751,"Verschaf informatie over de procedures voor de kwaliteitsbewaking van meetinstrumenten overeenkomstig artikel 58 en 59 van de MRV."]
[752,"Uit de korte beschrijving moet, indien van toepassing, blijken hoe alle relevante meetinstrumenten regelmatig gekalibreerd en gecontroleerd worden en wat er gedaan wordt als de vereiste prestaties niet gehaald worden."]
[753,"Verschaf informatie over de procedures voor de kwaliteitsbewaking van de informatietechnologie die gebruikt wordt bij dataflow-activiteiten overeenkomstig artikel 58 en 60 van de MRV."]
[754,"Uit de korte beschrijving moet blijken hoe de informatietechnologie getest en gecontroleerd wordt. Ga daarbij in op toegangscontrole, back-ups, herstel en beveiliging."]
[755,"Verschaf informatie over de procedures voor regelmatige interne toetsing en gegevensvalidatie overeenkomstig artikel 58 en 62 van de MRV."]
[756,"Uit de korte beschrijving moet blijken dat via de evaluatie- en validatieprocedure wordt gecontroleerd of de gegevens volledig zijn, dat vergelijkingen worden getrokken met gegevens uit voorgaande jaren, dat het opgevoerde brandstofverbruik wordt vergeleken met aankoopbewijzen en factoren die zijn verkregen voor brandstofleveranciers met internationale referentiewaarden, indien van toepassing, en dat er criteria voor het verwerpen van gegevens zijn vastgesteld."]
[757,"Verschaf informatie over de procedures voor correcties en correctieve maatregelen overeenkomstig artikel 58 en 63 van de MRV. "]
[758,"Uit de korte beschrijving moet blijken welke passende maatregelen worden getroffen wanneer gegevensstroom- en controleactiviteiten niet doeltreffend blijken te zijn. De procedure moet beschrijven hoe de geldigheid van de outputs wordt beoordeeld en hoe de oorzaak van de fout wordt vastgesteld en deze wordt verbeterd."]
[759,"Verschaf informatie over de procedures voor het beheer van uitbestede processen in overeenstemming met artikel 59 en 64 van de MRV."]
[760,"Uit de korte beschrijving moet blijken hoe gegevensstroom- en controleactiviteiten met betrekking tot uitbestede processen worden gecontroleerd en hoe de kwaliteit van de betreffende gegevens wordt gecontroleerd."]
[761,"Verschaf informatie over de procedures voor gegevensregistratie- en documentatiebeheer in overeenstemming met artikel 58 en 66 van de MRV."]
[762,"Uit de korte beschrijving moet blijken hoe de documenten bewaard worden, met name wat betreft de gegevens die zijn vastgelegd in bijlage IX bij de MRV, en hoe ervoor wordt gezorgd dat de gegevens direct beschikbaar zijn als de bevoegde autoriteit of controleur daarom vraagt."]
[763,"Verwijs naar de gedocumenteerde resultaten van de risicobeoordeling waaruit blijkt dat de controleactiviteiten en -procedures in verhouding staan met de risico's overeenkomstig artikel 12, lid 1, onder b), van de MRV.  (Opmerking: De vereiste om een risicobeoordeling in te dienen bij de bevoegde autoriteit geldt niet voor installaties met een geringe emissie overeenkomstig artikel 47, lid 3, van de MRV)"]
[764,"Verwijs in onderstaand vak naar het bestand/document dat u aan uw monitoringplan hebt gehecht."]
[765,"Beschikt uw organisatie over een gedocumenteerd milieubeheersysteem?"]
[766,"Als het milieubeheersysteem door een geaccrediteerde organisatie is gecertificeerd, vermeld dan aan welke norm is voldaan (ISO14001, EMAS, enz.)"]
[767,"Geef een opsomming van de afkortingen, acroniemen of definities die u in dit monitoringplan hebt gebruikt."]
[768,"Afkorting"]
[769,"Definitie"]
[770,"Verwijs hier naar eventuele andere gegevens waarvan u wilt dat wij ze meenemen bij de beoordeling van uw plan. Lever deze informatie waar mogelijk elektronisch aan. U kunt informatie aanleveren in Microsoft Word-, Excel- en Adobe Acrobatformaat."]
[771,"U wordt verzocht niet-relevante informatie achterwege te laten, omdat deze informatie de goedkeuring kan vertragen. U moet duidelijk verwijzen naar aanvullende documenten en de bestandsnaam en -referentie hieronder vermelden. Neem indien nodig contact op met uw bevoegde autoriteit"]
[772,"Vul hieronder een of meer bestandsnamen (bij digitale documenten) of referentienummers in (bij papieren documenten):"]
[773,"Bestandsnaam/referentie"]
[774,"Omschrijving van het document"]
[775,"Dit punt is optioneel voor de lidstaten"]
[776,"Krachtens artikel 24, lid 1, van Besluit 2011/278/EU van de Commissie moeten de lidstaten verzekeren dat alle relevante informatie over geplande of effectieve veranderingen van de capaciteit, het activiteitsniveau en de werking van een installatie bij de bevoegde autoriteit wordt ingediend door de exploitant voor 31 december van elk jaar. Overeenkomstig artikel 12, lid 3, van de MRV mogen de lidstaten eisen dat in het monitoringplan van installaties aanvullende elementen worden opgenomen die ertoe bijdragen dat deze hieraan voldoen."]
[777,"U wordt verzocht informatie te verstrekken over de procedure voor regelmatige toetsing aan de hand waarvan u geplande of effectieve veranderingen aan de capaciteit, het activiteitenniveau en de werking van een installatie vaststelt die van invloed zijn op de toewijzing van de installatie."]
[778,"- het plannen en uitvoeren van regelmatige controles om na te gaan of geplande of effectieve veranderingen in de capaciteit, het activiteitsniveau en de werking van een installatie relevant zijn in het kader van Besluit 2011/278/EU; en"]
[779,"- procedures om te garanderen dat dergelijke informatie uiterlijk op 31 december van elk jaar wordt ingediend bij de bevoegde autoriteit."]
[780,"L. Member State specific content"]
[781,"Ruimte voor verdere opmerkingen:"]
[782,"Standaardmethode: Procedure, artikel 24, lid 2"]
[783,"Massabalansmethode, artikel 25"]
[784,"<<< Klik hier om naar het volgende werkblad te gaan >>> "]
[785,"Bronstroom"]
[786,"Meetpunt"]
[787,"Handelspartner"]
[788,"Batch"]
[789,"Gedetailleerde instructies voor gegevensinvoer vindt u waar dit invoerveld voor het eerst voorkomt. "]
[790,"relevant"]
[791,"niet relevant"]
[792,"niet van toepassing!"]
[793,"De onzekerheid bedraagt maximaal"]
[794,"(n.v.t.; gebruik de schatting die gebaseerd is op de beste praktijk)"]
[795,"U wordt verzocht bij dit punt gegevens in te voeren"]
[796,"Ga naar de onderstaande punten"]
[797,"Motiveer waarom er geen historische gegevens beschikbaar of van toepassing zijn"]
[798,"Geen niveau"]
[799,"Deze regel is niet van toepassing op installaties met N2O-activiteiten!"]
[800,"De-minimisdrempel overschreden!"]
[801,"Lage drempel overschreden!"]
[802,"De som bedraagt meer dan 5% van de jaarlijkse emissies (punt 6c)!"]
[803,"In te vullen door de bevoegde autoriteit"]
[804,"In te vullen door de exploitant"]
[805,"Oostenrijk"]
[806,"België"]
[807,"Bulgarije"]
[808,"Kroatië"]
[809,"Cyprus"]
[810,"Tsjechië"]
[811,"Denemarken"]
[812,"Estland"]
[813,"Finland"]
[814,"Frankrijk"]
[815,"Duitsland"]
[816,"Griekenland"]
[817,"Hongarije"]
[818,"IJsland"]
[819,"Ierland"]
[820,"Italië"]
[821,"Letland"]
[822,"Liechtenstein"]
[823,"Litouwen"]
[824,"Luxemburg"]
[825,"Malta"]
[826,"Nederland"]
[827,"Noorwegen"]
[828,"Polen"]
[829,"Portugal"]
[830,"Roemenië"]
[831,"Slowakije"]
[832,"Slovenië"]
[833,"Spanje"]
[834,"Zweden"]
[835,"Verenigd Koninkrijk"]
[836,"afgewezen door de bevoegde autoriteiten"]
[837,"werkversie"]
[838,"Relevante punten: 6 (behalve d), 7, 8"]
[839,"Relevante punten: 6 (behalve e), 9, 10, 11"]
[840,"Relevante punten: 12"]
[841,"Relevante punten: 6 (behalve e), 9, 10, 11, 13"]
[842,"Relevante punten: 6 (behalve d), 7, 14, 15, 16"]
[843,"Relevante punten: 6 (behalve e), 9, 10, 11, 17, 18, 19"]
[844,"Overdracht van CO2"]
[845,"Berekeningen met bijzondere bepalingen voor PFK's (bijlage VI, punt 8)"]
[846,"Ontvangst van inherent CO2"]
[847,"Overdracht van inherent CO2 naar een ETS-installatie"]
[848,"Overdracht van inherent CO2 naar een niet-ETS-consument"]
[849,"Ontvangst van overgebracht CO2"]
[850,"Overdracht van overgebracht CO2"]
[851,"Keuze van eigen instrumenten"]
[852,"gebruik van de instrumenten van andere installaties"]
[853,"Gebruik de instrumenten van beide partners"]
[854,"Methode A"]
[855,"Methode B"]
[856,"Activiteiten van bijlage I (AnnexIActivities)"]
[857,"Raffineren van aardoliën "]
[858,"Productie van cokes"]
[859,"Roosten of sinteren van metaalerts"]
[860,"Productie van ruwijzer of staal"]
[861,"Productie of verwerking van ferrometalen"]
[862,"Productie van primair aluminium"]
[863,"Productie van secundair aluminium"]
[864,"Productie of verwerking van non-ferrometalen"]
[865,"Productie van kalksteen of branden van dolomiet of magnesiet"]
[866,"Vervaardiging van glas"]
[867,"Vervaardiging van keramiek"]
[868,"Vervaardiging van minerale wol"]
[869,"Productie of verwerking van gips en gipsplaten"]
[870,"Productie van pulp"]
[871,"Productie van papier of karton"]
[872,"Productie van roet"]
[873,"Productie van salpeterzuur"]
[874,"Productie van adipinezuur"]
[875,"Productie van glyoxaal en glyoxaalzuur"]
[876,"Productie van ammoniak"]
[877,"Productie van bulkchemicaliën"]
[878,"Productie van waterstof en synthesegas"]
[879,"Productie van natriumcarbonaat en natriumbicarbonaat"]
[880,"Afvangen van broeikasgassen krachtens Richtlijn 2009/31/EG"]
[881,"Transport van broeikasgassen krachtens Richtlijn 2009/31/EG"]
[882,"Opslag van broeikasgassen krachtens Richtlijn 2009/31/EG"]
[883,"Gespecificeerde emissies 2 (SpecifiedEmissions2)"]
[884,"PFK's"]
[885,"CO2 en N2O"]
[886,"CO2 en PFK's"]
[887,"Broncategorie (SourceCategory)"]
[888,"Klein"]
[889,"De-minimis"]
[890,"CEMS-broncategorie (SourceCategoryCEMS)"]
[891,"Frequentie van de analyses (AnalysisFrequency)"]
[892,"Voortdurend"]
[893,"Dagelijks"]
[894,"Per maand"]
[895,"Per kwartaal"]
[896,"Tweejaarlijks"]
[897,"Jaarlijks"]
[898,"Type handeling (OperationType)"]
[899,"Normaal bedrijf"]
[900,"Afwijkend bedrijf"]
[901,"PFK-methoden (PFCMethods)"]
[902,"Methode A – Hellingsmethode"]
[903,"Methode B – Overspanningsmethode"]
[904,"PFK-celtypen (PFCCellTypes)"]
[905,"Centre Worked Prebake (CWPB)"]
[906,"Vertical Stud Søderberg (VSS)"]
[907,"Side-Worked Prebake (SWPB)"]
[908,"Horizontal Stud Søderberg (HSS)"]
[909,"Meetinstrumenten (MeteringDevices)"]
[910,"Turbinemeter"]
[911,"Balgenmeter"]
[912,"Meetflens"]
[913,"Venturimeter"]
[914,"Ultrasone meter"]
[915,"Vortexmeter"]
[916,"Coriolismeter"]
[917,"Ovaalradmeter"]
[918,"Electronic volume conversion instrument (EVCI)"]
[919,"Gaschromatograaf"]
[920,"Weegtransportband"]
[921,"Meetniveaus (MeasurementTiers)"]
[922,"PFK-niveaus (PFCTiers)"]
[923,"Biomassaniveaus (BiomassTiers)"]
[924,"Niveaus voor omrekenfactoren (ConversionFactorTiers)"]
[925,"Niveaus voor activiteitsgegevens (ActivityDataTiers)"]
[926,"NCV-niveaus (NCVTiers)"]
[927,"2b"]
[928," EF-niveaus (EFTiers)"]
[929,"Koolstofgehalteniveaus (CarbonContentTiers)"]
[930,"Bijlage I van de richtlijn"]
[931,"Bijzondere activiteiten"]
[932,"Verbranding van brandstof in installaties met een totaal nominaal thermisch ingangsvermogen van meer dan 20 MW (met uitzondering van installaties voor het verbranden van gevaarlijke afvalstoffen of huishoudelijk afval)"]
[933,"Roosten of sinteren van ertsen, met inbegrip van zwavelhoudend erts, inclusief pelletiseren "]
[934,"Productie van ruwijzer of staal (primaire of secundaire smelting) inclusief continugieten, met een capaciteit van meer dan 2,5 t per uur "]
[935,"Productie of bewerking van ferrometalen (inclusief ferrolegeringen) waarbij verbrandingseenheden met een totaal nominaal thermisch ingangsvermogen van meer dan 20 MW worden gebruikt. Bewerking omvat, onder andere, walserijen, herverhitters, gloeiovens, smederijen, gieterijen, coating en beitsen"]
[936,"Productie van secundair aluminium waarbij verbrandingseenheden met een totaal nominaal thermisch ingangsvermogen van meer dan 20 MW worden gebruikt"]
[937,"Productie of bewerking van non-ferrometalen, met inbegrip van de productie van legeringen, raffinage, gieterijen enz., waarbij verbrandingseenheden met een totaal nominaal thermisch ingangsvermogen (met inbegrip van brandstoffen die als reductoren worden ingezet) van meer dan 20 MW worden gebruikt"]
[938,"Productie van cementklinkers in draaiovens met een productiecapaciteit van meer dan 500 t per dag of in andere ovens met een productiecapaciteit van meer dan 50 t per dag "]
[939,"Productie van kalk of het calcineren van dolomiet of magnesiet in draaiovens of in andere ovens met een productiecapaciteit van meer dan 50 t per dag "]
[940,"Fabricage van glas, met inbegrip van de fabricage van glasvezels, met een smeltcapaciteit van meer dan 20 ton per dag "]
[941,"Fabricage van keramische producten door middel van verhitting, met name dakpannen, bakstenen, vuurvaste stenen, tegels, aardewerk of porselein, met een productiecapaciteit van meer dan 75 t per dag "]
[942,"Fabricage van isolatiemateriaal uit minerale wol met gebruikmaking van glas, steen of slakken met een smeltcapaciteit van meer dan 20 t per dag "]
[943,"Drogen of calcineren van gips of het produceren van gipsplaten en andere gipsproducten, waarbij verbrandingseenheden met een totaal nominaal thermisch ingangsvermogen van meer dan 20 MW worden gebruikt. "]
[944,"Productie van papierpulp uit hout of andere vezelmaterialen "]
[945,"Productie van papier en karton met een productiecapaciteit van meer dan 20 ton per dag "]
[946,"Productie van roet waarbij organische stoffen zoals olie, teer en kraak- en destillatieresiduen worden verkoold, waarbij verbrandingseenheden met een totaal nominaal thermisch ingangsvermogen van meer dan 20 MW worden gebruikt "]
[947,"Productie van organische chemicaliën in bulk door middel van kraken, reforming, gedeeltelijke of volledige oxidatie of door gelijkaardige processen, met een productiecapaciteit van meer dan 100 ton per dag "]
[948,"Productie van waterstof (H2) en synthesegas door reforming of gedeeltelijke oxidatie, met een productiecapaciteit van meer dan 25 ton per dag "]
[949,"Productie van natriumcarbonaat (Na2CO3) en natriumbicarbonaat (NaHCO3) "]
[950,"Afvangen van broeikasgassen van installaties die onder deze richtlijn vallen met het oog op vervoer en geologische opslag op een opslaglocatie waarvoor krachtens Richtlijn 2009/31/EG een vergunning is verleend"]
[951,"Vervoer van broeikasgassen via pijpleidingen met het oog op geologische opslag op een opslaglocatie waarvoor krachtens Richtlijn 2009/31/EG een vergunning is verleend"]
[952,"Geologische opslag van broeikasgassen op een opslaglocatie waarvoor krachtens Richtlijn 2009/31/EG een vergunning is verleend"]
[953,"Activiteitsgegevens"]
[954,"Niveau"]
[955,"Activiteit"]
[956,"Korte naam"]
[957,"Subactiviteit"]
[958,"Brontype"]
[959,"Minimum"]
[960,"Hoogste"]
[961,"grijs kleuren?"]
[962,"Verbranding van brandstoffen en brandstoffen gebruikt als ingezet materiaal voor het proces"]
[963,"Verbranding"]
[964,"Commercieel verhandelbare standaardbrandstoffen"]
[965,"± 7,5%"]
[966,"± 5,0%"]
[967,"± 2,5%"]
[968,"± 1,5%"]
[969,"Andere gasvormige en vloeibare brandstoffen"]
[970,"Vaste brandstoffen"]
[971,"Brandstofhoeveelheid [t]"]
[972,"Gasverwerkingsterminals"]
[973,"Elk uitgangs- en eindmateriaal [t]"]
[974,"Fakkels"]
[975,"Hoeveelheid afgefakkeld gas [Nm3]"]
[976,"± 17,5%"]
[977,"± 12,5%"]
[978,"Gasreiniging (carbonaat)"]
[979,"Verbruikte hoeveelheid carbonaat [t]"]
[980,"Gasreiniging (gips)"]
[981,"Geproduceerde hoeveelheid gips [t]"]
[982,"Raffinaderijen"]
[983,"Massabalans"]
[984,"Katalytische-krakerregeneratie"]
[985,"Onzekerheidsvereisten zijn afzonderlijk van toepassing op elke emissiebron"]
[986,"± 10,0% (t CO2)"]
[987,"± 7,5% (t CO2)"]
[988,"± 5,0% (t CO2)"]
[989,"± 2,5% (t CO2)"]
[990,"Waterstofproductie"]
[991,"Als grondstof gebruikte koolwaterstoffen [t]"]
[992,"Cokes"]
[993,"Brandstofinzet"]
[994,"Carbonaatinzet (methode A)"]
[995,"Carbonaatuitgangsmateriaal [t]"]
[996,"Oxide-uitgang (methode B)"]
[997,"Oxide-uitgang [t]"]
[998,"Roosten en sinteren van metaalerts"]
[999,"Metaalerts"]
[1000,"Carbonaatinzet"]
[1001,"Carbonaatuitgangsmateriaal en procesresidu [t]"]
[1002,"Productie van ijzer en staal"]
[1003,"IJzer en staal"]
[1004,"Elke massastroom naar en van de installatie [t]"]
[1005,"Cementklinker"]
[1006,"Op basis van inzet in de oven (methode A)"]
[1007,"Elk relevant in de oven ingezet materiaal [t]"]
[1008,"Op basis van geproduceerde klinker (methode B)"]
[1009,"Geproduceerde klinker [t]"]
[1010,"Cementovenstof"]
[1011,"Cementovenstof of bypass-stof [t]"]
[1012,"Niet-carbonaatkoolstof"]
[1013,"Elke grondstof [t]"]
[1014,"± 15,0%"]
[1015,"Productie van kalk en branden van dolomiet en magnesiet"]
[1016,"Kalk, dolomiet en magnesiet"]
[1017,"Carbonaten (methode A)"]
[1018,"Aardalkalioxiden (methode B)"]
[1019,"Geproduceerde kalk [t]"]
[1020,"Ovenstof (methode B)"]
[1021,"Ovenstof [t]"]
[1022,"Vervaardiging van glas en minerale wol"]
[1023,"Glas en minerale wol"]
[1024,"Carbonaten (inzet)"]
[1025,"Elke carbonaatgrondstof of additief in verband met CO2-emissies [t]"]
[1026,"Vervaardiging van keramische producten"]
[1027,"Keramiek"]
[1028,"Koolstofinzet (methode A)"]
[1029,"Elke carbonaatgrondstof of elk additief in verband met CO2-emissies [t]"]
[1030,"Alkalioxiden (methode B)"]
[1031,"Brutoproductie met inbegrip van verworpen producten en scherven uit de ovens en ten gevolge van vervoer [t]"]
[1032,"Gasreiniging"]
[1033,"Verbruikt droog CaCO3 [t]"]
[1034,"Productie van pulp en papier"]
[1035,"Pulp en papier"]
[1036,"Aanvullende chemicaliën"]
[1037,"Hoeveelheid CaCO3 en Na2CO3 [t]"]
[1038,"Roet"]
[1039,"Massabalansmethodiek"]
[1040,"Ammoniak"]
[1041,"Hoeveelheid brandstof gebruikt als ingezet materiaal voor het proces [t] of [Nm3]"]
[1042,"Waterstof en synthesegas"]
[1043,"Hoeveelheid brandstof gebruikt als ingezet materiaal voor het proces voor hydrogeenproductie [t] of [Nm3]"]
[1044,"Productie van organische bulkchemicaliën"]
[1045,"Organische bulkchemicaliën"]
[1046,"Productie of verwerking van ferro- en non-ferrometalen, inclusief secundair aluminium"]
[1047,"(Non)-ferrometalen, secundair aluminium"]
[1048,"Procesemissies"]
[1049,"Elk uitgangsmateriaal of procesresidu gebruikt als ingezet materiaal voor het proces [t]"]
[1050,"Natriumcarbonaat en natriumbicarbonaat"]
[1051,"Productie van primair aluminium"]
[1052,"Primair aluminium"]
[1053,"PFK-emissies (hellingsmethode)"]
[1054,"productie van primair aluminium in [t], anode-effectminuten in [aantal anode-effecten/cel-dag] en [anode-effectminuten/voorval]"]
[1055,"PFK-emissies (overspanningsmethode)"]
[1056,"productie van primair aluminium in [r], anode-effectoverspanning [mV] en stroomrendement [-]"]
[1057,"massabalans"]
[1058,"Emissiefactor"]
[1059,"standaardwaarde?"]
[1060,"Aanvaarde proxy’s (indien van toepassing)"]
[1061,"De exploitant past een van de volgende waarden toe:\n(a) de standaardfactoren vermeld in bijlage VI, punt 1;\n(b) andere constante waarden overeenkomstig artikel 31, lid 1, onder d) of e), \nals bijlage VI, punt 1, geen toepasselijke waarde bevat."]
[1062,"Niveau 2a: De exploitant past landspecifieke emissiefactoren toe voor de respectieve brandstof of\nhet respectieve materiaal overeenkomstig artikel 31, lid 1, onder b) en c)."]
[1063,"Niveau 2b: De exploitant ontleent emissiefactoren voor de brandstof aan een van de volgende\nvastgestelde proxy-waarden, in combinatie met een empirische correlatie die minstens één\nkeer per jaar wordt vastgesteld overeenkomstig artikel 32 tot en met 35 en artikel 39:"]
[1064,"De exploitant bepaalt de emissiefactor overeenkomstig de desbetreffende\nbepalingen van artikel 32 tot en met 35."]
[1065,"0,00393 t CO2/Nm3"]
[1066,"Installatiespecifieke factoren"]
[1067,"De exploitant gebruikt een referentiewaarde van 0,00393 t CO2/Nm3 voor de emissiefactor, afgeleid uit de verbranding van zuiver ethaan, dat als conservatieve proxy voor afgefakkelde gassen fungeert."]
[1068,"Niveau 2b: Installatiespecifieke emissiefactoren worden afgeleid uit een schatting van de\nmolecuulmassa van het afgefakkelde gas, via procesmodellering aan de\nhand van industrie-standaardmodellen. Uit het relatieve aandeel van de diverse deelstromen en de overeenkomstige\nmolecuulmassa's wordt een gewogen jaargemiddelde voor de molecuulmassa van het\nafgefakkelde gas afgeleid."]
[1069,"Type I standaardwaarde en beste praktijken"]
[1070,"De emissiefactor wordt bepaald op basis van de in punt 2 van bijlage VI\nvastgelegde stoichiometrische verhoudingen. De bepaling van de hoeveelheid CaCO3 en MgCO3 in de relevante\nuitgangsmaterialen geschiedt overeenkomstig de richtsnoeren van de beste industriële praktijk."]
[1071,"0,2558 t CO2/t gips."]
[1072,"De emissiefactor is de stoichiometrische verhouding tussen droog gips (CaSO4⋅ 2H2O) en uitgestoten CO2: 0,2558 t CO2/t gips."]
[1073,"2,9 t CO2 per ton verbruikte grondstof"]
[1074,"De exploitant gebruikt een referentiewaarde van 2,9 t CO2 per ton verwerkte\ngrondstof; deze conservatieve waarde is gebaseerd op ethaan."]
[1075,"De exploitant gebruikt een activiteitspecifieke emissiefactor berekend op basis van het\nkoolstofgehalte van het als grondstof gebruikte gas, bepaald in overeenstemming met artikel 32 tot en met 35."]
[1076," "]
[1077,"0,525 t CO2/t klinker."]
[1078,"De exploitant past een emissiefactor van 0,525 t CO2/t klinker toe."]
[1079,"De bepaling van de hoeveelheid relevante metaaloxiden afkomstig uit de\nontleding van carbonaten in het product geschiedt overeenkomstig artikel 32 tot en\nmet 35. Voor de omrekening van de samenstellingsgegevens in emissiefactoren worden de in\ntabel 3 in punt 2 van bijlage VI bedoelde stoichiometrische verhoudingen\ngebruikt, waarbij ervan wordt uitgegaan dat alle relevante metaaloxiden zijn afgeleid uit de respectieve carbonaten."]
[1080,"Bijlage VI, punt 2 en Analyses"]
[1081,"0,525 t CO2/t stof."]
[1082,"De exploitant past een emissiefactor van 0,525 t CO2/t stof toe."]
[1083,"De exploitant bepaalt de emissiefactor (EF) minstens eenmaal per jaar overeenkomstig\n artikel 32 tot en met 35 en met gebruik van de volgende formule:"]
[1084,"Beste werkwijzen"]
[1085,"Het gehalte niet-carbonaatkoolstof in de relevante grondstof wordt geschat op grond\nvan richtsnoeren voor de beste industriële praktijk."]
[1086,"Het gehalte niet-carbonaatkoolstof in de relevante grondstof wordt minstens eenmaal\nper jaar bepaald overeenkomstig de bepalingen van artikel 32 tot en met 35."]
[1087,"De bepaling van de hoeveelheid relevante carbonaten in elk relevant uitgangsmateriaal geschiedt volgens artikel 32 tot en met 35. Voor de omrekening van de samenstellingsgegevens in emissiefactoren worden de in punt 2 van bijlage VI vermelde stoichiometrische verhoudingen gebruikt. "]
[1088,"De exploitant past de standaardfactoren vermeld in tabel 3 in punt 2 van bijlage VI toe."]
[1089,"De exploitant past een landspecifieke emissiefactor overeenkomstig artikel 31, lid 1,\nonder b) of c), toe."]
[1090,"De stoichiometrische verhoudingen genoemd in punt 2 van bijlage VI worden gebruikt. De zuiverheid\nvan relevante uitgangsmaterialen wordt bepaald aan de hand van de beste industriële praktijk."]
[1091,"De bepaling van de hoeveelheid relevante carbonaten in elk relevant uitgangsmateriaal\ngeschiedt volgens artikel 32 tot en met 35."]
[1092,"0,08794 ton CO2 per ton droge klei"]
[1093,"Bij de berekening van de emissiefactor wordt een conservatieve waarde van 0,2 ton\nCaCO3 (wat overeenkomt met 0,08794 ton CO2) per ton droge klei toegepast i.p.v. analyseresultaten.\n"]
[1094,"Voor elke bronstroom wordt een emissiefactor afgeleid, die minstens eenmaal per jaar\nwordt geactualiseerd. Dit geschiedt overeenkomstig de beste industriële praktijk, rekening\nhoudend met de plaatselijke omstandigheden en het productenassortiment van de installatie."]
[1095,"0,09642 ton CO2 per ton product"]
[1096,"Type I standaardwaarde"]
[1097,"De exploitant past de stoichiometrische verhouding van CaCO3 toe zoals getoond in punt 2 van\nbijlage VI."]
[1098,"Type I standaardwaarde en beste praktijken"]
[1099,"De stoichiometrische verhoudingen genoemd in punt 2 van bijlage VI worden gebruikt. De zuiverheid\nvan relevante uitgangsmaterialen wordt bepaald overeenkomstig de beste industriële praktijk. De verkregen\nwaarden worden bijgesteld op grond van het vochtgehalte en het gehalte aan ganggesteente\nin de toegepaste carbonaten."]
[1100,"Installatiespecifieke emissiefactoren"]
[1101,"De exploitant gebruikt technologiespecifieke emissiefactoren uit bijlage IV, punt 8, tabel 2."]
[1102,"De exploitant gebruikt door continue of periodieke veldmetingen vastgestelde\ninstallatiespecifieke emissiefactoren voor CF4 en C2F6. Voor de bepaling van die\nemissiefactoren gebruikt de exploitant de meest recente versie van de onder niveau 3\nvan punt 4.4.2.4 van de IPCC-richtsnoeren 2006 genoemde richtsnoer. De exploitant bepaalt\nelke emissiefactor met een maximale onzekerheid van ± 15%."]
[1103,"De exploitant gebruikt de technologiespecifieke emissiefactoren uit bijlage IV, punt 8, tabel 8."]
[1104,"De exploitant gebruikt door continue of periodieke veldmetingen vastgestelde installatiespecifieke\nemissiefactoren voor CF4 [(kg CF4 / t Al ) / (mV)] en C2F6 [t C2F6/ t CF4].\n Voor de bepaling van die emissiefactoren gebruikt de exploitant de meest\nrecente versie van de onder niveau 3 van punt 4.4.2.4 van de IPCC-richtsnoeren 2006\ngenoemde richtsnoer. De exploitant bepaalt elke emissiefactor met een maximale onzekerheid\nvan ±15%."]
[1105,"Laboratoriumanalyses en stoichiometrische waarden"]
[1106,"De bepaling van de hoeveelheid relevante carbonaten in elk relevant\nuitgangsmateriaal geschiedt volgens artikel 32 tot en met 35. Voor de omrekening van de\nsamenstellingsgegevens in emissiefactoren worden de in punt 2 van bijlage VI vermelde stoichiometrische verhoudingen gebruikt."]
[1107,"Calorische onderwaarde"]
[1108,"Aankoopgegevens (indien van toepassing)"]
[1109,"Niveau 2a: De exploitant past landspecifieke factoren toe voor de respectieve brandstof\novereenkomstig artikel 31, lid 1, onder b) of c)."]
[1110,"Niveau 2b: Voor commercieel verhandelbare brandstoffen wordt de calorische onderwaarde\ngebruikt die wordt ontleend aan de door de brandstofleverancier voor de betrokken brandstof\nafgegeven aankoopbescheiden, mits die waarde is verkregen op basis van aanvaarde nationale of internationale normen."]
[1111,"De exploitant bepaalt de calorische onderwaarde overeenkomstig artikel 32 tot en\nmet 35."]
[1112,"Koolstofgehalte"]
[1113,"De exploitant past een van de volgende waarden toe:\n(a) het koolstofgehalte ontleend aan de standaardfactoren genoemd in de punten 1\nen 2 van bijlage VI;\n(b) andere constante waarden overeenkomstig artikel 31, lid 1, onder d) of e),\nals de punten 1 en 2 van bijlage VI geen toepasselijke waarde bevatten."]
[1114,"Niveau 2a: De exploitant ontleent het koolstofgehalte aan landspecifieke emissiefactoren voor\nde respectieve brandstof of het respectieve materiaal overeenkomstig artikel 31, lid 1, onder b) of c)."]
[1115,"Niveau 2b: De exploitant ontleent het koolstofgehalte aan emissiefactoren voor de brandstof aan\nde hand van een van de volgende vastgestelde proxy-waarden in combinatie met een empirische\ncorrelatie die minstens één keer per jaar overeenkomstig artikel 32 tot en met 35 wordt bepaald:\n(a) dichtheidsmeting van specifieke oliën of gassen, zoals bijvoorbeeld gebruikelijk\nin raffinaderijen of in de staalindustrie;\n(b) de calorische onderwaarde van specifieke soorten steenkool."]
[1116,"De exploitant bepaalt het koolstofgehalte overeenkomstig de desbetreffende\nbepalingen van artikel 32 tot en met 35."]
[1117,"Biomassagehalte"]
[1118,"De exploitant past een van de waarden toe die worden gepubliceerd overeenkomstig\nde artikel 39, lid 2, eerste alinea, of een waarde bepaald overeenkomstig de\nartikel 39, lid 2, tweede alinea, of artikel 39, lid 3."]
[1119,"De exploitant bepaalt specifieke factoren overeenkomstig artikel 39, lid 1."]
[1120,"De exploitant past een oxidatiefactor van 1 toe."]
[1121,"De exploitant past oxidatiefactoren toe voor de respectieve brandstof overeenkomstig\nartikel 31, lid 1, onder b) of c)."]
[1122,"Voor brandstoffen ontleent de exploitant activiteitspecifieke factoren aan het relevante koolstofgehalte van as, effluenten en andere afval- en bijproducten alsook andere relevante, niet volledig geoxideerde gasvormige koolstofspecies in de uitstoot, behalve CO. De samenstellingsgegevens\nworden bepaald overeenkomstig artikel 32 tot en met 35."]
[1123,"Opmerking: verwijst naar punt 4 van bijlage II, maar nergens worden carbonaten genoemd!"]
[1124,"De conversiefactor wordt berekend op grond van de beste industriële praktijk."]
[1125,"Opmerking: geen minimumniveau van toepassing, maar niveau 1 is van toepassing??"]
[1126,"Standaardwaarde CF=1"]
[1127,"Er wordt een conversiefactor van 1 gebruikt."]
[1128,"Carbonaten en andere koolstof die het proces verlaten, worden in aanmerking genomen d.m.v. een conversiefactor met een waarde tussen 0 en 1. De exploitant mag uitgaan van volledige\nconversie voor één of meerdere uitgangsmaterialen en de ongeconverteerde materialen of\nandere koolstof toekennen aan de resterende uitgangsmaterialen. De aanvullende bepaling van relevante chemische parameters van\nde producten geschiedt overeenkomstig artikel 32 tot en met 35."]
[1129,"De hoeveelheid niet-carbonaat-verbindingen van de relevante metalen in de grondstoffen,\nwaaronder neergeslagen stof, vliegas of andere reeds veraste materialen, wordt weergegeven\nd.m.v. conversiefactoren met een waarde tussen 0 en 1, waarbij waarde 1 staat voor\nvolledige conversie van de carbonaten in de grondstof in oxiden. De aanvullende bepaling van\nrelevante chemische parameters van de uitgangsmaterialen geschiedt overeenkomstig\nartikel 32 tot en met 35."]
[1130,"Maateenheid"]
[1131,"± 10,0%"]
[1132,"Niveaus"]
[1133,"Berekening – toepasselijke niveaus"]
[1134,"Kleine emittent"]
[1135,"Categorie"]
[1136,"Bronstroomcategorie"]
[1137,"Bericht"]
[1138,"Artikel 47, lid 6, installatie met geringe emissies: voor alle bronstromen mag niveau 1 als minimum worden toegepast voor activiteitsgegevens en berekeningsfactoren, tenzij zonder extra inspanningen van de exploitant een grotere nauwkeurigheid kan worden bereikt, zonder dat hij moet bewijzen dat het toepassen van hogere niveaus technisch niet haalbaar is of tot onredelijke kosten zou leiden."]
[1139,"Artikel 26, lid 1: Ten minste worden onderstaande minimale niveaus gehanteerd. \nU mag echter tot twee niveaus lager gebruiken, met als minimum niveau 1, mits u ten genoegen van de bevoegde autoriteit aantoont dat het verplichte niveau overeenkomstig de eerste alinea technisch niet haalbaar is of leidt tot onredelijke kosten."]
[1140,"Artikel 26, lid 2, kleine bronstromen: Voor activiteitsgegevens en elke berekeningsfactor past de exploitant het hoogste niveau toe dat technisch haalbaar is en niet leidt tot onredelijke kosten, met als minimum niveau 1."]
[1141,"Artikel 26, lid 3, de-minimisbronstromen: de activiteitsgegevens en elke berekeningsfactor mogen worden bepaald aan de hand van conservatieve schattingen in plaats van niveaus, tenzij een bepaald niveau haalbaar is zonder extra inspanningen."]
[1142,"Artikel 26, lid 1: Ten minste worden onderstaande minimale niveaus gehanteerd.\nU mag echter een niveau lager gebruiken, met als minimum niveau 1, mits u ten genoegen van de bevoegde autoriteit kunt aantonen dat het verplichte niveau overeenkomstig de eerste alinea technisch niet haalbaar is of leidt tot onredelijke kosten."]
[1143,"Meting – toepasselijke niveaus"]
[1144,"Emissiebroncategorie"]
[1145,"Artikel 41: Een niveau lager dan onderstaand niveau geldt als minimum.\nAlleen als u ten genoegen van de bevoegde autoriteit kunt aantonen dat de toepassing van het vereiste niveau technisch niet haalbaar is of tot onredelijke kosten leidt en de toepassing van een rekenmethode op basis van de in artikel 26 vereiste niveaus technisch niet haalbaar is of leidt tot onredelijke kosten, mag het eerstvolgende lagere niveau, met als minimum niveau 1, worden aangehouden."]
[1146,"Dit monitoringplanmodel geeft de standpunten van de diensten van de Commissie weer ten tijde van de bekendmaking."]
[1147,"Dit is de definitieve versie van het monitoringplanmodel voor installaties, zoals goedgekeurd door het Comité klimaatverandering in zijn zitting van 7 juni 2012."]
[1148,"Motivering indien het vereiste niveau niet is toegepast:"]
[1149,"Bijkomende procedure toegevoegd door de exploitant"]
[1500,"NEW for Phase 4 (Update 2020)","NEW for Phase 4 (Update 2020)"]
[1501,"Verdere procedures"]
[1502,"M. Accounting","do not translate"]
[1503,"https://eur-lex.europa.eu/eli/dir/2003/87/2018-04-08","keep"]
[1504,"In Verordening (EU) 2018/2066 van de Commissie (de monitoring- en rapportageverordening, hierna “MRV”), zoals gewijzigd, zijn verdere eisen voor monitoring en rapportage opgenomen. De MRV kan via deze link worden gedownload:"]
[1505,"https://eur-lex.europa.eu/eli/reg_impl/2018/2066/oj?locale=nl","keep"]
[1506,"Dit is de definitieve versie van het monitoringplanmodel voor installaties voor fase 4 van het Europees emissiehandelssysteem (EU-ETS), zoals schriftelijk goedgekeurd door het Comité klimaatverandering in november 2020, vertaald door de Europese Commissie in februari 2021 en aangepast door Vlaanderen in februari 2021."]
[1507,"https://ec.europa.eu/clima/policies/ets/monitoring_en#tab-0-1","keep"]
[1508,"Het wordt aanbevolen om te beginnen met de “Korte handleiding voor exploitanten van stationaire installaties” en “Richtsnoer nr. 1”"]
[1509,"Met dit werkblad wordt de huidige versie van het monitoringplan geïdentificeerd. Elke versie van het monitoringplan moet een uniek versienummer hebben dat niet samenvalt met plannen van de vorige fase, en een referentiedatum."]
[1510,"In de kolom “toepassingsdatum” moet, indien van toepassing, de datum worden ingevuld vanaf welke de in het plan beschreven monitoringmethodologie van toepassing is."]
[1511,"Toepassingsdatum"]
[1512,"Nominaal thermisch ingangsvermogen in MW(th) (indien capaciteit uitgedrukt in ton)"]
[1513,"Geschatte emissies in punt d) of e) gebaseerd op conservatieve schattingen?"]
[1514,"Als u hebt aangegeven dat het om een installatie met een geringe emissie gaat, maar dit in strijd is met uw invoer bij punt d) of het getal in punt d) niet gebaseerd is op geverifieerde emissies, maar op een conservatieve schatting, wordt u verzocht om “WAAR” te selecteren en hieronder een korte uitleg te geven."]
[1515,"Beschrijf, wanneer procesemissies van belang zijn, duidelijk of de berekening anorganische koolstof (carbonaten), organische koolstof of beide omvat overeenkomstig bijlage II, punt 4, MRV."]
[1516,"Indien van toepassing, een beschrijving van de procedure die is gebruikt om te beoordelen of biomassabronstromen voldoen aan artikel 38, lid 5."]
[1517,"Deze procedure is alleen van toepassing op biomassa die afhankelijk is van de toepasselijke criteria inzake duurzaamheid en broeikasgasemissiereductie in de richtlijn hernieuwbare energie (Richtlijn (EU) 2018/2001)."]
[1518,"Indien van toepassing, een beschrijving van de procedure die is gebruikt om de hoeveelheden biogas te bepalen op basis van aankoopbescheiden in overeenstemming met artikel 39, lid 4."]
[1519,"Deze procedure is alleen van toepassing wanneer de exploitant aanspraak wil maken op het gebruik van biogassen uit een (aard)gasnet."]
[1520,"Raadpleeg voor verdere aanwijzingen de artikelen 28 en 29, MRV, en Richtsnoer nr. 4 en gebruik het “Instrument voor onzekerheidsbeoordeling”."]
[1521,"Standaardwaarden van het type I (niveau 1):"]
[1522,"Standaardwaarden van het type I omvatten een van de volgende methoden:"]
[1523,"gebruik standaardfactoren zoals opgenomen in bijlage VI (in principe zijn dit IPCC-waarden) of "]
[1524,"gebruik andere constante waarden overeenkomstig artikel 31, lid 1, punt e), wanneer die standaardfactoren niet beschikbaar zijn (analysen die in het verleden zijn uitgevoerd, maar nog geldig zijn)."]
[1525,"Standaardwaarden van het type II (niveau 2):"]
[1526,"Standaardwaarden van het type II omvatten een van de volgende als gelijkwaardig beschouwde methoden:"]
[1527,"gebruik landspecifieke emissiefactoren overeenkomstig artikel 31, lid 1, punt b) (waarden die gebruikt worden voor de nationale broeikasgasinventarisatie) of "]
[1528,"gebruik andere waarden die de bevoegde autoriteit verstrekt voor meer uitgesplitste soorten brandstoffen overeenkomstig artikel 31, lid 1, punt c), of andere waarden uit literatuurbronnen die de bevoegde autoriteit heeft goedgekeurd, of "]
[1529,"gebruik andere constante waarden overeenkomstig artikel 31, lid 1, punt d) (waarden die de leverancier heeft gewaarborgd met een koolstofgehalte van ten hoogste 1 %)."]
[1530,"Algemeen aanvaarde proxy’s (niveau 2b):"]
[1531,"Aankoopgegevens (niveau 2b):"]
[1532,"Laboratoriumanalysen (hoogste niveau):"]
[1533,"In dit geval zijn de in de artikelen 32 tot en met 35 vastgelegde eisen voor analyse volledig van toepassing, waaronder het gebruik van de “algemeen aanvaarde proxy’s”, indien van toepassing, en wanneer de onzekerheid van de empirische correlatie niet meer dan 1/3 bedraagt van de onzekerheidswaarde in verband met het toepasselijke niveau voor activiteitsgegevens."]
[1534,"Voor zuiver chemische stoffen kan de bevoegde autoriteit ermee instemmen dat het gebruik van het stoichiometrische koolstofgehalte geacht wordt te voldoen aan het niveau waarvoor laboratoriumanalysen moeten worden verricht, op voorwaarde dat de exploitant aantoont dat dergelijke analysen onredelijke kosten met zich zouden meebrengen en dat de stoichiometrische waarde niet zal leiden tot een onderschatting van de emissies."]
[1535,"Biomassafractie van het type I (niveau 1):"]
[1536,"Een van de volgende als gelijkwaardig beschouwde methoden moet worden toegepast:"]
[1537,"gebruik waarden van de waarden die door de bevoegde autoriteit of de Commissie voor dit type brandstof of materiaal zijn gepubliceerd, of"]
[1538,"gebruik waarden overeenkomstig artikel 31, lid 1 (een “Standaardwaarde van het type I”)."]
[1539,"De exploitant kan eventueel altijd uitgaan van een fossiele fractie van 100 %. Dit wordt als een “Geen niveau”-methode beschouwd en als standaardwaarde wordt een biomassafractie van 0 % toegepast."]
[1540,"Toepassing van artikel 39, leden 3 en 4, in geval van aardgasnetten waarin biogas wordt geïnjecteerd, d.w.z. wanneer de bevoegde autoriteit toestaat dat de biomassafractie wordt bepaald aan de hand van aankoopbescheiden van biogas met een gelijkwaardig energiegehalte."]
[1541,"Biomassafractie van het type II (niveau 2):"]
[1542,"De biomassafractie wordt bepaald aan de hand van een schattingsmethode overeenkomstig artikel 39, lid 2, tweede alinea, die ter goedkeuring bij de bevoegde autoriteit wordt ingediend, waarbij rekening wordt gehouden met het volgende:"]
[1543,"voor brandstoffen of materialen die via een productieproces met welomschreven en traceerbare inputstromen zijn verkregen, mag de exploitant de schatting baseren op een massabalans van fossiele en biomassakoolstof die het proces binnenkomt en verlaat;"]
[1544,"eventuele door de Commissie gepubliceerde richtsnoeren voor verdere toepasselijke schattingsmethoden <nog te ontwikkelen in Richtsnoer nr. 3>."]
[1545,"Analyse van de biomassafractie (niveau 3):"]
[1546,"In dit geval moeten laboratoriumanalysen worden uitgevoerd overeenkomstig artikel 39, lid 2, eerste alinea, en de artikelen 32 tot en met 35."]
[1547,"Geef een toelichting en verklaring als de vereiste niveaus niet worden toegepast:"]
[1548,"Relevante opmerkingen kunt u hieronder kwijt. Er kan bijvoorbeeld uitleg nodig zijn over de schatting van biomassa-emissies, de proxy- of correlatiemethode, de toepassing van artikel 31, lid 4, artikel 37, lid 2, enz."]
[1549,"Daarnaast moet hier een deel van de informatie voor de monitoring van overgebracht CO2 en N2O, alsook van inherent CO2, worden verstrekt."]
[1550,"g CO2/Nm³"]
[1551,"Geef een toelichting en verklaring als het vereiste niveau niet wordt toegepast:"]
[1552,"Als de emissiemeting ook CO2 afkomstig uit biomassa betreft, verschaft u informatie over de schriftelijke procedure aan de hand waarvan deze wordt bepaald en wordt afgetrokken van de gemeten CO2-emissies, overeenkomstig artikel 43, lid 4, en artikel 43, lid 4 bis, MRV, indien van toepassing."]
[1553,"J. Bepaling van overgebracht of inherent CO2 en overgebracht N2O"]
[1554,"Bepaling van inherent en overgebracht CO2 en N2O"]
[1555,"Opmerking: dit punt moet worden ingevuld wanneer de overbrenging van inherent CO2 dat deel uitmaakt van een bronstroom overeenkomstig artikel 48, MRV, of de overbrenging van CO2 of N2O, overeenkomstig respectievelijk de artikelen 49 en 50, MRV, wordt uitgevoerd."]
[1556,"Geef een gedetailleerde beschrijving van de monitoringmethode die gebruikt is bij het bepalen van inherent of overgebracht CO2 of N2O."]
[1557,"Geef in onderstaand tekstvak een beknopte beschrijving van de monitoringmethode, inclusief formules, die gebruikt wordt om de jaarlijkse CO2-, N2O- of CO2(e)-emissies te bepalen."]
[1558,"U moet met name ingaan op de toe te voegen hoeveelheden CO2 en N2O die door overbrenging zijn verkregen en de af te trekken CO2(e) die uit de installatie is overgebracht, indien van toepassing. Zorg ervoor dat de berekening in overeenstemming is met de artikelen 48, 49 en 50, MRV."]
[1559,"Verstrek voor elke installatie (of andere eenheid) waarvan of waarnaar u inherent of overgebracht CO2(e) ontvangt of overbrengt, de volgende informatie:"]
[1560,"Geef hier de naam van de installatie of de niet-ETS-eenheid waarvan of waarnaar CO2(e) wordt overgebracht. Gebruik indien mogelijk dezelfde naam die de bevoegde autoriteit en het register gebruiken."]
[1561,"Geef in de vervolgkeuzelijst aan of er sprake is van overbrenging van of naar een installatie of niet-ETS-eenheid en of er sprake is van inherent CO2 (artikel 48) of overgebracht CO2 (artikel 49) of N2O (artikel 50) zoals gedefinieerd in de MRV."]
[1562,"Informatie betreffende pijpleidingsystemen waarmee CO2 en N2O worden getransporteerd"]
[1563,"Overeenkomstig bijlage IV, punt 22.B, bij MRV, mag u uit beide methoden kiezen. Methode A betreft een meting van de massabalans van al het CO2 en N2O dat het netwerk binnenkomt en verlaat, terwijl methode B de bepaling betreft van diffuse en afgeblazen emissies, lekken en de emissies van de installatie."]
[1564,"Verstrek bij transportnetwerken informatie over de schriftelijke procedures die waarborgen dat CO2(e) uitsluitend wordt overgebracht naar installaties die beschikken over een geldige broeikasgasemissievergunning, of waar CO2- of N2O-emissies daadwerkelijk worden gemonitord en in rekening worden gebracht overeenkomstig de artikelen 49 en 50."]
[1565,"Geef, overeenkomstig artikel 62, MRV, aan wie in deze installatie verantwoordelijk is voor de monitoring en de rapportage van emissies."]
[1566,"Beschrijf, overeenkomstig artikel 59, lid 3, punt c), MRV, de procedure voor het toewijzen van verantwoordelijkheden voor monitoring en rapportage binnen de installatie en voor het beheer van de competenties van verantwoordelijk personeel."]
[1567,"Verbeteringsverslagen overeenkomstig artikel 69, lid 1, MRV"]
[1568,"Is er niet aan een vereist niveau voldaan of is de “fall-backmethode” toegepast?"]
[1569,"Selecteer “WAAR” indien voor een parameter van een grote of kleine bronstroom of emissiebronnen ofwel niet aan de vereiste niveaus is voldaan, ofwel een “fall-backmethode” (artikel 22) wordt toegepast. Als dit het geval is, moet de exploitant, overeenkomstig artikel 69, lid 1, regelmatig verbeteringsverslagen indienen."]
[1570,"Dit punt ontslaat exploitanten niet van de verplichting om een verbeteringsverslag in te dienen overeenkomstig artikel 69, lid 4."]
[1571,"Termijn voor het volgende verbeteringsverslag overeenkomstig artikel 69, lid 1, indien van toepassing"]
[1572,"Dit punt is alleen van toepassing als de exploitant in het bovenstaande punt i) “WAAR” heeft geselecteerd."]
[1573,"De termijn voor verbeteringsverslagen is elk jaar voor installaties van categorie C, elke twee jaar voor installaties van categorie B en elke vier jaar voor installaties van categorie A."]
[1574,"De bevoegde autoriteit kan die periode echter verlengen tot respectievelijk drie, vier en vijf jaar als de exploitant aan de bevoegde autoriteit kan aantonen dat de redenen voor onredelijke kosten of voor de technische onhaalbaarheid van verbeteringsmaatregelen gedurende langere tijd zullen aanhouden."]
[1575,"Verstrek, overeenkomstig artikel 58, MRV, informatie over de procedures voor het beheer van gegevensstroomactiviteiten."]
[1576,"Verstrek, overeenkomstig artikel 59, MRV, informatie over de procedures waarmee de intrinsieke en controlerisico’s worden beoordeeld."]
[1577,"Verstrek, overeenkomstig de artikelen 59 en 60, MRV, informatie over de procedures voor de kwaliteitsbewaking van meetinstrumenten."]
[1578,"Verstrek, overeenkomstig de artikelen 59 en 61, MRV, informatie over de procedures voor de kwaliteitsbewaking van de informatietechnologie die gebruikt wordt bij dataflowactiviteiten."]
[1579,"Verstrek, overeenkomstig de artikelen 59 en 63, MRV, informatie over de procedures voor regelmatige interne toetsing en gegevensvalidatie."]
[1580,"Verstrek, overeenkomstig de artikelen 59 en 64, MRV, informatie over de procedures voor correcties en correctieve maatregelen."]
[1581,"Verstrek, overeenkomstig de artikelen 59 en 65, MRV, informatie over de procedures voor het beheer van uitbestede processen."]
[1582,"Verstrek, overeenkomstig artikel 66, MRV, informatie over de procedures die worden gebruikt om eventuele ontbrekende gegevens aan te vullen."]
[1583,"In de korte beschrijving moet worden aangegeven hoe ontbrekende gegevens zullen worden aangevuld met behulp van een passende schattingsmethode voor het bepalen van conservatieve vervangende gegevens voor de betreffende periode en ontbrekende parameter."]
[1584,"Deze procedure is alleen verplicht wanneer relevante gegevens ontbreken, maar het wordt aanbevolen om in elk geval een dergelijke procedure vast te stellen om naleving te waarborgen, zelfs wanneer er gegevens ontbreken."]
[1585,"Verwijs in onderstaand vak naar het bestand/document dat de risicobeoordeling bevat."]
[1586,"Algemene informatie"]
[1587,"Bronstromen (behalve PFK)"]
[1588,"PFK-emissies"]
[1589,"Overgebracht CO2 & N2O"]
[1590,"Overbrenging van N2O"]
[1591,"Overdracht van overgebracht CO2 (PCC)"]
[1592,"Ontvangst van overgebracht N2O"]
[1593,"Overdracht van overgebracht N2O"]
[1594,"Juni"]
[1595,"Juli"]
[1596,"Augustus"]
[1597,"September"]
[1598,"Monitoring- en rapportageverordening, bijlage VI"]
[1599,"Nationaal inventarisatiesysteem"]
[1600,"GJ/t"]
[1601,"GJ/1 000 Nm³"]
[1602,"tCO2/TJ"]
[1603,"tCO2/t"]
[1604,"tCO2/1 000 Nm³"]
[1605,"Gasreiniging (ureum)"]
[1606,"Verbruikte hoeveelheid ureum [t]"]
[1607,"Proces (methode A): alleen carbonaat"]
[1608,"Inzet proces [t]"]
[1609,"Proces (methode A): gemengd (carbonaat + niet-carbonaat)"]
[1610,"Proces (methode A): niet-carbonaat"]
[1611,"Proces (methode B): oxide-uitgang"]
[1612,"0,2558 t CO2/t gips"]
[1613,"0,7328 t CO2/t ureum"]
[1614,"Biomassafractie"]
[1615,"Analyse van de biomassafractie"]
[1616,"Niveauconversie"]
[1617,"Installatie met geringe emissies / grote emissiebron: u mag niveau 1 toepassen, tenzij er zonder extra inspanningen van de exploitant een grotere nauwkeurigheid kan worden bereikt."]
[1618,"Installatie met geringe emissies / kleine emissiebron: u mag niveau 1 toepassen, tenzij er zonder extra inspanningen van de exploitant een grotere nauwkeurigheid kan worden bereikt."]
[1619,"Grote emissiebron: het hieronder getoonde minimale niveau is van toepassing. \nU mag echter een niveau lager gebruiken, met als minimum niveau 1, mits u ten genoegen van de bevoegde autoriteit kunt aantonen dat het verplichte niveau overeenkomstig de eerste alinea technisch niet haalbaar is of onredelijke kosten met zich meebrengt."]
[1620,"Kleine emissiebron: u mag een lager niveau toepassen dan het onderstaande vereiste niveau, met als minimum niveau 1, mits u kunt aantonen dat het toepassen van dat niveau technisch gezien niet haalbaar is of onredelijke kosten met zich meebrengt."]
[1621,"Verstrek informatie over de procedures voor gegevensregistratie- en documentatiebeheer in overeenstemming met de artikelen 59 en 67, MRV."]
[1622,"Overeenkomstig artikel 19, lid 4, mag er voor elke emissiebron die per jaar minder dan 5 000 ton CO2(e) uitstoot, of minder dan 10 % aan de totale jaarlijkse emissies van de installatie bijdraagt, tot een maximum van 100 000 ton CO2(e) per jaar, afhankelijk van wat in termen van absolute emissies het hoogste is, een lager niveau worden toegepast (“kleine” emissiebron)."]

{"sheet":"VersionDocumentation","index":19,"n_rows":91,"n_cols":3,"rows_kept":91,"cut":false,"hidden":true,"merged":[]}
["Info for automatic Version detection"]
["Template type:","Phase 4 Installation Monitoring Plan"]
["Version:","2020-12-04",{"$f":"IF(ISNUMBER(MATCH(B3,A18:A29,0)),VLOOKUP(B3,A18:B29,2,FALSE),\"---\")","v":"MP P4 Inst_COM_en_041220.xls"}]
["Issued by:","European Commission"]
["Language:","English"]
[]
["Type list:"]
["Monitoring plan tonne-kilometre data",null,"MP TKM"]
["Monitoring plan annual emissions",null,"MP AEm"]
["Report tonne-kilometre data",null,"Report TKM"]
["Report annual emissions",null,"Report AEm"]
["Phase 3 Installation Monitoring Plan",null,"MP P3 Inst"]
["Phase 4 Installation Monitoring Plan",null,"MP P4 Inst"]
["Phase 4 Monitoring Plan Aircraft operators",null,"MP P3 Aircraft"]
["Phase 4 Monitoring Plan Aircraft t-km",null,"MP P3 TKM"]
[]
["Version list","Reference File Name","Version comments"]
["2020-08-06",{"$f":"IF(ISBLANK($A18),\"---\", VLOOKUP($B$2,$A$8:$C$15,3,0) & \"_\" & VLOOKUP($B$4,$A$32:$B$64,2,0)&\"_\"&VLOOKUP($B$5,$A$67:$B$91,2,0)&\"_\"& TEXT(DAY($A18),\"0#\")& TEXT(MONTH($A18),\"0#\")& TEXT(YEAR($A18)-2000,\"0#\")&\".xls\")","v":"MP P4 Inst_COM_en_060820.xls"},"First draft Amendments UBA based on 3rd phase template"]
["2020-11-02","MP P4 Inst_COM_en_021120.xls","2nd draft to CCC"]
["2020-11-03","MP P4 Inst_COM_en_031120.xls","updated for translations"]
["2020-12-04",{"$f":"IF(ISBLANK($A21),\"---\", VLOOKUP($B$2,$A$8:$C$15,3,0) & \"_\" & VLOOKUP($B$4,$A$32:$B$64,2,0)&\"_\"&VLOOKUP($B$5,$A$67:$B$91,2,0)&\"_\"& TEXT(DAY($A21),\"0#\")& TEXT(MONTH($A21),\"0#\")& TEXT(YEAR($A21)-2000,\"0#\")&\".xls\")","v":"MP P4 Inst_COM_en_041220.xls"},"endorsed by CCC"]
[null,"---"]
[null,"---"]
[null,"---"]
[null,"---"]
[null,"---"]
[null,"---"]
[null,"---"]
[null,"---"]
[]
["Issued by:"]
["European Commission","COM"]
["Umweltbundesamt","UBA"]
["Austria","AT"]
["Belgium","BE"]
["Bulgaria","BG"]
["Croatia","HR"]
["Cyprus","CY"]
["Czech Republic","CZ"]
["Denmark","DK"]
["Estonia","EE"]
["Finland","FI"]
["France","FR"]
["Germany","DE"]
["Greece","EL"]
["Hungary","HU"]
["Iceland","IC"]
["Ireland","IE"]
["Italy","IT"]
["Latvia","LV"]
["Liechtenstein","LI"]
["Lithuania","LT"]
["Luxembourg","LU"]
["Malta","MT"]
["Netherlands","NL"]
["Norway","NO"]
["Poland","PL"]
["Portugal","PT"]
["Romania","RO"]
["Slovakia","SK"]
["Slovenia","SI"]
["Spain","ES"]
["Sweden","SE"]
["United Kingdom","UK"]
[]
["Languages list"]
["Bulgarian","bg"]
["Spanish","es"]
["Croatian","hr"]
["Czech","cs"]
["Danish","da"]
["German","de"]
["Estonian","et"]
["Greek","el"]
["English","en"]
["French","fr"]
["Icelandic","ic"]
["Italian","it"]
["Latvian","lv"]
["Lithuanian","lt"]
["Hungarian","hu"]
["Maltese","mt"]
["Norwegian","no"]
["Dutch","nl"]
["Polish","pl"]
["Portuguese","pt"]
["Romanian","ro"]
["Slovak","sk"]
["Slovenian","sl"]
["Finnish","fi"]
["Swedish","sv"]